{"text_format":"1","workbook":"xlsx","n_sheets":12,"sheets":["Intro","Sampling","Noncentral t","d picture","d heap","CI for d","Power picture","Power two","Power paired","Precision one","Precision two","Precision paired"],"not_rendered":{"charts":11,"images":3,"macros":1,"external_links":16,"defined_names":1246,"comments":12,"pivot_tables":0},"unopened":[],"bounds":{"document_bytes":16777216,"sheet_cells":100000,"rows_first":2000,"rows_last":500,"rows_between":2000,"halvings":0,"cell_chars":16384,"cell_head_chars":4096},"cells_cut":0,"cells_raw":0,"read":"whole","date_system":"1900"}

{"sheet":"Intro","index":0,"n_rows":735,"n_cols":14,"rows_kept":735,"cut":false,"hidden":false,"merged":[]}
[]
[null,null,null,null,null,"Exploratory Software for Confidence Intervals"]
[null,null,null,null,null,"ESCI Chapters 10-13 ",null,null,null,null,null,"www.thenewstatistics.com"]
[]
[null,null,null,null,null,null,"Geoff Cumming",null,null,null,null,null,null,"Copyright ©  Geoff Cumming 2011"]
[null,null,null,null,null,null,null,"School of Psychological Science",null,null,null,null,null,"ESCI is free software: you can redistribute it and/or modify it under the terms of the GNU General Public License"]
[null,null,null,null,null,null,null,"La Trobe University, Melbourne",null,null,null,null,null,"      as published by the Free Software Foundation, either version 3 of the License, or (at your option) any later version."]
[null,null,null,null,null,null,null,"Australia  3086",null,null,null,null,null,"This program is distributed in the hope that it will be useful, but WITHOUT ANY WARRANTY; without even the implied warranty of"]
[null,null,null,null,null,null,null,"esci@latrobe.edu.au",null,null,null,null,null,"      MERCHANTABILITY or FITNESS FOR A PARTICULAR PURPOSE.  Scroll down to see the GNU General Public License for more details."]
[]
[]
[null,"► ESCI Chapters 10-13 accompanies the book Understanding The New Statistics: Effect Sizes, Confidence Intervals, and Meta-analysis (Routledge, 2012)"]
[null,"► For help, see the book's Appendix A."]
[null,"► Use the tabs below to go to your page of choice."]
[null,"► At any page, explore--with guidance from the relevant chapters of the book."]
[]
[]
[]
[null,"Click the tabs at the bottom of the screen to go to these pages:"]
[]
[null,null,"Sampling  See Chapter 10.  Take samples from the H0 or H1 population, see the s pile, the rubber ruler, and normal, central t, and noncentral t distributions."]
[]
[null,null,"Noncentral t  See Chapter 10.  Explore noncentral t distributions, and compare with central t.  Find areas under the noncentral t curve."]
[]
[null,null,"d picture  See Chapter 11.  See how two populations relate for a chosen value of d."]
[]
[null,null,"d heap  See Chapter 11.  Take samples, see distributions of sample means and SDs, the s pile, the rubber ruler, and the noncentral t distribution of d."]
[]
[null,null,"CI for d  See Chapter 11.  Enter a chosen value of d for the two independent groups design, then use noncentral t to find the CI for d."]
[]
[null,null,"Power picture  See Chapter 12.  Explore statistical power for a single group experiment, using z for normal distributions, or t for central and noncentral t distributions."]
[]
[null,null,"Power two  See Chapter 12.  See power curves, and values of power, for two independent groups, using z or t."]
[]
[null,null,"Power paired  See Chapter 12.  See power curves, and values of power, for paired data, using z or t."]
[]
[null,null,"Precision one  See Chapter 13.  See precision curves for the single sample design, using z or t.  Calculate N for original units, and for d."]
[]
[null,null,"Precision two  See Chapter 13.  See precision curves for two independent groups, using z or t.  Calculate N for original units, and for d."]
[]
[null,null,"Precision paired  See Chapter 13.  See precision curves for paired data, using z or t.  Calculate N for original units, and for d."]
[]
[]
[]
[null,"Please scroll down to see the GNU General Public License below"]
[]
[]
[]
[]
[]
[]
[]
[]
[]
[]
[]
[]
[]
[]
[]
[]
[null,"                    GNU GENERAL PUBLIC LICENSE"]
[null,"                       Version 3, 29 June 2007"]
[]
[null," Copyright (C) 2007 Free Software Foundation, Inc. <http://fsf.org/>"]
[null," Everyone is permitted to copy and distribute verbatim copies"]
[null," of this license document, but changing it is not allowed."]
[]
[null,"                            Preamble"]
[]
[null,"  The GNU General Public License is a free, copyleft license for"]
[null,"software and other kinds of works."]
[]
[null,"  The licenses for most software and other practical works are designed"]
[null,"to take away your freedom to share and change the works.  By contrast,"]
[null,"the GNU General Public License is intended to guarantee your freedom to"]
[null,"share and change all versions of a program--to make sure it remains free"]
[null,"software for all its users.  We, the Free Software Foundation, use the"]
[null,"GNU General Public License for most of our software; it applies also to"]
[null,"any other work released this way by its authors.  You can apply it to"]
[null,"your programs, too."]
[]
[null,"  When we speak of free software, we are referring to freedom, not"]
[null,"price.  Our General Public Licenses are designed to make sure that you"]
[null,"have the freedom to distribute copies of free software (and charge for"]
[null,"them if you wish), that you receive source code or can get it if you"]
[null,"want it, that you can change the software or use pieces of it in new"]
[null,"free programs, and that you know you can do these things."]
[]
[null,"  To protect your rights, we need to prevent others from denying you"]
[null,"these rights or asking you to surrender the rights.  Therefore, you have"]
[null,"certain responsibilities if you distribute copies of the software, or if"]
[null,"you modify it: responsibilities to respect the freedom of others."]
[]
[null,"  For example, if you distribute copies of such a program, whether"]
[null,"gratis or for a fee, you must pass on to the recipients the same"]
[null,"freedoms that you received.  You must make sure that they, too, receive"]
[null,"or can get the source code.  And you must show them these terms so they"]
[null,"know their rights."]
[]
[null,"  Developers that use the GNU GPL protect your rights with two steps:"]
[null,"(1) assert copyright on the software, and (2) offer you this License"]
[null,"giving you legal permission to copy, distribute and/or modify it."]
[]
[null,"  For the developers' and authors' protection, the GPL clearly explains"]
[null,"that there is no warranty for this free software.  For both users' and"]
[null,"authors' sake, the GPL requires that modified versions be marked as"]
[null,"changed, so that their problems will not be attributed erroneously to"]
[null,"authors of previous versions."]
[]
[null,"  Some devices are designed to deny users access to install or run"]
[null,"modified versions of the software inside them, although the manufacturer"]
[null,"can do so.  This is fundamentally incompatible with the aim of"]
[null,"protecting users' freedom to change the software.  The systematic"]
[null,"pattern of such abuse occurs in the area of products for individuals to"]
[null,"use, which is precisely where it is most unacceptable.  Therefore, we"]
[null,"have designed this version of the GPL to prohibit the practice for those"]
[null,"products.  If such problems arise substantially in other domains, we"]
[null,"stand ready to extend this provision to those domains in future versions"]
[null,"of the GPL, as needed to protect the freedom of users."]
[]
[null,"  Finally, every program is threatened constantly by software patents."]
[null,"States should not allow patents to restrict development and use of"]
[null,"software on general-purpose computers, but in those that do, we wish to"]
[null,"avoid the special danger that patents applied to a free program could"]
[null,"make it effectively proprietary.  To prevent this, the GPL assures that"]
[null,"patents cannot be used to render the program non-free."]
[]
[null,"  The precise terms and conditions for copying, distribution and"]
[null,"modification follow."]
[]
[null,"                       TERMS AND CONDITIONS"]
[]
[null,"  0. Definitions."]
[]
[null,"  \"This License\" refers to version 3 of the GNU General Public License."]
[]
[null,"  \"Copyright\" also means copyright-like laws that apply to other kinds of"]
[null,"works, such as semiconductor masks."]
[]
[null,"  \"The Program\" refers to any copyrightable work licensed under this"]
[null,"License.  Each licensee is addressed as \"you\".  \"Licensees\" and"]
[null,"\"recipients\" may be individuals or organizations."]
[]
[null,"  To \"modify\" a work means to copy from or adapt all or part of the work"]
[null,"in a fashion requiring copyright permission, other than the making of an"]
[null,"exact copy.  The resulting work is called a \"modified version\" of the"]
[null,"earlier work or a work \"based on\" the earlier work."]
[]
[null,"  A \"covered work\" means either the unmodified Program or a work based"]
[null,"on the Program."]
[]
[null,"  To \"propagate\" a work means to do anything with it that, without"]
[null,"permission, would make you directly or secondarily liable for"]
[null,"infringement under applicable copyright law, except executing it on a"]
[null,"computer or modifying a private copy.  Propagation includes copying,"]
[null,"distribution (with or without modification), making available to the"]
[null,"public, and in some countries other activities as well."]
[]
[null,"  To \"convey\" a work means any kind of propagation that enables other"]
[null,"parties to make or receive copies.  Mere interaction with a user through"]
[null,"a computer network, with no transfer of a copy, is not conveying."]
[]
[null,"  An interactive user interface displays \"Appropriate Legal Notices\""]
[null,"to the extent that it includes a convenient and prominently visible"]
[null,"feature that (1) displays an appropriate copyright notice, and (2)"]
[null,"tells the user that there is no warranty for the work (except to the"]
[null,"extent that warranties are provided), that licensees may convey the"]
[null,"work under this License, and how to view a copy of this License.  If"]
[null,"the interface presents a list of user commands or options, such as a"]
[null,"menu, a prominent item in the list meets this criterion."]
[]
[null,"  1. Source Code."]
[]
[null,"  The \"source code\" for a work means the preferred form of the work"]
[null,"for making modifications to it.  \"Object code\" means any non-source"]
[null,"form of a work."]
[]
[null,"  A \"Standard Interface\" means an interface that either is an official"]
[null,"standard defined by a recognized standards body, or, in the case of"]
[null,"interfaces specified for a particular programming language, one that"]
[null,"is widely used among developers working in that language."]
[]
[null,"  The \"System Libraries\" of an executable work include anything, other"]
[null,"than the work as a whole, that (a) is included in the normal form of"]
[null,"packaging a Major Component, but which is not part of that Major"]
[null,"Component, and (b) serves only to enable use of the work with that"]
[null,"Major Component, or to implement a Standard Interface for which an"]
[null,"implementation is available to the public in source code form.  A"]
[null,"\"Major Component\", in this context, means a major essential component"]
[null,"(kernel, window system, and so on) of the specific operating system"]
[null,"(if any) on which the executable work runs, or a compiler used to"]
[null,"produce the work, or an object code interpreter used to run it."]
[]
[null,"  The \"Corresponding Source\" for a work in object code form means all"]
[null,"the source code needed to generate, install, and (for an executable"]
[null,"work) run the object code and to modify the work, including scripts to"]
[null,"control those activities.  However, it does not include the work's"]
[null,"System Libraries, or general-purpose tools or generally available free"]
[null,"programs which are used unmodified in performing those activities but"]
[null,"which are not part of the work.  For example, Corresponding Source"]
[null,"includes interface definition files associated with source files for"]
[null,"the work, and the source code for shared libraries and dynamically"]
[null,"linked subprograms that the work is specifically designed to require,"]
[null,"such as by intimate data communication or control flow between those"]
[null,"subprograms and other parts of the work."]
[]
[null,"  The Corresponding Source need not include anything that users"]
[null,"can regenerate automatically from other parts of the Corresponding"]
[null,"Source."]
[]
[null,"  The Corresponding Source for a work in source code form is that"]
[null,"same work."]
[]
[null,"  2. Basic Permissions."]
[]
[null,"  All rights granted under this License are granted for the term of"]
[null,"copyright on the Program, and are irrevocable provided the stated"]
[null,"conditions are met.  This License explicitly affirms your unlimited"]
[null,"permission to run the unmodified Program.  The output from running a"]
[null,"covered work is covered by this License only if the output, given its"]
[null,"content, constitutes a covered work.  This License acknowledges your"]
[null,"rights of fair use or other equivalent, as provided by copyright law."]
[]
[null,"  You may make, run and propagate covered works that you do not"]
[null,"convey, without conditions so long as your license otherwise remains"]
[null,"in force.  You may convey covered works to others for the sole purpose"]
[null,"of having them make modifications exclusively for you, or provide you"]
[null,"with facilities for running those works, provided that you comply with"]
[null,"the terms of this License in conveying all material for which you do"]
[null,"not control copyright.  Those thus making or running the covered works"]
[null,"for you must do so exclusively on your behalf, under your direction"]
[null,"and control, on terms that prohibit them from making any copies of"]
[null,"your copyrighted material outside their relationship with you."]
[]
[null,"  Conveying under any other circumstances is permitted solely under"]
[null,"the conditions stated below.  Sublicensing is not allowed; section 10"]
[null,"makes it unnecessary."]
[]
[null,"  3. Protecting Users' Legal Rights From Anti-Circumvention Law."]
[]
[null,"  No covered work shall be deemed part of an effective technological"]
[null,"measure under any applicable law fulfilling obligations under article"]
[null,"11 of the WIPO copyright treaty adopted on 20 December 1996, or"]
[null,"similar laws prohibiting or restricting circumvention of such"]
[null,"measures."]
[]
[null,"  When you convey a covered work, you waive any legal power to forbid"]
[null,"circumvention of technological measures to the extent such circumvention"]
[null,"is effected by exercising rights under this License with respect to"]
[null,"the covered work, and you disclaim any intention to limit operation or"]
[null,"modification of the work as a means of enforcing, against the work's"]
[null,"users, your or third parties' legal rights to forbid circumvention of"]
[null,"technological measures."]
[]
[null,"  4. Conveying Verbatim Copies."]
[]
[null,"  You may convey verbatim copies of the Program's source code as you"]
[null,"receive it, in any medium, provided that you conspicuously and"]
[null,"appropriately publish on each copy an appropriate copyright notice;"]
[null,"keep intact all notices stating that this License and any"]
[null,"non-permissive terms added in accord with section 7 apply to the code;"]
[null,"keep intact all notices of the absence of any warranty; and give all"]
[null,"recipients a copy of this License along with the Program."]
[]
[null,"  You may charge any price or no price for each copy that you convey,"]
[null,"and you may offer support or warranty protection for a fee."]
[]
[null,"  5. Conveying Modified Source Versions."]
[]
[null,"  You may convey a work based on the Program, or the modifications to"]
[null,"produce it from the Program, in the form of source code under the"]
[null,"terms of section 4, provided that you also meet all of these conditions:"]
[]
[null,"    a) The work must carry prominent notices stating that you modified"]
[null,"    it, and giving a relevant date."]
[]
[null,"    b) The work must carry prominent notices stating that it is"]
[null,"    released under this License and any conditions added under section"]
[null,"    7.  This requirement modifies the requirement in section 4 to"]
[null,"    \"keep intact all notices\"."]
[]
[null,"    c) You must license the entire work, as a whole, under this"]
[null,"    License to anyone who comes into possession of a copy.  This"]
[null,"    License will therefore apply, along with any applicable section 7"]
[null,"    additional terms, to the whole of the work, and all its parts,"]
[null,"    regardless of how they are packaged.  This License gives no"]
[null,"    permission to license the work in any other way, but it does not"]
[null,"    invalidate such permission if you have separately received it."]
[]
[null,"    d) If the work has interactive user interfaces, each must display"]
[null,"    Appropriate Legal Notices; however, if the Program has interactive"]
[null,"    interfaces that do not display Appropriate Legal Notices, your"]
[null,"    work need not make them do so."]
[]
[null,"  A compilation of a covered work with other separate and independent"]
[null,"works, which are not by their nature extensions of the covered work,"]
[null,"and which are not combined with it such as to form a larger program,"]
[null,"in or on a volume of a storage or distribution medium, is called an"]
[null,"\"aggregate\" if the compilation and its resulting copyright are not"]
[null,"used to limit the access or legal rights of the compilation's users"]
[null,"beyond what the individual works permit.  Inclusion of a covered work"]
[null,"in an aggregate does not cause this License to apply to the other"]
[null,"parts of the aggregate."]
[]
[null,"  6. Conveying Non-Source Forms."]
[]
[null,"  You may convey a covered work in object code form under the terms"]
[null,"of sections 4 and 5, provided that you also convey the"]
[null,"machine-readable Corresponding Source under the terms of this License,"]
[null,"in one of these ways:"]
[]
[null,"    a) Convey the object code in, or embodied in, a physical product"]
[null,"    (including a physical distribution medium), accompanied by the"]
[null,"    Corresponding Source fixed on a durable physical medium"]
[null,"    customarily used for software interchange."]
[]
[null,"    b) Convey the object code in, or embodied in, a physical product"]
[null,"    (including a physical distribution medium), accompanied by a"]
[null,"    written offer, valid for at least three years and valid for as"]
[null,"    long as you offer spare parts or customer support for that product"]
[null,"    model, to give anyone who possesses the object code either (1) a"]
[null,"    copy of the Corresponding Source for all the software in the"]
[null,"    product that is covered by this License, on a durable physical"]
[null,"    medium customarily used for software interchange, for a price no"]
[null,"    more than your reasonable cost of physically performing this"]
[null,"    conveying of source, or (2) access to copy the"]
[null,"    Corresponding Source from a network server at no charge."]
[]
[null,"    c) Convey individual copies of the object code with a copy of the"]
[null,"    written offer to provide the Corresponding Source.  This"]
[null,"    alternative is allowed only occasionally and noncommercially, and"]
[null,"    only if you received the object code with such an offer, in accord"]
[null,"    with subsection 6b."]
[]
[null,"    d) Convey the object code by offering access from a designated"]
[null,"    place (gratis or for a charge), and offer equivalent access to the"]
[null,"    Corresponding Source in the same way through the same place at no"]
[null,"    further charge.  You need not require recipients to copy the"]
[null,"    Corresponding Source along with the object code.  If the place to"]
[null,"    copy the object code is a network server, the Corresponding Source"]
[null,"    may be on a different server (operated by you or a third party)"]
[null,"    that supports equivalent copying facilities, provided you maintain"]
[null,"    clear directions next to the object code saying where to find the"]
[null,"    Corresponding Source.  Regardless of what server hosts the"]
[null,"    Corresponding Source, you remain obligated to ensure that it is"]
[null,"    available for as long as needed to satisfy these requirements."]
[]
[null,"    e) Convey the object code using peer-to-peer transmission, provided"]
[null,"    you inform other peers where the object code and Corresponding"]
[null,"    Source of the work are being offered to the general public at no"]
[null,"    charge under subsection 6d."]
[]
[null,"  A separable portion of the object code, whose source code is excluded"]
[null,"from the Corresponding Source as a System Library, need not be"]
[null,"included in conveying the object code work."]
[]
[null,"  A \"User Product\" is either (1) a \"consumer product\", which means any"]
[null,"tangible personal property which is normally used for personal, family,"]
[null,"or household purposes, or (2) anything designed or sold for incorporation"]
[null,"into a dwelling.  In determining whether a product is a consumer product,"]
[null,"doubtful cases shall be resolved in favor of coverage.  For a particular"]
[null,"product received by a particular user, \"normally used\" refers to a"]
[null,"typical or common use of that class of product, regardless of the status"]
[null,"of the particular user or of the way in which the particular user"]
[null,"actually uses, or expects or is expected to use, the product.  A product"]
[null,"is a consumer product regardless of whether the product has substantial"]
[null,"commercial, industrial or non-consumer uses, unless such uses represent"]
[null,"the only significant mode of use of the product."]
[]
[null,"  \"Installation Information\" for a User Product means any methods,"]
[null,"procedures, authorization keys, or other information required to install"]
[null,"and execute modified versions of a covered work in that User Product from"]
[null,"a modified version of its Corresponding Source.  The information must"]
[null,"suffice to ensure that the continued functioning of the modified object"]
[null,"code is in no case prevented or interfered with solely because"]
[null,"modification has been made."]
[]
[null,"  If you convey an object code work under this section in, or with, or"]
[null,"specifically for use in, a User Product, and the conveying occurs as"]
[null,"part of a transaction in which the right of possession and use of the"]
[null,"User Product is transferred to the recipient in perpetuity or for a"]
[null,"fixed term (regardless of how the transaction is characterized), the"]
[null,"Corresponding Source conveyed under this section must be accompanied"]
[null,"by the Installation Information.  But this requirement does not apply"]
[null,"if neither you nor any third party retains the ability to install"]
[null,"modified object code on the User Product (for example, the work has"]
[null,"been installed in ROM)."]
[]
[null,"  The requirement to provide Installation Information does not include a"]
[null,"requirement to continue to provide support service, warranty, or updates"]
[null,"for a work that has been modified or installed by the recipient, or for"]
[null,"the User Product in which it has been modified or installed.  Access to a"]
[null,"network may be denied when the modification itself materially and"]
[null,"adversely affects the operation of the network or violates the rules and"]
[null,"protocols for communication across the network."]
[]
[null,"  Corresponding Source conveyed, and Installation Information provided,"]
[null,"in accord with this section must be in a format that is publicly"]
[null,"documented (and with an implementation available to the public in"]
[null,"source code form), and must require no special password or key for"]
[null,"unpacking, reading or copying."]
[]
[null,"  7. Additional Terms."]
[]
[null,"  \"Additional permissions\" are terms that supplement the terms of this"]
[null,"License by making exceptions from one or more of its conditions."]
[null,"Additional permissions that are applicable to the entire Program shall"]
[null,"be treated as though they were included in this License, to the extent"]
[null,"that they are valid under applicable law.  If additional permissions"]
[null,"apply only to part of the Program, that part may be used separately"]
[null,"under those permissions, but the entire Program remains governed by"]
[null,"this License without regard to the additional permissions."]
[]
[null,"  When you convey a copy of a covered work, you may at your option"]
[null,"remove any additional permissions from that copy, or from any part of"]
[null,"it.  (Additional permissions may be written to require their own"]
[null,"removal in certain cases when you modify the work.)  You may place"]
[null,"additional permissions on material, added by you to a covered work,"]
[null,"for which you have or can give appropriate copyright permission."]
[]
[null,"  Notwithstanding any other provision of this License, for material you"]
[null,"add to a covered work, you may (if authorized by the copyright holders of"]
[null,"that material) supplement the terms of this License with terms:"]
[]
[null,"    a) Disclaiming warranty or limiting liability differently from the"]
[null,"    terms of sections 15 and 16 of this License; or"]
[]
[null,"    b) Requiring preservation of specified reasonable legal notices or"]
[null,"    author attributions in that material or in the Appropriate Legal"]
[null,"    Notices displayed by works containing it; or"]
[]
[null,"    c) Prohibiting misrepresentation of the origin of that material, or"]
[null,"    requiring that modified versions of such material be marked in"]
[null,"    reasonable ways as different from the original version; or"]
[]
[null,"    d) Limiting the use for publicity purposes of names of licensors or"]
[null,"    authors of the material; or"]
[]
[null,"    e) Declining to grant rights under trademark law for use of some"]
[null,"    trade names, trademarks, or service marks; or"]
[]
[null,"    f) Requiring indemnification of licensors and authors of that"]
[null,"    material by anyone who conveys the material (or modified versions of"]
[null,"    it) with contractual assumptions of liability to the recipient, for"]
[null,"    any liability that these contractual assumptions directly impose on"]
[null,"    those licensors and authors."]
[]
[null,"  All other non-permissive additional terms are considered \"further"]
[null,"restrictions\" within the meaning of section 10.  If the Program as you"]
[null,"received it, or any part of it, contains a notice stating that it is"]
[null,"governed by this License along with a term that is a further"]
[null,"restriction, you may remove that term.  If a license document contains"]
[null,"a further restriction but permits relicensing or conveying under this"]
[null,"License, you may add to a covered work material governed by the terms"]
[null,"of that license document, provided that the further restriction does"]
[null,"not survive such relicensing or conveying."]
[]
[null,"  If you add terms to a covered work in accord with this section, you"]
[null,"must place, in the relevant source files, a statement of the"]
[null,"additional terms that apply to those files, or a notice indicating"]
[null,"where to find the applicable terms."]
[]
[null,"  Additional terms, permissive or non-permissive, may be stated in the"]
[null,"form of a separately written license, or stated as exceptions;"]
[null,"the above requirements apply either way."]
[]
[null,"  8. Termination."]
[]
[null,"  You may not propagate or modify a covered work except as expressly"]
[null,"provided under this License.  Any attempt otherwise to propagate or"]
[null,"modify it is void, and will automatically terminate your rights under"]
[null,"this License (including any patent licenses granted under the third"]
[null,"paragraph of section 11)."]
[]
[null,"  However, if you cease all violation of this License, then your"]
[null,"license from a particular copyright holder is reinstated (a)"]
[null,"provisionally, unless and until the copyright holder explicitly and"]
[null,"finally terminates your license, and (b) permanently, if the copyright"]
[null,"holder fails to notify you of the violation by some reasonable means"]
[null,"prior to 60 days after the cessation."]
[]
[null,"  Moreover, your license from a particular copyright holder is"]
[null,"reinstated permanently if the copyright holder notifies you of the"]
[null,"violation by some reasonable means, this is the first time you have"]
[null,"received notice of violation of this License (for any work) from that"]
[null,"copyright holder, and you cure the violation prior to 30 days after"]
[null,"your receipt of the notice."]
[]
[null,"  Termination of your rights under this section does not terminate the"]
[null,"licenses of parties who have received copies or rights from you under"]
[null,"this License.  If your rights have been terminated and not permanently"]
[null,"reinstated, you do not qualify to receive new licenses for the same"]
[null,"material under section 10."]
[]
[null,"  9. Acceptance Not Required for Having Copies."]
[]
[null,"  You are not required to accept this License in order to receive or"]
[null,"run a copy of the Program.  Ancillary propagation of a covered work"]
[null,"occurring solely as a consequence of using peer-to-peer transmission"]
[null,"to receive a copy likewise does not require acceptance.  However,"]
[null,"nothing other than this License grants you permission to propagate or"]
[null,"modify any covered work.  These actions infringe copyright if you do"]
[null,"not accept this License.  Therefore, by modifying or propagating a"]
[null,"covered work, you indicate your acceptance of this License to do so."]
[]
[null,"  10. Automatic Licensing of Downstream Recipients."]
[]
[null,"  Each time you convey a covered work, the recipient automatically"]
[null,"receives a license from the original licensors, to run, modify and"]
[null,"propagate that work, subject to this License.  You are not responsible"]
[null,"for enforcing compliance by third parties with this License."]
[]
[null,"  An \"entity transaction\" is a transaction transferring control of an"]
[null,"organization, or substantially all assets of one, or subdividing an"]
[null,"organization, or merging organizations.  If propagation of a covered"]
[null,"work results from an entity transaction, each party to that"]
[null,"transaction who receives a copy of the work also receives whatever"]
[null,"licenses to the work the party's predecessor in interest had or could"]
[null,"give under the previous paragraph, plus a right to possession of the"]
[null,"Corresponding Source of the work from the predecessor in interest, if"]
[null,"the predecessor has it or can get it with reasonable efforts."]
[]
[null,"  You may not impose any further restrictions on the exercise of the"]
[null,"rights granted or affirmed under this License.  For example, you may"]
[null,"not impose a license fee, royalty, or other charge for exercise of"]
[null,"rights granted under this License, and you may not initiate litigation"]
[null,"(including a cross-claim or counterclaim in a lawsuit) alleging that"]
[null,"any patent claim is infringed by making, using, selling, offering for"]
[null,"sale, or importing the Program or any portion of it."]
[]
[null,"  11. Patents."]
[]
[null,"  A \"contributor\" is a copyright holder who authorizes use under this"]
[null,"License of the Program or a work on which the Program is based.  The"]
[null,"work thus licensed is called the contributor's \"contributor version\"."]
[]
[null,"  A contributor's \"essential patent claims\" are all patent claims"]
[null,"owned or controlled by the contributor, whether already acquired or"]
[null,"hereafter acquired, that would be infringed by some manner, permitted"]
[null,"by this License, of making, using, or selling its contributor version,"]
[null,"but do not include claims that would be infringed only as a"]
[null,"consequence of further modification of the contributor version.  For"]
[null,"purposes of this definition, \"control\" includes the right to grant"]
[null,"patent sublicenses in a manner consistent with the requirements of"]
[null,"this License."]
[]
[null,"  Each contributor grants you a non-exclusive, worldwide, royalty-free"]
[null,"patent license under the contributor's essential patent claims, to"]
[null,"make, use, sell, offer for sale, import and otherwise run, modify and"]
[null,"propagate the contents of its contributor version."]
[]
[null,"  In the following three paragraphs, a \"patent license\" is any express"]
[null,"agreement or commitment, however denominated, not to enforce a patent"]
[null,"(such as an express permission to practice a patent or covenant not to"]
[null,"sue for patent infringement).  To \"grant\" such a patent license to a"]
[null,"party means to make such an agreement or commitment not to enforce a"]
[null,"patent against the party."]
[]
[null,"  If you convey a covered work, knowingly relying on a patent license,"]
[null,"and the Corresponding Source of the work is not available for anyone"]
[null,"to copy, free of charge and under the terms of this License, through a"]
[null,"publicly available network server or other readily accessible means,"]
[null,"then you must either (1) cause the Corresponding Source to be so"]
[null,"available, or (2) arrange to deprive yourself of the benefit of the"]
[null,"patent license for this particular work, or (3) arrange, in a manner"]
[null,"consistent with the requirements of this License, to extend the patent"]
[null,"license to downstream recipients.  \"Knowingly relying\" means you have"]
[null,"actual knowledge that, but for the patent license, your conveying the"]
[null,"covered work in a country, or your recipient's use of the covered work"]
[null,"in a country, would infringe one or more identifiable patents in that"]
[null,"country that you have reason to believe are valid."]
[]
[null,"  If, pursuant to or in connection with a single transaction or"]
[null,"arrangement, you convey, or propagate by procuring conveyance of, a"]
[null,"covered work, and grant a patent license to some of the parties"]
[null,"receiving the covered work authorizing them to use, propagate, modify"]
[null,"or convey a specific copy of the covered work, then the patent license"]
[null,"you grant is automatically extended to all recipients of the covered"]
[null,"work and works based on it."]
[]
[null,"  A patent license is \"discriminatory\" if it does not include within"]
[null,"the scope of its coverage, prohibits the exercise of, or is"]
[null,"conditioned on the non-exercise of one or more of the rights that are"]
[null,"specifically granted under this License.  You may not convey a covered"]
[null,"work if you are a party to an arrangement with a third party that is"]
[null,"in the business of distributing software, under which you make payment"]
[null,"to the third party based on the extent of your activity of conveying"]
[null,"the work, and under which the third party grants, to any of the"]
[null,"parties who would receive the covered work from you, a discriminatory"]
[null,"patent license (a) in connection with copies of the covered work"]
[null,"conveyed by you (or copies made from those copies), or (b) primarily"]
[null,"for and in connection with specific products or compilations that"]
[null,"contain the covered work, unless you entered into that arrangement,"]
[null,"or that patent license was granted, prior to 28 March 2007."]
[]
[null,"  Nothing in this License shall be construed as excluding or limiting"]
[null,"any implied license or other defenses to infringement that may"]
[null,"otherwise be available to you under applicable patent law."]
[]
[null,"  12. No Surrender of Others' Freedom."]
[]
[null,"  If conditions are imposed on you (whether by court order, agreement or"]
[null,"otherwise) that contradict the conditions of this License, they do not"]
[null,"excuse you from the conditions of this License.  If you cannot convey a"]
[null,"covered work so as to satisfy simultaneously your obligations under this"]
[null,"License and any other pertinent obligations, then as a consequence you may"]
[null,"not convey it at all.  For example, if you agree to terms that obligate you"]
[null,"to collect a royalty for further conveying from those to whom you convey"]
[null,"the Program, the only way you could satisfy both those terms and this"]
[null,"License would be to refrain entirely from conveying the Program."]
[]
[null,"  13. Use with the GNU Affero General Public License."]
[]
[null,"  Notwithstanding any other provision of this License, you have"]
[null,"permission to link or combine any covered work with a work licensed"]
[null,"under version 3 of the GNU Affero General Public License into a single"]
[null,"combined work, and to convey the resulting work.  The terms of this"]
[null,"License will continue to apply to the part which is the covered work,"]
[null,"but the special requirements of the GNU Affero General Public License,"]
[null,"section 13, concerning interaction through a network will apply to the"]
[null,"combination as such."]
[]
[null,"  14. Revised Versions of this License."]
[]
[null,"  The Free Software Foundation may publish revised and/or new versions of"]
[null,"the GNU General Public License from time to time.  Such new versions will"]
[null,"be similar in spirit to the present version, but may differ in detail to"]
[null,"address new problems or concerns."]
[]
[null,"  Each version is given a distinguishing version number.  If the"]
[null,"Program specifies that a certain numbered version of the GNU General"]
[null,"Public License \"or any later version\" applies to it, you have the"]
[null,"option of following the terms and conditions either of that numbered"]
[null,"version or of any later version published by the Free Software"]
[null,"Foundation.  If the Program does not specify a version number of the"]
[null,"GNU General Public License, you may choose any version ever published"]
[null,"by the Free Software Foundation."]
[]
[null,"  If the Program specifies that a proxy can decide which future"]
[null,"versions of the GNU General Public License can be used, that proxy's"]
[null,"public statement of acceptance of a version permanently authorizes you"]
[null,"to choose that version for the Program."]
[]
[null,"  Later license versions may give you additional or different"]
[null,"permissions.  However, no additional obligations are imposed on any"]
[null,"author or copyright holder as a result of your choosing to follow a"]
[null,"later version."]
[]
[null,"  15. Disclaimer of Warranty."]
[]
[null,"  THERE IS NO WARRANTY FOR THE PROGRAM, TO THE EXTENT PERMITTED BY"]
[null,"APPLICABLE LAW.  EXCEPT WHEN OTHERWISE STATED IN WRITING THE COPYRIGHT"]
[null,"HOLDERS AND/OR OTHER PARTIES PROVIDE THE PROGRAM \"AS IS\" WITHOUT WARRANTY"]
[null,"OF ANY KIND, EITHER EXPRESSED OR IMPLIED, INCLUDING, BUT NOT LIMITED TO,"]
[null,"THE IMPLIED WARRANTIES OF MERCHANTABILITY AND FITNESS FOR A PARTICULAR"]
[null,"PURPOSE.  THE ENTIRE RISK AS TO THE QUALITY AND PERFORMANCE OF THE PROGRAM"]
[null,"IS WITH YOU.  SHOULD THE PROGRAM PROVE DEFECTIVE, YOU ASSUME THE COST OF"]
[null,"ALL NECESSARY SERVICING, REPAIR OR CORRECTION."]
[]
[null,"  16. Limitation of Liability."]
[]
[null,"  IN NO EVENT UNLESS REQUIRED BY APPLICABLE LAW OR AGREED TO IN WRITING"]
[null,"WILL ANY COPYRIGHT HOLDER, OR ANY OTHER PARTY WHO MODIFIES AND/OR CONVEYS"]
[null,"THE PROGRAM AS PERMITTED ABOVE, BE LIABLE TO YOU FOR DAMAGES, INCLUDING ANY"]
[null,"GENERAL, SPECIAL, INCIDENTAL OR CONSEQUENTIAL DAMAGES ARISING OUT OF THE"]
[null,"USE OR INABILITY TO USE THE PROGRAM (INCLUDING BUT NOT LIMITED TO LOSS OF"]
[null,"DATA OR DATA BEING RENDERED INACCURATE OR LOSSES SUSTAINED BY YOU OR THIRD"]
[null,"PARTIES OR A FAILURE OF THE PROGRAM TO OPERATE WITH ANY OTHER PROGRAMS),"]
[null,"EVEN IF SUCH HOLDER OR OTHER PARTY HAS BEEN ADVISED OF THE POSSIBILITY OF"]
[null,"SUCH DAMAGES."]
[]
[null,"  17. Interpretation of Sections 15 and 16."]
[]
[null,"  If the disclaimer of warranty and limitation of liability provided"]
[null,"above cannot be given local legal effect according to their terms,"]
[null,"reviewing courts shall apply local law that most closely approximates"]
[null,"an absolute waiver of all civil liability in connection with the"]
[null,"Program, unless a warranty or assumption of liability accompanies a"]
[null,"copy of the Program in return for a fee."]
[]
[null,"                     END OF TERMS AND CONDITIONS"]
[]
[null,"            How to Apply These Terms to Your New Programs"]
[]
[null,"  If you develop a new program, and you want it to be of the greatest"]
[null,"possible use to the public, the best way to achieve this is to make it"]
[null,"free software which everyone can redistribute and change under these terms."]
[]
[null,"  To do so, attach the following notices to the program.  It is safest"]
[null,"to attach them to the start of each source file to most effectively"]
[null,"state the exclusion of warranty; and each file should have at least"]
[null,"the \"copyright\" line and a pointer to where the full notice is found."]
[]
[null,"    <one line to give the program's name and a brief idea of what it does.>"]
[null,"    Copyright (C) <year>  <name of author>"]
[]
[null,"    This program is free software: you can redistribute it and/or modify"]
[null,"    it under the terms of the GNU General Public License as published by"]
[null,"    the Free Software Foundation, either version 3 of the License, or"]
[null,"    (at your option) any later version."]
[]
[null,"    This program is distributed in the hope that it will be useful,"]
[null,"    but WITHOUT ANY WARRANTY; without even the implied warranty of"]
[null,"    MERCHANTABILITY or FITNESS FOR A PARTICULAR PURPOSE.  See the"]
[null,"    GNU General Public License for more details."]
[]
[null,"    You should have received a copy of the GNU General Public License"]
[null,"    along with this program.  If not, see <http://www.gnu.org/licenses/>."]
[]
[null,"Also add information on how to contact you by electronic and paper mail."]
[]
[null,"  If the program does terminal interaction, make it output a short"]
[null,"notice like this when it starts in an interactive mode:"]
[]
[null,"    <program>  Copyright (C) <year>  <name of author>"]
[null,"    This program comes with ABSOLUTELY NO WARRANTY; for details type `show w'."]
[null,"    This is free software, and you are welcome to redistribute it"]
[null,"    under certain conditions; type `show c' for details."]
[]
[null,"The hypothetical commands `show w' and `show c' should show the appropriate"]
[null,"parts of the General Public License.  Of course, your program's commands"]
[null,"might be different; for a GUI interface, you would use an \"about box\"."]
[]
[null,"  You should also get your employer (if you work as a programmer) or school,"]
[null,"if any, to sign a \"copyright disclaimer\" for the program, if necessary."]
[null,"For more information on this, and how to apply and follow the GNU GPL, see"]
[null,"<http://www.gnu.org/licenses/>."]
[]
[null,"  The GNU General Public License does not permit incorporating your program"]
[null,"into proprietary programs.  If your program is a subroutine library, you"]
[null,"may consider it more useful to permit linking proprietary applications with"]
[null,"the library.  If this is what you want to do, use the GNU Lesser General"]
[null,"Public License instead of this License.  But first, please read"]
[null,"<http://www.gnu.org/philosophy/why-not-lgpl.html>."]

{"sheet":"Sampling","index":1,"n_rows":304,"n_cols":90,"rows_kept":304,"cut":false,"hidden":false,"merged":[[8,14,8,15],[18,14,18,15],[19,14,19,15],[25,19,25,20],[22,14,22,15],[38,19,38,20],[21,14,21,15],[20,14,20,15],[16,19,16,20]]}
[null,null,null,null,null,null,null,null,null,null,null,"     Distributions from sampling        ",null,null,null,null,null,null,null,null,null,null,{"$f":"($O$9+$R$11+$K$14+$V$9+$BA$33+$BA$34+$BB$8+$BA$36+$BA$37)/1000000","v":1.554285E-4},{"$f":"$W$1","v":1.554285E-4},1.554285E-4,1.554285E-4,1.554285E-4,1.554285E-4,1.554285E-4,1.554285E-4,1.554285E-4,1.554285E-4,1.554285E-4,1.554285E-4,1.554285E-4,1.554285E-4,null,null,null,null,null,null,null,null,null,null,null,null,null,"low","high","majXunit","X step size",0.5,"DispRubberRuler",false,null,"H0 sample",null,null,null,0.3]
["means","SDs","t or z","means","SDs","t or z","calcswitch",false,null,null,null,null,"Take samples, see normal and (central) t distributions",null,null,null,null,null,null,null,null,null,{"$f":"$W$1","v":1.554285E-4},null,null,null,null,null,null,null,null,null,null,null,null,{"$f":"$W$1","v":1.554285E-4},null,null,null,null,null,null,null,null,null,null,null,null,"Y axis",{"$f":"AX15-AX16","v":-52},{"$f":"AX6+AX5+AX4","v":45},null,"Max no samps",300,"Show data pts",true,1,"rand no.","data point z","data point",null,"New Sample, for display","Grey","Display mean heap 0",null,{"$f":"BN4","v":40.282499999999999},{"$f":"IF(AND(NOT($BB$12),$BD$3,$BD$2),$AX$9-$BA$33/2+BM4*$BA$33,NA())","v":4.8397499999999996},{"$f":"IF(AND($BB$12,$BD$3,$BD$2),$AX$9-$BA$33/2+BM4*$BA$33,NA())","v":{"$error":"#N/A"}},"Display t-z heap 0",null,{"$f":"BS4","v":40.282499999999999},{"$f":"IF(AND(NOT($BB$12),$BD$3,$BD$2,BD10),$AX$15-$BA$33/2+BR4*$BA$33,NA())","v":-45.160250000000005},{"$f":"IF(AND($BB$12,$BD$3,$BD$2,BD10),$AX$15-$BA$33/2+BR4*$BA$33,NA())","v":{"$error":"#N/A"}},"Display mean heap 1",null,{"$f":"BX4","v":67.792500000000004},{"$f":"IF(AND(NOT($BB$13),$BD$4,$BD$2),$AX$9-$BA$33/2+BW4*$BA$33,NA())","v":{"$error":"#N/A"}},{"$f":"IF(AND($BB$4,$BB$13,$BD$4,$BD$2),$AX$9-$BA$33/2+BW4*$BA$33,NA())","v":{"$error":"#N/A"}},"Display t-z heap 1",null,{"$f":"CC4","v":67.792500000000004},{"$f":"IF(AND(NOT($BB$13),$BD$4,$BD$2,BD10),$AX$15-$BA$33/2+CB4*$BA$33,NA())","v":{"$error":"#N/A"}},{"$f":"IF(AND($BB$4,$BB$13,$BD$4,$BD$2,BD10),$AX$15-$BA$33/2+CB4*$BA$33,NA())","v":{"$error":"#N/A"}},"Display s pile",null,null,null,{"$f":"CJ4","v":{"$error":"#N/A"}},{"$f":"IF(AND(NOT($BD$12),$BD$5,$BD$4,$BD$2),$AX$12-$BA$36/2+IF($BB$5=1,CG4,CI4)*$BA$36,NA())","v":{"$error":"#N/A"}},{"$f":"IF(AND($BD$12,$BD$5,$BD$4,$BD$2),$AX$12-$BA$36/2+IF($BB$5=1,CG4,CI4)*$BA$36,NA())","v":{"$error":"#N/A"}}]
[{"$f":"BB30","v":2.0787974549810368E-2},{"$f":"BC30","v":1.8430680465191509},null,{"$f":"BB31","v":0.18207042371964122},{"$f":"BC31","v":1.1842495882606923},null,null,null,null,null,null,null,"See the rubber ruler, and the noncentral t distribution",null,null,null,null,null,null,null,null,null,1.554285E-4,null,null,null,null,null,null,null,null,null,null,null,null,1.554285E-4,null,null,null,null,null,null,null,null,null,null,null,null,"X axis",0,100,10,"Max height",{"$f":"MAX(L65:L265,Q65:Q265)*1.1","v":47.07792573428641},"Don'tClearDisp",{"$f":"($G$11=$H$11)","v":true},2,{"$f":"$G$9","v":1.0674158702288938E-2},{"$f":"IF(AND($BD$3,$BE2<=$K$14),NORMSINV(BF3),\"\")","v":-2.3017669661136253},{"$f":"IF(BG3=\"\",\"\",$O$9+$R$11*BG3)","v":5.4734955082956205},{"$f":"IF(AND(NOT($BB$12),$BD$2,BH3<>\"\",$A$4<>\"\"),BH3,-999)","v":5.4734955082956205},{"$f":"$AX$8+$BJ$1","v":25.3},{"$f":"IF(AND($BB$12,$BD$2,BH3<>\"\",$A$4<>\"\"),BH3,-999)","v":-999},"xticks","yticks","x for display","y for display","Grey","xticks","yticks","x for display","y for display","Grey","xticks","yticks","x for display","y for display","Grey","xticks","yticks","x for display","y for display","Grey","xticks 0","yticks 0","xticks 1","yticks 1","x for display","y for display","y grey"]
[2.0787974549810368E-2,1.8430680465191509,{"$f":"IF(AND(A4<>\"\",$K$14>1),(($O$9+$R$11*A4)-$O$9)/IF($BD$12,$BB$9,$R$11*B4/SQRT($K$14)),\"\")","v":5.0919930432998389E-2},0.18207042371964122,1.1842495882606923,{"$f":"IF(AND(D4<>\"\",$K$14>1),(($V$9+$R$11*D4)-$O$9)/IF($BD$12,$BB$9,$R$11*E4/SQRT($K$14)),\"\")","v":4.5284625400040781},null,null,null,null,null,null,null,null,null,null,null,null,null,null,null,null,1.554285E-4,null,null,null,null,null,null,null,null,null,null,null,null,1.554285E-4,null,null,null,null,null,null,null,null,null,null,null,null,"top gap",0,null,"minXunit","Show m1 also",false,"Don'tClearDisp1",{"$f":"($G$11=$H$11)","v":true},3,{"$f":"MOD(BF3*10000013,1)","v":0.72578695252013858},{"$f":"IF(AND($BD$3,$BE3<=$K$14),NORMSINV(BF4),\"\")","v":0.60012025437367433},{"$f":"IF(BG4=\"\",\"\",$O$9+$R$11*BG4)","v":49.001803815605115},{"$f":"IF(AND(NOT($BB$12),$BD$2,BH4<>\"\",$A$4<>\"\"),BH4,-999)","v":49.001803815605115},{"$f":"$AX$8+$BJ$1","v":25.3},{"$f":"IF(AND($BB$12,$BD$2,BH4<>\"\",$A$4<>\"\"),BH4,-999)","v":-999},{"$f":"IF(A4=\"\",\"\",ROUND(($O$9+$R$11*A4)/$BA$34,0))","v":41},{"$f":"IF(BL4=\"\",NA(),COUNTIF(BL4:$BL$303,BL4))","v":5},{"$f":"BL4*$BA$34","v":40.282499999999999},{"$f":"IF(AND(NOT($BB$12),$BB$6,$BD$3,$BD$8),$AX$9-$BA$33/2+BM4*$BA$33,NA())","v":4.8397499999999996},{"$f":"IF(AND($BB$12,$BB$6,$BD$3,$BD$8),$AX$9-$BA$33/2+BM4*$BA$33,NA())","v":{"$error":"#N/A"}},{"$f":"IF(C4=\"\",\"\",ROUND(($O$9+C4*$BB$9)/$BA$34,0))","v":41},{"$f":"IF(BQ4=\"\",NA(),COUNTIF(BQ4:$BQ$303,BQ4))","v":5},{"$f":"BQ4*$BA$34","v":40.282499999999999},{"$f":"IF(AND(NOT($BB$12),$BD$10,$BD$3,$BD$8),$AX$15-$BA$33/2+BR4*$BA$33,NA())","v":-45.160250000000005},{"$f":"IF(AND($BB$12,$BD$10,$BD$3,$BD$8),$AX$15-$BA$33/2+BR4*$BA$33,NA())","v":{"$error":"#N/A"}},{"$f":"IF(D4=\"\",\"\",ROUND(($V$9+$R$11*D4)/$BA$34,0))","v":69},{"$f":"IF(BV4=\"\",NA(),COUNTIF(BV4:$BV$303,BV4))","v":2},{"$f":"BV4*$BA$34","v":67.792500000000004},{"$f":"IF(AND(NOT($BB$13),$BD$6,$BD$4,$BD$8),$AX$9-$BA$33/2+BW4*$BA$33,NA())","v":{"$error":"#N/A"}},{"$f":"IF(AND($BB$4,$BD$6,$BB$13,$BD$4,$BD$8),$AX$9-$BA$33/2+BW4*$BA$33,NA())","v":{"$error":"#N/A"}},{"$f":"IF(F4=\"\",\"\",ROUND(($O$9+F4*$BB$9)/$BA$34,0))","v":69},{"$f":"IF(CA4=\"\",NA(),COUNTIF(CA4:$CA$303,CA4))","v":2},{"$f":"CA4*$BA$34","v":67.792500000000004},{"$f":"IF(AND(NOT($BB$13),$BD$10,$BD$4,$BD$8),$AX$15-$BA$33/2+CB4*$BA$33,NA())","v":{"$error":"#N/A"}},{"$f":"IF(AND($BB$4,$BD$10,$BB$13,$BD$4,$BD$8),$AX$15-$BA$33/2+CB4*$BA$33,NA())","v":{"$error":"#N/A"}},{"$f":"IF(B4=\"\",\"\",ROUND(($R$11*B4)/$BA$37,0))","v":42},{"$f":"IF(CF4=\"\",NA(),COUNTIF($CF4:CF$303,CF4))","v":2},{"$f":"IF(E4=\"\",\"\",ROUND(($R$11*E4)/$BA$37,0))","v":27},{"$f":"IF(CH4=\"\",NA(),COUNTIF($CH4:CH$303,CH4))","v":2},{"$f":"$AX$35+IF($BB$5=1,CF4,CH4)*$BA$37","v":{"$error":"#N/A"}},{"$f":"IF(AND(NOT($BD$12),$BD$5,$BD$4,$BD$8),$AX$12-$BA$36/2+IF($BB$5=1,CG4,CI4)*$BA$36,NA())","v":{"$error":"#N/A"}},{"$f":"IF(AND($BD$12,$BD$5,$BD$4,$BD$8),$AX$12-$BA$36/2+IF($BB$5=1,CG4,CI4)*$BA$36,NA())","v":{"$error":"#N/A"}}]
[0.28036813851331249,0.97692865694776421,{"$f":"IF(AND(A5<>\"\",$K$14>1),(($O$9+$R$11*A5)-$O$9)/IF($BD$12,$BB$9,$R$11*B5/SQRT($K$14)),\"\")","v":0.68675887949157266},0.36691075258405342,0.86569399800064639,{"$f":"IF(AND(D5<>\"\",$K$14>1),(($V$9+$R$11*D5)-$O$9)/IF($BD$12,$BB$9,$R$11*E5/SQRT($K$14)),\"\")","v":4.9812270296101238},null,null,null,1,"Populations",null,null,null,null,null,"2..","Hypotheses",null,null,null,null,1.554285E-4,null,null,null,null,null,null,null,null,null,null,null,null,1.554285E-4,null,null,null,null,null,null,null,null,null,null,null,null,"panel 1 height",18,null,2," m0 or m1 true",1,"Disp s pile",false,4,0.96043176855891943,{"$f":"IF(AND($BD$3,$BE4<=$K$14),NORMSINV(BF5),\"\")","v":1.7557186373613098},66.335779560419653,66.335779560419653,25.3,-999,45,{"$f":"IF(BL5=\"\",NA(),COUNTIF(BL5:$BL$303,BL5))","v":9},44.212499999999999,9.1417499999999983,{"$error":"#N/A"},45,{"$f":"IF(BQ5=\"\",NA(),COUNTIF(BQ5:$BQ$303,BQ5))","v":9},44.212499999999999,{"$f":"IF(AND(NOT($BB$12),$BD$10,$BD$3,$BD$8),$AX$15-$BA$33/2+BR5*$BA$33,NA())","v":-40.858250000000005},{"$f":"IF(AND($BB$12,$BD$10,$BD$3,$BD$8),$AX$15-$BA$33/2+BR5*$BA$33,NA())","v":{"$error":"#N/A"}},72,{"$f":"IF(BV5=\"\",NA(),COUNTIF(BV5:$BV$303,BV5))","v":1},70.740000000000009,{"$error":"#N/A"},{"$error":"#N/A"},72,{"$f":"IF(CA5=\"\",NA(),COUNTIF(CA5:$CA$303,CA5))","v":1},70.740000000000009,{"$f":"IF(AND(NOT($BB$13),$BD$10,$BD$4,$BD$8),$AX$15-$BA$33/2+CB5*$BA$33,NA())","v":{"$error":"#N/A"}},{"$f":"IF(AND($BB$4,$BD$10,$BB$13,$BD$4,$BD$8),$AX$15-$BA$33/2+CB5*$BA$33,NA())","v":{"$error":"#N/A"}},{"$f":"IF(B5=\"\",\"\",ROUND(($R$11*B5)/$BA$37,0))","v":22},{"$f":"IF(CF5=\"\",NA(),COUNTIF($CF5:CF$303,CF5))","v":6},{"$f":"IF(E5=\"\",\"\",ROUND(($R$11*E5)/$BA$37,0))","v":20},{"$f":"IF(CH5=\"\",NA(),COUNTIF($CH5:CH$303,CH5))","v":4},{"$f":"$AX$35+IF($BB$5=1,CF5,CH5)*$BA$37","v":{"$error":"#N/A"}},{"$f":"IF(AND(NOT($BD$12),$BD$5,$BD$4,$BD$8),$AX$12-$BA$36/2+IF($BB$5=1,CG5,CI5)*$BA$36,NA())","v":{"$error":"#N/A"}},{"$f":"IF(AND($BD$12,$BD$5,$BD$4,$BD$8),$AX$12-$BA$36/2+IF($BB$5=1,CG5,CI5)*$BA$36,NA())","v":{"$error":"#N/A"}}]
[-0.30935066713901721,1.0223551621261056,-0.75775128608015596,0.27740365683729951,1.2759383866208682,4.7619803166721386,"Copy here","Copy from",null,null,null," Display both populations ",null,null,null,null,null,null," Assume true ",null,null,null,1.554285E-4,null,null,null,null,null,null,null,null,null,null,null,null,1.554285E-4,null,null,null,null,null,null,null,null,null,null,null,null,"panel 1 bottom",{"$f":"AX9+AX8+AX7","v":27},null,"stepXsize","Disp H0 Middle",true,"Disp H1 Middle",true,5,0.17120218649506569,-0.94942525047140158,25.758621242928974,25.758621242928974,25.3,-999,36,{"$f":"IF(BL6=\"\",NA(),COUNTIF(BL6:$BL$303,BL6))","v":10},35.370000000000005,10.21725,{"$error":"#N/A"},36,{"$f":"IF(BQ6=\"\",NA(),COUNTIF(BQ6:$BQ$303,BQ6))","v":10},35.370000000000005,-39.782750000000007,{"$error":"#N/A"},70,{"$f":"IF(BV6=\"\",NA(),COUNTIF(BV6:$BV$303,BV6))","v":3},68.775000000000006,{"$error":"#N/A"},{"$error":"#N/A"},70,{"$f":"IF(CA6=\"\",NA(),COUNTIF(CA6:$CA$303,CA6))","v":3},68.775000000000006,{"$error":"#N/A"},{"$error":"#N/A"},23,{"$f":"IF(CF6=\"\",NA(),COUNTIF($CF6:CF$303,CF6))","v":5},29,{"$f":"IF(CH6=\"\",NA(),COUNTIF($CH6:CH$303,CH6))","v":2},{"$error":"#N/A"},{"$error":"#N/A"},{"$error":"#N/A"}]
[0.88653674741708688,1.1160150890012375,2.1715626693985159,0.2156857726390311,0.87129598883557291,4.6108029923822018,"from right","red 2, 3",null,null,null,null,null,null,null,null,null,"H0","H1",null,null,null,1.554285E-4,null,null,null,null,null,null,null,null,null,null,null,null,1.554285E-4,null,null,null,null,null,null,null,null,null,null,null,null,"1 to 2 gap",2,null,0.5,"Disp H0 Lower",true,"Disp H1 Lower",true,6,9.0579081326723099E-2,-1.337197546262114,19.942036806068291,19.942036806068291,25.3,-999,54,{"$f":"IF(BL7=\"\",NA(),COUNTIF(BL7:$BL$303,BL7))","v":1},53.055,0.53774999999999995,{"$error":"#N/A"},54,{"$f":"IF(BQ7=\"\",NA(),COUNTIF(BQ7:$BQ$303,BQ7))","v":1},53.055,-49.462250000000004,{"$error":"#N/A"},69,{"$f":"IF(BV7=\"\",NA(),COUNTIF(BV7:$BV$303,BV7))","v":1},67.792500000000004,{"$error":"#N/A"},{"$error":"#N/A"},69,{"$f":"IF(CA7=\"\",NA(),COUNTIF(CA7:$CA$303,CA7))","v":1},67.792500000000004,{"$error":"#N/A"},{"$error":"#N/A"},26,{"$f":"IF(CF7=\"\",NA(),COUNTIF($CF7:CF$303,CF7))","v":4},20,{"$f":"IF(CH7=\"\",NA(),COUNTIF($CH7:CH$303,CH7))","v":3},{"$error":"#N/A"},{"$error":"#N/A"},{"$error":"#N/A"}]
[0.39085581007475656,0.99223571910879738,0.95739729768532589,-0.11286583847542975,0.41781020657489654,3.8060191909824415,40,{"$f":"O9","v":40},null,null,null,null,null,null,"For H0",null,null,null,null,null,null,"For H1",1.554285E-4,null,null,null,null,null,null,null,null,null,null,null,null,1.554285E-4,null,null,null,null,null,null,null,null,null,null,null,null,"panel 2 height",25,null,null,"For a",26,"Disp Heaps",true,7,0.99079528823494911,2.3572787184110187,75.359180776165289,75.359180776165289,25.3,-999,47,{"$f":"IF(BL8=\"\",NA(),COUNTIF(BL8:$BL$303,BL8))","v":6},46.177500000000002,5.9152499999999995,{"$error":"#N/A"},47,{"$f":"IF(BQ8=\"\",NA(),COUNTIF(BQ8:$BQ$303,BQ8))","v":6},46.177500000000002,-44.08475,{"$error":"#N/A"},64,{"$f":"IF(BV8=\"\",NA(),COUNTIF(BV8:$BV$303,BV8))","v":1},62.88,{"$error":"#N/A"},{"$error":"#N/A"},64,{"$f":"IF(CA8=\"\",NA(),COUNTIF(CA8:$CA$303,CA8))","v":1},62.88,{"$error":"#N/A"},{"$error":"#N/A"},23,{"$f":"IF(CF8=\"\",NA(),COUNTIF($CF8:CF$303,CF8))","v":4},10,{"$f":"IF(CH8=\"\",NA(),COUNTIF($CH8:CH$303,CH8))","v":3},{"$error":"#N/A"},{"$error":"#N/A"},{"$error":"#N/A"}]
[0.29334456374987877,1.2705082876321152,0.71854450000653403,-0.73806511970298283,0.8659356140527088,2.2745999644201347,1.0674158702288938E-2,{"$f":"RAND()","v":0.80470210501188166},null,null,null,null,null,"m0",40,null,null,null,null,null,"m1",65,1.554285E-4,null,null,null,null,null,null,null,null,null,null,null,null,1.554285E-4,null,null,null,null,"Mean heap & (z or t) heap",null,null,null,null,null,null,null,"panel 2 bottom",0,null,null,"Population SE",{"$f":"$R$11/SQRT($K$14)","v":6.123724356957946},"DispSampDist",true,8,0.76268823817372322,"","",-999,25.3,-999,45,{"$f":"IF(BL9=\"\",NA(),COUNTIF(BL9:$BL$303,BL9))","v":8},44.212499999999999,8.0662500000000001,{"$error":"#N/A"},45,{"$f":"IF(BQ9=\"\",NA(),COUNTIF(BQ9:$BQ$303,BQ9))","v":8},44.212499999999999,-41.933750000000003,{"$error":"#N/A"},55,{"$f":"IF(BV9=\"\",NA(),COUNTIF(BV9:$BV$303,BV9))","v":2},54.037500000000001,{"$error":"#N/A"},{"$error":"#N/A"},55,{"$f":"IF(CA9=\"\",NA(),COUNTIF(CA9:$CA$303,CA9))","v":2},54.037500000000001,{"$error":"#N/A"},{"$error":"#N/A"},29,{"$f":"IF(CF9=\"\",NA(),COUNTIF($CF9:CF$303,CF9))","v":2},20,{"$f":"IF(CH9=\"\",NA(),COUNTIF($CH9:CH$303,CH9))","v":2},{"$error":"#N/A"},{"$error":"#N/A"},{"$error":"#N/A"}]
[-0.47794061835517415,1.0743724184830898,-1.1707106423204487,-0.42808079872658594,0.34956043454023877,3.0339033790754275,15,{"$f":"R11","v":15},null,null,null,null,null,null,null,null,null,null,null,null,null,null,1.554285E-4,null,null,null,null,null,null,null,null,null,null,null,null,1.554285E-4,null,null,null,null,"appearance",null,null,null,null,null,null,null,"2 to 3 gap",2,null,null,"format M SD values",{"$f":"IF(BB5=2,-999999999,999999999)","v":999999999},"Disp z t panel",true,9,0.29668432846665382,"","",-999,25.3,-999,33,{"$f":"IF(BL10=\"\",NA(),COUNTIF(BL10:$BL$303,BL10))","v":7},32.422499999999999,6.9907499999999994,{"$error":"#N/A"},33,{"$f":"IF(BQ10=\"\",NA(),COUNTIF(BQ10:$BQ$303,BQ10))","v":7},32.422499999999999,-43.009250000000002,{"$error":"#N/A"},60,{"$f":"IF(BV10=\"\",NA(),COUNTIF(BV10:$BV$303,BV10))","v":2},58.95,{"$error":"#N/A"},{"$error":"#N/A"},60,{"$f":"IF(CA10=\"\",NA(),COUNTIF(CA10:$CA$303,CA10))","v":2},58.95,{"$error":"#N/A"},{"$error":"#N/A"},25,{"$f":"IF(CF10=\"\",NA(),COUNTIF($CF10:CF$303,CF10))","v":4},8,{"$f":"IF(CH10=\"\",NA(),COUNTIF($CH10:CH$303,CH10))","v":1},{"$error":"#N/A"},{"$error":"#N/A"},{"$error":"#N/A"}]
[0.22151638850321742,1.4423836580975529,0.54260212149700437,-1.217840733648686E-2,0.44339872344834647,4.0526520207844703,6,{"$f":"K14","v":6},null,null,"         Population SD",null,null,null,null,null,"s",15,null,null,"d ",{"$f":"(V9-O9)/R11","v":1.6666666666666667},1.554285E-4,null,null,null,null,null,null,null,null,null,null,null,null,1.554285E-4,null,null,null,null,"y",null,null,null,null,null,null,null,"panel 3 height",17,null,null,"SD of nct dist",{"$f":"SQRT(($K$14-1)*(1+$AW$136*$AW$136)/(($K$14-1)-2)-BD11*BD11)","v":2.421969107129641},"mean of nct dist",{"$f":"SQRT(($K$14-1)/2)*(EXP(GAMMALN(($K$14-1)/2-0.5))/EXP(GAMMALN(($K$14-1)/2)))*$AW$136","v":4.855770802720623},10,0.1415628083050251,"","",-999,25.3,-999,44,{"$f":"IF(BL11=\"\",NA(),COUNTIF(BL11:$BL$303,BL11))","v":6},43.230000000000004,5.9152499999999995,{"$error":"#N/A"},44,{"$f":"IF(BQ11=\"\",NA(),COUNTIF(BQ11:$BQ$303,BQ11))","v":6},43.230000000000004,-44.08475,{"$error":"#N/A"},66,{"$f":"IF(BV11=\"\",NA(),COUNTIF(BV11:$BV$303,BV11))","v":1},64.844999999999999,{"$error":"#N/A"},{"$error":"#N/A"},66,{"$f":"IF(CA11=\"\",NA(),COUNTIF(CA11:$CA$303,CA11))","v":1},64.844999999999999,{"$error":"#N/A"},{"$error":"#N/A"},33,{"$f":"IF(CF11=\"\",NA(),COUNTIF($CF11:CF$303,CF11))","v":5},10,{"$f":"IF(CH11=\"\",NA(),COUNTIF($CH11:CH$303,CH11))","v":2},{"$error":"#N/A"},{"$error":"#N/A"},{"$error":"#N/A"}]
[-0.48749461265839072,0.88121848983653528,-1.1941130533687865,0.92605715266764432,0.93207847199046512,6.3508504013290201,0.14777866441564891,{"$f":"RAND()","v":0.2380323403036293},null,null,null,null,null,null,null,null,null,null,null,null,null,null,1.554285E-4,null,null,null,null,null,null,null,null,null,null,null,null,1.554285E-4,null,null,null,null,2151,null,null,null,null,null,null,null,"panel 3 bottom",{"$f":"AX9-AX10-AX11","v":-19},null,null,"m0 grey",{"$f":"AND(BB5=2)","v":false},"Assume s known",true,11,0.92336675897240639,"","",-999,25.3,-999,33,{"$f":"IF(BL12=\"\",NA(),COUNTIF(BL12:$BL$303,BL12))","v":6},32.422499999999999,5.9152499999999995,{"$error":"#N/A"},33,{"$f":"IF(BQ12=\"\",NA(),COUNTIF(BQ12:$BQ$303,BQ12))","v":6},32.422499999999999,-44.08475,{"$error":"#N/A"},80,{"$f":"IF(BV12=\"\",NA(),COUNTIF(BV12:$BV$303,BV12))","v":1},78.600000000000009,{"$error":"#N/A"},{"$error":"#N/A"},80,{"$f":"IF(CA12=\"\",NA(),COUNTIF(CA12:$CA$303,CA12))","v":1},78.600000000000009,{"$error":"#N/A"},{"$error":"#N/A"},20,{"$f":"IF(CF12=\"\",NA(),COUNTIF($CF12:CF$303,CF12))","v":11},21,{"$f":"IF(CH12=\"\",NA(),COUNTIF($CH12:CH$303,CH12))","v":1},{"$error":"#N/A"},{"$error":"#N/A"},{"$error":"#N/A"}]
[-1.0388588043874354,0.81094932541187037,-2.5446739855470191,-6.9923141592838897E-2,1.4572980639191329,3.9112068865237948,65,{"$f":"V9","v":65},null,3,null,null,"4 ",null,null,null,null,null,null,null,null,null,1.554285E-4,null,null,null,null,null,null,null,null,null,null,null,null,1.554285E-4,null,null,null,null,null,null,null,null,null,null,null,null,"3 to 4 gap",7,null,null,"m1 grey",{"$f":"AND(BB5=1)","v":true},"Show rej region",false,12,0.59349193051457405,"","",-999,25.3,-999,25,{"$f":"IF(BL13=\"\",NA(),COUNTIF(BL13:$BL$303,BL13))","v":1},24.5625,0.53774999999999995,{"$error":"#N/A"},25,{"$f":"IF(BQ13=\"\",NA(),COUNTIF(BQ13:$BQ$303,BQ13))","v":1},24.5625,-49.462250000000004,{"$error":"#N/A"},65,{"$f":"IF(BV13=\"\",NA(),COUNTIF(BV13:$BV$303,BV13))","v":1},63.862500000000004,{"$error":"#N/A"},{"$error":"#N/A"},65,{"$f":"IF(CA13=\"\",NA(),COUNTIF(CA13:$CA$303,CA13))","v":1},63.862500000000004,{"$error":"#N/A"},{"$error":"#N/A"},19,{"$f":"IF(CF13=\"\",NA(),COUNTIF($CF13:CF$303,CF13))","v":7},33,{"$f":"IF(CH13=\"\",NA(),COUNTIF($CH13:CH$303,CH13))","v":1},{"$error":"#N/A"},{"$error":"#N/A"},{"$error":"#N/A"}]
[-5.432180804582961E-2,1.0546668572742248,-0.13306071161769678,-0.86506421767719377,0.77067032962606397,1.963516976589589,null,"In order",null,"N ",6,null,null,null,null,null,null,null,null,null,null,null,1.554285E-4,null,null,null,null,null,null,null,null,null,null,null,null,1.554285E-4,null,null,null,null,"x",null,null,null,null,null,null,null,"panel 4 height",24,null,null,"For top m0 line",{"$f":"IF(NOT(BB12),O9,NA())","v":40},{"$f":"AX6","v":27},null,13,2.0540837198495865E-2,"","",-999,25.3,-999,40,{"$f":"IF(BL14=\"\",NA(),COUNTIF(BL14:$BL$303,BL14))","v":8},39.300000000000004,8.0662500000000001,{"$error":"#N/A"},40,{"$f":"IF(BQ14=\"\",NA(),COUNTIF(BQ14:$BQ$303,BQ14))","v":8},39.300000000000004,-41.933750000000003,{"$error":"#N/A"},53,{"$f":"IF(BV14=\"\",NA(),COUNTIF(BV14:$BV$303,BV14))","v":1},52.072500000000005,{"$error":"#N/A"},{"$error":"#N/A"},53,{"$f":"IF(CA14=\"\",NA(),COUNTIF(CA14:$CA$303,CA14))","v":1},52.072500000000005,{"$error":"#N/A"},{"$error":"#N/A"},24,{"$f":"IF(CF14=\"\",NA(),COUNTIF($CF14:CF$303,CF14))","v":6},18,{"$f":"IF(CH14=\"\",NA(),COUNTIF($CH14:CH$303,CH14))","v":2},{"$error":"#N/A"},{"$error":"#N/A"},{"$error":"#N/A"}]
[0.27734960931467773,1.1474662197798489,0.67936502318122438,0.32076939844516095,0.83328333326873816,4.8682042559287826,null,"from top",null,null,null,null,null,null,null,null,null,null,null,null,null,null,1.554285E-4,null,null,null,null,null,null,null,null,null,null,null,null,1.554285E-4,null,null,null,null,1965,null,null,null,null,null,null,null,"panel 4 bottom",{"$f":"AX12-AX13-AX14","v":-50},null,null,"grey",{"$f":"IF($BB$12,O9,NA())","v":{"$error":"#N/A"}},{"$f":"BC14","v":27},null,14,0.63901584222912788,"","",-999,25.3,-999,45,{"$f":"IF(BL15=\"\",NA(),COUNTIF(BL15:$BL$303,BL15))","v":7},44.212499999999999,6.9907499999999994,{"$error":"#N/A"},45,{"$f":"IF(BQ15=\"\",NA(),COUNTIF(BQ15:$BQ$303,BQ15))","v":7},44.212499999999999,-43.009250000000002,{"$error":"#N/A"},71,{"$f":"IF(BV15=\"\",NA(),COUNTIF(BV15:$BV$303,BV15))","v":2},69.757500000000007,{"$error":"#N/A"},{"$error":"#N/A"},71,{"$f":"IF(CA15=\"\",NA(),COUNTIF(CA15:$CA$303,CA15))","v":2},69.757500000000007,{"$error":"#N/A"},{"$error":"#N/A"},26,{"$f":"IF(CF15=\"\",NA(),COUNTIF($CF15:CF$303,CF15))","v":3},19,{"$f":"IF(CH15=\"\",NA(),COUNTIF($CH15:CH$303,CH15))","v":1},{"$error":"#N/A"},{"$error":"#N/A"},{"$error":"#N/A"}]
[-7.1489410008313437E-2,1.2307610632066861,-0.17511257653298457,-0.38217223829402225,0.86129789846414773,3.1463559269609336,null,"H0 m0",null,"df",{"$f":"K14-1","v":5},null,null,null,null,null,null,null,null,"         Number of samples ",null,null,1.554285E-4,null,null,null,null,null,null,null,null,null,null,null,null,1.554285E-4,null,null,null,null,null,null,null,null,null,null,null,null,"bottom gap",2,null,null,"Middle m0 line",{"$f":"IF(NOT(BB12),O9,NA())","v":40},{"$f":"AX9","v":0},null,15,0.72949722781777382,"","",-999,25.3,-999,40,{"$f":"IF(BL16=\"\",NA(),COUNTIF(BL16:$BL$303,BL16))","v":7},39.300000000000004,6.9907499999999994,{"$error":"#N/A"},40,{"$f":"IF(BQ16=\"\",NA(),COUNTIF(BQ16:$BQ$303,BQ16))","v":7},39.300000000000004,-43.009250000000002,{"$error":"#N/A"},60,{"$f":"IF(BV16=\"\",NA(),COUNTIF(BV16:$BV$303,BV16))","v":1},58.95,{"$error":"#N/A"},{"$error":"#N/A"},60,{"$f":"IF(CA16=\"\",NA(),COUNTIF(CA16:$CA$303,CA16))","v":1},58.95,{"$error":"#N/A"},{"$error":"#N/A"},28,{"$f":"IF(CF16=\"\",NA(),COUNTIF($CF16:CF$303,CF16))","v":5},20,{"$f":"IF(CH16=\"\",NA(),COUNTIF($CH16:CH$303,CH16))","v":1},{"$error":"#N/A"},{"$error":"#N/A"},{"$error":"#N/A"}]
[-0.33263258614453278,1.3130210067341668,-0.81478010787647448,0.22031388668462012,0.9854893167286114,4.6221395102653009,null,"rand H0",null,null,null,"SE ",{"$f":"R11/SQRT(K14)","v":6.123724356957946},null,null,null,"H0",{"$f":"IF($BD$3,COUNT(A4:A303),0)","v":124},"H1",{"$f":"IF($BD$4,COUNT(D4:D303),0)","v":22},null,null,1.554285E-4,null,null,null,null,null,null,null,null,null,null,null,null,1.554285E-4,null,null,null,null,null,null,null,null,null,null,null,"Panel 1","Label pop",{"$f":"AX3","v":0},{"$f":"AX6+AX5-5","v":40},null,"grey",{"$f":"IF($BB$12,O9,NA())","v":{"$error":"#N/A"}},{"$f":"BC16","v":0},null,16,0.76164169982075691,"","",-999,25.3,-999,36,{"$f":"IF(BL17=\"\",NA(),COUNTIF(BL17:$BL$303,BL17))","v":9},35.370000000000005,9.1417499999999983,{"$error":"#N/A"},36,{"$f":"IF(BQ17=\"\",NA(),COUNTIF(BQ17:$BQ$303,BQ17))","v":9},35.370000000000005,-40.858250000000005,{"$error":"#N/A"},70,{"$f":"IF(BV17=\"\",NA(),COUNTIF(BV17:$BV$303,BV17))","v":2},68.775000000000006,{"$error":"#N/A"},{"$error":"#N/A"},70,{"$f":"IF(CA17=\"\",NA(),COUNTIF(CA17:$CA$303,CA17))","v":2},68.775000000000006,{"$error":"#N/A"},{"$error":"#N/A"},30,{"$f":"IF(CF17=\"\",NA(),COUNTIF($CF17:CF$303,CF17))","v":3},23,{"$f":"IF(CH17=\"\",NA(),COUNTIF($CH17:CH$303,CH17))","v":1},{"$error":"#N/A"},{"$error":"#N/A"},{"$error":"#N/A"}]
[0.38975952842935407,0.76608644920634317,0.95471196703971084,0.34813578880811097,0.4392255384130927,4.935237948419827,null,"sigma",null,null,null,null,null,null,null,null,null,null,null,null,null,null,1.554285E-4,null,null,null,null,null,null,null,null,null,null,null,null,1.554285E-4,null,null,null,null,"s pile",null,null,null,null,null,null,null,"Label H0 true",{"$f":"IF(BB5=1,O9-AZ18,NA())","v":28},{"$f":"AY2-AZ19","v":45},12,"Lower m0 line",{"$f":"IF($BD$10,$AX$15,NA())","v":-50},{"$f":"IF(AND($BB$7,NOT($BB$12)),$O$9,NA())","v":40},{"$f":"IF(AND($BB$7,$BB$12),$O$9,NA())","v":{"$error":"#N/A"}},17,0.89954966679215431,"","",-999,25.3,-999,47,{"$f":"IF(BL18=\"\",NA(),COUNTIF(BL18:$BL$303,BL18))","v":5},46.177500000000002,4.8397499999999996,{"$error":"#N/A"},47,{"$f":"IF(BQ18=\"\",NA(),COUNTIF(BQ18:$BQ$303,BQ18))","v":5},46.177500000000002,-45.160250000000005,{"$error":"#N/A"},71,{"$f":"IF(BV18=\"\",NA(),COUNTIF(BV18:$BV$303,BV18))","v":1},69.757500000000007,{"$error":"#N/A"},{"$error":"#N/A"},71,{"$f":"IF(CA18=\"\",NA(),COUNTIF(CA18:$CA$303,CA18))","v":1},69.757500000000007,{"$error":"#N/A"},{"$error":"#N/A"},18,{"$f":"IF(CF18=\"\",NA(),COUNTIF($CF18:CF$303,CF18))","v":7},10,{"$f":"IF(CH18=\"\",NA(),COUNTIF($CH18:CH$303,CH18))","v":1},{"$error":"#N/A"},{"$error":"#N/A"},{"$error":"#N/A"}]
[-0.11704847580101929,0.7756739846573415,-0.28670904088300214,-0.74210831929784205,1.160173911399913,2.2646961884845025,null,"N",null,5,"Latest sample",null,null,"Mean ",{"$f":"IF(AND(BD3,BB5=1,nsamps>0),O9+R11*BB30,IF(AND(BD4,BB5=2,nsampso>0),V9+R11*BB31,\"\"))","v":40.311819618247156},null,null,"Display data points",null,null,null,null,1.554285E-4,null,null,null,null,null,null,null,null,null,null,null,null,1.554285E-4,null,null,null,null,"appearance",null,null,null,null,null,null,null,"Label H1 true",{"$f":"IF(BB5=2,V9+AZ18,NA())","v":{"$error":"#N/A"}},{"$f":"AY18","v":45},0,"m0, m1 line bar",{"$f":"AX14-1","v":23},null,null,18,0.36206721141934395,"","",-999,25.3,-999,39,{"$f":"IF(BL19=\"\",NA(),COUNTIF(BL19:$BL$303,BL19))","v":6},38.317500000000003,5.9152499999999995,{"$error":"#N/A"},39,{"$f":"IF(BQ19=\"\",NA(),COUNTIF(BQ19:$BQ$303,BQ19))","v":6},38.317500000000003,-44.08475,{"$error":"#N/A"},55,{"$f":"IF(BV19=\"\",NA(),COUNTIF(BV19:$BV$303,BV19))","v":1},54.037500000000001,{"$error":"#N/A"},{"$error":"#N/A"},55,{"$f":"IF(CA19=\"\",NA(),COUNTIF(CA19:$CA$303,CA19))","v":1},54.037500000000001,{"$error":"#N/A"},{"$error":"#N/A"},18,{"$f":"IF(CF19=\"\",NA(),COUNTIF($CF19:CF$303,CF19))","v":6},27,{"$f":"IF(CH19=\"\",NA(),COUNTIF($CH19:CH$303,CH19))","v":1},{"$error":"#N/A"},{"$error":"#N/A"},{"$error":"#N/A"}]
[-0.15882306839472246,1.578751321868433,-0.38903547695022411,0.14649406031913559,1.0484320705255816,4.4413186027690124,null,"rand H1",null,null,null,null,null,"SD ",{"$f":"IF(AND(BD3,BB5=1,$K$14>1,nsamps>0),R11*BC30,IF(AND(BD4,BB5=2,$K$14>1,nsampso>0),R11*BC31,\"\"))","v":27.646020697787264},null,null,null,"Display heaps",null,null,null,1.554285E-4,null,null,null,null,null,null,null,null,null,null,null,null,1.554285E-4,null,null,null,null,"y",null,null,null,null,null,null,null,"for Y axis line",{"$f":"AX3","v":0},{"$f":"AX6","v":27},null,"For top m1 line",{"$f":"IF(NOT(BB13),V9,NA())","v":{"$error":"#N/A"}},{"$f":"AX6","v":27},null,19,0.82106718793511391,"","",-999,25.3,-999,38,{"$f":"IF(BL20=\"\",NA(),COUNTIF(BL20:$BL$303,BL20))","v":6},37.335000000000001,5.9152499999999995,{"$error":"#N/A"},38,{"$f":"IF(BQ20=\"\",NA(),COUNTIF(BQ20:$BQ$303,BQ20))","v":6},37.335000000000001,-44.08475,{"$error":"#N/A"},68,{"$f":"IF(BV20=\"\",NA(),COUNTIF(BV20:$BV$303,BV20))","v":2},66.81,{"$error":"#N/A"},{"$error":"#N/A"},68,{"$f":"IF(CA20=\"\",NA(),COUNTIF(CA20:$CA$303,CA20))","v":2},66.81,{"$error":"#N/A"},{"$error":"#N/A"},36,{"$f":"IF(CF20=\"\",NA(),COUNTIF($CF20:CF$303,CF20))","v":3},24,{"$f":"IF(CH20=\"\",NA(),COUNTIF($CH20:CH$303,CH20))","v":1},{"$error":"#N/A"},{"$error":"#N/A"},{"$error":"#N/A"}]
[-0.3343604682399306,0.52814543614101528,-0.81901253734589075,0.62819252743450138,1.2577999122789945,5.6212340570824804,null,"H1 m1",null,null,null,null,null,"SE",{"$f":"IF(AND(BD3,BB5=1,nsamps>0),R11*BD30,IF(AND(BD4,BB5=2,nsampso>0),R11*BD31,\"\"))","v":11.286440688000225},null,null,"Display sampling distributions",null,null,null,null,1.554285E-4,null,null,null,null,null,null,null,null,null,null,null,null,1.554285E-4,null,null,null,null,1431,null,null,null,null,null,null,null,"label val mu0",{"$f":"IF(BB5=1,O9-1.4,NA())","v":38.6},{"$f":"AX6+12","v":39},null,"grey",{"$f":"IF(AND($BB$4,$BB$13),V9,NA())","v":{"$error":"#N/A"}},{"$f":"BC20","v":27},null,20,0.5532245822250843,"","",-999,25.3,-999,36,{"$f":"IF(BL21=\"\",NA(),COUNTIF(BL21:$BL$303,BL21))","v":8},35.370000000000005,8.0662500000000001,{"$error":"#N/A"},36,{"$f":"IF(BQ21=\"\",NA(),COUNTIF(BQ21:$BQ$303,BQ21))","v":8},35.370000000000005,-41.933750000000003,{"$error":"#N/A"},76,{"$f":"IF(BV21=\"\",NA(),COUNTIF(BV21:$BV$303,BV21))","v":1},74.67,{"$error":"#N/A"},{"$error":"#N/A"},76,{"$f":"IF(CA21=\"\",NA(),COUNTIF(CA21:$CA$303,CA21))","v":1},74.67,{"$error":"#N/A"},{"$error":"#N/A"},12,{"$f":"IF(CF21=\"\",NA(),COUNTIF($CF21:CF$303,CF21))","v":5},29,{"$f":"IF(CH21=\"\",NA(),COUNTIF($CH21:CH$303,CH21))","v":1},{"$error":"#N/A"},{"$error":"#N/A"},{"$error":"#N/A"}]
[-0.23541701595289724,1.8175875307063849,-0.5766515658532454,-0.21177999055068142,0.77693460798460878,3.5637299900580173,null,null,null,null,null,null,null,{"$f":"IF($BD$12,\"z\",\"t\")","v":"z"},{"$f":"IF(AND(BD3,BB5=1,nsamps>0),(O9+R11*BB30-O9)/IF($BD$12,$BB$9,R11*BD30),IF(AND(BD4,BB5=2,nsampso>0),(V9+R11*BB31-O9)/IF($BD$12,$BB$9,R11*BD31),\"\"))","v":5.0919930432998389E-2},null,null,null,null,null,null,null,1.554285E-4,null,null,null,null,null,null,null,null,null,null,null,null,1.554285E-4,null,null,null,null,null,null,null,null,null,null,null,null,"grey",{"$f":"IF(BB5=2,O9-1.4,NA())","v":{"$error":"#N/A"}},{"$f":"AY21","v":39},{"$f":"AX5","v":18},"Middle m1 line",{"$f":"IF(NOT(BB13),V9,NA())","v":{"$error":"#N/A"}},{"$f":"BC16","v":0},null,21,1.4170411974191666E-2,"","",-999,25.3,-999,37,{"$f":"IF(BL22=\"\",NA(),COUNTIF(BL22:$BL$303,BL22))","v":9},36.352499999999999,9.1417499999999983,{"$error":"#N/A"},37,{"$f":"IF(BQ22=\"\",NA(),COUNTIF(BQ22:$BQ$303,BQ22))","v":9},36.352499999999999,-40.858250000000005,{"$error":"#N/A"},63,{"$f":"IF(BV22=\"\",NA(),COUNTIF(BV22:$BV$303,BV22))","v":2},61.897500000000001,{"$error":"#N/A"},{"$error":"#N/A"},63,{"$f":"IF(CA22=\"\",NA(),COUNTIF(CA22:$CA$303,CA22))","v":2},61.897500000000001,{"$error":"#N/A"},{"$error":"#N/A"},42,{"$f":"IF(CF22=\"\",NA(),COUNTIF($CF22:CF$303,CF22))","v":1},18,{"$f":"IF(CH22=\"\",NA(),COUNTIF($CH22:CH$303,CH22))","v":1},{"$error":"#N/A"},{"$error":"#N/A"},{"$error":"#N/A"}]
[0.22669857617649758,1.0491796715601327,0.55529583704788166,0.12228503167440256,0.69141044643098226,4.3820188354209959,null,null,null,null,"  Assume s known",null,null,"p",{"$f":"IF(O22<>\"\",IF($BD$12,2*(1-NORMSDIST(ABS(O22))),TDIST(ABS(O22),K14-1,2)),\"\")","v":0.95938932392114951},null,null,null,"Display s pile",null,null,null,{"$f":"$W$1","v":1.554285E-4},null,null,null,null,null,null,null,null,null,null,null,null,1.554285E-4,null,null,null,null,"x",null,null,null,null,null,null,null,"label val mu1",{"$f":"IF(BB5=2,V9-1.4,NA())","v":{"$error":"#N/A"}},{"$f":"AY24","v":39},null,"grey",{"$f":"IF(AND($BB$4,$BB$13),V9,NA())","v":{"$error":"#N/A"}},{"$f":"BC22","v":0},null,22,0.30395727232098579,"","",-999,25.3,-999,44,{"$f":"IF(BL23=\"\",NA(),COUNTIF(BL23:$BL$303,BL23))","v":5},43.230000000000004,4.8397499999999996,{"$error":"#N/A"},44,{"$f":"IF(BQ23=\"\",NA(),COUNTIF(BQ23:$BQ$303,BQ23))","v":5},43.230000000000004,-45.160250000000005,{"$error":"#N/A"},68,{"$f":"IF(BV23=\"\",NA(),COUNTIF(BV23:$BV$303,BV23))","v":1},66.81,{"$error":"#N/A"},{"$error":"#N/A"},68,{"$f":"IF(CA23=\"\",NA(),COUNTIF(CA23:$CA$303,CA23))","v":1},66.81,{"$error":"#N/A"},{"$error":"#N/A"},24,{"$f":"IF(CF23=\"\",NA(),COUNTIF($CF23:CF$303,CF23))","v":5},16,{"$f":"IF(CH23=\"\",NA(),COUNTIF($CH23:CH$303,CH23))","v":1},{"$error":"#N/A"},{"$error":"#N/A"},{"$error":"#N/A"}]
[6.7065938872935922E-3,1.2367368284803804,1.6427732935937505E-2,-0.23343048977745981,1.1303356988228144,3.5106973142758888,null,null,null,null,null,null,null,null,null,null,null,null,null,null,null,null,1.554285E-4,null,null,null,null,null,null,null,null,null,null,null,null,1.554285E-4,null,null,null,null,1310,null,null,null,null,null,null,null,"grey",{"$f":"IF(AND(BB5=1,BB4),V9-1.4,NA())","v":{"$error":"#N/A"}},{"$f":"AX6+12","v":39},6,"Lower m1 line",{"$f":"IF($BD$10,$AX$15,NA())","v":-50},{"$f":"IF(AND($BD$7,NOT($BB$13)),$V$9,NA())","v":{"$error":"#N/A"}},{"$f":"IF(AND($BD$7,$BB$4,$BB$13),$V$9,NA())","v":{"$error":"#N/A"}},23,0.67465439811348915,"","",-999,25.3,-999,41,{"$f":"IF(BL24=\"\",NA(),COUNTIF(BL24:$BL$303,BL24))","v":4},40.282499999999999,3.7642499999999997,{"$error":"#N/A"},41,{"$f":"IF(BQ24=\"\",NA(),COUNTIF(BQ24:$BQ$303,BQ24))","v":4},40.282499999999999,-46.235750000000003,{"$error":"#N/A"},63,{"$f":"IF(BV24=\"\",NA(),COUNTIF(BV24:$BV$303,BV24))","v":1},61.897500000000001,{"$error":"#N/A"},{"$error":"#N/A"},63,{"$f":"IF(CA24=\"\",NA(),COUNTIF(CA24:$CA$303,CA24))","v":1},61.897500000000001,{"$error":"#N/A"},{"$error":"#N/A"},28,{"$f":"IF(CF24=\"\",NA(),COUNTIF($CF24:CF$303,CF24))","v":4},26,{"$f":"IF(CH24=\"\",NA(),COUNTIF($CH24:CH$303,CH24))","v":1},{"$error":"#N/A"},{"$error":"#N/A"},{"$error":"#N/A"}]
[9.5269791869347101E-2,0.47507090810305763,0.23336237798105344,0.25928298108114251,1.5791898303178715,4.7175939072751323,null,null,null,6,"Bottom panel",null,null,null,null,null,null,null,null,null,null,null,1.554285E-4,null,null,null,null,null,null,null,null,null,null,null,null,1.554285E-4,null,null,null,null,null,null,null,null,null,null,null,null,"X axis label",{"$f":"AX3+5","v":5},{"$f":"AX6-2","v":25},null,"Disp nct curve?",{"$f":"OR(AND(K16>5,AW136<=20),AND(K16>2,AW136<=14),AW136<=10)","v":true},null,null,24,0.75164206698536873,"","",-999,25.3,-999,42,{"$f":"IF(BL25=\"\",NA(),COUNTIF(BL25:$BL$303,BL25))","v":7},41.265000000000001,6.9907499999999994,{"$error":"#N/A"},42,{"$f":"IF(BQ25=\"\",NA(),COUNTIF(BQ25:$BQ$303,BQ25))","v":7},41.265000000000001,-43.009250000000002,{"$error":"#N/A"},70,{"$f":"IF(BV25=\"\",NA(),COUNTIF(BV25:$BV$303,BV25))","v":1},68.775000000000006,{"$error":"#N/A"},{"$error":"#N/A"},70,{"$f":"IF(CA25=\"\",NA(),COUNTIF(CA25:$CA$303,CA25))","v":1},68.775000000000006,{"$error":"#N/A"},{"$error":"#N/A"},11,{"$f":"IF(CF25=\"\",NA(),COUNTIF($CF25:CF$303,CF25))","v":4},36,{"$f":"IF(CH25=\"\",NA(),COUNTIF($CH25:CH$303,CH25))","v":1},{"$error":"#N/A"},{"$error":"#N/A"},{"$error":"#N/A"}]
[-0.5607014546737622,0.56925591404994769,-1.3734324619869871,null,null,"",null,null,null,null,"  Display rubber ruler",null,null,null,null,null,null,null,"Noncentrality parameter D.  ",{"$f":"IF(AND(BD10,NOT(BD12)),AW136,\"\")","v":""},null,null,1.554285E-4,null,null,null,null,null,null,null,null,null,null,null,null,1.554285E-4,null,null,null,null,null,null,null,null,null,null,null,"Panel 2","Lbl Samp Ms",{"$f":"AX3","v":0},15,{"$f":"AX5","v":18},null,null,null,null,25,0.44120055809617043,"","",-999,25.3,-999,32,{"$f":"IF(BL26=\"\",NA(),COUNTIF(BL26:$BL$303,BL26))","v":4},31.44,3.7642499999999997,{"$error":"#N/A"},32,{"$f":"IF(BQ26=\"\",NA(),COUNTIF(BQ26:$BQ$303,BQ26))","v":4},31.44,-46.235750000000003,{"$error":"#N/A"},"",{"$f":"IF(BV26=\"\",NA(),COUNTIF(BV26:$BV$303,BV26))","v":{"$error":"#N/A"}},{"$error":"#VALUE!"},{"$error":"#N/A"},{"$error":"#N/A"},"",{"$f":"IF(CA26=\"\",NA(),COUNTIF(CA26:$CA$303,CA26))","v":{"$error":"#N/A"}},{"$error":"#VALUE!"},{"$error":"#N/A"},{"$error":"#N/A"},13,{"$f":"IF(CF26=\"\",NA(),COUNTIF($CF26:CF$303,CF26))","v":4},"",{"$f":"IF(CH26=\"\",NA(),COUNTIF($CH26:CH$303,CH26))","v":{"$error":"#N/A"}},{"$error":"#N/A"},{"$error":"#N/A"},{"$error":"#N/A"}]
[-8.1183875189470664E-2,1.5699775377258969,-0.19885906955599816,null,null,"",null,null,null,null,null,"  Display z or t heap",null,null,null,null,null,null,null,null,"Display noncentral t curve?",{"$f":"IF(BD10,IF(OR(NOT(BD7),BD12),\"\",IF(BB25,\"Yes\",\"No\")),\"\")","v":""},1.554285E-4,null,null,null,null,null,null,null,null,null,null,null,null,1.554285E-4,null,null,null,null,null,null,null,null,null,null,null,null,"for Y axis line",{"$f":"AX3","v":0},{"$f":"AX9","v":0},{"$f":"AX8","v":25},null,"format","popSE","sampSE",26,0.31656895950436592,"","",-999,25.3,-999,39,{"$f":"IF(BL27=\"\",NA(),COUNTIF(BL27:$BL$303,BL27))","v":5},38.317500000000003,4.8397499999999996,{"$error":"#N/A"},39,{"$f":"IF(BQ27=\"\",NA(),COUNTIF(BQ27:$BQ$303,BQ27))","v":5},38.317500000000003,-45.160250000000005,{"$error":"#N/A"},"",{"$f":"IF(BV27=\"\",NA(),COUNTIF(BV27:$BV$303,BV27))","v":{"$error":"#N/A"}},{"$error":"#VALUE!"},{"$error":"#N/A"},{"$error":"#N/A"},"",{"$f":"IF(CA27=\"\",NA(),COUNTIF(CA27:$CA$303,CA27))","v":{"$error":"#N/A"}},{"$error":"#VALUE!"},{"$error":"#N/A"},{"$error":"#N/A"},36,{"$f":"IF(CF27=\"\",NA(),COUNTIF($CF27:CF$303,CF27))","v":2},"",{"$f":"IF(CH27=\"\",NA(),COUNTIF($CH27:CH$303,CH27))","v":{"$error":"#N/A"}},{"$error":"#N/A"},{"$error":"#N/A"},{"$error":"#N/A"}]
[1.0661613965117297E-2,1.3298949999468164,2.6115514049068159E-2,null,null,"",null,null,null,null,null,null,null,null,null,null,null,null,null,null,null,null,1.554285E-4,null,null,null,null,null,null,null,null,null,null,null,null,1.554285E-4,null,null,null,null,null,null,null,null,null,null,null,null,"label val mu0",{"$f":"L8","v":0},10,null,null,"red",{"$f":"IF(AND(AR70,BD12),-1,99)","v":99},{"$f":"IF(AND(BD1,NOT(BD12)),99,-1)","v":-1},27,0.71044013276696205,"","",-999,25.3,-999,41,{"$f":"IF(BL28=\"\",NA(),COUNTIF(BL28:$BL$303,BL28))","v":3},40.282499999999999,2.6887499999999998,{"$error":"#N/A"},41,{"$f":"IF(BQ28=\"\",NA(),COUNTIF(BQ28:$BQ$303,BQ28))","v":3},40.282499999999999,-47.311250000000001,{"$error":"#N/A"},"",{"$f":"IF(BV28=\"\",NA(),COUNTIF(BV28:$BV$303,BV28))","v":{"$error":"#N/A"}},{"$error":"#VALUE!"},{"$error":"#N/A"},{"$error":"#N/A"},"",{"$f":"IF(CA28=\"\",NA(),COUNTIF(CA28:$CA$303,CA28))","v":{"$error":"#N/A"}},{"$error":"#VALUE!"},{"$error":"#N/A"},{"$error":"#N/A"},30,{"$f":"IF(CF28=\"\",NA(),COUNTIF($CF28:CF$303,CF28))","v":2},"",{"$f":"IF(CH28=\"\",NA(),COUNTIF($CH28:CH$303,CH28))","v":{"$error":"#N/A"}},{"$error":"#N/A"},{"$error":"#N/A"},{"$error":"#N/A"}]
[0.34229616206605978,1.0895129291409762,0.83845093797486137,null,null,"",null,null,null,7,"Sampling distributions",null,null,null,null,null,"H0",null,null,null,null,"   H1",1.554285E-4,null,null,null,null,null,null,null,null,null,null,null,null,1.554285E-4,null,null,null,null,null,null,null,null,null,null,null,null,"mu0 line",{"$f":"L8","v":0},{"$f":"AX9","v":0},null,null,"Samp means","SD","SE",28,0.56339134648442268,"","",-999,25.3,-999,46,{"$f":"IF(BL29=\"\",NA(),COUNTIF(BL29:$BL$303,BL29))","v":4},45.195,3.7642499999999997,{"$error":"#N/A"},46,{"$f":"IF(BQ29=\"\",NA(),COUNTIF(BQ29:$BQ$303,BQ29))","v":4},45.195,-46.235750000000003,{"$error":"#N/A"},"",{"$f":"IF(BV29=\"\",NA(),COUNTIF(BV29:$BV$303,BV29))","v":{"$error":"#N/A"}},{"$error":"#VALUE!"},{"$error":"#N/A"},{"$error":"#N/A"},"",{"$f":"IF(CA29=\"\",NA(),COUNTIF(CA29:$CA$303,CA29))","v":{"$error":"#N/A"}},{"$error":"#VALUE!"},{"$error":"#N/A"},{"$error":"#N/A"},25,{"$f":"IF(CF29=\"\",NA(),COUNTIF($CF29:CF$303,CF29))","v":3},"",{"$f":"IF(CH29=\"\",NA(),COUNTIF($CH29:CH$303,CH29))","v":{"$error":"#N/A"}},{"$error":"#N/A"},{"$error":"#N/A"},{"$error":"#N/A"}]
[0.24092736860473996,0.81457826299427716,0.59014911815305227,null,null,"",null,null,null,null,null,null,"Sample means",null,"Mean of ","M",{"$f":"IF(AND(BB6,BD9),O9,\"\")","v":40},null,null,"Mean of","M",{"$f":"IF(AND(BD6,BD9,BB4),V9,\"\")","v":""},{"$f":"$W$1","v":1.554285E-4},null,null,null,null,null,null,null,null,null,null,null,null,1.554285E-4,null,null,null,null,null,null,null,null,null,null,null,null,"mu1 line",{"$f":"O10","v":0},{"$f":"AX9","v":0},8,0,{"$f":"IF($BD$3,AVERAGE(BG3:BG102),-999)","v":2.0787974549810368E-2},{"$f":"IF(AND($BD$3,$K$14>1),STDEV(BG3:BG102),-999)","v":1.8430680465191509},{"$f":"IF(AND($BD$3,$K$14>1,BC30>-999),BC30/SQRT($K$14),\"\")","v":0.75242937920001496},29,0.78893173113465309,"","",-999,25.3,-999,44,{"$f":"IF(BL30=\"\",NA(),COUNTIF(BL30:$BL$303,BL30))","v":4},43.230000000000004,3.7642499999999997,{"$error":"#N/A"},44,{"$f":"IF(BQ30=\"\",NA(),COUNTIF(BQ30:$BQ$303,BQ30))","v":4},43.230000000000004,-46.235750000000003,{"$error":"#N/A"},"",{"$f":"IF(BV30=\"\",NA(),COUNTIF(BV30:$BV$303,BV30))","v":{"$error":"#N/A"}},{"$error":"#VALUE!"},{"$error":"#N/A"},{"$error":"#N/A"},"",{"$f":"IF(CA30=\"\",NA(),COUNTIF(CA30:$CA$303,CA30))","v":{"$error":"#N/A"}},{"$error":"#VALUE!"},{"$error":"#N/A"},{"$error":"#N/A"},19,{"$f":"IF(CF30=\"\",NA(),COUNTIF($CF30:CF$303,CF30))","v":6},"",{"$f":"IF(CH30=\"\",NA(),COUNTIF($CH30:CH$303,CH30))","v":{"$error":"#N/A"}},{"$error":"#N/A"},{"$error":"#N/A"},{"$error":"#N/A"}]
[0.13652702942561601,1.1875884043140517,0.33442155819070313,null,null,"",null,null,null,null,null,null,"panel",null,"SD of","M",{"$f":"IF(AND(BB6,BD9),M17,\"\")","v":6.123724356957946},null,null,"SD of","M",{"$f":"IF(AND(BD6,BD9,BB4),M17,\"\")","v":""},1.554285E-4,null,null,null,null,null,null,null,null,null,null,null,null,1.554285E-4,null,null,null,null,null,null,null,null,null,null,null,null,"highlighted point",{"$f":"AX62","v":{"$error":"#N/A"}},{"$f":"AX9-BA33/2","v":-0.53774999999999995},{"$f":"AX8-1","v":24},1,{"$f":"IF($BD$4,AVERAGE(BG107:BG206),-999)","v":0.18207042371964122},{"$f":"IF(AND($BD$4,$K$14>1),STDEV(BG107:BG206),-999)","v":1.1842495882606923},{"$f":"IF(AND($BD$4,$K$14>1,BC31>-999),BC31/SQRT($K$14),\"\")","v":0.48346786988996132},30,0.56745903566479683,"","",-999,25.3,-999,43,{"$f":"IF(BL31=\"\",NA(),COUNTIF(BL31:$BL$303,BL31))","v":9},42.247500000000002,9.1417499999999983,{"$error":"#N/A"},43,{"$f":"IF(BQ31=\"\",NA(),COUNTIF(BQ31:$BQ$303,BQ31))","v":9},42.247500000000002,-40.858250000000005,{"$error":"#N/A"},"",{"$f":"IF(BV31=\"\",NA(),COUNTIF(BV31:$BV$303,BV31))","v":{"$error":"#N/A"}},{"$error":"#VALUE!"},{"$error":"#N/A"},{"$error":"#N/A"},"",{"$f":"IF(CA31=\"\",NA(),COUNTIF(CA31:$CA$303,CA31))","v":{"$error":"#N/A"}},{"$error":"#VALUE!"},{"$error":"#N/A"},{"$error":"#N/A"},27,{"$f":"IF(CF31=\"\",NA(),COUNTIF($CF31:CF$303,CF31))","v":3},"",{"$f":"IF(CH31=\"\",NA(),COUNTIF($CH31:CH$303,CH31))","v":{"$error":"#N/A"}},{"$error":"#N/A"},{"$error":"#N/A"},{"$error":"#N/A"}]
[-0.58057779946594212,0.52581985882835891,-1.4221193646794543,null,null,"",null,null,null,null,null,null,null,null,null,null,null,null,null,null,null,null,1.554285E-4,null,null,null,null,null,null,null,null,null,null,null,null,1.554285E-4,null,null,null,null,null,null,null,null,null,null,null,null,"X axis label",{"$f":"AX3+17","v":17},-4,null,"increments, z or t",null,null,null,31,0.73361543193459511,"","",-999,25.3,-999,32,{"$f":"IF(BL32=\"\",NA(),COUNTIF(BL32:$BL$303,BL32))","v":3},31.44,2.6887499999999998,{"$error":"#N/A"},32,{"$f":"IF(BQ32=\"\",NA(),COUNTIF(BQ32:$BQ$303,BQ32))","v":3},31.44,-47.311250000000001,{"$error":"#N/A"},"",{"$f":"IF(BV32=\"\",NA(),COUNTIF(BV32:$BV$303,BV32))","v":{"$error":"#N/A"}},{"$error":"#VALUE!"},{"$error":"#N/A"},{"$error":"#N/A"},"",{"$f":"IF(CA32=\"\",NA(),COUNTIF(CA32:$CA$303,CA32))","v":{"$error":"#N/A"}},{"$error":"#VALUE!"},{"$error":"#N/A"},{"$error":"#N/A"},12,{"$f":"IF(CF32=\"\",NA(),COUNTIF($CF32:CF$303,CF32))","v":4},"",{"$f":"IF(CH32=\"\",NA(),COUNTIF($CH32:CH$303,CH32))","v":{"$error":"#N/A"}},{"$error":"#N/A"},{"$error":"#N/A"},{"$error":"#N/A"}]
[0.95234838526435872,0.61815524006682365,2.3327676012611693,null,null,"",null,null,null,null,null,null,"Bottom",null,"Mean of",{"$f":"IF($BD$12,\"z \",\"t \")","v":"z "},{"$f":"IF(AND(BB7,BD9,BD10),0,\"\")","v":0},null,null,"Mean of",{"$f":"IF($BD$12,\"z \",\"t \")","v":"z "},{"$f":"IF(AND(BD7,BD9,BB4,BD10),IF(BD12,(V9-O9)/M17,IF(K14>2,BD11,\"\")),\"\")","v":""},{"$f":"$W$1","v":1.554285E-4},null,null,null,null,null,null,null,null,null,null,null,null,1.554285E-4,null,null,null,null,null,null,null,null,null,null,null,"Panel 3",null,null,null,null,{"$f":"AO12/2000","v":1.0754999999999999},"y",null,null,32,0.85634656623005867,"","",-999,25.3,-999,55,{"$f":"IF(BL33=\"\",NA(),COUNTIF(BL33:$BL$303,BL33))","v":1},54.037500000000001,0.53774999999999995,{"$error":"#N/A"},55,{"$f":"IF(BQ33=\"\",NA(),COUNTIF(BQ33:$BQ$303,BQ33))","v":1},54.037500000000001,-49.462250000000004,{"$error":"#N/A"},"",{"$f":"IF(BV33=\"\",NA(),COUNTIF(BV33:$BV$303,BV33))","v":{"$error":"#N/A"}},{"$error":"#VALUE!"},{"$error":"#N/A"},{"$error":"#N/A"},"",{"$f":"IF(CA33=\"\",NA(),COUNTIF(CA33:$CA$303,CA33))","v":{"$error":"#N/A"}},{"$error":"#VALUE!"},{"$error":"#N/A"},{"$error":"#N/A"},14,{"$f":"IF(CF33=\"\",NA(),COUNTIF($CF33:CF$303,CF33))","v":7},"",{"$f":"IF(CH33=\"\",NA(),COUNTIF($CH33:CH$303,CH33))","v":{"$error":"#N/A"}},{"$error":"#N/A"},{"$error":"#N/A"},{"$error":"#N/A"}]
[0.26474857405215657,1.0620547676401533,0.64849891655722991,null,null,"",null,null,null,null,null,null,"panel",null,"SD of",{"$f":"IF($BD$12,\"z \",\"t \")","v":"z "},{"$f":"IF(AND(BB7,BD9,BD10),IF(BD12,1,IF(K14>2,SQRT(K14/(K14-2)),\"\")),\"\")","v":1},null,null,"SD of",{"$f":"IF($BD$12,\"z \",\"t \")","v":"z "},{"$f":"IF(AND(BD7,BD9,BB4,BD10),IF(BD12,1,IF(K14>3,BB11,\"\")),\"\")","v":""},1.554285E-4,null,null,null,null,null,null,null,null,null,null,null,null,1.554285E-4,null,null,null,null,null,null,null,null,null,null,null,null,"Lbl Samp SDs",{"$f":"IF(BD5,AX3,NA())","v":{"$error":"#N/A"}},{"$f":"AX12+8","v":-11},null,{"$f":"AO15/2000","v":0.98250000000000004},"x",null,null,33,0.79480594769120216,"","",-999,25.3,-999,45,{"$f":"IF(BL34=\"\",NA(),COUNTIF(BL34:$BL$303,BL34))","v":6},44.212499999999999,5.9152499999999995,{"$error":"#N/A"},45,{"$f":"IF(BQ34=\"\",NA(),COUNTIF(BQ34:$BQ$303,BQ34))","v":6},44.212499999999999,-44.08475,{"$error":"#N/A"},"",{"$f":"IF(BV34=\"\",NA(),COUNTIF(BV34:$BV$303,BV34))","v":{"$error":"#N/A"}},{"$error":"#VALUE!"},{"$error":"#N/A"},{"$error":"#N/A"},"",{"$f":"IF(CA34=\"\",NA(),COUNTIF(CA34:$CA$303,CA34))","v":{"$error":"#N/A"}},{"$error":"#VALUE!"},{"$error":"#N/A"},{"$error":"#N/A"},24,{"$f":"IF(CF34=\"\",NA(),COUNTIF($CF34:CF$303,CF34))","v":4},"",{"$f":"IF(CH34=\"\",NA(),COUNTIF($CH34:CH$303,CH34))","v":{"$error":"#N/A"}},{"$error":"#N/A"},{"$error":"#N/A"},{"$error":"#N/A"}]
[0.16960427630130293,0.92443171279338565,0.41544393513220573,null,null,"",null,null,null,8,"Rejection region",null,null,null,null,null,null,null,null,null,null,null,1.554285E-4,null,null,null,null,null,null,null,null,null,null,null,null,null,null,null,null,null,null,null,null,null,null,null,null,null,"L end X axis",{"$f":"IF(OR(NOT(BD5),OR(NOT(BD3)),IF(BB5=1,A4=\"\",D4=\"\")),NA(),ROUND((IF(BB5=1,O9,V9)+$R$11*IF(BB5=1,A4,D4))/$BA$34,0)*$BA$34)","v":{"$error":"#N/A"}},{"$f":"AX12","v":-19},{"$f":"AX11-3","v":14},"increments, s pile",null,null,null,34,0.80938934162259102,"","",-999,25.3,-999,43,{"$f":"IF(BL35=\"\",NA(),COUNTIF(BL35:$BL$303,BL35))","v":8},42.247500000000002,8.0662500000000001,{"$error":"#N/A"},43,{"$f":"IF(BQ35=\"\",NA(),COUNTIF(BQ35:$BQ$303,BQ35))","v":8},42.247500000000002,-41.933750000000003,{"$error":"#N/A"},"",{"$f":"IF(BV35=\"\",NA(),COUNTIF(BV35:$BV$303,BV35))","v":{"$error":"#N/A"}},{"$error":"#VALUE!"},{"$error":"#N/A"},{"$error":"#N/A"},"",{"$f":"IF(CA35=\"\",NA(),COUNTIF(CA35:$CA$303,CA35))","v":{"$error":"#N/A"}},{"$error":"#VALUE!"},{"$error":"#N/A"},{"$error":"#N/A"},21,{"$f":"IF(CF35=\"\",NA(),COUNTIF($CF35:CF$303,CF35))","v":6},"",{"$f":"IF(CH35=\"\",NA(),COUNTIF($CH35:CH$303,CH35))","v":{"$error":"#N/A"}},{"$error":"#N/A"},{"$error":"#N/A"},{"$error":"#N/A"}]
[5.1643528454329663E-3,1.0670230229887081,1.2650029323001277E-2,null,null,"",null,null,null,null,"  Display rejection region",null,null,null,null,null,null,null,null,"Critical value of",{"$f":"IF($BD$12,\"z \",\"t \")","v":"z "},{"$f":"AR116","v":1.9599639845400545},{"$f":"$W$1","v":1.554285E-4},null,null,null,null,null,null,null,null,null,null,null,null,null,null,null,null,null,null,null,null,null,null,null,null,null,"L end X axis",{"$f":"IF(BD5,AX35,NA())","v":{"$error":"#N/A"}},{"$f":"AY35","v":-19},101,{"$f":"AO21/2000","v":0.71550000000000002},"y",null,null,35,{"$f":"MOD(BF35*10000013,1)","v":0.93828735128045082},"","",-999,25.3,-999,41,{"$f":"IF(BL36=\"\",NA(),COUNTIF(BL36:$BL$303,BL36))","v":2},40.282499999999999,1.6132499999999999,{"$error":"#N/A"},41,{"$f":"IF(BQ36=\"\",NA(),COUNTIF(BQ36:$BQ$303,BQ36))","v":2},40.282499999999999,-48.386750000000006,{"$error":"#N/A"},"",{"$f":"IF(BV36=\"\",NA(),COUNTIF(BV36:$BV$303,BV36))","v":{"$error":"#N/A"}},{"$error":"#VALUE!"},{"$error":"#N/A"},{"$error":"#N/A"},"",{"$f":"IF(CA36=\"\",NA(),COUNTIF(CA36:$CA$303,CA36))","v":{"$error":"#N/A"}},{"$error":"#VALUE!"},{"$error":"#N/A"},{"$error":"#N/A"},24,{"$f":"IF(CF36=\"\",NA(),COUNTIF($CF36:CF$303,CF36))","v":3},"",{"$f":"IF(CH36=\"\",NA(),COUNTIF($CH36:CH$303,CH36))","v":{"$error":"#N/A"}},{"$error":"#N/A"},{"$error":"#N/A"},{"$error":"#N/A"}]
[-0.1837428530604345,0.77807763279041919,-0.45007623388125134,null,null,"",null,null,null,null,null,null,null,null,null,null,null,null,null,null,null,null,1.554285E-4,null,null,null,null,null,null,null,null,null,null,null,null,null,null,null,null,null,null,null,null,null,null,null,null,null,"for Y axis line",{"$f":"IF(BD10,AX3,NA())","v":0},{"$f":"AX12-5","v":-24},18,{"$f":"AO24/2000","v":0.65500000000000003},"x",null,null,36,0.71054007485508919,"","",-999,25.3,-999,38,{"$f":"IF(BL37=\"\",NA(),COUNTIF(BL37:$BL$303,BL37))","v":5},37.335000000000001,4.8397499999999996,{"$error":"#N/A"},38,{"$f":"IF(BQ37=\"\",NA(),COUNTIF(BQ37:$BQ$303,BQ37))","v":5},37.335000000000001,-45.160250000000005,{"$error":"#N/A"},"",{"$f":"IF(BV37=\"\",NA(),COUNTIF(BV37:$BV$303,BV37))","v":{"$error":"#N/A"}},{"$error":"#VALUE!"},{"$error":"#N/A"},{"$error":"#N/A"},"",{"$f":"IF(CA37=\"\",NA(),COUNTIF(CA37:$CA$303,CA37))","v":{"$error":"#N/A"}},{"$error":"#VALUE!"},{"$error":"#N/A"},{"$error":"#N/A"},18,{"$f":"IF(CF37=\"\",NA(),COUNTIF($CF37:CF$303,CF37))","v":5},"",{"$f":"IF(CH37=\"\",NA(),COUNTIF($CH37:CH$303,CH37))","v":{"$error":"#N/A"}},{"$error":"#N/A"},{"$error":"#N/A"},{"$error":"#N/A"}]
[-0.26016820022772857,0.93361941341566035,-0.63727933785618129,null,null,"",null,null,null,null,null,"a ",{"$f":"IF(BB8<21,BB8/1000,IF(BB8<37,(BB8-16)/200,(BB8-26)/100))","v":0.05},null,null,null,"Rejection region, units of X",null,null,null,null,null,1.554285E-4,null,null,null,null,null,null,null,null,null,null,null,null,null,null,null,null,null,null,null,null,null,null,null,null,null,"X axis values",{"$f":"AX35","v":{"$error":"#N/A"}},{"$f":"AY35+0.5","v":-18.5},null,null,null,null,null,37,0.98557186499238014,"","",-999,25.3,-999,37,{"$f":"IF(BL38=\"\",NA(),COUNTIF(BL38:$BL$303,BL38))","v":8},36.352499999999999,8.0662500000000001,{"$error":"#N/A"},37,{"$f":"IF(BQ38=\"\",NA(),COUNTIF(BQ38:$BQ$303,BQ38))","v":8},36.352499999999999,-41.933750000000003,{"$error":"#N/A"},"",{"$f":"IF(BV38=\"\",NA(),COUNTIF(BV38:$BV$303,BV38))","v":{"$error":"#N/A"}},{"$error":"#VALUE!"},{"$error":"#N/A"},{"$error":"#N/A"},"",{"$f":"IF(CA38=\"\",NA(),COUNTIF(CA38:$CA$303,CA38))","v":{"$error":"#N/A"}},{"$error":"#VALUE!"},{"$error":"#N/A"},{"$error":"#N/A"},21,{"$f":"IF(CF38=\"\",NA(),COUNTIF($CF38:CF$303,CF38))","v":5},"",{"$f":"IF(CH38=\"\",NA(),COUNTIF($CH38:CH$303,CH38))","v":{"$error":"#N/A"}},{"$error":"#N/A"},{"$error":"#N/A"},{"$error":"#N/A"}]
[0.15884431089071854,0.95796009861353215,0.38908751022627724,null,null,"",null,null,null,null,null,null,null,null,null,"L cutoff ",{"$f":"IF(ISNUMBER(AR117),AR117,\"\")","v":""},null,"R cutoff ",{"$f":"IF(ISNUMBER(AR118),AR118,\"\")","v":""},null,null,1.554285E-4,null,null,null,null,null,null,null,null,null,null,null,null,null,null,null,null,null,null,null,null,null,null,null,null,null,"X axis values",{"$f":"AX35+R11","v":{"$error":"#N/A"}},{"$f":"AY38+1","v":-17.5},1.3,null,null,null,null,38,0.46235804632306099,"","",-999,25.3,-999,43,{"$f":"IF(BL39=\"\",NA(),COUNTIF(BL39:$BL$303,BL39))","v":7},42.247500000000002,6.9907499999999994,{"$error":"#N/A"},43,{"$f":"IF(BQ39=\"\",NA(),COUNTIF(BQ39:$BQ$303,BQ39))","v":7},42.247500000000002,-43.009250000000002,{"$error":"#N/A"},"",{"$f":"IF(BV39=\"\",NA(),COUNTIF(BV39:$BV$303,BV39))","v":{"$error":"#N/A"}},{"$error":"#VALUE!"},{"$error":"#N/A"},{"$error":"#N/A"},"",{"$f":"IF(CA39=\"\",NA(),COUNTIF(CA39:$CA$303,CA39))","v":{"$error":"#N/A"}},{"$error":"#VALUE!"},{"$error":"#N/A"},{"$error":"#N/A"},22,{"$f":"IF(CF39=\"\",NA(),COUNTIF($CF39:CF$303,CF39))","v":5},"",{"$f":"IF(CH39=\"\",NA(),COUNTIF($CH39:CH$303,CH39))","v":{"$error":"#N/A"}},{"$error":"#N/A"},{"$error":"#N/A"},{"$error":"#N/A"}]
[0.12526619848375206,1.1665452615161287,0.30683826830339239,null,null,"",null,null,null,null,null,null,null,null,null,null,null,null,null,null,null,null,null,null,null,null,null,null,null,null,null,null,null,null,null,null,null,null,null,null,null,null,null,null,null,null,null,null,"X axis values",{"$f":"AX39","v":{"$error":"#N/A"}},{"$f":"AY35","v":-19},{"$f":"AX11-2","v":15},null,null,null,null,39,0.47388521209359169,"","",-999,25.3,-999,43,{"$f":"IF(BL40=\"\",NA(),COUNTIF(BL40:$BL$303,BL40))","v":6},42.247500000000002,5.9152499999999995,{"$error":"#N/A"},43,{"$f":"IF(BQ40=\"\",NA(),COUNTIF(BQ40:$BQ$303,BQ40))","v":6},42.247500000000002,-44.08475,{"$error":"#N/A"},"",{"$f":"IF(BV40=\"\",NA(),COUNTIF(BV40:$BV$303,BV40))","v":{"$error":"#N/A"}},{"$error":"#VALUE!"},{"$error":"#N/A"},{"$error":"#N/A"},"",{"$f":"IF(CA40=\"\",NA(),COUNTIF(CA40:$CA$303,CA40))","v":{"$error":"#N/A"}},{"$error":"#VALUE!"},{"$error":"#N/A"},{"$error":"#N/A"},27,{"$f":"IF(CF40=\"\",NA(),COUNTIF($CF40:CF$303,CF40))","v":2},"",{"$f":"IF(CH40=\"\",NA(),COUNTIF($CH40:CH$303,CH40))","v":{"$error":"#N/A"}},{"$error":"#N/A"},{"$error":"#N/A"},{"$error":"#N/A"}]
[-0.30350130096363365,0.57239130243483294,-0.74342332363177044,null,null,"",null,null,null,null,null,null,null,null,null,null,null,null,null,null,null,null,null,null,null,null,null,null,null,null,null,null,null,null,null,null,null,null,null,null,null,null,null,null,null,null,null,null,null,{"$f":"BU1","v":0},{"$f":"BV1","v":0},null,null,null,null,null,40,0.28144367411732674,"","",-999,25.3,-999,36,{"$f":"IF(BL41=\"\",NA(),COUNTIF(BL41:$BL$303,BL41))","v":7},35.370000000000005,6.9907499999999994,{"$error":"#N/A"},36,{"$f":"IF(BQ41=\"\",NA(),COUNTIF(BQ41:$BQ$303,BQ41))","v":7},35.370000000000005,-43.009250000000002,{"$error":"#N/A"},"",{"$f":"IF(BV41=\"\",NA(),COUNTIF(BV41:$BV$303,BV41))","v":{"$error":"#N/A"}},{"$error":"#VALUE!"},{"$error":"#N/A"},{"$error":"#N/A"},"",{"$f":"IF(CA41=\"\",NA(),COUNTIF(CA41:$CA$303,CA41))","v":{"$error":"#N/A"}},{"$error":"#VALUE!"},{"$error":"#N/A"},{"$error":"#N/A"},13,{"$f":"IF(CF41=\"\",NA(),COUNTIF($CF41:CF$303,CF41))","v":3},"",{"$f":"IF(CH41=\"\",NA(),COUNTIF($CH41:CH$303,CH41))","v":{"$error":"#N/A"}},{"$error":"#N/A"},{"$error":"#N/A"},{"$error":"#N/A"}]
[0.26292008367895714,1.0507147121280158,0.64402004814329983,null,null,"",null,null,null,null,null,null,null,null,null,null,null,null,null,null,null,null,null,null,null,null,null,null,null,null,null,null,null,null,null,null,null,null,null,null,null,null,null,null,null,null,null,null,"grey highlight point",{"$f":"IF(ISNA(AX41),NA(),IF(AND(BD2,$BD$12),AX41,NA()))","v":0},{"$f":"IF(ISNA(AY41),NA(),IF($BD$12,AY41,NA()))","v":0},null,null,null,null,null,41,0.39994103088974953,"","",-999,25.3,-999,45,{"$f":"IF(BL42=\"\",NA(),COUNTIF(BL42:$BL$303,BL42))","v":5},44.212499999999999,4.8397499999999996,{"$error":"#N/A"},45,{"$f":"IF(BQ42=\"\",NA(),COUNTIF(BQ42:$BQ$303,BQ42))","v":5},44.212499999999999,-45.160250000000005,{"$error":"#N/A"},"",{"$f":"IF(BV42=\"\",NA(),COUNTIF(BV42:$BV$303,BV42))","v":{"$error":"#N/A"}},{"$error":"#VALUE!"},{"$error":"#N/A"},{"$error":"#N/A"},"",{"$f":"IF(CA42=\"\",NA(),COUNTIF(CA42:$CA$303,CA42))","v":{"$error":"#N/A"}},{"$error":"#VALUE!"},{"$error":"#N/A"},{"$error":"#N/A"},24,{"$f":"IF(CF42=\"\",NA(),COUNTIF($CF42:CF$303,CF42))","v":2},"",{"$f":"IF(CH42=\"\",NA(),COUNTIF($CH42:CH$303,CH42))","v":{"$error":"#N/A"}},{"$error":"#N/A"},{"$error":"#N/A"},{"$error":"#N/A"}]
[0.44359409108375791,1.0767177847407929,1.0865791760688914,null,null,"",null,null,null,null,null,null,null,null,null,null,null,null,null,null,null,null,null,null,null,null,null,null,null,null,null,null,null,null,null,null,null,null,null,null,null,null,null,null,null,null,null,null,"s extent line",{"$f":"IF(BD12,NA(),AX35)","v":{"$error":"#N/A"}},{"$f":"IF(ISNA(AY41),NA(),IF(BD12,NA(),AY41+AZ43))","v":{"$error":"#N/A"}},1.5,null,null,null,null,42,0.50813089683651924,"","",-999,25.3,-999,47,{"$f":"IF(BL43=\"\",NA(),COUNTIF(BL43:$BL$303,BL43))","v":4},46.177500000000002,3.7642499999999997,{"$error":"#N/A"},47,{"$f":"IF(BQ43=\"\",NA(),COUNTIF(BQ43:$BQ$303,BQ43))","v":4},46.177500000000002,-46.235750000000003,{"$error":"#N/A"},"",{"$f":"IF(BV43=\"\",NA(),COUNTIF(BV43:$BV$303,BV43))","v":{"$error":"#N/A"}},{"$error":"#VALUE!"},{"$error":"#N/A"},{"$error":"#N/A"},"",{"$f":"IF(CA43=\"\",NA(),COUNTIF(CA43:$CA$303,CA43))","v":{"$error":"#N/A"}},{"$error":"#VALUE!"},{"$error":"#N/A"},{"$error":"#N/A"},25,{"$f":"IF(CF43=\"\",NA(),COUNTIF($CF43:CF$303,CF43))","v":2},"",{"$f":"IF(CH43=\"\",NA(),COUNTIF($CH43:CH$303,CH43))","v":{"$error":"#N/A"}},{"$error":"#N/A"},{"$error":"#N/A"},{"$error":"#N/A"}]
[-0.25922337763676334,0.9051293825067972,-0.63496500461086247,null,null,"",null,null,null,null,null,null,null,null,null,null,null,null,null,null,null,null,null,null,null,null,null,null,null,null,null,null,null,null,null,null,null,null,null,null,null,null,null,null,null,null,null,null,null,{"$f":"BU2","v":{"$error":"#N/A"}},{"$f":"BV2+AZ43","v":{"$error":"#VALUE!"}},1,null,null,null,null,43,0.57406685128808022,"","",-999,25.3,-999,37,{"$f":"IF(BL44=\"\",NA(),COUNTIF(BL44:$BL$303,BL44))","v":7},36.352499999999999,6.9907499999999994,{"$error":"#N/A"},37,{"$f":"IF(BQ44=\"\",NA(),COUNTIF(BQ44:$BQ$303,BQ44))","v":7},36.352499999999999,-43.009250000000002,{"$error":"#N/A"},"",{"$f":"IF(BV44=\"\",NA(),COUNTIF(BV44:$BV$303,BV44))","v":{"$error":"#N/A"}},{"$error":"#VALUE!"},{"$error":"#N/A"},{"$error":"#N/A"},"",{"$f":"IF(CA44=\"\",NA(),COUNTIF(CA44:$CA$303,CA44))","v":{"$error":"#N/A"}},{"$error":"#VALUE!"},{"$error":"#N/A"},{"$error":"#N/A"},21,{"$f":"IF(CF44=\"\",NA(),COUNTIF($CF44:CF$303,CF44))","v":4},"",{"$f":"IF(CH44=\"\",NA(),COUNTIF($CH44:CH$303,CH44))","v":{"$error":"#N/A"}},{"$error":"#N/A"},{"$error":"#N/A"},{"$error":"#N/A"}]
[-0.75750753627476575,1.130121342579018,-1.8555069401859949,null,null,"",null,null,null,null,null,null,null,null,null,null,null,null,null,null,null,null,null,null,null,null,null,null,null,null,null,null,null,null,null,null,null,null,null,null,null,null,null,null,null,null,null,null,"s label",{"$f":"IF(OR(NOT(BD2),BD12),NA(),AX35+3)","v":{"$error":"#N/A"}},{"$f":"IF(BD12,NA(),AY41+1.5+AZ43)","v":{"$error":"#N/A"}},null,null,null,null,null,44,0.97574986889958382,"","",-999,25.3,-999,29,{"$f":"IF(BL45=\"\",NA(),COUNTIF(BL45:$BL$303,BL45))","v":2},28.4925,1.6132499999999999,{"$error":"#N/A"},29,{"$f":"IF(BQ45=\"\",NA(),COUNTIF(BQ45:$BQ$303,BQ45))","v":2},28.4925,-48.386750000000006,{"$error":"#N/A"},"",{"$f":"IF(BV45=\"\",NA(),COUNTIF(BV45:$BV$303,BV45))","v":{"$error":"#N/A"}},{"$error":"#VALUE!"},{"$error":"#N/A"},{"$error":"#N/A"},"",{"$f":"IF(CA45=\"\",NA(),COUNTIF(CA45:$CA$303,CA45))","v":{"$error":"#N/A"}},{"$error":"#VALUE!"},{"$error":"#N/A"},{"$error":"#N/A"},26,{"$f":"IF(CF45=\"\",NA(),COUNTIF($CF45:CF$303,CF45))","v":2},"",{"$f":"IF(CH45=\"\",NA(),COUNTIF($CH45:CH$303,CH45))","v":{"$error":"#N/A"}},{"$error":"#N/A"},{"$error":"#N/A"},{"$error":"#N/A"}]
[7.2287377000481753E-2,0.70846273689696482,0.17706718849538114,null,null,"",null,null,null,null,null,null,null,null,null,null,null,null,null,null,null,null,null,null,null,null,null,null,null,null,null,null,null,null,null,null,null,null,null,null,null,null,null,null,null,null,null,null,"s extent line",{"$f":"IF(BD12,AX35,NA())","v":{"$error":"#N/A"}},{"$f":"IF(ISNA(AY35),NA(),IF(BD12,AY35-0.7,NA()))","v":-19.7},null,null,null,null,null,45,0.37374413385987282,"","",-999,25.3,-999,42,{"$f":"IF(BL46=\"\",NA(),COUNTIF(BL46:$BL$303,BL46))","v":6},41.265000000000001,5.9152499999999995,{"$error":"#N/A"},42,{"$f":"IF(BQ46=\"\",NA(),COUNTIF(BQ46:$BQ$303,BQ46))","v":6},41.265000000000001,-44.08475,{"$error":"#N/A"},"",{"$f":"IF(BV46=\"\",NA(),COUNTIF(BV46:$BV$303,BV46))","v":{"$error":"#N/A"}},{"$error":"#VALUE!"},{"$error":"#N/A"},{"$error":"#N/A"},"",{"$f":"IF(CA46=\"\",NA(),COUNTIF(CA46:$CA$303,CA46))","v":{"$error":"#N/A"}},{"$error":"#VALUE!"},{"$error":"#N/A"},{"$error":"#N/A"},16,{"$f":"IF(CF46=\"\",NA(),COUNTIF($CF46:CF$303,CF46))","v":3},"",{"$f":"IF(CH46=\"\",NA(),COUNTIF($CH46:CH$303,CH46))","v":{"$error":"#N/A"}},{"$error":"#N/A"},{"$error":"#N/A"},{"$error":"#N/A"}]
[0.53368447805374308,0.74518151628229412,1.3072546548752382,null,null,"",null,null,null,null,null,null,null,null,null,null,null,null,null,null,null,null,null,null,null,null,null,null,null,null,null,null,null,null,null,null,null,null,null,null,null,null,null,null,null,null,null,null,null,{"$f":"IF(ISNA(AX46),NA(),AX46+O12)","v":{"$error":"#N/A"}},{"$f":"AY46","v":-19.7},null,null,null,null,null,46,0.19727246835827827,"","",-999,25.3,-999,49,{"$f":"IF(BL47=\"\",NA(),COUNTIF(BL47:$BL$303,BL47))","v":3},48.142500000000005,2.6887499999999998,{"$error":"#N/A"},49,{"$f":"IF(BQ47=\"\",NA(),COUNTIF(BQ47:$BQ$303,BQ47))","v":3},48.142500000000005,-47.311250000000001,{"$error":"#N/A"},"",{"$f":"IF(BV47=\"\",NA(),COUNTIF(BV47:$BV$303,BV47))","v":{"$error":"#N/A"}},{"$error":"#VALUE!"},{"$error":"#N/A"},{"$error":"#N/A"},"",{"$f":"IF(CA47=\"\",NA(),COUNTIF(CA47:$CA$303,CA47))","v":{"$error":"#N/A"}},{"$error":"#VALUE!"},{"$error":"#N/A"},{"$error":"#N/A"},17,{"$f":"IF(CF47=\"\",NA(),COUNTIF($CF47:CF$303,CF47))","v":5},"",{"$f":"IF(CH47=\"\",NA(),COUNTIF($CH47:CH$303,CH47))","v":{"$error":"#N/A"}},{"$error":"#N/A"},{"$error":"#N/A"},{"$error":"#N/A"}]
[0.18510679425066687,1.1423599357061833,0.45341719383648477,null,null,"",null,null,null,null,null,null,null,null,null,null,null,null,null,null,null,null,null,null,null,null,null,null,null,null,null,null,null,null,null,null,null,null,null,null,null,null,null,null,null,null,null,null,null,{"$f":"IF(BD12,AX40,NA())","v":{"$error":"#N/A"}},{"$f":"IF(BD12,AY39,NA())","v":-17.5},null,null,null,null,null,47,0.2481248714029789,"","",-999,25.3,-999,44,{"$f":"IF(BL48=\"\",NA(),COUNTIF(BL48:$BL$303,BL48))","v":3},43.230000000000004,2.6887499999999998,{"$error":"#N/A"},44,{"$f":"IF(BQ48=\"\",NA(),COUNTIF(BQ48:$BQ$303,BQ48))","v":3},43.230000000000004,-47.311250000000001,{"$error":"#N/A"},"",{"$f":"IF(BV48=\"\",NA(),COUNTIF(BV48:$BV$303,BV48))","v":{"$error":"#N/A"}},{"$error":"#VALUE!"},{"$error":"#N/A"},{"$error":"#N/A"},"",{"$f":"IF(CA48=\"\",NA(),COUNTIF(CA48:$CA$303,CA48))","v":{"$error":"#N/A"}},{"$error":"#VALUE!"},{"$error":"#N/A"},{"$error":"#N/A"},26,{"$f":"IF(CF48=\"\",NA(),COUNTIF($CF48:CF$303,CF48))","v":1},"",{"$f":"IF(CH48=\"\",NA(),COUNTIF($CH48:CH$303,CH48))","v":{"$error":"#N/A"}},{"$error":"#N/A"},{"$error":"#N/A"},{"$error":"#N/A"}]
[0.25087523578054399,1.4238270469434298,0.61451631676275364,null,null,"",null,null,null,null,null,null,null,null,null,null,null,null,null,null,null,null,null,null,null,null,null,null,null,null,null,null,null,null,null,null,null,null,null,null,null,null,null,null,null,null,null,null,"s label",{"$f":"IF(BD2,AX35+3,NA())","v":{"$error":"#N/A"}},{"$f":"IF(BD12,AY39+0.9,NA())","v":-16.600000000000001},null,null,null,null,null,48,0.93965311720967293,"","",-999,25.3,-999,45,{"$f":"IF(BL49=\"\",NA(),COUNTIF(BL49:$BL$303,BL49))","v":4},44.212499999999999,3.7642499999999997,{"$error":"#N/A"},45,{"$f":"IF(BQ49=\"\",NA(),COUNTIF(BQ49:$BQ$303,BQ49))","v":4},44.212499999999999,-46.235750000000003,{"$error":"#N/A"},"",{"$f":"IF(BV49=\"\",NA(),COUNTIF(BV49:$BV$303,BV49))","v":{"$error":"#N/A"}},{"$error":"#VALUE!"},{"$error":"#N/A"},{"$error":"#N/A"},"",{"$f":"IF(CA49=\"\",NA(),COUNTIF(CA49:$CA$303,CA49))","v":{"$error":"#N/A"}},{"$error":"#VALUE!"},{"$error":"#N/A"},{"$error":"#N/A"},33,{"$f":"IF(CF49=\"\",NA(),COUNTIF($CF49:CF$303,CF49))","v":4},"",{"$f":"IF(CH49=\"\",NA(),COUNTIF($CH49:CH$303,CH49))","v":{"$error":"#N/A"}},{"$error":"#N/A"},{"$error":"#N/A"},{"$error":"#N/A"}]
[0.72757723186525769,0.59736475519407239,1.7821929665365261,null,null,"",null,null,null,null,null,null,null,null,null,null,null,null,null,null,null,null,null,null,null,null,null,null,null,null,null,null,null,null,null,null,null,null,null,null,null,null,null,null,null,null,null,null,"dotted vertical",{"$f":"AX35","v":{"$error":"#N/A"}},{"$f":"BN2","v":40.282499999999999},null,null,null,null,null,49,0.38758725300431252,"","",-999,25.3,-999,52,{"$f":"IF(BL50=\"\",NA(),COUNTIF(BL50:$BL$303,BL50))","v":3},51.09,2.6887499999999998,{"$error":"#N/A"},52,{"$f":"IF(BQ50=\"\",NA(),COUNTIF(BQ50:$BQ$303,BQ50))","v":3},51.09,-47.311250000000001,{"$error":"#N/A"},"",{"$f":"IF(BV50=\"\",NA(),COUNTIF(BV50:$BV$303,BV50))","v":{"$error":"#N/A"}},{"$error":"#VALUE!"},{"$error":"#N/A"},{"$error":"#N/A"},"",{"$f":"IF(CA50=\"\",NA(),COUNTIF(CA50:$CA$303,CA50))","v":{"$error":"#N/A"}},{"$error":"#VALUE!"},{"$error":"#N/A"},{"$error":"#N/A"},14,{"$f":"IF(CF50=\"\",NA(),COUNTIF($CF50:CF$303,CF50))","v":6},"",{"$f":"IF(CH50=\"\",NA(),COUNTIF($CH50:CH$303,CH50))","v":{"$error":"#N/A"}},{"$error":"#N/A"},{"$error":"#N/A"},{"$error":"#N/A"}]
[-0.21449380795536135,0.89289176629007772,-0.52540038247716192,null,null,"",null,null,null,null,null,null,null,null,null,null,null,null,null,null,null,null,null,null,null,null,null,null,null,null,null,null,null,null,null,null,null,null,null,null,null,null,null,null,null,null,null,null,"to latest mean",{"$f":"AX50","v":{"$error":"#N/A"}},{"$f":"AY35","v":-19},null,null,null,null,null,50,0.56867741420865059,"","",-999,25.3,-999,37,{"$f":"IF(BL51=\"\",NA(),COUNTIF(BL51:$BL$303,BL51))","v":6},36.352499999999999,5.9152499999999995,{"$error":"#N/A"},37,{"$f":"IF(BQ51=\"\",NA(),COUNTIF(BQ51:$BQ$303,BQ51))","v":6},36.352499999999999,-44.08475,{"$error":"#N/A"},"",{"$f":"IF(BV51=\"\",NA(),COUNTIF(BV51:$BV$303,BV51))","v":{"$error":"#N/A"}},{"$error":"#VALUE!"},{"$error":"#N/A"},{"$error":"#N/A"},"",{"$f":"IF(CA51=\"\",NA(),COUNTIF(CA51:$CA$303,CA51))","v":{"$error":"#N/A"}},{"$error":"#VALUE!"},{"$error":"#N/A"},{"$error":"#N/A"},20,{"$f":"IF(CF51=\"\",NA(),COUNTIF($CF51:CF$303,CF51))","v":10},"",{"$f":"IF(CH51=\"\",NA(),COUNTIF($CH51:CH$303,CH51))","v":{"$error":"#N/A"}},{"$error":"#N/A"},{"$error":"#N/A"},{"$error":"#N/A"}]
[0.15530781308267702,0.78815683164961992,0.38042489512010469,null,null,"",null,null,null,null,null,null,null,null,null,null,null,null,null,null,null,null,null,null,null,null,null,null,null,null,null,null,null,null,null,null,null,null,null,null,null,null,null,null,null,null,null,"Panel 4",null,null,null,null,null,null,null,null,51,0.53489289060235023,"","",-999,25.3,-999,43,{"$f":"IF(BL52=\"\",NA(),COUNTIF(BL52:$BL$303,BL52))","v":5},42.247500000000002,4.8397499999999996,{"$error":"#N/A"},43,{"$f":"IF(BQ52=\"\",NA(),COUNTIF(BQ52:$BQ$303,BQ52))","v":5},42.247500000000002,-45.160250000000005,{"$error":"#N/A"},"",{"$f":"IF(BV52=\"\",NA(),COUNTIF(BV52:$BV$303,BV52))","v":{"$error":"#N/A"}},{"$error":"#VALUE!"},{"$error":"#N/A"},{"$error":"#N/A"},"",{"$f":"IF(CA52=\"\",NA(),COUNTIF(CA52:$CA$303,CA52))","v":{"$error":"#N/A"}},{"$error":"#VALUE!"},{"$error":"#N/A"},{"$error":"#N/A"},18,{"$f":"IF(CF52=\"\",NA(),COUNTIF($CF52:CF$303,CF52))","v":4},"",{"$f":"IF(CH52=\"\",NA(),COUNTIF($CH52:CH$303,CH52))","v":{"$error":"#N/A"}},{"$error":"#N/A"},{"$error":"#N/A"},{"$error":"#N/A"}]
[-8.3266129438010691E-2,0.99603170892237514,-0.20395952997966366,null,null,"",null,null,null,null,null,null,null,null,null,null,null,null,null,null,null,null,null,null,null,null,null,null,null,null,null,null,null,null,null,null,null,null,null,null,null,null,null,null,null,null,null,null,"Label d",{"$f":"IF(BD10,AX3,NA())","v":0},{"$f":"AX15+14","v":-36},null,null,null,null,null,52,0.85963108018040657,"","",-999,25.3,-999,39,{"$f":"IF(BL53=\"\",NA(),COUNTIF(BL53:$BL$303,BL53))","v":4},38.317500000000003,3.7642499999999997,{"$error":"#N/A"},39,{"$f":"IF(BQ53=\"\",NA(),COUNTIF(BQ53:$BQ$303,BQ53))","v":4},38.317500000000003,-46.235750000000003,{"$error":"#N/A"},"",{"$f":"IF(BV53=\"\",NA(),COUNTIF(BV53:$BV$303,BV53))","v":{"$error":"#N/A"}},{"$error":"#VALUE!"},{"$error":"#N/A"},{"$error":"#N/A"},"",{"$f":"IF(CA53=\"\",NA(),COUNTIF(CA53:$CA$303,CA53))","v":{"$error":"#N/A"}},{"$error":"#VALUE!"},{"$error":"#N/A"},{"$error":"#N/A"},23,{"$f":"IF(CF53=\"\",NA(),COUNTIF($CF53:CF$303,CF53))","v":3},"",{"$f":"IF(CH53=\"\",NA(),COUNTIF($CH53:CH$303,CH53))","v":{"$error":"#N/A"}},{"$error":"#N/A"},{"$error":"#N/A"},{"$error":"#N/A"}]
[9.7901749942332403E-2,1.3508239086602303,0.23980933228426723,null,null,"",null,null,null,null,null,null,null,null,null,null,null,null,null,null,null,null,null,null,null,null,null,null,null,null,null,null,null,null,null,null,null,null,null,null,null,null,null,null,null,null,null,null,"Label values",{"$f":"IF(BD10,AX3,NA())","v":0},{"$f":"AY53","v":-36},null,null,null,null,null,53,0.97700810804963112,"","",-999,25.3,-999,42,{"$f":"IF(BL54=\"\",NA(),COUNTIF(BL54:$BL$303,BL54))","v":5},41.265000000000001,4.8397499999999996,{"$error":"#N/A"},42,{"$f":"IF(BQ54=\"\",NA(),COUNTIF(BQ54:$BQ$303,BQ54))","v":5},41.265000000000001,-45.160250000000005,{"$error":"#N/A"},"",{"$f":"IF(BV54=\"\",NA(),COUNTIF(BV54:$BV$303,BV54))","v":{"$error":"#N/A"}},{"$error":"#VALUE!"},{"$error":"#N/A"},{"$error":"#N/A"},"",{"$f":"IF(CA54=\"\",NA(),COUNTIF(CA54:$CA$303,CA54))","v":{"$error":"#N/A"}},{"$error":"#VALUE!"},{"$error":"#N/A"},{"$error":"#N/A"},31,{"$f":"IF(CF54=\"\",NA(),COUNTIF($CF54:CF$303,CF54))","v":3},"",{"$f":"IF(CH54=\"\",NA(),COUNTIF($CH54:CH$303,CH54))","v":{"$error":"#N/A"}},{"$error":"#N/A"},{"$error":"#N/A"},{"$error":"#N/A"}]
[0.28045415546449637,0.41188863286265204,0.68696957713120299,null,null,"",null,null,null,null,null,null,null,null,null,null,null,null,null,null,null,null,null,null,null,null,null,null,null,null,null,null,null,null,null,null,null,null,null,null,null,null,null,null,null,null,null,null,"for Y axis line",{"$f":"IF(BD10,AX3,NA())","v":0},{"$f":"AX15","v":-50},{"$f":"AX14-2","v":22},null,null,null,null,54,0.78160171583294868,"","",-999,25.3,-999,45,{"$f":"IF(BL55=\"\",NA(),COUNTIF(BL55:$BL$303,BL55))","v":3},44.212499999999999,2.6887499999999998,{"$error":"#N/A"},45,{"$f":"IF(BQ55=\"\",NA(),COUNTIF(BQ55:$BQ$303,BQ55))","v":3},44.212499999999999,-47.311250000000001,{"$error":"#N/A"},"",{"$f":"IF(BV55=\"\",NA(),COUNTIF(BV55:$BV$303,BV55))","v":{"$error":"#N/A"}},{"$error":"#VALUE!"},{"$error":"#N/A"},{"$error":"#N/A"},"",{"$f":"IF(CA55=\"\",NA(),COUNTIF(CA55:$CA$303,CA55))","v":{"$error":"#N/A"}},{"$error":"#VALUE!"},{"$error":"#N/A"},{"$error":"#N/A"},9,{"$f":"IF(CF55=\"\",NA(),COUNTIF($CF55:CF$303,CF55))","v":1},"",{"$f":"IF(CH55=\"\",NA(),COUNTIF($CH55:CH$303,CH55))","v":{"$error":"#N/A"}},{"$error":"#N/A"},{"$error":"#N/A"},{"$error":"#N/A"}]
[-0.55316267607707892,0.80536099414411777,-1.3549663011412982,null,null,"",null,null,null,null,null,null,null,null,null,null,null,null,null,null,null,null,null,null,null,null,null,null,null,null,null,null,null,null,null,null,null,null,null,null,null,null,null,null,null,null,null,null,"for d axis line",{"$f":"IF(BD10,AX3,NA())","v":0},{"$f":"AX15","v":-50},100,null,null,null,null,55,0.31915179267525673,"","",-999,25.3,-999,32,{"$f":"IF(BL56=\"\",NA(),COUNTIF(BL56:$BL$303,BL56))","v":2},31.44,1.6132499999999999,{"$error":"#N/A"},32,{"$f":"IF(BQ56=\"\",NA(),COUNTIF(BQ56:$BQ$303,BQ56))","v":2},31.44,-48.386750000000006,{"$error":"#N/A"},"",{"$f":"IF(BV56=\"\",NA(),COUNTIF(BV56:$BV$303,BV56))","v":{"$error":"#N/A"}},{"$error":"#VALUE!"},{"$error":"#N/A"},{"$error":"#N/A"},"",{"$f":"IF(CA56=\"\",NA(),COUNTIF(CA56:$CA$303,CA56))","v":{"$error":"#N/A"}},{"$error":"#VALUE!"},{"$error":"#N/A"},{"$error":"#N/A"},18,{"$f":"IF(CF56=\"\",NA(),COUNTIF($CF56:CF$303,CF56))","v":3},"",{"$f":"IF(CH56=\"\",NA(),COUNTIF($CH56:CH$303,CH56))","v":{"$error":"#N/A"}},{"$error":"#N/A"},{"$error":"#N/A"},{"$error":"#N/A"}]
[0.62282294979994246,0.88314539052311081,1.5255984271049206,null,null,"",null,null,null,null,null,null,null,null,null,null,null,null,null,null,null,null,null,null,null,null,null,null,null,null,null,null,null,null,null,null,null,null,null,null,null,null,null,null,null,null,null,null,"label val mu0",{"$f":"IF(BD10,L8,NA())","v":0},{"$f":"AX15+10","v":-40},null,null,null,null,null,56,7.5725872069597244E-2,"","",-999,25.3,-999,50,{"$f":"IF(BL57=\"\",NA(),COUNTIF(BL57:$BL$303,BL57))","v":2},49.125,1.6132499999999999,{"$error":"#N/A"},50,{"$f":"IF(BQ57=\"\",NA(),COUNTIF(BQ57:$BQ$303,BQ57))","v":2},49.125,-48.386750000000006,{"$error":"#N/A"},"",{"$f":"IF(BV57=\"\",NA(),COUNTIF(BV57:$BV$303,BV57))","v":{"$error":"#N/A"}},{"$error":"#VALUE!"},{"$error":"#N/A"},{"$error":"#N/A"},"",{"$f":"IF(CA57=\"\",NA(),COUNTIF(CA57:$CA$303,CA57))","v":{"$error":"#N/A"}},{"$error":"#VALUE!"},{"$error":"#N/A"},{"$error":"#N/A"},20,{"$f":"IF(CF57=\"\",NA(),COUNTIF($CF57:CF$303,CF57))","v":9},"",{"$f":"IF(CH57=\"\",NA(),COUNTIF($CH57:CH$303,CH57))","v":{"$error":"#N/A"}},{"$error":"#N/A"},{"$error":"#N/A"},{"$error":"#N/A"}]
[-0.32611202090557861,0.46160779368583149,-0.79880805020650769,null,null,"",null,null,null,null,null,null,null,null,null,null,null,null,null,null,null,null,null,null,null,null,null,null,null,null,null,null,null,null,null,null,null,null,null,null,null,null,null,null,null,null,null,null,"mu0 line",{"$f":"IF(BD10,L8,NA())","v":0},{"$f":"AX15","v":-50},8,null,null,null,null,57,0.70513230934739113,"","",-999,25.3,-999,36,{"$f":"IF(BL58=\"\",NA(),COUNTIF(BL58:$BL$303,BL58))","v":6},35.370000000000005,5.9152499999999995,{"$error":"#N/A"},36,{"$f":"IF(BQ58=\"\",NA(),COUNTIF(BQ58:$BQ$303,BQ58))","v":6},35.370000000000005,-44.08475,{"$error":"#N/A"},"",{"$f":"IF(BV58=\"\",NA(),COUNTIF(BV58:$BV$303,BV58))","v":{"$error":"#N/A"}},{"$error":"#VALUE!"},{"$error":"#N/A"},{"$error":"#N/A"},"",{"$f":"IF(CA58=\"\",NA(),COUNTIF(CA58:$CA$303,CA58))","v":{"$error":"#N/A"}},{"$error":"#VALUE!"},{"$error":"#N/A"},{"$error":"#N/A"},11,{"$f":"IF(CF58=\"\",NA(),COUNTIF($CF58:CF$303,CF58))","v":3},"",{"$f":"IF(CH58=\"\",NA(),COUNTIF($CH58:CH$303,CH58))","v":{"$error":"#N/A"}},{"$error":"#N/A"},{"$error":"#N/A"},{"$error":"#N/A"}]
[-0.20143155024018089,0.99972762500488099,-0.4934045161862376,null,null,"",null,null,null,null,null,null,null,null,null,null,null,null,null,null,null,null,null,null,null,null,null,null,null,null,null,null,null,null,null,null,null,null,null,null,null,null,null,null,null,null,null,null,"mu1 line",{"$f":"IF(BD10,O10,NA())","v":0},{"$f":"AX15","v":-50},{"$f":"AX14","v":24},null,null,null,null,58,0.26019393280148506,"","",-999,25.3,-999,38,{"$f":"IF(BL59=\"\",NA(),COUNTIF(BL59:$BL$303,BL59))","v":4},37.335000000000001,3.7642499999999997,{"$error":"#N/A"},38,{"$f":"IF(BQ59=\"\",NA(),COUNTIF(BQ59:$BQ$303,BQ59))","v":4},37.335000000000001,-46.235750000000003,{"$error":"#N/A"},"",{"$f":"IF(BV59=\"\",NA(),COUNTIF(BV59:$BV$303,BV59))","v":{"$error":"#N/A"}},{"$error":"#VALUE!"},{"$error":"#N/A"},{"$error":"#N/A"},"",{"$f":"IF(CA59=\"\",NA(),COUNTIF(CA59:$CA$303,CA59))","v":{"$error":"#N/A"}},{"$error":"#VALUE!"},{"$error":"#N/A"},{"$error":"#N/A"},23,{"$f":"IF(CF59=\"\",NA(),COUNTIF($CF59:CF$303,CF59))","v":2},"",{"$f":"IF(CH59=\"\",NA(),COUNTIF($CH59:CH$303,CH59))","v":{"$error":"#N/A"}},{"$error":"#N/A"},{"$error":"#N/A"},{"$error":"#N/A"}]
[0.29875321109937275,0.7219637276471691,0.73179292621145065,null,null,"",null,null,null,null,null,null,null,null,null,null,null,null,null,null,null,null,null,null,null,null,null,null,null,null,null,null,null,null,null,null,null,null,null,null,null,null,null,null,null,null,null,null,"z or t axis label",{"$f":"IF(BD10,AX3+18,NA())","v":18},{"$f":"AX15-AX16","v":-52},{"$f":"IF(BD12,\"z\",\"t\")","v":"z"},null,null,null,null,59,0.71053597703576088,"","",-999,25.3,-999,45,{"$f":"IF(BL60=\"\",NA(),COUNTIF(BL60:$BL$303,BL60))","v":2},44.212499999999999,1.6132499999999999,{"$error":"#N/A"},45,{"$f":"IF(BQ60=\"\",NA(),COUNTIF(BQ60:$BQ$303,BQ60))","v":2},44.212499999999999,-48.386750000000006,{"$error":"#N/A"},"",{"$f":"IF(BV60=\"\",NA(),COUNTIF(BV60:$BV$303,BV60))","v":{"$error":"#N/A"}},{"$error":"#VALUE!"},{"$error":"#N/A"},{"$error":"#N/A"},"",{"$f":"IF(CA60=\"\",NA(),COUNTIF(CA60:$CA$303,CA60))","v":{"$error":"#N/A"}},{"$error":"#VALUE!"},{"$error":"#N/A"},{"$error":"#N/A"},17,{"$f":"IF(CF60=\"\",NA(),COUNTIF($CF60:CF$303,CF60))","v":4},"",{"$f":"IF(CH60=\"\",NA(),COUNTIF($CH60:CH$303,CH60))","v":{"$error":"#N/A"}},{"$error":"#N/A"},{"$error":"#N/A"},{"$error":"#N/A"}]
[-1.0717817656825649E-2,1.5519910281075855,-2.6253184415414361E-2,null,null,"",null,null,null,null,null,null,null,null,null,null,null,null,null,null,null,null,null,null,null,null,null,null,null,null,null,null,null,null,null,null,null,null,null,null,null,null,null,null,null,null,null,null,"highlighted point",{"$f":"IF(AND(BD1,BD2,BD10), IF(BB5=1,BS2,CC2),NA())","v":{"$error":"#N/A"}},{"$f":"AX15","v":-50},null,null,null,null,null,60,7.3253102600574493E-3,"","",-999,25.3,-999,41,{"$f":"IF(BL61=\"\",NA(),COUNTIF(BL61:$BL$303,BL61))","v":1},40.282499999999999,0.53774999999999995,{"$error":"#N/A"},41,{"$f":"IF(BQ61=\"\",NA(),COUNTIF(BQ61:$BQ$303,BQ61))","v":1},40.282499999999999,-49.462250000000004,{"$error":"#N/A"},"",{"$f":"IF(BV61=\"\",NA(),COUNTIF(BV61:$BV$303,BV61))","v":{"$error":"#N/A"}},{"$error":"#VALUE!"},{"$error":"#N/A"},{"$error":"#N/A"},"",{"$f":"IF(CA61=\"\",NA(),COUNTIF(CA61:$CA$303,CA61))","v":{"$error":"#N/A"}},{"$error":"#VALUE!"},{"$error":"#N/A"},{"$error":"#N/A"},36,{"$f":"IF(CF61=\"\",NA(),COUNTIF($CF61:CF$303,CF61))","v":1},"",{"$f":"IF(CH61=\"\",NA(),COUNTIF($CH61:CH$303,CH61))","v":{"$error":"#N/A"}},{"$error":"#N/A"},{"$error":"#N/A"},{"$error":"#N/A"}]
[0.43388399960083207,0.60139037818307917,1.062794406579979,null,null,"",null,null,null,null,null,null,null,"SampDistMult",{"$f":"COUNT(A4:A303)*$BA$33*$BA$34","v":131.028165},null,"grey","grey","grey",null,null,null,"Panel 1 scale",33,null,null,null,"For s pile curve",null,null,null,null,null,null,null,null,null,"SampDistMult",{"$f":"COUNT(D4:D303)*$BA$33*$BA$34","v":23.2469325},"grey","grey","grey",null,"Label rubber ruler",null,-2.5,0,null,"mean on r ruler",{"$f":"IF(AND(BD1,AR70), IF(BB5=1,BN2,BX2),NA())","v":{"$error":"#N/A"}},{"$f":"AX15+AX14+1","v":-25},null,null,null,null,null,61,0.19782960787415504,"","",-999,25.3,-999,47,{"$f":"IF(BL62=\"\",NA(),COUNTIF(BL62:$BL$303,BL62))","v":3},46.177500000000002,2.6887499999999998,{"$error":"#N/A"},47,{"$f":"IF(BQ62=\"\",NA(),COUNTIF(BQ62:$BQ$303,BQ62))","v":3},46.177500000000002,-47.311250000000001,{"$error":"#N/A"},"",{"$f":"IF(BV62=\"\",NA(),COUNTIF(BV62:$BV$303,BV62))","v":{"$error":"#N/A"}},{"$error":"#VALUE!"},{"$error":"#N/A"},{"$error":"#N/A"},"",{"$f":"IF(CA62=\"\",NA(),COUNTIF(CA62:$CA$303,CA62))","v":{"$error":"#N/A"}},{"$error":"#VALUE!"},{"$error":"#N/A"},{"$error":"#N/A"},14,{"$f":"IF(CF62=\"\",NA(),COUNTIF($CF62:CF$303,CF62))","v":5},"",{"$f":"IF(CH62=\"\",NA(),COUNTIF($CH62:CH$303,CH62))","v":{"$error":"#N/A"}},{"$error":"#N/A"},{"$error":"#N/A"},{"$error":"#N/A"}]
[0.63226654671591764,1.4894131074168038,1.5487304208855817,null,null,"",null,null,null,null,"x","H0Pop","SampDist","cum t","t or z",null,"H0","sampdist","t or z",null,null,"SampDist",null,"t","nct","L end",{"$f":"ROUND((IF(BB5=1,O9,V9)+$R$11*IF(BB5=1,A4,D4))/$BA$34,0)*$BA$34","v":40.282499999999999},"X","s","s2/( )","Rcum","ord","grey",null,"H1Pop","SampDist","SampDist","cum t","t or z","H1","sampdist","t or z",null,"Unit:",{"$f":"IF(AR70,AU62,NA())","v":{"$error":"#N/A"}},{"$f":"AX15+AX14-AU63","v":-27},1,null,"for vert dotted line",{"$f":"AX62","v":{"$error":"#N/A"}},{"$f":"IF(BB5=1,BO2,BY2)","v":4.8397499999999996},null,null,null,null,null,62,0.65052645280957222,"","",-999,25.3,-999,50,{"$f":"IF(BL63=\"\",NA(),COUNTIF(BL63:$BL$303,BL63))","v":1},49.125,0.53774999999999995,{"$error":"#N/A"},50,{"$f":"IF(BQ63=\"\",NA(),COUNTIF(BQ63:$BQ$303,BQ63))","v":1},49.125,-49.462250000000004,{"$error":"#N/A"},"",{"$f":"IF(BV63=\"\",NA(),COUNTIF(BV63:$BV$303,BV63))","v":{"$error":"#N/A"}},{"$error":"#VALUE!"},{"$error":"#N/A"},{"$error":"#N/A"},"",{"$f":"IF(CA63=\"\",NA(),COUNTIF(CA63:$CA$303,CA63))","v":{"$error":"#N/A"}},{"$error":"#VALUE!"},{"$error":"#N/A"},{"$error":"#N/A"},34,{"$f":"IF(CF63=\"\",NA(),COUNTIF($CF63:CF$303,CF63))","v":4},"",{"$f":"IF(CH63=\"\",NA(),COUNTIF($CH63:CH$303,CH63))","v":{"$error":"#N/A"}},{"$error":"#N/A"},{"$error":"#N/A"},{"$error":"#N/A"}]
[0.23771818076565129,0.84550153918288939,0.58228824545854008,null,null,"",null,null,null,null,{"$f":"K65-$BB$1","v":-0.5},null,null,{"$f":"IF(K64>$O$9,1-TDIST((K64-$O$9)/$BB$9,$K$14-1,1),TDIST(($O$9-K64)/$BB$9,$K$14-1,1))","v":5.9453021549652353E-4},null,null,null,null,null,null,null,null,null,{"$f":"AW138-$AW$140","v":-6.6136223055145802},{"$f":"nct(X64,$AW$136,$AW$137)","v":2.1759354528112474E-10},"R end",{"$f":"AY3","v":100},null,null,null,null,null,null,null,null,null,null,{"$f":"Y64","v":2.1759354528112474E-10},null,null,null,null,null,"s",{"$f":"IF(AND(AR70,BD12),AS63+4,NA())","v":{"$error":"#N/A"}},{"$f":"AT63","v":-27},null,null,"black dotted",{"$f":"AX35","v":{"$error":"#N/A"}},{"$f":"AY63","v":4.8397499999999996},null,null,null,null,null,63,0.98493960872292519,"","",-999,25.3,-999,44,{"$f":"IF(BL64=\"\",NA(),COUNTIF(BL64:$BL$303,BL64))","v":2},43.230000000000004,1.6132499999999999,{"$error":"#N/A"},44,{"$f":"IF(BQ64=\"\",NA(),COUNTIF(BQ64:$BQ$303,BQ64))","v":2},43.230000000000004,-48.386750000000006,{"$error":"#N/A"},"",{"$f":"IF(BV64=\"\",NA(),COUNTIF(BV64:$BV$303,BV64))","v":{"$error":"#N/A"}},{"$error":"#VALUE!"},{"$error":"#N/A"},{"$error":"#N/A"},"",{"$f":"IF(CA64=\"\",NA(),COUNTIF(CA64:$CA$303,CA64))","v":{"$error":"#N/A"}},{"$error":"#VALUE!"},{"$error":"#N/A"},{"$error":"#N/A"},19,{"$f":"IF(CF64=\"\",NA(),COUNTIF($CF64:CF$303,CF64))","v":5},"",{"$f":"IF(CH64=\"\",NA(),COUNTIF($CH64:CH$303,CH64))","v":{"$error":"#N/A"}},{"$error":"#N/A"},{"$error":"#N/A"},{"$error":"#N/A"}]
[-0.18617108816718339,0.55850342482221893,-0.45602417086829866,null,null,"",null,null,null,null,0,{"$f":"IF(NOT($BB$12),$AX$6+$AX$5*$X$62*NORMDIST(K65,$O$9,$R$11,FALSE),-999)","v":27.451281046542377},{"$f":"IF(AND(NOT($BB$12),$BB$6,$BD$3,$BD$9),$AX$9+$O$62*NORMDIST(K65,$O$9,$R$11/SQRT($K$14),FALSE),NA())","v":4.6377800025173225E-9},{"$f":"IF(K65>$O$9,1-TDIST((K65-$O$9)/$BB$9,$K$14-1,1),TDIST(($O$9-K65)/$BB$9,$K$14-1,1))","v":6.2913249657280546E-4},{"$f":"IF(AND(NOT($BB$12),$BD$10,$BD$3,$BD$9),IF($BD$12,V65,$AX$15+$O$62*(N66-N64)/(2*$BB$1)),NA())","v":-49.999999995362217},null,{"$f":"IF($BB$12,$AX$6+$AX$5*$X$62*NORMDIST(K65,$O$9,$R$11,FALSE),-999)","v":-999},{"$f":"IF(AND($BB$12,$BB$6,$BD$3,$BD$9),$AX$9+$O$62*NORMDIST(K65,$O$9,$R$11/SQRT($K$14),FALSE),NA())","v":{"$error":"#N/A"}},{"$f":"IF(AND($BB$12,$BD$10,$BD$3,$BD$9),IF($BD$12,$AX$15+$O$62*NORMDIST(K65,$O$9,$R$11/SQRT($K$14),FALSE),$AX$15+$O$62*(N66-N64)/(2*$BB$1)),NA())","v":{"$error":"#N/A"}},null,null,{"$f":"IF(AND(NOT($BB$12),$BD$3,$BD$9),$AX$15+$O$62*NORMDIST(K65,$O$9,$R$11/SQRT($K$14),FALSE),NA())","v":-49.999999995362217},null,{"$f":"X64+$AW$140","v":-6.5319726474218074},2.3127827362471855E-10,"inc",{"$f":"(AA64-AA63)/200","v":0.29858750000000001},{"$f":"AA63","v":40.282499999999999},{"$f":"AB65-$AA$63","v":0},{"$f":"AC65^2/$AA$66","v":0},{"$f":"CHIDIST(AD65,$K$16)","v":1},null,null,null,{"$f":"IF(NOT($BB$13),$AX$6+$AX$5*$X$62*NORMDIST(K65,$V$9,$R$11,FALSE),-999)","v":-999},{"$f":"IF(AND(NOT($BB$13),$BD$4,$BD$9),$AX$9+$AM$62*NORMDIST(K65,$V$9,$R$11/SQRT($K$14),FALSE),NA())","v":{"$error":"#N/A"}},{"$f":"IF($BD$6,AJ65,NA())","v":{"$error":"#N/A"}},2.3127827362471855E-10,{"$f":"IF(AND(NOT($BB$13),$BD$10,$BD$4,$BD$9,$BB$25),IF($BD$12,$AX$15+$AM$62*NORMDIST(K65,$V$9,$R$11/SQRT($K$14),FALSE),$AX$15+$AM$62*(AL66-AL64)/(2*$BB$1)),NA())","v":{"$error":"#N/A"}},{"$f":"IF(AND($BB$4,$BB$13),$AX$6+$AX$5*$X$62*NORMDIST(K65,$V$9,$R$11,FALSE),-999)","v":-999},{"$f":"IF(AND($BB$4,$BD$6,$BB$13,$BD$4,$BD$9),$AX$9+$AM$62*NORMDIST(K65,$V$9,$R$11/SQRT($K$14),FALSE),NA())","v":{"$error":"#N/A"}},{"$f":"IF(AND($BB$4,$BD$10,$BB$13,$BD$4,$BD$9,$BB$25),IF($BD$12,$AX$15+$AM$62*NORMDIST(K65,$V$9,$R$11/SQRT($K$14),FALSE),$AX$15+$AM$62*(AL66-AL64)/(2*$BB$1)),NA())","v":{"$error":"#N/A"}},null,"s",{"$f":"IF(AND(AR70,NOT(BD12)),AS63+4,NA())","v":{"$error":"#N/A"}},{"$f":"AT64","v":-27},null,null,"line",{"$f":"AX64","v":{"$error":"#N/A"}},{"$f":"AX12+AZ35","v":-5},null,null,null,null,null,64,0.89144416525959969,"","",-999,25.3,-999,38,{"$f":"IF(BL65=\"\",NA(),COUNTIF(BL65:$BL$303,BL65))","v":3},37.335000000000001,2.6887499999999998,{"$error":"#N/A"},38,{"$f":"IF(BQ65=\"\",NA(),COUNTIF(BQ65:$BQ$303,BQ65))","v":3},37.335000000000001,-47.311250000000001,{"$error":"#N/A"},"",{"$f":"IF(BV65=\"\",NA(),COUNTIF(BV65:$BV$303,BV65))","v":{"$error":"#N/A"}},{"$error":"#VALUE!"},{"$error":"#N/A"},{"$error":"#N/A"},"",{"$f":"IF(CA65=\"\",NA(),COUNTIF(CA65:$CA$303,CA65))","v":{"$error":"#N/A"}},{"$error":"#VALUE!"},{"$error":"#N/A"},{"$error":"#N/A"},13,{"$f":"IF(CF65=\"\",NA(),COUNTIF($CF65:CF$303,CF65))","v":2},"",{"$f":"IF(CH65=\"\",NA(),COUNTIF($CH65:CH$303,CH65))","v":{"$error":"#N/A"}},{"$error":"#N/A"},{"$error":"#N/A"},{"$error":"#N/A"}]
[9.4350181113605783E-2,1.2438186004000937,0.23110980086751279,null,null,"",null,null,null,null,{"$f":"K65+$BB$1","v":0.5},27.492957834415368,{"$f":"IF(AND(NOT($BB$12),$BB$6,$BD$3,$BD$9),$AX$9+$O$62*NORMDIST(K66,$O$9,$R$11/SQRT($K$14),FALSE),NA())","v":7.8792742865416841E-9},6.6613764656906795E-4,{"$f":"IF(AND(NOT($BB$12),$BD$10,$BD$3,$BD$9),IF($BD$12,V66,$AX$15+$O$62*(N67-N65)/(2*$BB$1)),NA())","v":-49.999999992120728},null,-999,{"$f":"IF(AND($BB$12,$BB$6,$BD$3,$BD$9),$AX$9+$O$62*NORMDIST(K66,$O$9,$R$11/SQRT($K$14),FALSE),NA())","v":{"$error":"#N/A"}},{"$f":"IF(AND($BB$12,$BD$10,$BD$3,$BD$9),IF($BD$12,$AX$15+$O$62*NORMDIST(K66,$O$9,$R$11/SQRT($K$14),FALSE),$AX$15+$O$62*(N67-N65)/(2*$BB$1)),NA())","v":{"$error":"#N/A"}},null,null,{"$f":"IF(AND(NOT($BB$12),$BD$3,$BD$9),$AX$15+$O$62*NORMDIST(K66,$O$9,$R$11/SQRT($K$14),FALSE),NA())","v":-49.999999992120728},null,-6.4503229893290346,2.4600185857730036E-10,"s2/(N-1)",{"$f":"R11^2/K16","v":45},{"$f":"AB65+$AA$65","v":40.581087499999995},{"$f":"AB66-$AA$63","v":0.29858749999999645},{"$f":"AC66^2/$AA$66","v":1.9812110034721749E-3},{"$f":"CHIDIST(AD66,$K$16)","v":0.99999999071315182},{"$f":"IF(AND(IF($BB$5=1,$A$4<>\"\",$D$4<>\"\"),NOT($BD$12),$BD$5,$BD$4,$BD$9),$AX$12+$AA$67*(AE65-AE67)/(2*$AA$65),NA())","v":{"$error":"#N/A"}},{"$f":"IF(AND(IF($BB$5=1,$A$4<>\"\",$D$4<>\"\"),$BD$12,$BD$5,$BD$4,$BD$9),$AX$12+$AA$67*(AE65-AE67)/(2*$AA$65),NA())","v":{"$error":"#N/A"}},null,-999,{"$error":"#N/A"},{"$f":"IF($BD$6,AJ66,NA())","v":{"$error":"#N/A"}},2.4600185857730036E-10,{"$error":"#N/A"},-999,{"$error":"#N/A"},{"$error":"#N/A"},null,"/√ N",{"$f":"IF(AR70,AS63+7.3,NA())","v":{"$error":"#N/A"}},{"$f":"AT65","v":-27},null,null,"vert down",{"$f":"IF(OR(BD10,AR70),O9,NA())","v":40},{"$f":"AX12+AX11-3","v":-5},null,null,null,null,null,65,0.24137014523148537,"","",-999,25.3,-999,42,{"$f":"IF(BL66=\"\",NA(),COUNTIF(BL66:$BL$303,BL66))","v":4},41.265000000000001,3.7642499999999997,{"$error":"#N/A"},42,{"$f":"IF(BQ66=\"\",NA(),COUNTIF(BQ66:$BQ$303,BQ66))","v":4},41.265000000000001,-46.235750000000003,{"$error":"#N/A"},"",{"$f":"IF(BV66=\"\",NA(),COUNTIF(BV66:$BV$303,BV66))","v":{"$error":"#N/A"}},{"$error":"#VALUE!"},{"$error":"#N/A"},{"$error":"#N/A"},"",{"$f":"IF(CA66=\"\",NA(),COUNTIF(CA66:$CA$303,CA66))","v":{"$error":"#N/A"}},{"$error":"#VALUE!"},{"$error":"#N/A"},{"$error":"#N/A"},28,{"$f":"IF(CF66=\"\",NA(),COUNTIF($CF66:CF$303,CF66))","v":3},"",{"$f":"IF(CH66=\"\",NA(),COUNTIF($CH66:CH$303,CH66))","v":{"$error":"#N/A"}},{"$error":"#N/A"},{"$error":"#N/A"},{"$error":"#N/A"}]
[0.34381968469781538,0.81771194375338807,0.84218279103424498,null,null,"",null,null,null,null,1,27.537885581653949,1.3297408110751991E-8,7.057389994966478E-4,-49.999999986702591,null,-999,{"$error":"#N/A"},{"$error":"#N/A"},null,null,-49.999999986702591,null,-6.3686733312362618,2.6185681221304591E-10,"multiplier",{"$f":"IF(BB5=1,COUNT(A4:A303),COUNT(D4:D303))*$BA$36*$BA$37","v":58.112910000000007},{"$f":"AB66+$AA$65","v":40.879674999999992},0.59717499999999291,7.9248440138886996E-3,0.99999970345092104,{"$f":"IF(AND(IF($BB$5=1,$A$4<>\"\",$D$4<>\"\"),NOT($BD$12),$BD$5,$BD$4,$BD$9),$AX$12+$AA$67*(AE66-AE68)/(2*$AA$65),NA())","v":{"$error":"#N/A"}},{"$f":"IF(AND(IF($BB$5=1,$A$4<>\"\",$D$4<>\"\"),$BD$12,$BD$5,$BD$4,$BD$9),$AX$12+$AA$67*(AE66-AE68)/(2*$AA$65),NA())","v":{"$error":"#N/A"}},null,-999,{"$error":"#N/A"},{"$error":"#N/A"},2.6185681221304591E-10,{"$error":"#N/A"},-999,{"$error":"#N/A"},{"$error":"#N/A"},null,"r r label",{"$f":"IF(AR70,0,NA())","v":{"$error":"#N/A"}},{"$f":"AT63+AU67","v":-24},3,null,"to zero",{"$f":"AX66","v":40},{"$f":"AX12-AX13+5","v":-21},null,null,null,null,null,66,0.59012674167752266,"","",-999,25.3,-999,46,{"$f":"IF(BL67=\"\",NA(),COUNTIF(BL67:$BL$303,BL67))","v":3},45.195,2.6887499999999998,{"$error":"#N/A"},46,{"$f":"IF(BQ67=\"\",NA(),COUNTIF(BQ67:$BQ$303,BQ67))","v":3},45.195,-47.311250000000001,{"$error":"#N/A"},"",{"$f":"IF(BV67=\"\",NA(),COUNTIF(BV67:$BV$303,BV67))","v":{"$error":"#N/A"}},{"$error":"#VALUE!"},{"$error":"#N/A"},{"$error":"#N/A"},"",{"$f":"IF(CA67=\"\",NA(),COUNTIF(CA67:$CA$303,CA67))","v":{"$error":"#N/A"}},{"$error":"#VALUE!"},{"$error":"#N/A"},{"$error":"#N/A"},19,{"$f":"IF(CF67=\"\",NA(),COUNTIF($CF67:CF$303,CF67))","v":4},"",{"$f":"IF(CH67=\"\",NA(),COUNTIF($CH67:CH$303,CH67))","v":{"$error":"#N/A"}},{"$error":"#N/A"},{"$error":"#N/A"},{"$error":"#N/A"}]
[-0.13455436100882395,1.2761811842294275,-0.32958952713785855,null,null,"",null,null,null,null,1.5,27.5862562467548,2.2292176872226535E-8,7.481475181541768E-4,-49.999999977707823,null,-999,{"$error":"#N/A"},{"$error":"#N/A"},null,null,-49.999999977707823,null,-6.287023673143489,2.7894521447888447E-10,null,null,41.178262499999988,0.89576249999998936,1.7830899031249577E-2,0.99999775603012175,{"$error":"#N/A"},{"$error":"#N/A"},null,-999,{"$error":"#N/A"},{"$error":"#N/A"},2.7894521447888447E-10,{"$error":"#N/A"},-999,{"$error":"#N/A"},{"$error":"#N/A"},null,null,null,null,null,null,null,null,null,null,null,null,null,null,67,{"$f":"MOD(BF67*10000013,1)","v":8.8422868400812149E-2},"",{"$f":"IF(BG68=\"\",\"\",$O$9+$R$11*BG68)","v":""},{"$f":"IF(AND(NOT($BB$12),$BD$2,BH68<>\"\",$A$4<>\"\"),BH68,-999)","v":-999},{"$f":"$AX$8+$BJ$1","v":25.3},{"$f":"IF(AND($BB$12,$BD$2,BH68<>\"\",$A$4<>\"\"),BH68,-999)","v":-999},{"$f":"IF(A68=\"\",\"\",ROUND(($O$9+$R$11*A68)/$BA$34,0))","v":39},{"$f":"IF(BL68=\"\",NA(),COUNTIF(BL68:$BL$303,BL68))","v":3},{"$f":"BL68*$BA$34","v":38.317500000000003},{"$f":"IF(AND(NOT($BB$12),$BB$6,$BD$3,$BD$8),$AX$9-$BA$33/2+BM68*$BA$33,NA())","v":2.6887499999999998},{"$f":"IF(AND($BB$12,$BB$6,$BD$3,$BD$8),$AX$9-$BA$33/2+BM68*$BA$33,NA())","v":{"$error":"#N/A"}},{"$f":"IF(C68=\"\",\"\",ROUND(($O$9+C68*$BB$9)/$BA$34,0))","v":39},{"$f":"IF(BQ68=\"\",NA(),COUNTIF(BQ68:$BQ$303,BQ68))","v":3},{"$f":"BQ68*$BA$34","v":38.317500000000003},-47.311250000000001,{"$error":"#N/A"},{"$f":"IF(D68=\"\",\"\",ROUND(($V$9+$R$11*D68)/$BA$34,0))","v":""},{"$f":"IF(BV68=\"\",NA(),COUNTIF(BV68:$BV$303,BV68))","v":{"$error":"#N/A"}},{"$f":"BV68*$BA$34","v":{"$error":"#VALUE!"}},{"$f":"IF(AND(NOT($BB$13),$BD$6,$BD$4,$BD$8),$AX$9-$BA$33/2+BW68*$BA$33,NA())","v":{"$error":"#N/A"}},{"$f":"IF(AND($BB$4,$BD$6,$BB$13,$BD$4,$BD$8),$AX$9-$BA$33/2+BW68*$BA$33,NA())","v":{"$error":"#N/A"}},{"$f":"IF(F68=\"\",\"\",ROUND(($O$9+F68*$BB$9)/$BA$34,0))","v":""},{"$f":"IF(CA68=\"\",NA(),COUNTIF(CA68:$CA$303,CA68))","v":{"$error":"#N/A"}},{"$f":"CA68*$BA$34","v":{"$error":"#VALUE!"}},{"$error":"#N/A"},{"$error":"#N/A"},29,{"$f":"IF(CF68=\"\",NA(),COUNTIF($CF68:CF$303,CF68))","v":1},"",{"$f":"IF(CH68=\"\",NA(),COUNTIF($CH68:CH$303,CH68))","v":{"$error":"#N/A"}},{"$error":"#N/A"},{"$error":"#N/A"},{"$error":"#N/A"}]
[-0.31904804603512088,0.86942040327275694,{"$f":"IF(AND(A69<>\"\",$K$14>1),(($O$9+$R$11*A69)-$O$9)/IF($BD$12,$BB$9,$R$11*B69/SQRT($K$14)),\"\")","v":-0.78150491621804408},null,null,{"$f":"IF(AND(D69<>\"\",$K$14>1),(($V$9+$R$11*D69)-$O$9)/IF($BD$12,$BB$9,$R$11*E69/SQRT($K$14)),\"\")","v":""},null,null,null,null,2,27.638267181300499,3.7122965861495108E-8,7.9359358396022175E-4,-49.999999962877034,null,-999,{"$error":"#N/A"},{"$error":"#N/A"},null,null,-49.999999962877034,null,-6.2053740150507162,2.9737965202891357E-10,null,null,41.476849999999985,1.1943499999999858,3.1699376055554798E-2,0.99999059061310469,{"$error":"#N/A"},{"$error":"#N/A"},null,-999,{"$error":"#N/A"},{"$error":"#N/A"},2.9737965202891357E-10,{"$error":"#N/A"},-999,{"$error":"#N/A"},{"$error":"#N/A"},"Rubber ruler",null,"L end",11,null,"For slants",null,null,null,null,null,null,null,null,68,0.83350541070103645,{"$f":"IF(AND($BD$3,$BE68<=$K$14),NORMSINV(BF69),\"\")","v":""},"",-999,25.3,-999,36,{"$f":"IF(BL69=\"\",NA(),COUNTIF(BL69:$BL$303,BL69))","v":5},35.370000000000005,4.8397499999999996,{"$error":"#N/A"},36,{"$f":"IF(BQ69=\"\",NA(),COUNTIF(BQ69:$BQ$303,BQ69))","v":5},35.370000000000005,{"$f":"IF(AND(NOT($BB$12),$BD$10,$BD$3,$BD$8),$AX$15-$BA$33/2+BR69*$BA$33,NA())","v":-45.160250000000005},{"$f":"IF(AND($BB$12,$BD$10,$BD$3,$BD$8),$AX$15-$BA$33/2+BR69*$BA$33,NA())","v":{"$error":"#N/A"}},"",{"$f":"IF(BV69=\"\",NA(),COUNTIF(BV69:$BV$303,BV69))","v":{"$error":"#N/A"}},{"$error":"#VALUE!"},{"$error":"#N/A"},{"$error":"#N/A"},"",{"$f":"IF(CA69=\"\",NA(),COUNTIF(CA69:$CA$303,CA69))","v":{"$error":"#N/A"}},{"$error":"#VALUE!"},{"$f":"IF(AND(NOT($BB$13),$BD$10,$BD$4,$BD$8),$AX$15-$BA$33/2+CB69*$BA$33,NA())","v":{"$error":"#N/A"}},{"$f":"IF(AND($BB$4,$BD$10,$BB$13,$BD$4,$BD$8),$AX$15-$BA$33/2+CB69*$BA$33,NA())","v":{"$error":"#N/A"}},{"$f":"IF(B69=\"\",\"\",ROUND(($R$11*B69)/$BA$37,0))","v":20},{"$f":"IF(CF69=\"\",NA(),COUNTIF($CF69:CF$303,CF69))","v":8},{"$f":"IF(E69=\"\",\"\",ROUND(($R$11*E69)/$BA$37,0))","v":""},{"$f":"IF(CH69=\"\",NA(),COUNTIF($CH69:CH$303,CH69))","v":{"$error":"#N/A"}},{"$f":"$AX$35+IF($BB$5=1,CF69,CH69)*$BA$37","v":{"$error":"#N/A"}},{"$f":"IF(AND(NOT($BD$12),$BD$5,$BD$4,$BD$8),$AX$12-$BA$36/2+IF($BB$5=1,CG69,CI69)*$BA$36,NA())","v":{"$error":"#N/A"}},{"$f":"IF(AND($BD$12,$BD$5,$BD$4,$BD$8),$AX$12-$BA$36/2+IF($BB$5=1,CG69,CI69)*$BA$36,NA())","v":{"$error":"#N/A"}}]
[9.7017348016642413E-2,0.51843975952007104,0.2376429988387912,null,null,"",null,null,null,null,2.5,27.694120699545316,6.1409781933736026E-8,8.4232898507823951E-4,-49.999999938590221,null,-999,{"$error":"#N/A"},{"$error":"#N/A"},null,null,-49.999999938590221,null,-6.1237243569579434,3.1728468232680367E-10,null,null,41.775437499999981,1.4929374999999823,4.9530275086804375E-2,0.99997146687769078,{"$error":"#N/A"},{"$error":"#N/A"},null,-999,{"$error":"#N/A"},{"$error":"#N/A"},3.1728468232680367E-10,{"$error":"#N/A"},-999,{"$error":"#N/A"},{"$error":"#N/A"},"Display?",{"$f":"AND(BD1,OR(AND(BB5=1,nsamps>0),AND(BB5=2,nsampso>0)))","v":false},"SE",{"$f":"IF(BD12,M17,IF(O21<>\"\",O21,NA()))","v":6.123724356957946},null,12,{"$f":"AS72","v":{"$error":"#N/A"}},{"$f":"$AT$72","v":-26},null,null,null,null,null,null,69,0.9425807036459446,"","",-999,25.3,-999,42,{"$f":"IF(BL70=\"\",NA(),COUNTIF(BL70:$BL$303,BL70))","v":3},41.265000000000001,2.6887499999999998,{"$error":"#N/A"},42,{"$f":"IF(BQ70=\"\",NA(),COUNTIF(BQ70:$BQ$303,BQ70))","v":3},41.265000000000001,-47.311250000000001,{"$error":"#N/A"},"",{"$f":"IF(BV70=\"\",NA(),COUNTIF(BV70:$BV$303,BV70))","v":{"$error":"#N/A"}},{"$error":"#VALUE!"},{"$error":"#N/A"},{"$error":"#N/A"},"",{"$f":"IF(CA70=\"\",NA(),COUNTIF(CA70:$CA$303,CA70))","v":{"$error":"#N/A"}},{"$error":"#VALUE!"},{"$error":"#N/A"},{"$error":"#N/A"},12,{"$f":"IF(CF70=\"\",NA(),COUNTIF($CF70:CF$303,CF70))","v":3},"",{"$f":"IF(CH70=\"\",NA(),COUNTIF($CH70:CH$303,CH70))","v":{"$error":"#N/A"}},{"$error":"#N/A"},{"$error":"#N/A"},{"$error":"#N/A"}]
[-0.34921718767449428,0.99412840715173667,-0.85540391921226178,null,null,"",null,null,null,null,3,27.754023580819752,1.0091068351980761E-7,8.9462912959502284E-4,-49.999999899089318,null,-999,{"$error":"#N/A"},{"$error":"#N/A"},null,null,-49.999999899089318,null,-6.0420746988651706,3.3879813150391486E-10,null,null,42.074024999999978,1.7915249999999787,7.1323596124998306E-2,0.99992954987442506,{"$error":"#N/A"},{"$error":"#N/A"},null,-999,{"$error":"#N/A"},{"$error":"#N/A"},3.3879813150391486E-10,{"$error":"#N/A"},-999,{"$error":"#N/A"},{"$error":"#N/A"},"z or t","For axis","x","y","y numbers",null,{"$f":"BB86","v":{"$error":"#N/A"}},{"$f":"$BC$86","v":-50},null,null,null,null,null,null,70,0.29000859335064888,"","",-999,25.3,-999,35,{"$f":"IF(BL71=\"\",NA(),COUNTIF(BL71:$BL$303,BL71))","v":6},34.387500000000003,5.9152499999999995,{"$error":"#N/A"},35,{"$f":"IF(BQ71=\"\",NA(),COUNTIF(BQ71:$BQ$303,BQ71))","v":6},34.387500000000003,-44.08475,{"$error":"#N/A"},"",{"$f":"IF(BV71=\"\",NA(),COUNTIF(BV71:$BV$303,BV71))","v":{"$error":"#N/A"}},{"$error":"#VALUE!"},{"$error":"#N/A"},{"$error":"#N/A"},"",{"$f":"IF(CA71=\"\",NA(),COUNTIF(CA71:$CA$303,CA71))","v":{"$error":"#N/A"}},{"$error":"#VALUE!"},{"$error":"#N/A"},{"$error":"#N/A"},23,{"$f":"IF(CF71=\"\",NA(),COUNTIF($CF71:CF$303,CF71))","v":1},"",{"$f":"IF(CH71=\"\",NA(),COUNTIF($CH71:CH$303,CH71))","v":{"$error":"#N/A"}},{"$error":"#N/A"},{"$error":"#N/A"},{"$error":"#N/A"}]
[0.18701395534714535,1.4399637744239093,0.4580887653801432,null,null,"",null,null,null,null,3.5,27.818186502255337,1.6471814547616627E-7,9.5079550727197057E-4,-49.999999835281855,null,-999,{"$error":"#N/A"},{"$error":"#N/A"},null,null,-49.999999835281855,null,-5.9604250407723978,3.6207268607557379E-10,null,null,42.372612499999974,2.0901124999999752,9.7079339170136572E-2,0.99984912003158311,{"$error":"#N/A"},{"$error":"#N/A"},null,-999,{"$error":"#N/A"},{"$error":"#N/A"},3.6207268607557379E-10,{"$error":"#N/A"},-999,{"$error":"#N/A"},{"$error":"#N/A"},12,{"$f":"$O$9+AQ72*$AT$70","v":113.48469228349535},{"$f":"IF(AND($AR$70,100>=AR72,$AT$69<=AR72),AR72,NA())","v":{"$error":"#N/A"}},{"$f":"AX15+AX14","v":-26},{"$f":"AT72","v":-26},11,{"$f":"AS73","v":{"$error":"#N/A"}},{"$f":"$AT$72","v":-26},null,null,null,null,null,null,71,0.70361820235848427,"","",-999,25.3,-999,44,{"$f":"IF(BL72=\"\",NA(),COUNTIF(BL72:$BL$303,BL72))","v":1},43.230000000000004,0.53774999999999995,{"$error":"#N/A"},44,{"$f":"IF(BQ72=\"\",NA(),COUNTIF(BQ72:$BQ$303,BQ72))","v":1},43.230000000000004,-49.462250000000004,{"$error":"#N/A"},"",{"$f":"IF(BV72=\"\",NA(),COUNTIF(BV72:$BV$303,BV72))","v":{"$error":"#N/A"}},{"$error":"#VALUE!"},{"$error":"#N/A"},{"$error":"#N/A"},"",{"$f":"IF(CA72=\"\",NA(),COUNTIF(CA72:$CA$303,CA72))","v":{"$error":"#N/A"}},{"$error":"#VALUE!"},{"$error":"#N/A"},{"$error":"#N/A"},33,{"$f":"IF(CF72=\"\",NA(),COUNTIF($CF72:CF$303,CF72))","v":3},"",{"$f":"IF(CH72=\"\",NA(),COUNTIF($CH72:CH$303,CH72))","v":{"$error":"#N/A"}},{"$error":"#N/A"},{"$error":"#N/A"},{"$error":"#N/A"}]
[-0.28936149940870315,0.75500604124533233,-0.70878802475797875,null,null,"",null,null,null,null,4,27.88682339967578,2.6708558159120428E-7,1.0111584330321991E-3,-49.999999732914418,null,-999,{"$error":"#N/A"},{"$error":"#N/A"},null,null,-49.999999732914418,null,-5.878775382679625,3.8727770200533233E-10,null,null,42.67119999999997,2.3886999999999716,0.12679750422221919,0.99970892940741285,{"$error":"#N/A"},{"$error":"#N/A"},null,-999,{"$error":"#N/A"},{"$error":"#N/A"},3.8727770200533233E-10,{"$error":"#N/A"},-999,{"$error":"#N/A"},{"$error":"#N/A"},11,107.36096792653741,{"$f":"IF(AND($AR$70,100>=AR73,$AT$69<=AR73),AR73,NA())","v":{"$error":"#N/A"}},{"$f":"AT72","v":-26},{"$f":"AT73","v":-26},null,{"$f":"BB87","v":{"$error":"#N/A"}},{"$f":"$BC$86","v":-50},null,null,null,null,null,null,72,0.17062147334218025,"","",-999,25.3,-999,36,{"$f":"IF(BL73=\"\",NA(),COUNTIF(BL73:$BL$303,BL73))","v":4},35.370000000000005,3.7642499999999997,{"$error":"#N/A"},36,{"$f":"IF(BQ73=\"\",NA(),COUNTIF(BQ73:$BQ$303,BQ73))","v":4},35.370000000000005,-46.235750000000003,{"$error":"#N/A"},"",{"$f":"IF(BV73=\"\",NA(),COUNTIF(BV73:$BV$303,BV73))","v":{"$error":"#N/A"}},{"$error":"#VALUE!"},{"$error":"#N/A"},{"$error":"#N/A"},"",{"$f":"IF(CA73=\"\",NA(),COUNTIF(CA73:$CA$303,CA73))","v":{"$error":"#N/A"}},{"$error":"#VALUE!"},{"$error":"#N/A"},{"$error":"#N/A"},17,{"$f":"IF(CF73=\"\",NA(),COUNTIF($CF73:CF$303,CF73))","v":3},"",{"$f":"IF(CH73=\"\",NA(),COUNTIF($CH73:CH$303,CH73))","v":{"$error":"#N/A"}},{"$error":"#N/A"},{"$error":"#N/A"},{"$error":"#N/A"}]
[0.45849100126338321,1.3809724525769285,1.1230690047530461,null,null,"",null,null,null,null,4.5,27.960150754895402,4.3019379964889837E-7,1.0760801057404742E-3,-49.999999569806199,null,-999,{"$error":"#N/A"},{"$error":"#N/A"},null,null,-49.999999569806199,null,-5.7971257245868522,4.1460135956040361E-10,null,null,42.969787499999967,2.6872874999999681,0.16047809128124618,0.99948172427990234,{"$error":"#N/A"},{"$error":"#N/A"},null,-999,{"$error":"#N/A"},{"$error":"#N/A"},4.1460135956040361E-10,{"$error":"#N/A"},-999,{"$error":"#N/A"},{"$error":"#N/A"},10,101.23724356957946,{"$error":"#N/A"},{"$f":"AT73","v":-26},-26,10,{"$f":"AS74","v":{"$error":"#N/A"}},{"$f":"$AT$72","v":-26},null,null,null,null,null,null,73,0.95150095596909523,"","",-999,25.3,-999,48,{"$f":"IF(BL74=\"\",NA(),COUNTIF(BL74:$BL$303,BL74))","v":2},47.160000000000004,1.6132499999999999,{"$error":"#N/A"},48,{"$f":"IF(BQ74=\"\",NA(),COUNTIF(BQ74:$BQ$303,BQ74))","v":2},47.160000000000004,-48.386750000000006,{"$error":"#N/A"},"",{"$f":"IF(BV74=\"\",NA(),COUNTIF(BV74:$BV$303,BV74))","v":{"$error":"#N/A"}},{"$error":"#VALUE!"},{"$error":"#N/A"},{"$error":"#N/A"},"",{"$f":"IF(CA74=\"\",NA(),COUNTIF(CA74:$CA$303,CA74))","v":{"$error":"#N/A"}},{"$error":"#VALUE!"},{"$error":"#N/A"},{"$error":"#N/A"},32,{"$f":"IF(CF74=\"\",NA(),COUNTIF($CF74:CF$303,CF74))","v":2},"",{"$f":"IF(CH74=\"\",NA(),COUNTIF($CH74:CH$303,CH74))","v":{"$error":"#N/A"}},{"$error":"#N/A"},{"$error":"#N/A"},{"$error":"#N/A"}]
[0.36188168931216569,0.77208132411296659,0.88642548607119842,null,null,"",null,null,null,null,5,28.038386808110896,6.8830758139635161E-7,1.1459580215132377E-3,-49.99999931169242,null,-999,{"$error":"#N/A"},{"$error":"#N/A"},null,null,-49.99999931169242,null,-5.7154760664940794,4.4425298304696738E-10,null,null,43.268374999999963,2.9858749999999645,0.1981211003472175,0.99913394961969859,{"$error":"#N/A"},{"$error":"#N/A"},null,-999,{"$error":"#N/A"},{"$error":"#N/A"},4.4425298304696738E-10,{"$error":"#N/A"},-999,{"$error":"#N/A"},{"$error":"#N/A"},9,95.113519212621512,{"$error":"#N/A"},-26,-26,null,{"$f":"BB88","v":{"$error":"#N/A"}},{"$f":"$BC$86","v":-50},null,null,null,null,null,null,74,0.92920337989926338,"","",-999,25.3,-999,46,{"$f":"IF(BL75=\"\",NA(),COUNTIF(BL75:$BL$303,BL75))","v":2},45.195,1.6132499999999999,{"$error":"#N/A"},46,{"$f":"IF(BQ75=\"\",NA(),COUNTIF(BQ75:$BQ$303,BQ75))","v":2},45.195,-48.386750000000006,{"$error":"#N/A"},"",{"$f":"IF(BV75=\"\",NA(),COUNTIF(BV75:$BV$303,BV75))","v":{"$error":"#N/A"}},{"$error":"#VALUE!"},{"$error":"#N/A"},{"$error":"#N/A"},"",{"$f":"IF(CA75=\"\",NA(),COUNTIF(CA75:$CA$303,CA75))","v":{"$error":"#N/A"}},{"$error":"#VALUE!"},{"$error":"#N/A"},{"$error":"#N/A"},18,{"$f":"IF(CF75=\"\",NA(),COUNTIF($CF75:CF$303,CF75))","v":2},"",{"$f":"IF(CH75=\"\",NA(),COUNTIF($CH75:CH$303,CH75))","v":{"$error":"#N/A"}},{"$error":"#N/A"},{"$error":"#N/A"},{"$error":"#N/A"}]
[0.1433742017433767,1.1131329327468722,0.35119363655012736,null,null,"",null,null,null,null,5.5,28.121750694567407,1.0939706312679863E-6,1.2212287857699081E-3,-49.999998906029369,null,-999,{"$error":"#N/A"},{"$error":"#N/A"},null,null,-49.999998906029369,null,-5.6338264084013066,4.7646583119165629E-10,null,null,43.56696249999996,3.284462499999961,0.2397265314201332,0.99862564603989723,{"$error":"#N/A"},{"$error":"#N/A"},null,-999,{"$error":"#N/A"},{"$error":"#N/A"},4.7646583119165629E-10,{"$error":"#N/A"},-999,{"$error":"#N/A"},{"$error":"#N/A"},8,88.989794855663575,{"$error":"#N/A"},-26,-26,9,{"$f":"AS75","v":{"$error":"#N/A"}},{"$f":"$AT$72","v":-26},null,null,null,null,null,null,75,0.87863657251000404,"","",-999,25.3,-999,43,{"$f":"IF(BL76=\"\",NA(),COUNTIF(BL76:$BL$303,BL76))","v":4},42.247500000000002,3.7642499999999997,{"$error":"#N/A"},43,{"$f":"IF(BQ76=\"\",NA(),COUNTIF(BQ76:$BQ$303,BQ76))","v":4},42.247500000000002,-46.235750000000003,{"$error":"#N/A"},"",{"$f":"IF(BV76=\"\",NA(),COUNTIF(BV76:$BV$303,BV76))","v":{"$error":"#N/A"}},{"$error":"#VALUE!"},{"$error":"#N/A"},{"$error":"#N/A"},"",{"$f":"IF(CA76=\"\",NA(),COUNTIF(CA76:$CA$303,CA76))","v":{"$error":"#N/A"}},{"$error":"#VALUE!"},{"$error":"#N/A"},{"$error":"#N/A"},25,{"$f":"IF(CF76=\"\",NA(),COUNTIF($CF76:CF$303,CF76))","v":1},"",{"$f":"IF(CH76=\"\",NA(),COUNTIF($CH76:CH$303,CH76))","v":{"$error":"#N/A"}},{"$error":"#N/A"},{"$error":"#N/A"},{"$error":"#N/A"}]
[-0.16751878532578637,0.5967427305230073,-0.41033554637901054,null,null,"",null,null,null,null,6,28.210461505224263,1.7271635993181578E-6,1.3023723740756836E-3,-49.9999982728364,null,-999,{"$error":"#N/A"},{"$error":"#N/A"},null,null,-49.9999982728364,null,-5.5521767503085337,5.1150007855891942E-10,null,null,43.865549999999956,3.5830499999999574,0.28529438449999323,0.99791054464771678,{"$error":"#N/A"},{"$error":"#N/A"},null,-999,{"$error":"#N/A"},{"$error":"#N/A"},5.1150007855891942E-10,{"$error":"#N/A"},-999,{"$error":"#N/A"},{"$error":"#N/A"},7,82.866070498705625,{"$error":"#N/A"},-26,-26,null,{"$f":"BB89","v":95.113519212621512},{"$f":"$BC$86","v":-50},null,null,null,null,null,null,76,0.14737548306584358,"","",-999,25.3,-999,38,{"$f":"IF(BL77=\"\",NA(),COUNTIF(BL77:$BL$303,BL77))","v":2},37.335000000000001,1.6132499999999999,{"$error":"#N/A"},38,{"$f":"IF(BQ77=\"\",NA(),COUNTIF(BQ77:$BQ$303,BQ77))","v":2},37.335000000000001,-48.386750000000006,{"$error":"#N/A"},"",{"$f":"IF(BV77=\"\",NA(),COUNTIF(BV77:$BV$303,BV77))","v":{"$error":"#N/A"}},{"$error":"#VALUE!"},{"$error":"#N/A"},{"$error":"#N/A"},"",{"$f":"IF(CA77=\"\",NA(),COUNTIF(CA77:$CA$303,CA77))","v":{"$error":"#N/A"}},{"$error":"#VALUE!"},{"$error":"#N/A"},{"$error":"#N/A"},14,{"$f":"IF(CF77=\"\",NA(),COUNTIF($CF77:CF$303,CF77))","v":4},"",{"$f":"IF(CH77=\"\",NA(),COUNTIF($CH77:CH$303,CH77))","v":{"$error":"#N/A"}},{"$error":"#N/A"},{"$error":"#N/A"},{"$error":"#N/A"}]
[0.17261246329137117,0.52984084920733532,0.42281245830875208,null,null,"",null,null,null,null,6.5,28.304737271737189,2.7087317191457239E-6,1.3899168984669364E-3,-49.999997291268279,null,-999,{"$error":"#N/A"},{"$error":"#N/A"},null,null,-49.999997291268279,null,-5.4705270922157609,5.4964599296604405E-10,null,null,44.164137499999953,3.8816374999999539,0.33482465958679758,0.99693635982713902,{"$error":"#N/A"},{"$error":"#N/A"},null,-999,{"$error":"#N/A"},{"$error":"#N/A"},5.4964599296604405E-10,{"$error":"#N/A"},-999,{"$error":"#N/A"},{"$error":"#N/A"},6,76.742346141747674,{"$error":"#N/A"},-26,-26,8,{"$f":"AS76","v":{"$error":"#N/A"}},{"$f":"$AT$72","v":-26},null,null,null,null,null,null,77,0.74653971567749977,"","",-999,25.3,-999,43,{"$f":"IF(BL78=\"\",NA(),COUNTIF(BL78:$BL$303,BL78))","v":3},42.247500000000002,2.6887499999999998,{"$error":"#N/A"},43,{"$f":"IF(BQ78=\"\",NA(),COUNTIF(BQ78:$BQ$303,BQ78))","v":3},42.247500000000002,-47.311250000000001,{"$error":"#N/A"},"",{"$f":"IF(BV78=\"\",NA(),COUNTIF(BV78:$BV$303,BV78))","v":{"$error":"#N/A"}},{"$error":"#VALUE!"},{"$error":"#N/A"},{"$error":"#N/A"},"",{"$f":"IF(CA78=\"\",NA(),COUNTIF(CA78:$CA$303,CA78))","v":{"$error":"#N/A"}},{"$error":"#VALUE!"},{"$error":"#N/A"},{"$error":"#N/A"},12,{"$f":"IF(CF78=\"\",NA(),COUNTIF($CF78:CF$303,CF78))","v":2},"",{"$f":"IF(CH78=\"\",NA(),COUNTIF($CH78:CH$303,CH78))","v":{"$error":"#N/A"}},{"$error":"#N/A"},{"$error":"#N/A"},{"$error":"#N/A"}]
[0.29631410221511606,0.97528044060617936,0.72581835401793227,null,null,"",null,null,null,null,7,28.404793876710766,4.2199102428858149E-6,1.4844439435040585E-3,-49.999995780089755,null,-999,{"$error":"#N/A"},{"$error":"#N/A"},null,null,-49.999995780089755,null,-5.3888774341229881,5.9122923995842183E-10,null,null,44.462724999999949,4.1802249999999503,0.38831735668054629,0.99564527482062259,{"$error":"#N/A"},{"$error":"#N/A"},null,-999,{"$error":"#N/A"},{"$error":"#N/A"},5.9122923995842183E-10,{"$error":"#N/A"},-999,{"$error":"#N/A"},{"$error":"#N/A"},5,70.618621784789724,{"$error":"#N/A"},-26,-26,null,{"$f":"BB90","v":88.989794855663575},{"$f":"$BC$86","v":-50},null,null,null,null,null,null,78,0.86179130151867867,"","",-999,25.3,-999,45,{"$f":"IF(BL79=\"\",NA(),COUNTIF(BL79:$BL$303,BL79))","v":1},44.212499999999999,0.53774999999999995,{"$error":"#N/A"},45,{"$f":"IF(BQ79=\"\",NA(),COUNTIF(BQ79:$BQ$303,BQ79))","v":1},44.212499999999999,-49.462250000000004,{"$error":"#N/A"},"",{"$f":"IF(BV79=\"\",NA(),COUNTIF(BV79:$BV$303,BV79))","v":{"$error":"#N/A"}},{"$error":"#VALUE!"},{"$error":"#N/A"},{"$error":"#N/A"},"",{"$f":"IF(CA79=\"\",NA(),COUNTIF(CA79:$CA$303,CA79))","v":{"$error":"#N/A"}},{"$error":"#VALUE!"},{"$error":"#N/A"},{"$error":"#N/A"},22,{"$f":"IF(CF79=\"\",NA(),COUNTIF($CF79:CF$303,CF79))","v":4},"",{"$f":"IF(CH79=\"\",NA(),COUNTIF($CH79:CH$303,CH79))","v":{"$error":"#N/A"}},{"$error":"#N/A"},{"$error":"#N/A"},{"$error":"#N/A"}]
[0.54674311978958257,1.4015404712035611,1.3392416638618565,null,null,"",null,null,null,null,7.5,28.510843890854151,6.5304805064514158E-6,1.586594544889973E-3,-49.999993469519495,null,-999,{"$error":"#N/A"},{"$error":"#N/A"},null,null,-49.999993469519495,null,-5.3072277760302153,6.366136836043054E-10,null,null,44.761312499999946,4.4788124999999468,0.44577247578123941,0.99397460979580443,{"$error":"#N/A"},{"$error":"#N/A"},null,-999,{"$error":"#N/A"},{"$error":"#N/A"},6.366136836043054E-10,{"$error":"#N/A"},-999,{"$error":"#N/A"},{"$error":"#N/A"},4,64.494897427831788,{"$error":"#N/A"},-26,-26,7,{"$f":"AS77","v":{"$error":"#N/A"}},{"$f":"$AT$72","v":-26},null,null,null,null,null,null,79,0.21847370639443398,"","",-999,25.3,-999,49,{"$f":"IF(BL80=\"\",NA(),COUNTIF(BL80:$BL$303,BL80))","v":2},48.142500000000005,1.6132499999999999,{"$error":"#N/A"},49,{"$f":"IF(BQ80=\"\",NA(),COUNTIF(BQ80:$BQ$303,BQ80))","v":2},48.142500000000005,-48.386750000000006,{"$error":"#N/A"},"",{"$f":"IF(BV80=\"\",NA(),COUNTIF(BV80:$BV$303,BV80))","v":{"$error":"#N/A"}},{"$error":"#VALUE!"},{"$error":"#N/A"},{"$error":"#N/A"},"",{"$f":"IF(CA80=\"\",NA(),COUNTIF(CA80:$CA$303,CA80))","v":{"$error":"#N/A"}},{"$error":"#VALUE!"},{"$error":"#N/A"},{"$error":"#N/A"},32,{"$f":"IF(CF80=\"\",NA(),COUNTIF($CF80:CF$303,CF80))","v":1},"",{"$f":"IF(CH80=\"\",NA(),COUNTIF($CH80:CH$303,CH80))","v":{"$error":"#N/A"}},{"$error":"#N/A"},{"$error":"#N/A"},{"$error":"#N/A"}]
[-0.29266376510240655,0.51379204887496066,-0.71687689070265037,null,null,"",null,null,null,null,8,28.623095339390797,1.0039030290927827E-5,1.6970758932684116E-3,-49.999989960969707,null,-999,{"$error":"#N/A"},{"$error":"#N/A"},null,null,-49.999989960969707,null,-5.2255781179374425,6.8620834657473694E-10,null,null,45.059899999999942,4.7773999999999432,0.50719001688887677,0.99185765737361131,{"$error":"#N/A"},{"$error":"#N/A"},null,-999,{"$error":"#N/A"},{"$error":"#N/A"},6.8620834657473694E-10,{"$error":"#N/A"},-999,{"$error":"#N/A"},{"$error":"#N/A"},3,58.371173070873837,{"$error":"#N/A"},-26,-26,null,{"$f":"BB91","v":82.866070498705625},{"$f":"$BC$86","v":-50},null,null,null,null,null,null,80,0.90410252287983894,"","",-999,25.3,-999,36,{"$f":"IF(BL81=\"\",NA(),COUNTIF(BL81:$BL$303,BL81))","v":3},35.370000000000005,2.6887499999999998,{"$error":"#N/A"},36,{"$f":"IF(BQ81=\"\",NA(),COUNTIF(BQ81:$BQ$303,BQ81))","v":3},35.370000000000005,-47.311250000000001,{"$error":"#N/A"},"",{"$f":"IF(BV81=\"\",NA(),COUNTIF(BV81:$BV$303,BV81))","v":{"$error":"#N/A"}},{"$error":"#VALUE!"},{"$error":"#N/A"},{"$error":"#N/A"},"",{"$f":"IF(CA81=\"\",NA(),COUNTIF(CA81:$CA$303,CA81))","v":{"$error":"#N/A"}},{"$error":"#VALUE!"},{"$error":"#N/A"},{"$error":"#N/A"},12,{"$f":"IF(CF81=\"\",NA(),COUNTIF($CF81:CF$303,CF81))","v":1},"",{"$f":"IF(CH81=\"\",NA(),COUNTIF($CH81:CH$303,CH81))","v":{"$error":"#N/A"}},{"$error":"#N/A"},{"$error":"#N/A"},{"$error":"#N/A"}]
[0.73037857222301883,0.62198606075424956,1.789054821008907,null,null,"",null,null,null,null,8.5,28.741750400824916,1.5330033196839172E-5,1.8166688569361054E-3,-49.9999846699668,null,-999,{"$error":"#N/A"},{"$error":"#N/A"},null,null,-49.9999846699668,null,-5.1439284598446697,7.40472889440805E-10,null,null,45.358487499999939,5.0759874999999397,0.5725699800034586,0.9892246661223949,{"$error":"#N/A"},{"$error":"#N/A"},null,-999,{"$error":"#N/A"},{"$error":"#N/A"},7.40472889440805E-10,{"$error":"#N/A"},-999,{"$error":"#N/A"},{"$error":"#N/A"},2,52.247448713915894,{"$error":"#N/A"},-26,-26,6,{"$f":"AS78","v":{"$error":"#N/A"}},{"$f":"$AT$72","v":-26},null,null,null,null,null,null,81,0.98213118687272072,"","",-999,25.3,-999,52,{"$f":"IF(BL82=\"\",NA(),COUNTIF(BL82:$BL$303,BL82))","v":2},51.09,1.6132499999999999,{"$error":"#N/A"},52,{"$f":"IF(BQ82=\"\",NA(),COUNTIF(BQ82:$BQ$303,BQ82))","v":2},51.09,-48.386750000000006,{"$error":"#N/A"},"",{"$f":"IF(BV82=\"\",NA(),COUNTIF(BV82:$BV$303,BV82))","v":{"$error":"#N/A"}},{"$error":"#VALUE!"},{"$error":"#N/A"},{"$error":"#N/A"},"",{"$f":"IF(CA82=\"\",NA(),COUNTIF(CA82:$CA$303,CA82))","v":{"$error":"#N/A"}},{"$error":"#VALUE!"},{"$error":"#N/A"},{"$error":"#N/A"},14,{"$f":"IF(CF82=\"\",NA(),COUNTIF($CF82:CF$303,CF82))","v":3},"",{"$f":"IF(CH82=\"\",NA(),COUNTIF($CH82:CH$303,CH82))","v":{"$error":"#N/A"}},{"$error":"#N/A"},{"$error":"#N/A"},{"$error":"#N/A"}]
[-7.4758168368156977E-2,0.87439871077482367,-0.18311936660705816,null,null,"",null,null,null,null,9,28.867004041948515,2.3254078244810294E-5,1.9462364298494337E-3,-49.999976745921757,null,-999,{"$error":"#N/A"},{"$error":"#N/A"},null,null,-49.999976745921757,null,-5.0622788017518969,7.999247305798247E-10,null,null,45.657074999999935,5.3745749999999362,0.64191236512498473,0.98600394961486826,{"$error":"#N/A"},{"$error":"#N/A"},null,-999,{"$error":"#N/A"},{"$error":"#N/A"},7.999247305798247E-10,{"$error":"#N/A"},-999,{"$error":"#N/A"},{"$error":"#N/A"},1,46.123724356957943,{"$error":"#N/A"},-26,-26,null,{"$f":"BB92","v":76.742346141747674},{"$f":"$BC$86","v":-50},null,null,null,null,null,null,82,0.63643263652920723,"","",-999,25.3,-999,40,{"$f":"IF(BL83=\"\",NA(),COUNTIF(BL83:$BL$303,BL83))","v":6},39.300000000000004,5.9152499999999995,{"$error":"#N/A"},40,{"$f":"IF(BQ83=\"\",NA(),COUNTIF(BQ83:$BQ$303,BQ83))","v":6},39.300000000000004,-44.08475,{"$error":"#N/A"},"",{"$f":"IF(BV83=\"\",NA(),COUNTIF(BV83:$BV$303,BV83))","v":{"$error":"#N/A"}},{"$error":"#VALUE!"},{"$error":"#N/A"},{"$error":"#N/A"},"",{"$f":"IF(CA83=\"\",NA(),COUNTIF(CA83:$CA$303,CA83))","v":{"$error":"#N/A"}},{"$error":"#VALUE!"},{"$error":"#N/A"},{"$error":"#N/A"},20,{"$f":"IF(CF83=\"\",NA(),COUNTIF($CF83:CF$303,CF83))","v":7},"",{"$f":"IF(CH83=\"\",NA(),COUNTIF($CH83:CH$303,CH83))","v":{"$error":"#N/A"}},{"$error":"#N/A"},{"$error":"#N/A"},{"$error":"#N/A"}]
[-0.38940017537546984,0.89496535619645956,-0.95383173542018396,null,null,"",null,null,null,null,9.5,28.999042593777016,3.5039658675686044E-5,2.0867332256829653E-3,-49.999964960341323,null,-999,{"$error":"#N/A"},{"$error":"#N/A"},null,null,-49.999964960341323,null,-4.9806291436591241,8.6514732716284996E-10,null,null,45.955662499999931,5.6731624999999326,0.71521717225345516,0.98212309347839843,{"$error":"#N/A"},{"$error":"#N/A"},null,-999,{"$error":"#N/A"},{"$error":"#N/A"},8.6514732716284996E-10,{"$error":"#N/A"},-999,{"$error":"#N/A"},{"$error":"#N/A"},0,40,{"$error":"#N/A"},-26,-26,5,{"$f":"AS79","v":{"$error":"#N/A"}},{"$f":"$AT$72","v":-26},null,null,null,null,null,1,83,0.63891634717583656,"","",-999,25.3,-999,35,{"$f":"IF(BL84=\"\",NA(),COUNTIF(BL84:$BL$303,BL84))","v":5},34.387500000000003,4.8397499999999996,{"$error":"#N/A"},35,{"$f":"IF(BQ84=\"\",NA(),COUNTIF(BQ84:$BQ$303,BQ84))","v":5},34.387500000000003,-45.160250000000005,{"$error":"#N/A"},"",{"$f":"IF(BV84=\"\",NA(),COUNTIF(BV84:$BV$303,BV84))","v":{"$error":"#N/A"}},{"$error":"#VALUE!"},{"$error":"#N/A"},{"$error":"#N/A"},"",{"$f":"IF(CA84=\"\",NA(),COUNTIF(CA84:$CA$303,CA84))","v":{"$error":"#N/A"}},{"$error":"#VALUE!"},{"$error":"#N/A"},{"$error":"#N/A"},20,{"$f":"IF(CF84=\"\",NA(),COUNTIF($CF84:CF$303,CF84))","v":6},"",{"$f":"IF(CH84=\"\",NA(),COUNTIF($CH84:CH$303,CH84))","v":{"$error":"#N/A"}},{"$error":"#N/A"},{"$error":"#N/A"},{"$error":"#N/A"}]
[0.36762129042010833,0.76483272889365106,0.90048458011277133,null,null,"",null,null,null,null,10,29.138042273922245,5.2447562365327321E-5,2.2392161550331751E-3,-49.999947552437632,null,-999,{"$error":"#N/A"},{"$error":"#N/A"},null,null,-49.999947552437632,null,-4.8989794855663513,9.3680005202861488E-10,null,null,46.254249999999928,5.9717499999999291,0.79248440138887,0.97751023352096045,{"$error":"#N/A"},{"$error":"#N/A"},null,-999,{"$error":"#N/A"},{"$error":"#N/A"},9.3680005202861488E-10,{"$error":"#N/A"},-999,{"$error":"#N/A"},{"$error":"#N/A"},-1,33.876275643042057,{"$error":"#N/A"},-26,-26,null,{"$f":"BB93","v":70.618621784789724},{"$f":"$BC$86","v":-50},null,"t","For t axis","x","y","y nos",84,0.77767087891697884,"","",-999,25.3,-999,46,{"$f":"IF(BL85=\"\",NA(),COUNTIF(BL85:$BL$303,BL85))","v":1},45.195,0.53774999999999995,{"$error":"#N/A"},46,{"$f":"IF(BQ85=\"\",NA(),COUNTIF(BQ85:$BQ$303,BQ85))","v":1},45.195,-49.462250000000004,{"$error":"#N/A"},"",{"$f":"IF(BV85=\"\",NA(),COUNTIF(BV85:$BV$303,BV85))","v":{"$error":"#N/A"}},{"$error":"#VALUE!"},{"$error":"#N/A"},{"$error":"#N/A"},"",{"$f":"IF(CA85=\"\",NA(),COUNTIF(CA85:$CA$303,CA85))","v":{"$error":"#N/A"}},{"$error":"#VALUE!"},{"$error":"#N/A"},{"$error":"#N/A"},18,{"$f":"IF(CF85=\"\",NA(),COUNTIF($CF85:CF$303,CF85))","v":1},"",{"$f":"IF(CH85=\"\",NA(),COUNTIF($CH85:CH$303,CH85))","v":{"$error":"#N/A"}},{"$error":"#N/A"},{"$error":"#N/A"},{"$error":"#N/A"}]
[-0.26784129709629473,0.47545402808687626,-0.65607450993111582,null,null,"",null,null,null,null,10.5,29.284167661741659,7.7982194503145374E-5,2.4048564414095E-3,-49.999922017805495,null,-999,{"$error":"#N/A"},{"$error":"#N/A"},null,null,-49.999922017805495,null,-4.8173298274735785,1.0156292869656797E-9,null,null,46.552837499999924,6.2703374999999255,0.87371405253122925,0.9720953738037903,{"$error":"#N/A"},{"$error":"#N/A"},null,-999,{"$error":"#N/A"},{"$error":"#N/A"},1.0156292869656797E-9,{"$error":"#N/A"},-999,{"$error":"#N/A"},{"$error":"#N/A"},-2,27.752551286084106,{"$error":"#N/A"},-26,-26,4,{"$f":"AS80","v":{"$error":"#N/A"}},{"$f":"$AT$72","v":-26},null,12,{"$f":"IF($BD$10,$O$9+AZ86*$BB$9,NA())","v":113.48469228349535},{"$f":"IF(AND(100>=BA86,0<=BA86),BA86,NA())","v":{"$error":"#N/A"}},{"$f":"AX15","v":-50},{"$f":"BC86-$BD$84","v":-51},85,0.89889121428132057,"","",-999,25.3,-999,37,{"$f":"IF(BL86=\"\",NA(),COUNTIF(BL86:$BL$303,BL86))","v":5},36.352499999999999,4.8397499999999996,{"$error":"#N/A"},37,{"$f":"IF(BQ86=\"\",NA(),COUNTIF(BQ86:$BQ$303,BQ86))","v":5},36.352499999999999,-45.160250000000005,{"$error":"#N/A"},"",{"$f":"IF(BV86=\"\",NA(),COUNTIF(BV86:$BV$303,BV86))","v":{"$error":"#N/A"}},{"$error":"#VALUE!"},{"$error":"#N/A"},{"$error":"#N/A"},"",{"$f":"IF(CA86=\"\",NA(),COUNTIF(CA86:$CA$303,CA86))","v":{"$error":"#N/A"}},{"$error":"#VALUE!"},{"$error":"#N/A"},{"$error":"#N/A"},11,{"$f":"IF(CF86=\"\",NA(),COUNTIF($CF86:CF$303,CF86))","v":2},"",{"$f":"IF(CH86=\"\",NA(),COUNTIF($CH86:CH$303,CH86))","v":{"$error":"#N/A"}},{"$error":"#N/A"},{"$error":"#N/A"},{"$error":"#N/A"}]
[-5.5689524534653777E-2,1.056157710240329,-0.13641091912810674,null,null,"",null,null,null,null,11,29.43757013343415,1.1517820354596636E-4,2.5849531526971605E-3,-49.999884821796456,null,-999,{"$error":"#N/A"},{"$error":"#N/A"},null,null,-49.999884821796456,null,-4.7356801693808057,1.1024811994657953E-9,null,null,46.851424999999921,6.568924999999922,0.95890612568053279,0.96581171419554179,{"$error":"#N/A"},{"$error":"#N/A"},null,-999,{"$error":"#N/A"},{"$error":"#N/A"},1.1024811994657953E-9,{"$error":"#N/A"},-999,{"$error":"#N/A"},{"$error":"#N/A"},-3,21.628826929126163,{"$error":"#N/A"},-26,-26,null,{"$f":"BB94","v":64.494897427831788},{"$f":"$BC$86","v":-50},null,11,{"$f":"IF($BD$10,$O$9+AZ87*$BB$9,NA())","v":107.36096792653741},{"$error":"#N/A"},{"$f":"BC86","v":-50},{"$f":"BC87-$BD$84","v":-51},86,0.82839899137616158,"","",-999,25.3,-999,40,{"$f":"IF(BL87=\"\",NA(),COUNTIF(BL87:$BL$303,BL87))","v":5},39.300000000000004,4.8397499999999996,{"$error":"#N/A"},40,{"$f":"IF(BQ87=\"\",NA(),COUNTIF(BQ87:$BQ$303,BQ87))","v":5},39.300000000000004,-45.160250000000005,{"$error":"#N/A"},"",{"$f":"IF(BV87=\"\",NA(),COUNTIF(BV87:$BV$303,BV87))","v":{"$error":"#N/A"}},{"$error":"#VALUE!"},{"$error":"#N/A"},{"$error":"#N/A"},"",{"$f":"IF(CA87=\"\",NA(),COUNTIF(CA87:$CA$303,CA87))","v":{"$error":"#N/A"}},{"$error":"#VALUE!"},{"$error":"#N/A"},{"$error":"#N/A"},24,{"$f":"IF(CF87=\"\",NA(),COUNTIF($CF87:CF$303,CF87))","v":1},"",{"$f":"IF(CH87=\"\",NA(),COUNTIF($CH87:CH$303,CH87))","v":{"$error":"#N/A"}},{"$error":"#N/A"},{"$error":"#N/A"},{"$error":"#N/A"}]
[-0.38036645711359124,0.84091735462488859,-0.93170373519851901,null,null,"",null,null,null,null,11.5,29.598386265077192,1.6898565984984902E-4,2.7809484486200826E-3,-49.999831014340153,null,-999,{"$error":"#N/A"},{"$error":"#N/A"},null,null,-49.999831014340153,null,-4.6540305112880329,1.1983169808984884E-9,null,null,47.150012499999917,6.8675124999999184,1.0480606208367806,0.95859695544170331,{"$error":"#N/A"},{"$error":"#N/A"},null,-999,{"$error":"#N/A"},{"$error":"#N/A"},1.1983169808984884E-9,{"$error":"#N/A"},-999,{"$error":"#N/A"},{"$error":"#N/A"},-4,15.505102572168216,{"$error":"#N/A"},-26,-26,3,{"$f":"AS81","v":{"$error":"#N/A"}},{"$f":"$AT$72","v":-26},null,10,101.23724356957946,{"$error":"#N/A"},{"$f":"BC87","v":-50},-51,87,0.68294850364327431,"","",-999,25.3,-999,35,{"$f":"IF(BL88=\"\",NA(),COUNTIF(BL88:$BL$303,BL88))","v":4},34.387500000000003,3.7642499999999997,{"$error":"#N/A"},35,{"$f":"IF(BQ88=\"\",NA(),COUNTIF(BQ88:$BQ$303,BQ88))","v":4},34.387500000000003,-46.235750000000003,{"$error":"#N/A"},"",{"$f":"IF(BV88=\"\",NA(),COUNTIF(BV88:$BV$303,BV88))","v":{"$error":"#N/A"}},{"$error":"#VALUE!"},{"$error":"#N/A"},{"$error":"#N/A"},"",{"$f":"IF(CA88=\"\",NA(),COUNTIF(CA88:$CA$303,CA88))","v":{"$error":"#N/A"}},{"$error":"#VALUE!"},{"$error":"#N/A"},{"$error":"#N/A"},19,{"$f":"IF(CF88=\"\",NA(),COUNTIF($CF88:CF$303,CF88))","v":3},"",{"$f":"IF(CH88=\"\",NA(),COUNTIF($CH88:CH$303,CH88))","v":{"$error":"#N/A"}},{"$error":"#N/A"},{"$error":"#N/A"},{"$error":"#N/A"}]
[0.65507261617222545,0.66391563470844428,1.6045936540920074,null,null,"",null,null,null,null,12,29.76673621240824,2.4628281376188216E-4,2.9944447717113959E-3,-49.999753717186238,null,-999,{"$error":"#N/A"},{"$error":"#N/A"},null,null,-49.999753717186238,null,-4.5723808531952601,1.3042307592148247E-9,null,null,47.448599999999914,7.1660999999999149,1.1411775379999729,0.95039455728788835,{"$error":"#N/A"},{"$error":"#N/A"},null,-999,{"$error":"#N/A"},{"$error":"#N/A"},1.3042307592148247E-9,{"$error":"#N/A"},-999,{"$error":"#N/A"},{"$error":"#N/A"},-5,9.3813782152102689,{"$error":"#N/A"},-26,-26,null,{"$f":"BB95","v":58.371173070873837},{"$f":"$BC$86","v":-50},null,9,95.113519212621512,95.113519212621512,-50,-51,88,0.91476329043507576,"","",-999,25.3,-999,51,{"$f":"IF(BL89=\"\",NA(),COUNTIF(BL89:$BL$303,BL89))","v":2},50.107500000000002,1.6132499999999999,{"$error":"#N/A"},51,{"$f":"IF(BQ89=\"\",NA(),COUNTIF(BQ89:$BQ$303,BQ89))","v":2},50.107500000000002,-48.386750000000006,{"$error":"#N/A"},"",{"$f":"IF(BV89=\"\",NA(),COUNTIF(BV89:$BV$303,BV89))","v":{"$error":"#N/A"}},{"$error":"#VALUE!"},{"$error":"#N/A"},{"$error":"#N/A"},"",{"$f":"IF(CA89=\"\",NA(),COUNTIF(CA89:$CA$303,CA89))","v":{"$error":"#N/A"}},{"$error":"#VALUE!"},{"$error":"#N/A"},{"$error":"#N/A"},15,{"$f":"IF(CF89=\"\",NA(),COUNTIF($CF89:CF$303,CF89))","v":2},"",{"$f":"IF(CH89=\"\",NA(),COUNTIF($CH89:CH$303,CH89))","v":{"$error":"#N/A"}},{"$error":"#N/A"},{"$error":"#N/A"},{"$error":"#N/A"}]
[5.1934368479225723E-2,1.3101769656536169,0.12721270288778522,null,null,"",null,null,null,null,12.5,29.942722076936125,3.5655215447975754E-4,3.2272242397726478E-3,-49.999643447845521,null,-999,{"$error":"#N/A"},{"$error":"#N/A"},null,null,-49.999643447845521,null,-4.4907311951024873,1.4214703619925424E-9,null,null,47.74718749999991,7.4646874999999113,1.2382568771701095,0.94115490955757297,{"$error":"#N/A"},{"$error":"#N/A"},null,-999,{"$error":"#N/A"},{"$error":"#N/A"},1.4214703619925424E-9,{"$error":"#N/A"},-999,{"$error":"#N/A"},{"$error":"#N/A"},-6,3.2576538582523256,{"$error":"#N/A"},-26,-26,2,{"$f":"AS82","v":{"$error":"#N/A"}},{"$f":"$AT$72","v":-26},null,8,88.989794855663575,88.989794855663575,-50,-51,89,0.79627353325486183,"","",-999,25.3,-999,42,{"$f":"IF(BL90=\"\",NA(),COUNTIF(BL90:$BL$303,BL90))","v":2},41.265000000000001,1.6132499999999999,{"$error":"#N/A"},42,{"$f":"IF(BQ90=\"\",NA(),COUNTIF(BQ90:$BQ$303,BQ90))","v":2},41.265000000000001,-48.386750000000006,{"$error":"#N/A"},"",{"$f":"IF(BV90=\"\",NA(),COUNTIF(BV90:$BV$303,BV90))","v":{"$error":"#N/A"}},{"$error":"#VALUE!"},{"$error":"#N/A"},{"$error":"#N/A"},"",{"$f":"IF(CA90=\"\",NA(),COUNTIF(CA90:$CA$303,CA90))","v":{"$error":"#N/A"}},{"$error":"#VALUE!"},{"$error":"#N/A"},{"$error":"#N/A"},30,{"$f":"IF(CF90=\"\",NA(),COUNTIF($CF90:CF$303,CF90))","v":1},"",{"$f":"IF(CH90=\"\",NA(),COUNTIF($CH90:CH$303,CH90))","v":{"$error":"#N/A"}},{"$error":"#N/A"},{"$error":"#N/A"},{"$error":"#N/A"}]
[7.547326406471444E-2,1.5135291729854072,0.18487098618088404,null,null,"",null,null,null,null,13,30.126426268715409,5.1276305550464077E-4,3.481270532148615E-3,-49.999487236944496,null,-999,{"$error":"#N/A"},{"$error":"#N/A"},null,null,-49.999487236944496,null,-4.4090815370097145,1.5514623726011544E-9,null,null,48.045774999999907,7.7632749999999078,1.3392986383471903,0.93083640383280186,{"$error":"#N/A"},{"$error":"#N/A"},null,-999,{"$error":"#N/A"},{"$error":"#N/A"},1.5514623726011544E-9,{"$error":"#N/A"},-999,{"$error":"#N/A"},{"$error":"#N/A"},-7,-2.8660704987056249,{"$error":"#N/A"},-26,-26,null,{"$f":"BB96","v":52.247448713915894},{"$f":"$BC$86","v":-50},null,7,82.866070498705625,82.866070498705625,-50,-51,90,0.6841045506298542,"","",-999,25.3,-999,42,{"$f":"IF(BL91=\"\",NA(),COUNTIF(BL91:$BL$303,BL91))","v":1},41.265000000000001,0.53774999999999995,{"$error":"#N/A"},42,{"$f":"IF(BQ91=\"\",NA(),COUNTIF(BQ91:$BQ$303,BQ91))","v":1},41.265000000000001,-49.462250000000004,{"$error":"#N/A"},"",{"$f":"IF(BV91=\"\",NA(),COUNTIF(BV91:$BV$303,BV91))","v":{"$error":"#N/A"}},{"$error":"#VALUE!"},{"$error":"#N/A"},{"$error":"#N/A"},"",{"$f":"IF(CA91=\"\",NA(),COUNTIF(CA91:$CA$303,CA91))","v":{"$error":"#N/A"}},{"$error":"#VALUE!"},{"$error":"#N/A"},{"$error":"#N/A"},35,{"$f":"IF(CF91=\"\",NA(),COUNTIF($CF91:CF$303,CF91))","v":3},"",{"$f":"IF(CH91=\"\",NA(),COUNTIF($CH91:CH$303,CH91))","v":{"$error":"#N/A"}},{"$error":"#N/A"},{"$error":"#N/A"},{"$error":"#N/A"}]
[-0.47379818726878753,1.440037640657954,-1.1605637998641589,null,null,"",null,null,null,null,13.5,30.317909876818604,7.3251258748984426E-4,3.7587936007540215E-3,-49.99926748741251,null,-999,{"$error":"#N/A"},{"$error":"#N/A"},null,null,-49.99926748741251,null,-4.3274318789169417,1.6958392495326729E-9,null,null,48.344362499999903,8.0618624999999042,1.4443028215312157,0.91940637333519959,{"$error":"#N/A"},{"$error":"#N/A"},null,-999,{"$error":"#N/A"},{"$error":"#N/A"},1.6958392495326729E-9,{"$error":"#N/A"},-999,{"$error":"#N/A"},{"$error":"#N/A"},-8,-8.9897948556635683,{"$error":"#N/A"},-26,-26,1,{"$f":"AS83","v":{"$error":"#N/A"}},{"$f":"$AT$72","v":-26},null,6,76.742346141747674,76.742346141747674,-50,-51,91,0.39965770021080971,"","",-999,25.3,-999,33,{"$f":"IF(BL92=\"\",NA(),COUNTIF(BL92:$BL$303,BL92))","v":5},32.422499999999999,4.8397499999999996,{"$error":"#N/A"},33,{"$f":"IF(BQ92=\"\",NA(),COUNTIF(BQ92:$BQ$303,BQ92))","v":5},32.422499999999999,-45.160250000000005,{"$error":"#N/A"},"",{"$f":"IF(BV92=\"\",NA(),COUNTIF(BV92:$BV$303,BV92))","v":{"$error":"#N/A"}},{"$error":"#VALUE!"},{"$error":"#N/A"},{"$error":"#N/A"},"",{"$f":"IF(CA92=\"\",NA(),COUNTIF(CA92:$CA$303,CA92))","v":{"$error":"#N/A"}},{"$error":"#VALUE!"},{"$error":"#N/A"},{"$error":"#N/A"},33,{"$f":"IF(CF92=\"\",NA(),COUNTIF($CF92:CF$303,CF92))","v":2},"",{"$f":"IF(CH92=\"\",NA(),COUNTIF($CH92:CH$303,CH92))","v":{"$error":"#N/A"}},{"$error":"#N/A"},{"$error":"#N/A"},{"$error":"#N/A"}]
[-0.2584946426342179,0.62758404088691122,-0.63317997569692019,null,null,"",null,null,null,null,14,30.517211059187439,1.0394848418429166E-3,4.0622575800524294E-3,-49.99896051515816,null,-999,{"$error":"#N/A"},{"$error":"#N/A"},null,null,-49.99896051515816,null,-4.2457822208241689,1.8564768843928505E-9,null,null,48.6429499999999,8.3604499999999007,1.5532694267221852,0.90684188180054992,{"$error":"#N/A"},{"$error":"#N/A"},null,-999,{"$error":"#N/A"},{"$error":"#N/A"},1.8564768843928505E-9,{"$error":"#N/A"},-999,{"$error":"#N/A"},{"$error":"#N/A"},-9,-15.113519212621512,{"$error":"#N/A"},-26,-26,null,{"$f":"BB97","v":46.123724356957943},{"$f":"$BC$86","v":-50},null,5,70.618621784789724,70.618621784789724,-50,-51,92,0.19765819981694221,"","",-999,25.3,-999,37,{"$f":"IF(BL93=\"\",NA(),COUNTIF(BL93:$BL$303,BL93))","v":4},36.352499999999999,3.7642499999999997,{"$error":"#N/A"},37,{"$f":"IF(BQ93=\"\",NA(),COUNTIF(BQ93:$BQ$303,BQ93))","v":4},36.352499999999999,-46.235750000000003,{"$error":"#N/A"},"",{"$f":"IF(BV93=\"\",NA(),COUNTIF(BV93:$BV$303,BV93))","v":{"$error":"#N/A"}},{"$error":"#VALUE!"},{"$error":"#N/A"},{"$error":"#N/A"},"",{"$f":"IF(CA93=\"\",NA(),COUNTIF(CA93:$CA$303,CA93))","v":{"$error":"#N/A"}},{"$error":"#VALUE!"},{"$error":"#N/A"},{"$error":"#N/A"},14,{"$f":"IF(CF93=\"\",NA(),COUNTIF($CF93:CF$303,CF93))","v":2},"",{"$f":"IF(CH93=\"\",NA(),COUNTIF($CH93:CH$303,CH93))","v":{"$error":"#N/A"}},{"$error":"#N/A"},{"$error":"#N/A"},{"$error":"#N/A"}]
[0.54530414256644877,0.89512809539455673,1.3357169039136925,null,null,"",null,null,null,null,14.5,30.724343464124722,1.4652979188643218E-3,4.3944123184809026E-3,-49.998534702081137,null,-999,{"$error":"#N/A"},{"$error":"#N/A"},null,null,-49.998534702081137,null,-4.1641325627313961,2.0355312186191522E-9,null,null,48.941537499999896,8.6590374999998971,1.6661984539200994,0.89313035849023725,{"$error":"#N/A"},{"$error":"#N/A"},null,-999,{"$error":"#N/A"},{"$error":"#N/A"},2.0355312186191522E-9,{"$error":"#N/A"},-999,{"$error":"#N/A"},{"$error":"#N/A"},-10,-21.237243569579462,{"$error":"#N/A"},-26,-26,0,{"$f":"AS84","v":{"$error":"#N/A"}},{"$f":"$AT$72","v":-26},null,4,64.494897427831788,64.494897427831788,-50,-51,93,0.567726019769907,"","",-999,25.3,-999,49,{"$f":"IF(BL94=\"\",NA(),COUNTIF(BL94:$BL$303,BL94))","v":1},48.142500000000005,0.53774999999999995,{"$error":"#N/A"},49,{"$f":"IF(BQ94=\"\",NA(),COUNTIF(BQ94:$BQ$303,BQ94))","v":1},48.142500000000005,-49.462250000000004,{"$error":"#N/A"},"",{"$f":"IF(BV94=\"\",NA(),COUNTIF(BV94:$BV$303,BV94))","v":{"$error":"#N/A"}},{"$error":"#VALUE!"},{"$error":"#N/A"},{"$error":"#N/A"},"",{"$f":"IF(CA94=\"\",NA(),COUNTIF(CA94:$CA$303,CA94))","v":{"$error":"#N/A"}},{"$error":"#VALUE!"},{"$error":"#N/A"},{"$error":"#N/A"},20,{"$f":"IF(CF94=\"\",NA(),COUNTIF($CF94:CF$303,CF94))","v":5},"",{"$f":"IF(CH94=\"\",NA(),COUNTIF($CH94:CH$303,CH94))","v":{"$error":"#N/A"}},{"$error":"#N/A"},{"$error":"#N/A"},{"$error":"#N/A"}]
[-0.6606194429741149,1.2381756657270377,-1.6181805494482309,null,null,"",null,null,null,null,15,30.939294696192849,2.0518159823048215E-3,4.7583290074693207E-3,-49.997948184017694,null,-999,{"$error":"#N/A"},{"$error":"#N/A"},null,null,-49.997948184017694,null,-4.0824829046386233,2.2354881907773973E-9,null,null,49.240124999999892,8.9576249999998936,1.7830899031249576,0.87827003757913957,{"$error":"#N/A"},{"$error":"#N/A"},null,-999,{"$error":"#N/A"},{"$error":"#N/A"},2.2354881907773973E-9,{"$error":"#N/A"},-999,{"$error":"#N/A"},{"$error":"#N/A"},-11,-27.360967926537413,{"$error":"#N/A"},-26,-26,null,{"$f":"BB98","v":40},{"$f":"$BC$86","v":-50},null,3,58.371173070873837,58.371173070873837,-50,-51,94,0.57813732698559761,"","",-999,25.3,-999,31,{"$f":"IF(BL95=\"\",NA(),COUNTIF(BL95:$BL$303,BL95))","v":1},30.4575,0.53774999999999995,{"$error":"#N/A"},31,{"$f":"IF(BQ95=\"\",NA(),COUNTIF(BQ95:$BQ$303,BQ95))","v":1},30.4575,-49.462250000000004,{"$error":"#N/A"},"",{"$f":"IF(BV95=\"\",NA(),COUNTIF(BV95:$BV$303,BV95))","v":{"$error":"#N/A"}},{"$error":"#VALUE!"},{"$error":"#N/A"},{"$error":"#N/A"},"",{"$f":"IF(CA95=\"\",NA(),COUNTIF(CA95:$CA$303,CA95))","v":{"$error":"#N/A"}},{"$error":"#VALUE!"},{"$error":"#N/A"},{"$error":"#N/A"},28,{"$f":"IF(CF95=\"\",NA(),COUNTIF($CF95:CF$303,CF95))","v":2},"",{"$f":"IF(CH95=\"\",NA(),COUNTIF($CH95:CH$303,CH95))","v":{"$error":"#N/A"}},{"$error":"#N/A"},{"$error":"#N/A"},{"$error":"#N/A"}]
[-0.39807959287927147,0.65509436520487441,-0.97509187956907917,null,null,"",null,null,null,null,15.5,31.162024839703506,2.8540106368586107E-3,5.1574404434759375E-3,-49.99714598936314,null,-999,{"$error":"#N/A"},{"$error":"#N/A"},null,null,-49.99714598936314,null,-4.0008332465458505,2.4592223942069159E-9,null,null,49.538712499999889,9.25621249999989,1.9039437743367604,0.86227022958627531,{"$error":"#N/A"},{"$error":"#N/A"},null,-999,{"$error":"#N/A"},{"$error":"#N/A"},2.4592223942069159E-9,{"$error":"#N/A"},-999,{"$error":"#N/A"},{"$error":"#N/A"},-12,-33.484692283495349,{"$error":"#N/A"},-26,-26,-1,{"$f":"AS85","v":{"$error":"#N/A"}},{"$f":"$AT$72","v":-26},null,2,52.247448713915894,52.247448713915894,-50,-51,95,0.78564122691750526,"","",-999,25.3,-999,35,{"$f":"IF(BL96=\"\",NA(),COUNTIF(BL96:$BL$303,BL96))","v":3},34.387500000000003,2.6887499999999998,{"$error":"#N/A"},35,{"$f":"IF(BQ96=\"\",NA(),COUNTIF(BQ96:$BQ$303,BQ96))","v":3},34.387500000000003,-47.311250000000001,{"$error":"#N/A"},"",{"$f":"IF(BV96=\"\",NA(),COUNTIF(BV96:$BV$303,BV96))","v":{"$error":"#N/A"}},{"$error":"#VALUE!"},{"$error":"#N/A"},{"$error":"#N/A"},"",{"$f":"IF(CA96=\"\",NA(),COUNTIF(CA96:$CA$303,CA96))","v":{"$error":"#N/A"}},{"$error":"#VALUE!"},{"$error":"#N/A"},{"$error":"#N/A"},15,{"$f":"IF(CF96=\"\",NA(),COUNTIF($CF96:CF$303,CF96))","v":1},"",{"$f":"IF(CH96=\"\",NA(),COUNTIF($CH96:CH$303,CH96))","v":{"$error":"#N/A"}},{"$error":"#N/A"},{"$error":"#N/A"},{"$error":"#N/A"}]
[-0.39401042783238621,1.4276137053103772,-0.9651245015250417,null,null,"",null,null,null,null,16,31.392465053306438,3.9434602715092918E-3,5.5955865234782369E-3,-49.996056539728492,null,-999,{"$error":"#N/A"},{"$error":"#N/A"},null,null,-49.996056539728492,null,-3.9191835884530777,2.7100631186610459E-9,null,null,49.837299999999885,9.5547999999998865,2.0287600675555071,0.84515139755396107,{"$error":"#N/A"},{"$error":"#N/A"},null,-999,{"$error":"#N/A"},{"$error":"#N/A"},2.7100631186610459E-9,{"$error":"#N/A"},-999,{"$error":"#N/A"},{"$error":"#N/A"},null,null,null,null,null,null,{"$f":"BB99","v":33.876275643042057},{"$f":"$BC$86","v":-50},null,1,46.123724356957943,46.123724356957943,-50,-51,96,0.4825110025703907,"","",-999,25.3,-999,35,{"$f":"IF(BL97=\"\",NA(),COUNTIF(BL97:$BL$303,BL97))","v":2},34.387500000000003,1.6132499999999999,{"$error":"#N/A"},35,{"$f":"IF(BQ97=\"\",NA(),COUNTIF(BQ97:$BQ$303,BQ97))","v":2},34.387500000000003,-48.386750000000006,{"$error":"#N/A"},"",{"$f":"IF(BV97=\"\",NA(),COUNTIF(BV97:$BV$303,BV97))","v":{"$error":"#N/A"}},{"$error":"#VALUE!"},{"$error":"#N/A"},{"$error":"#N/A"},"",{"$f":"IF(CA97=\"\",NA(),COUNTIF(CA97:$CA$303,CA97))","v":{"$error":"#N/A"}},{"$error":"#VALUE!"},{"$error":"#N/A"},{"$error":"#N/A"},33,{"$f":"IF(CF97=\"\",NA(),COUNTIF($CF97:CF$303,CF97))","v":1},"",{"$f":"IF(CH97=\"\",NA(),COUNTIF($CH97:CH$303,CH97))","v":{"$error":"#N/A"}},{"$error":"#N/A"},{"$error":"#N/A"},{"$error":"#N/A"}]
[-0.5068208336720823,1.3512530038902808,-1.241452433508585,null,null,"",null,null,null,null,16.5,31.6305162494039,5.4125766021353048E-3,6.0770656450582451E-3,-49.994587423397867,null,-999,{"$error":"#N/A"},{"$error":"#N/A"},null,null,-49.994587423397867,null,-3.8375339303603049,2.9918778823246495E-9,null,null,50.135887499999882,9.8533874999998829,2.1575387827811987,0.82694504165268057,{"$error":"#N/A"},{"$error":"#N/A"},null,-999,{"$error":"#N/A"},{"$error":"#N/A"},2.9918778823246495E-9,{"$error":"#N/A"},-999,{"$error":"#N/A"},{"$error":"#N/A"},null,"Label s pile X axis",null,null,1.4,-2,{"$f":"AS86","v":{"$error":"#N/A"}},{"$f":"$AT$72","v":-26},null,0,40,40,-50,-51,97,0.29834694042801857,"","",-999,25.3,-999,33,{"$f":"IF(BL98=\"\",NA(),COUNTIF(BL98:$BL$303,BL98))","v":4},32.422499999999999,3.7642499999999997,{"$error":"#N/A"},33,{"$f":"IF(BQ98=\"\",NA(),COUNTIF(BQ98:$BQ$303,BQ98))","v":4},32.422499999999999,-46.235750000000003,{"$error":"#N/A"},"",{"$f":"IF(BV98=\"\",NA(),COUNTIF(BV98:$BV$303,BV98))","v":{"$error":"#N/A"}},{"$error":"#VALUE!"},{"$error":"#N/A"},{"$error":"#N/A"},"",{"$f":"IF(CA98=\"\",NA(),COUNTIF(CA98:$CA$303,CA98))","v":{"$error":"#N/A"}},{"$error":"#VALUE!"},{"$error":"#N/A"},{"$error":"#N/A"},31,{"$f":"IF(CF98=\"\",NA(),COUNTIF($CF98:CF$303,CF98))","v":2},"",{"$f":"IF(CH98=\"\",NA(),COUNTIF($CH98:CH$303,CH98))","v":{"$error":"#N/A"}},{"$error":"#N/A"},{"$error":"#N/A"},{"$error":"#N/A"}]
[0.69995130246034931,0.92797818109489771,1.7145235358243511,null,null,"",null,null,null,null,17,31.876047872223644,7.3796428715154792E-3,6.606692758255997E-3,-49.992620357128487,null,-999,{"$error":"#N/A"},{"$error":"#N/A"},null,null,-49.992620357128487,null,-3.7558842722675321,3.3091712879745248E-9,null,null,50.434474999999878,10.151974999999879,2.2902799200138344,0.80769342641300956,{"$error":"#N/A"},{"$error":"#N/A"},null,-999,{"$error":"#N/A"},{"$error":"#N/A"},3.3091712879745248E-9,{"$error":"#N/A"},-999,{"$error":"#N/A"},{"$error":"#N/A"},null,0,{"$f":"$AX$35+AR99*$AZ$3","v":{"$error":"#N/A"}},{"$f":"$AY$35","v":-19},{"$f":"AT99+$AU$98","v":-17.600000000000001},null,{"$f":"BB100","v":27.752551286084106},{"$f":"$BC$86","v":-50},null,-1,33.876275643042057,33.876275643042057,-50,-51,98,0.2827904112637043,"","",-999,25.3,-999,51,{"$f":"IF(BL99=\"\",NA(),COUNTIF(BL99:$BL$303,BL99))","v":1},50.107500000000002,0.53774999999999995,{"$error":"#N/A"},51,{"$f":"IF(BQ99=\"\",NA(),COUNTIF(BQ99:$BQ$303,BQ99))","v":1},50.107500000000002,-49.462250000000004,{"$error":"#N/A"},"",{"$f":"IF(BV99=\"\",NA(),COUNTIF(BV99:$BV$303,BV99))","v":{"$error":"#N/A"}},{"$error":"#VALUE!"},{"$error":"#N/A"},{"$error":"#N/A"},"",{"$f":"IF(CA99=\"\",NA(),COUNTIF(CA99:$CA$303,CA99))","v":{"$error":"#N/A"}},{"$error":"#VALUE!"},{"$error":"#N/A"},{"$error":"#N/A"},21,{"$f":"IF(CF99=\"\",NA(),COUNTIF($CF99:CF$303,CF99))","v":3},"",{"$f":"IF(CH99=\"\",NA(),COUNTIF($CH99:CH$303,CH99))","v":{"$error":"#N/A"}},{"$error":"#N/A"},{"$error":"#N/A"},{"$error":"#N/A"}]
[0.13030805414331678,0.81564756036782471,0.31918824202608892,null,null,"",null,null,null,null,17.5,32.12889678836931,9.9947362497116964E-3,7.1898648969888875E-3,-49.990005263750291,null,-999,{"$error":"#N/A"},{"$error":"#N/A"},null,null,-49.990005263750291,null,-3.6742346141747593,3.6672016346630942E-9,null,null,50.733062499999875,10.450562499999876,2.4269834792534146,0.78744909187322343,{"$error":"#N/A"},{"$error":"#N/A"},null,-999,{"$error":"#N/A"},{"$error":"#N/A"},3.6672016346630942E-9,{"$error":"#N/A"},-999,{"$error":"#N/A"},{"$error":"#N/A"},{"$f":"AR100*$AZ$3","v":10},1,{"$error":"#N/A"},-19,{"$f":"AT100+$AU$98","v":-17.600000000000001},-3,{"$f":"AS87","v":{"$error":"#N/A"}},{"$f":"$AT$72","v":-26},null,-2,27.752551286084106,27.752551286084106,-50,-51,99,0.78891238942742348,"","",-999,25.3,-999,43,{"$f":"IF(BL100=\"\",NA(),COUNTIF(BL100:$BL$303,BL100))","v":2},42.247500000000002,1.6132499999999999,{"$error":"#N/A"},43,{"$f":"IF(BQ100=\"\",NA(),COUNTIF(BQ100:$BQ$303,BQ100))","v":2},42.247500000000002,-48.386750000000006,{"$error":"#N/A"},"",{"$f":"IF(BV100=\"\",NA(),COUNTIF(BV100:$BV$303,BV100))","v":{"$error":"#N/A"}},{"$error":"#VALUE!"},{"$error":"#N/A"},{"$error":"#N/A"},"",{"$f":"IF(CA100=\"\",NA(),COUNTIF(CA100:$CA$303,CA100))","v":{"$error":"#N/A"}},{"$error":"#VALUE!"},{"$error":"#N/A"},{"$error":"#N/A"},19,{"$f":"IF(CF100=\"\",NA(),COUNTIF($CF100:CF$303,CF100))","v":2},"",{"$f":"IF(CH100=\"\",NA(),COUNTIF($CH100:CH$303,CH100))","v":{"$error":"#N/A"}},{"$error":"#N/A"},{"$error":"#N/A"},{"$error":"#N/A"}]
[-4.3686067751623002E-2,0.6171817393375244,-0.10700857486013188,null,null,"",null,null,null,null,18,32.388866303526207,1.3446586016356154E-2,7.8326351017480901E-3,-49.986553413983643,null,-999,{"$error":"#N/A"},{"$error":"#N/A"},null,null,-49.986553413983643,null,-3.5925849560819865,4.0721269431030706E-9,null,null,51.031649999999871,10.749149999999872,2.5676494604999389,0.76627424180550885,{"$error":"#N/A"},{"$error":"#N/A"},null,-999,{"$error":"#N/A"},{"$error":"#N/A"},4.0721269431030706E-9,{"$error":"#N/A"},-999,{"$error":"#N/A"},{"$error":"#N/A"},{"$f":"AR101*$AZ$3","v":20},2,{"$error":"#N/A"},-19,-17.600000000000001,null,{"$f":"BB101","v":21.628826929126163},{"$f":"$BC$86","v":-50},null,-3,21.628826929126163,21.628826929126163,-50,-51,100,0.15013529732823372,"","",-999,25.3,-999,40,{"$f":"IF(BL101=\"\",NA(),COUNTIF(BL101:$BL$303,BL101))","v":4},39.300000000000004,3.7642499999999997,{"$error":"#N/A"},40,{"$f":"IF(BQ101=\"\",NA(),COUNTIF(BQ101:$BQ$303,BQ101))","v":4},39.300000000000004,-46.235750000000003,{"$error":"#N/A"},"",{"$f":"IF(BV101=\"\",NA(),COUNTIF(BV101:$BV$303,BV101))","v":{"$error":"#N/A"}},{"$error":"#VALUE!"},{"$error":"#N/A"},{"$error":"#N/A"},"",{"$f":"IF(CA101=\"\",NA(),COUNTIF(CA101:$CA$303,CA101))","v":{"$error":"#N/A"}},{"$error":"#VALUE!"},{"$error":"#N/A"},{"$error":"#N/A"},14,{"$f":"IF(CF101=\"\",NA(),COUNTIF($CF101:CF$303,CF101))","v":1},"",{"$f":"IF(CH101=\"\",NA(),COUNTIF($CH101:CH$303,CH101))","v":{"$error":"#N/A"}},{"$error":"#N/A"},{"$error":"#N/A"},{"$error":"#N/A"}]
[-6.4121524390338427E-2,0.7188424534350395,-0.15706501628575531,null,null,"",null,null,null,null,18.5,32.655725318727406,1.7970387172357292E-2,8.5417957304298343E-3,-49.982029612827645,null,-999,{"$error":"#N/A"},{"$error":"#N/A"},null,null,-49.982029612827645,null,-3.5109352979892137,4.5311813022399076E-9,null,null,51.330237499999868,11.047737499999869,2.7122778637534077,0.74423996919427937,{"$error":"#N/A"},{"$error":"#N/A"},null,-999,{"$error":"#N/A"},{"$error":"#N/A"},4.5311813022399076E-9,{"$error":"#N/A"},-999,{"$error":"#N/A"},{"$error":"#N/A"},30,3,{"$error":"#N/A"},-19,-17.600000000000001,-4,{"$f":"AS88","v":{"$error":"#N/A"}},{"$f":"$AT$72","v":-26},null,-4,15.505102572168216,15.505102572168216,-50,-51,null,0.92504120245575905,"","",-999,25.3,-999,40,{"$f":"IF(BL102=\"\",NA(),COUNTIF(BL102:$BL$303,BL102))","v":3},39.300000000000004,2.6887499999999998,{"$error":"#N/A"},40,{"$f":"IF(BQ102=\"\",NA(),COUNTIF(BQ102:$BQ$303,BQ102))","v":3},39.300000000000004,-47.311250000000001,{"$error":"#N/A"},"",{"$f":"IF(BV102=\"\",NA(),COUNTIF(BV102:$BV$303,BV102))","v":{"$error":"#N/A"}},{"$error":"#VALUE!"},{"$error":"#N/A"},{"$error":"#N/A"},"",{"$f":"IF(CA102=\"\",NA(),COUNTIF(CA102:$CA$303,CA102))","v":{"$error":"#N/A"}},{"$error":"#VALUE!"},{"$error":"#N/A"},{"$error":"#N/A"},16,{"$f":"IF(CF102=\"\",NA(),COUNTIF($CF102:CF$303,CF102))","v":2},"",{"$f":"IF(CH102=\"\",NA(),COUNTIF($CH102:CH$303,CH102))","v":{"$error":"#N/A"}},{"$error":"#N/A"},{"$error":"#N/A"},{"$error":"#N/A"}]
[0.43289216371694245,0.68510704759352425,1.0603649147558667,null,null,"",null,null,null,null,19,32.929207639175495,2.3856544432549375E-2,9.324972237476031E-3,-49.976143455567453,null,-999,{"$error":"#N/A"},{"$error":"#N/A"},null,null,-49.976143455567453,null,-3.4292856398964409,5.0528817887585057E-9,null,null,51.628824999999864,11.346324999999865,2.8608686890138206,0.72142534487321219,{"$error":"#N/A"},{"$error":"#N/A"},null,-999,{"$error":"#N/A"},{"$error":"#N/A"},5.0528817887585057E-9,{"$error":"#N/A"},-999,{"$error":"#N/A"},{"$error":"#N/A"},40,4,{"$error":"#N/A"},-19,-17.600000000000001,null,{"$f":"BB102","v":15.505102572168216},{"$f":"$BC$86","v":-50},null,-5,9.3813782152102689,9.3813782152102689,-50,-51,null,null,null,null,null,null,null,47,{"$f":"IF(BL103=\"\",NA(),COUNTIF(BL103:$BL$303,BL103))","v":2},46.177500000000002,1.6132499999999999,{"$error":"#N/A"},47,{"$f":"IF(BQ103=\"\",NA(),COUNTIF(BQ103:$BQ$303,BQ103))","v":2},46.177500000000002,-48.386750000000006,{"$error":"#N/A"},"",{"$f":"IF(BV103=\"\",NA(),COUNTIF(BV103:$BV$303,BV103))","v":{"$error":"#N/A"}},{"$error":"#VALUE!"},{"$error":"#N/A"},{"$error":"#N/A"},"",{"$f":"IF(CA103=\"\",NA(),COUNTIF(CA103:$CA$303,CA103))","v":{"$error":"#N/A"}},{"$error":"#VALUE!"},{"$error":"#N/A"},{"$error":"#N/A"},16,{"$f":"IF(CF103=\"\",NA(),COUNTIF($CF103:CF$303,CF103))","v":1},"",{"$f":"IF(CH103=\"\",NA(),COUNTIF($CH103:CH$303,CH103))","v":{"$error":"#N/A"}},{"$error":"#N/A"},{"$error":"#N/A"},{"$error":"#N/A"}]
[-0.76958116263991105,0.83860005953442873,-1.8850811641256147,null,null,"",null,null,null,null,19.5,33.209011448066136,3.1460262642319714E-2,1.0190728578582747E-2,-49.968539737357681,null,-999,{"$error":"#N/A"},{"$error":"#N/A"},null,null,-49.968539737357681,null,-3.3476359818036681,5.6472903881206541E-9,null,null,51.927412499999861,11.644912499999862,3.0134219362811785,0.69791645032644656,{"$error":"#N/A"},{"$error":"#N/A"},null,-999,{"$error":"#N/A"},{"$error":"#N/A"},5.6472903881206541E-9,{"$error":"#N/A"},-999,{"$error":"#N/A"},{"$error":"#N/A"},50,5,{"$error":"#N/A"},-19,-17.600000000000001,-5,{"$f":"AS89","v":{"$error":"#N/A"}},{"$f":"$AT$72","v":-26},null,-6,3.2576538582523256,3.2576538582523256,-50,-51,null,null,null,null,null,null,null,29,{"$f":"IF(BL104=\"\",NA(),COUNTIF(BL104:$BL$303,BL104))","v":1},28.4925,0.53774999999999995,{"$error":"#N/A"},29,{"$f":"IF(BQ104=\"\",NA(),COUNTIF(BQ104:$BQ$303,BQ104))","v":1},28.4925,-49.462250000000004,{"$error":"#N/A"},"",{"$f":"IF(BV104=\"\",NA(),COUNTIF(BV104:$BV$303,BV104))","v":{"$error":"#N/A"}},{"$error":"#VALUE!"},{"$error":"#N/A"},{"$error":"#N/A"},"",{"$f":"IF(CA104=\"\",NA(),COUNTIF(CA104:$CA$303,CA104))","v":{"$error":"#N/A"}},{"$error":"#VALUE!"},{"$error":"#N/A"},{"$error":"#N/A"},19,{"$f":"IF(CF104=\"\",NA(),COUNTIF($CF104:CF$303,CF104))","v":1},"",{"$f":"IF(CH104=\"\",NA(),COUNTIF($CH104:CH$303,CH104))","v":{"$error":"#N/A"}},{"$error":"#N/A"},{"$error":"#N/A"},{"$error":"#N/A"}]
[-0.23815801505711567,0.1759696637133292,-0.58336561504400675,null,null,"",null,null,null,null,20,33.494798957169344,4.1211825672170063E-2,1.1148685462946169E-2,-49.958788174327829,null,-999,{"$error":"#N/A"},{"$error":"#N/A"},null,null,-49.958788174327829,null,-3.2659863237108953,6.3263370133332901E-9,null,null,52.225999999999857,11.943499999999858,3.16993760555548,0.67380523288186822,{"$error":"#N/A"},{"$error":"#N/A"},null,-999,{"$error":"#N/A"},{"$error":"#N/A"},6.3263370133332901E-9,{"$error":"#N/A"},-999,{"$error":"#N/A"},{"$error":"#N/A"},60,6,{"$error":"#N/A"},-19,-17.600000000000001,null,{"$f":"BB103","v":9.3813782152102689},{"$f":"$BC$86","v":-50},null,-7,-2.8660704987056249,{"$error":"#N/A"},-50,-51,null,"H1 sample",null,null,null,0.8,null,37,{"$f":"IF(BL105=\"\",NA(),COUNTIF(BL105:$BL$303,BL105))","v":3},36.352499999999999,2.6887499999999998,{"$error":"#N/A"},37,{"$f":"IF(BQ105=\"\",NA(),COUNTIF(BQ105:$BQ$303,BQ105))","v":3},36.352499999999999,-47.311250000000001,{"$error":"#N/A"},"",{"$f":"IF(BV105=\"\",NA(),COUNTIF(BV105:$BV$303,BV105))","v":{"$error":"#N/A"}},{"$error":"#VALUE!"},{"$error":"#N/A"},{"$error":"#N/A"},"",{"$f":"IF(CA105=\"\",NA(),COUNTIF(CA105:$CA$303,CA105))","v":{"$error":"#N/A"}},{"$error":"#VALUE!"},{"$error":"#N/A"},{"$error":"#N/A"},4,{"$f":"IF(CF105=\"\",NA(),COUNTIF($CF105:CF$303,CF105))","v":1},"",{"$f":"IF(CH105=\"\",NA(),COUNTIF($CH105:CH$303,CH105))","v":{"$error":"#N/A"}},{"$error":"#N/A"},{"$error":"#N/A"},{"$error":"#N/A"}]
[-0.57256092144544535,0.48368807606750552,-1.4024821041991031,null,null,"",null,null,null,null,20.5,33.786196245093173,5.3627316764429826E-2,1.2209652760458224E-2,-49.946372683235573,null,-999,{"$error":"#N/A"},{"$error":"#N/A"},null,null,-49.946372683235573,null,-3.1843366656181225,7.1042024997184123E-9,null,null,52.524587499999853,12.242087499999855,3.3304156968367264,0.64918837866164791,{"$error":"#N/A"},{"$error":"#N/A"},null,-999,{"$error":"#N/A"},{"$error":"#N/A"},7.1042024997184123E-9,{"$error":"#N/A"},-999,{"$error":"#N/A"},{"$error":"#N/A"},70,7,{"$error":"#N/A"},-19,-17.600000000000001,-6,{"$f":"AS90","v":{"$error":"#N/A"}},{"$f":"$AT$72","v":-26},null,-8,-8.9897948556635683,{"$error":"#N/A"},-50,-51,1,"rand no.","data point z","data point","Grey",null,"New Sample, for display",32,{"$f":"IF(BL106=\"\",NA(),COUNTIF(BL106:$BL$303,BL106))","v":1},31.44,0.53774999999999995,{"$error":"#N/A"},32,{"$f":"IF(BQ106=\"\",NA(),COUNTIF(BQ106:$BQ$303,BQ106))","v":1},31.44,-49.462250000000004,{"$error":"#N/A"},"",{"$f":"IF(BV106=\"\",NA(),COUNTIF(BV106:$BV$303,BV106))","v":{"$error":"#N/A"}},{"$error":"#VALUE!"},{"$error":"#N/A"},{"$error":"#N/A"},"",{"$f":"IF(CA106=\"\",NA(),COUNTIF(CA106:$CA$303,CA106))","v":{"$error":"#N/A"}},{"$error":"#VALUE!"},{"$error":"#N/A"},{"$error":"#N/A"},11,{"$f":"IF(CF106=\"\",NA(),COUNTIF($CF106:CF$303,CF106))","v":1},"",{"$f":"IF(CH106=\"\",NA(),COUNTIF($CH106:CH$303,CH106))","v":{"$error":"#N/A"}},{"$error":"#N/A"},{"$error":"#N/A"},{"$error":"#N/A"}]
[0.14938722383854261,0.88007014718292997,0.36592247249536469,null,null,"",null,null,null,null,21,34.082793293183805,6.931943027516041E-2,1.3385777115818866E-2,-49.930680569724842,null,-999,{"$error":"#N/A"},{"$error":"#N/A"},null,null,-49.930680569724842,null,-3.1026870075253496,7.9978078827020336E-9,null,null,52.82317499999985,12.540674999999851,3.494856210124917,0.62416610734244116,{"$error":"#N/A"},{"$error":"#N/A"},null,-999,{"$error":"#N/A"},{"$error":"#N/A"},7.9978078827020336E-9,{"$error":"#N/A"},-999,{"$error":"#N/A"},{"$error":"#N/A"},80,8,{"$error":"#N/A"},-19,-17.600000000000001,null,{"$f":"BB104","v":3.2576538582523256},{"$f":"$BC$86","v":-50},null,-9,-15.113519212621512,{"$error":"#N/A"},-50,-51,2,{"$f":"$G$12","v":0.14777866441564891},{"$f":"IF(AND($BD$4,$BE106<=$K$14),NORMSINV(BF107),\"\")","v":-1.0460080216789911},{"$f":"IF(BG107=\"\",\"\",$V$9+$R$11*BG107)","v":49.309879674815136},{"$f":"IF(AND(NOT($BB$12),$BB$4,$BD$2,BH107<>\"\",$D$4<>\"\"),BH107,-999)","v":-999},{"$f":"$AX$8-$BJ$105","v":24.2},{"$f":"IF(AND($BB$12,$BD$2,BH107<>\"\",$D$4<>\"\"),BH107,-999)","v":-999},43,{"$f":"IF(BL107=\"\",NA(),COUNTIF(BL107:$BL$303,BL107))","v":1},42.247500000000002,0.53774999999999995,{"$error":"#N/A"},43,{"$f":"IF(BQ107=\"\",NA(),COUNTIF(BQ107:$BQ$303,BQ107))","v":1},42.247500000000002,-49.462250000000004,{"$error":"#N/A"},"",{"$f":"IF(BV107=\"\",NA(),COUNTIF(BV107:$BV$303,BV107))","v":{"$error":"#N/A"}},{"$error":"#VALUE!"},{"$error":"#N/A"},{"$error":"#N/A"},"",{"$f":"IF(CA107=\"\",NA(),COUNTIF(CA107:$CA$303,CA107))","v":{"$error":"#N/A"}},{"$error":"#VALUE!"},{"$error":"#N/A"},{"$error":"#N/A"},20,{"$f":"IF(CF107=\"\",NA(),COUNTIF($CF107:CF$303,CF107))","v":4},"",{"$f":"IF(CH107=\"\",NA(),COUNTIF($CH107:CH$303,CH107))","v":{"$error":"#N/A"}},{"$error":"#N/A"},{"$error":"#N/A"},{"$error":"#N/A"}]
[1.0717311864078984,1.3735183737770131,2.6251945481269932,null,null,"",null,null,null,null,21.5,34.384144227909204,8.9007910343619698E-2,1.4690706533455769E-2,-49.910992089656382,null,-999,{"$error":"#N/A"},{"$error":"#N/A"},null,null,-49.910992089656382,null,-3.0210373494325768,9.0274143718296149E-9,null,null,53.121762499999846,12.839262499999847,3.663259145420052,0.59884093070136957,{"$error":"#N/A"},{"$error":"#N/A"},null,-999,{"$error":"#N/A"},{"$error":"#N/A"},9.0274143718296149E-9,{"$error":"#N/A"},-999,{"$error":"#N/A"},{"$error":"#N/A"},90,9,{"$error":"#N/A"},-19,-17.600000000000001,-7,{"$f":"AS91","v":{"$error":"#N/A"}},{"$f":"$AT$72","v":-26},null,-10,-21.237243569579462,{"$error":"#N/A"},-50,-51,3,{"$f":"MOD(BF107*10000013,1)","v":0.56527912640012801},{"$f":"IF(AND($BD$4,$BE107<=$K$14),NORMSINV(BF108),\"\")","v":0.16436762655435061},{"$f":"IF(BG108=\"\",\"\",$V$9+$R$11*BG108)","v":67.465514398315264},{"$f":"IF(AND(NOT($BB$12),$BB$4,$BD$2,BH108<>\"\",$D$4<>\"\"),BH108,-999)","v":-999},{"$f":"$AX$8-$BJ$105","v":24.2},{"$f":"IF(AND($BB$12,$BD$2,BH108<>\"\",$D$4<>\"\"),BH108,-999)","v":-999},57,{"$f":"IF(BL108=\"\",NA(),COUNTIF(BL108:$BL$303,BL108))","v":1},56.002500000000005,0.53774999999999995,{"$error":"#N/A"},57,{"$f":"IF(BQ108=\"\",NA(),COUNTIF(BQ108:$BQ$303,BQ108))","v":1},56.002500000000005,-49.462250000000004,{"$error":"#N/A"},"",{"$f":"IF(BV108=\"\",NA(),COUNTIF(BV108:$BV$303,BV108))","v":{"$error":"#N/A"}},{"$error":"#VALUE!"},{"$error":"#N/A"},{"$error":"#N/A"},"",{"$f":"IF(CA108=\"\",NA(),COUNTIF(CA108:$CA$303,CA108))","v":{"$error":"#N/A"}},{"$error":"#VALUE!"},{"$error":"#N/A"},{"$error":"#N/A"},31,{"$f":"IF(CF108=\"\",NA(),COUNTIF($CF108:CF$303,CF108))","v":1},"",{"$f":"IF(CH108=\"\",NA(),COUNTIF($CH108:CH$303,CH108))","v":{"$error":"#N/A"}},{"$error":"#N/A"},{"$error":"#N/A"},{"$error":"#N/A"}]
[-9.0418748810029495E-2,0.95932882705039202,-0.22147979776545615,null,null,"",null,null,null,null,22,34.689767777335234,0.1135290304811911,1.6139772430098686E-2,-49.886470969518811,null,-999,{"$error":"#N/A"},{"$error":"#N/A"},null,null,-49.886470969518811,null,-2.939387691339804,1.021736121217371E-8,null,null,53.420349999999843,13.137849999999844,3.8356245027221312,0.5733165199284086,{"$error":"#N/A"},{"$error":"#N/A"},null,-999,{"$error":"#N/A"},{"$error":"#N/A"},1.021736121217371E-8,{"$error":"#N/A"},-999,{"$error":"#N/A"},{"$error":"#N/A"},100,10,{"$error":"#N/A"},-19,-17.600000000000001,null,{"$f":"BB105","v":{"$error":"#N/A"}},{"$f":"$BC$86","v":-50},null,-11,-27.360967926537413,{"$error":"#N/A"},-50,-51,4,0.61262992303818464,0.28618013997990943,69.292702099698644,-999,24.2,-999,39,{"$f":"IF(BL109=\"\",NA(),COUNTIF(BL109:$BL$303,BL109))","v":2},38.317500000000003,1.6132499999999999,{"$error":"#N/A"},39,{"$f":"IF(BQ109=\"\",NA(),COUNTIF(BQ109:$BQ$303,BQ109))","v":2},38.317500000000003,-48.386750000000006,{"$error":"#N/A"},"",{"$f":"IF(BV109=\"\",NA(),COUNTIF(BV109:$BV$303,BV109))","v":{"$error":"#N/A"}},{"$error":"#VALUE!"},{"$error":"#N/A"},{"$error":"#N/A"},"",{"$f":"IF(CA109=\"\",NA(),COUNTIF(CA109:$CA$303,CA109))","v":{"$error":"#N/A"}},{"$error":"#VALUE!"},{"$error":"#N/A"},{"$error":"#N/A"},22,{"$f":"IF(CF109=\"\",NA(),COUNTIF($CF109:CF$303,CF109))","v":3},"",{"$f":"IF(CH109=\"\",NA(),COUNTIF($CH109:CH$303,CH109))","v":{"$error":"#N/A"}},{"$error":"#N/A"},{"$error":"#N/A"},{"$error":"#N/A"}]
[-0.48779911913643154,0.54988230005521088,-1.1948589388633586,null,null,"",null,null,null,null,22.5,34.999147947940727,0.1438434054990039,1.7750190559577415E-2,-49.856156594500995,null,-999,{"$error":"#N/A"},{"$error":"#N/A"},null,null,-49.856156594500995,null,-2.8577380332470312,1.1597012964608075E-8,null,null,53.718937499999839,13.43643749999984,4.0119522820311548,0.54769641045626738,{"$error":"#N/A"},{"$error":"#N/A"},null,-999,{"$error":"#N/A"},{"$error":"#N/A"},1.1597012964608075E-8,{"$error":"#N/A"},-999,{"$error":"#N/A"},{"$error":"#N/A"},110,11,{"$error":"#N/A"},-19,-17.600000000000001,-8,{"$f":"AS92","v":{"$error":"#N/A"}},{"$f":"$AT$72","v":-26},null,-12,-33.484692283495349,{"$error":"#N/A"},-50,-51,5,0.19457084592431784,-0.86117495471916139,52.082375679212575,-999,24.2,-999,33,{"$f":"IF(BL110=\"\",NA(),COUNTIF(BL110:$BL$303,BL110))","v":3},32.422499999999999,2.6887499999999998,{"$error":"#N/A"},33,{"$f":"IF(BQ110=\"\",NA(),COUNTIF(BQ110:$BQ$303,BQ110))","v":3},32.422499999999999,-47.311250000000001,{"$error":"#N/A"},"",{"$f":"IF(BV110=\"\",NA(),COUNTIF(BV110:$BV$303,BV110))","v":{"$error":"#N/A"}},{"$error":"#VALUE!"},{"$error":"#N/A"},{"$error":"#N/A"},"",{"$f":"IF(CA110=\"\",NA(),COUNTIF(CA110:$CA$303,CA110))","v":{"$error":"#N/A"}},{"$error":"#VALUE!"},{"$error":"#N/A"},{"$error":"#N/A"},13,{"$f":"IF(CF110=\"\",NA(),COUNTIF($CF110:CF$303,CF110))","v":1},"",{"$f":"IF(CH110=\"\",NA(),COUNTIF($CH110:CH$303,CH110))","v":{"$error":"#N/A"}},{"$error":"#N/A"},{"$error":"#N/A"},{"$error":"#N/A"}]
[-2.5044576439932447E-2,1.5101811633464979,-6.1346433101964089E-2,null,null,"",null,null,null,null,23,35.311734926539074,0.18104131158933615,1.95412812778562E-2,-49.81895868841066,null,-999,{"$error":"#N/A"},{"$error":"#N/A"},null,null,-49.81895868841066,null,-2.7760883751542584,1.3201921070546513E-8,null,null,54.017524999999836,13.735024999999837,4.1922424833471226,0.52208291880644597,{"$error":"#N/A"},{"$error":"#N/A"},null,-999,{"$error":"#N/A"},{"$error":"#N/A"},1.3201921070546513E-8,{"$error":"#N/A"},-999,{"$error":"#N/A"},{"$error":"#N/A"},120,12,{"$error":"#N/A"},-19,-17.600000000000001,null,{"$f":"BB106","v":{"$error":"#N/A"}},{"$f":"$BC$86","v":-50},null,null,null,null,null,null,6,0.98866417538374662,2.2789228940015462,99.183843410023201,-999,24.2,-999,40,{"$f":"IF(BL111=\"\",NA(),COUNTIF(BL111:$BL$303,BL111))","v":2},39.300000000000004,1.6132499999999999,{"$error":"#N/A"},40,{"$f":"IF(BQ111=\"\",NA(),COUNTIF(BQ111:$BQ$303,BQ111))","v":2},39.300000000000004,-48.386750000000006,{"$error":"#N/A"},"",{"$f":"IF(BV111=\"\",NA(),COUNTIF(BV111:$BV$303,BV111))","v":{"$error":"#N/A"}},{"$error":"#VALUE!"},{"$error":"#N/A"},{"$error":"#N/A"},"",{"$f":"IF(CA111=\"\",NA(),COUNTIF(CA111:$CA$303,CA111))","v":{"$error":"#N/A"}},{"$error":"#VALUE!"},{"$error":"#N/A"},{"$error":"#N/A"},35,{"$f":"IF(CF111=\"\",NA(),COUNTIF($CF111:CF$303,CF111))","v":2},"",{"$f":"IF(CH111=\"\",NA(),COUNTIF($CH111:CH$303,CH111))","v":{"$error":"#N/A"}},{"$error":"#N/A"},{"$error":"#N/A"},{"$error":"#N/A"}]
[-0.51372049036271406,0.90757515945480083,-1.2583530718010125,null,null,"",null,null,null,null,23.5,35.626946210489002,0.22634459154437811,2.1534709341748465E-2,-49.773655408455625,null,-999,{"$error":"#N/A"},{"$error":"#N/A"},null,null,-49.773655408455625,null,-2.6944387170614856,1.5075302816807412E-8,null,null,54.316112499999832,14.033612499999833,4.3764951066700348,0.49657601531499906,{"$error":"#N/A"},{"$error":"#N/A"},null,-999,{"$error":"#N/A"},{"$error":"#N/A"},1.5075302816807412E-8,{"$error":"#N/A"},-999,{"$error":"#N/A"},{"$error":"#N/A"},null,null,null,null,null,-9,{"$f":"AS93","v":{"$error":"#N/A"}},{"$f":"$AT$72","v":-26},null,null,null,null,null,null,7,0.60647174715995789,0.27013485818019345,69.052022872702906,-999,24.2,-999,33,{"$f":"IF(BL112=\"\",NA(),COUNTIF(BL112:$BL$303,BL112))","v":2},32.422499999999999,1.6132499999999999,{"$error":"#N/A"},33,{"$f":"IF(BQ112=\"\",NA(),COUNTIF(BQ112:$BQ$303,BQ112))","v":2},32.422499999999999,-48.386750000000006,{"$error":"#N/A"},"",{"$f":"IF(BV112=\"\",NA(),COUNTIF(BV112:$BV$303,BV112))","v":{"$error":"#N/A"}},{"$error":"#VALUE!"},{"$error":"#N/A"},{"$error":"#N/A"},"",{"$f":"IF(CA112=\"\",NA(),COUNTIF(CA112:$CA$303,CA112))","v":{"$error":"#N/A"}},{"$error":"#VALUE!"},{"$error":"#N/A"},{"$error":"#N/A"},21,{"$f":"IF(CF112=\"\",NA(),COUNTIF($CF112:CF$303,CF112))","v":2},"",{"$f":"IF(CH112=\"\",NA(),COUNTIF($CH112:CH$303,CH112))","v":{"$error":"#N/A"}},{"$error":"#N/A"},{"$error":"#N/A"},{"$error":"#N/A"}]
[-0.68309148714463974,0.88302204695286723,-1.6732255911433016,null,null,"",null,null,null,null,24,35.944167967698128,0.28110415135352218,2.3754742729793842E-2,-49.718895848646476,null,-999,{"$error":"#N/A"},{"$error":"#N/A"},null,null,-49.718895848646476,null,-2.6127890589687128,1.7269917018980121E-8,null,null,54.614699999999829,14.33219999999983,4.5647101519998916,0.47127241126755337,{"$error":"#N/A"},{"$error":"#N/A"},null,-999,{"$error":"#N/A"},{"$error":"#N/A"},1.7269917018980121E-8,{"$error":"#N/A"},-999,{"$error":"#N/A"},{"$error":"#N/A"},"Rejection region",null,"*se","x-","x+",null,{"$f":"BB107","v":{"$error":"#N/A"}},{"$f":"$BC$86","v":-50},null,null,null,null,null,null,8,0.35573229193687439,"","",-999,24.2,-999,30,{"$f":"IF(BL113=\"\",NA(),COUNTIF(BL113:$BL$303,BL113))","v":1},29.475000000000001,0.53774999999999995,{"$error":"#N/A"},30,{"$f":"IF(BQ113=\"\",NA(),COUNTIF(BQ113:$BQ$303,BQ113))","v":1},29.475000000000001,-49.462250000000004,{"$error":"#N/A"},"",{"$f":"IF(BV113=\"\",NA(),COUNTIF(BV113:$BV$303,BV113))","v":{"$error":"#N/A"}},{"$error":"#VALUE!"},{"$error":"#N/A"},{"$error":"#N/A"},"",{"$f":"IF(CA113=\"\",NA(),COUNTIF(CA113:$CA$303,CA113))","v":{"$error":"#N/A"}},{"$error":"#VALUE!"},{"$error":"#N/A"},{"$error":"#N/A"},20,{"$f":"IF(CF113=\"\",NA(),COUNTIF($CF113:CF$303,CF113))","v":3},"",{"$f":"IF(CH113=\"\",NA(),COUNTIF($CH113:CH$303,CH113))","v":{"$error":"#N/A"}},{"$error":"#N/A"},{"$error":"#N/A"},{"$error":"#N/A"}]
[-0.37528092784935879,0.98021520898626002,-0.91924678342915778,null,null,"",null,null,null,null,24.5,36.262756626162457,0.34679202408759996,2.6228529034586175E-2,-49.653207975912402,null,-999,{"$error":"#N/A"},{"$error":"#N/A"},null,null,-49.653207975912402,null,-2.53113940087594,1.9850438561541849E-8,null,null,54.913287499999825,14.630787499999826,4.7568876193366929,0.44626451532055122,{"$error":"#N/A"},{"$error":"#N/A"},null,-999,{"$error":"#N/A"},{"$error":"#N/A"},1.9850438561541849E-8,{"$error":"#N/A"},-999,{"$error":"#N/A"},{"$error":"#N/A"},"crit z",{"$f":"ABS(NORMSINV(M38/2))","v":1.9599639845400545},{"$f":"AR114*M17","v":12.002279190888279},{"$f":"O9-AS114","v":27.997720809111719},{"$f":"O9+AS114","v":52.002279190888281},-10,{"$f":"AS94","v":{"$error":"#N/A"}},{"$f":"$AT$72","v":-26},null,null,null,null,null,null,9,0.54388853907585144,"","",-999,24.2,-999,35,{"$f":"IF(BL114=\"\",NA(),COUNTIF(BL114:$BL$303,BL114))","v":1},34.387500000000003,0.53774999999999995,{"$error":"#N/A"},35,{"$f":"IF(BQ114=\"\",NA(),COUNTIF(BQ114:$BQ$303,BQ114))","v":1},34.387500000000003,-49.462250000000004,{"$error":"#N/A"},"",{"$f":"IF(BV114=\"\",NA(),COUNTIF(BV114:$BV$303,BV114))","v":{"$error":"#N/A"}},{"$error":"#VALUE!"},{"$error":"#N/A"},{"$error":"#N/A"},"",{"$f":"IF(CA114=\"\",NA(),COUNTIF(CA114:$CA$303,CA114))","v":{"$error":"#N/A"}},{"$error":"#VALUE!"},{"$error":"#N/A"},{"$error":"#N/A"},22,{"$f":"IF(CF114=\"\",NA(),COUNTIF($CF114:CF$303,CF114))","v":2},"",{"$f":"IF(CH114=\"\",NA(),COUNTIF($CH114:CH$303,CH114))","v":{"$error":"#N/A"}},{"$error":"#N/A"},{"$error":"#N/A"},{"$error":"#N/A"}]
[-0.22671028202678442,1.9640771628283435,-0.5553245104080905,null,null,"",null,null,null,null,25,36.582040690958074,0.42498699964299086,2.8986386711621837E-2,-49.575013000357011,null,-999,{"$error":"#N/A"},{"$error":"#N/A"},null,null,-49.575013000357011,null,-2.4494897427831672,2.2896511448573269E-8,null,null,55.211874999999822,14.929374999999823,4.9530275086804378,0.42163968939819152,{"$error":"#N/A"},{"$error":"#N/A"},null,-999,{"$error":"#N/A"},{"$error":"#N/A"},2.2896511448573269E-8,{"$error":"#N/A"},-999,{"$error":"#N/A"},{"$error":"#N/A"},"crit t",{"$f":"TINV(M38,K16)","v":2.5705818346975402},{"$f":"AR115*O21","v":29.012719410964586},{"$f":"O9-AS115","v":10.987280589035414},{"$f":"O9+AS115","v":69.012719410964593},null,{"$f":"BB108","v":{"$error":"#N/A"}},{"$f":"$BC$86","v":-50},null,null,null,null,null,null,10,0.4613095223903656,"","",-999,24.2,-999,37,{"$f":"IF(BL115=\"\",NA(),COUNTIF(BL115:$BL$303,BL115))","v":2},36.352499999999999,1.6132499999999999,{"$error":"#N/A"},37,{"$f":"IF(BQ115=\"\",NA(),COUNTIF(BQ115:$BQ$303,BQ115))","v":2},36.352499999999999,-48.386750000000006,{"$error":"#N/A"},"",{"$f":"IF(BV115=\"\",NA(),COUNTIF(BV115:$BV$303,BV115))","v":{"$error":"#N/A"}},{"$error":"#VALUE!"},{"$error":"#N/A"},{"$error":"#N/A"},"",{"$f":"IF(CA115=\"\",NA(),COUNTIF(CA115:$CA$303,CA115))","v":{"$error":"#N/A"}},{"$error":"#VALUE!"},{"$error":"#N/A"},{"$error":"#N/A"},45,{"$f":"IF(CF115=\"\",NA(),COUNTIF($CF115:CF$303,CF115))","v":1},"",{"$f":"IF(CH115=\"\",NA(),COUNTIF($CH115:CH$303,CH115))","v":{"$error":"#N/A"}},{"$error":"#N/A"},{"$error":"#N/A"},{"$error":"#N/A"}]
[-0.44375945072074741,1.4975344097032621,-1.0869842228035678,null,null,"",null,null,null,null,25.5,36.901322784724471,0.51735290647888788,3.2062106808881663E-2,-49.482647093521109,null,-999,{"$error":"#N/A"},{"$error":"#N/A"},null,null,-49.482647093521109,null,-2.3678400846903944,2.6506667479002677E-8,null,null,55.510462499999818,15.227962499999819,5.1531298200311273,0.39747951521468816,{"$error":"#N/A"},{"$error":"#N/A"},null,-999,{"$error":"#N/A"},{"$error":"#N/A"},2.6506667479002677E-8,{"$error":"#N/A"},-999,{"$error":"#N/A"},{"$error":"#N/A"},"use for crit",{"$f":"IF($BD$12,AR114,AR115)","v":1.9599639845400545},null,null,null,-11,{"$f":"AS95","v":{"$error":"#N/A"}},{"$f":"$AT$72","v":-26},null,null,null,null,null,null,11,0.22092744708061218,"","",-999,24.2,-999,34,{"$f":"IF(BL116=\"\",NA(),COUNTIF(BL116:$BL$303,BL116))","v":2},33.405000000000001,1.6132499999999999,{"$error":"#N/A"},34,{"$f":"IF(BQ116=\"\",NA(),COUNTIF(BQ116:$BQ$303,BQ116))","v":2},33.405000000000001,-48.386750000000006,{"$error":"#N/A"},"",{"$f":"IF(BV116=\"\",NA(),COUNTIF(BV116:$BV$303,BV116))","v":{"$error":"#N/A"}},{"$error":"#VALUE!"},{"$error":"#N/A"},{"$error":"#N/A"},"",{"$f":"IF(CA116=\"\",NA(),COUNTIF(CA116:$CA$303,CA116))","v":{"$error":"#N/A"}},{"$error":"#VALUE!"},{"$error":"#N/A"},{"$error":"#N/A"},34,{"$f":"IF(CF116=\"\",NA(),COUNTIF($CF116:CF$303,CF116))","v":3},"",{"$f":"IF(CH116=\"\",NA(),COUNTIF($CH116:CH$303,CH116))","v":{"$error":"#N/A"}},{"$error":"#N/A"},{"$error":"#N/A"},{"$error":"#N/A"}]
[0.47307265195323506,1.5327199451866862,1.158786608550685,null,null,"",null,null,null,null,26,37.219881905768212,0.62560879400640479,3.5493258667125369E-2,-49.374391205993597,null,-999,{"$error":"#N/A"},{"$error":"#N/A"},null,null,-49.374391205993597,null,-2.2861904265976216,3.080335987759246E-8,null,null,55.809049999999814,15.526549999999816,5.3571945533887613,0.373859187057068,{"$error":"#N/A"},{"$error":"#N/A"},null,-999,{"$error":"#N/A"},{"$error":"#N/A"},3.080335987759246E-8,{"$error":"#N/A"},-999,{"$error":"#N/A"},{"$error":"#N/A"},"use",{"$f":"IF(AND($BD$9,$AR$70,$BD$13,NOT($BD$5),NOT($BD$10)),IF($BD$12,AT114,AT115),NA())","v":{"$error":"#N/A"}},{"$f":"AX12+AX11+AU117","v":-5.5},{"$f":"-(AR117-AU120)","v":{"$error":"#N/A"}},-3.5,null,{"$f":"BB109","v":{"$error":"#N/A"}},{"$f":"$BC$86","v":-50},null,null,null,null,null,null,12,0.34286293387413025,"","",-999,24.2,-999,48,{"$f":"IF(BL117=\"\",NA(),COUNTIF(BL117:$BL$303,BL117))","v":1},47.160000000000004,0.53774999999999995,{"$error":"#N/A"},48,{"$f":"IF(BQ117=\"\",NA(),COUNTIF(BQ117:$BQ$303,BQ117))","v":1},47.160000000000004,-49.462250000000004,{"$error":"#N/A"},"",{"$f":"IF(BV117=\"\",NA(),COUNTIF(BV117:$BV$303,BV117))","v":{"$error":"#N/A"}},{"$error":"#VALUE!"},{"$error":"#N/A"},{"$error":"#N/A"},"",{"$f":"IF(CA117=\"\",NA(),COUNTIF(CA117:$CA$303,CA117))","v":{"$error":"#N/A"}},{"$error":"#VALUE!"},{"$error":"#N/A"},{"$error":"#N/A"},35,{"$f":"IF(CF117=\"\",NA(),COUNTIF($CF117:CF$303,CF117))","v":1},"",{"$f":"IF(CH117=\"\",NA(),COUNTIF($CH117:CH$303,CH117))","v":{"$error":"#N/A"}},{"$error":"#N/A"},{"$error":"#N/A"},{"$error":"#N/A"}]
[0.39361748078377023,1.4916193785692806,0.96416198175999968,null,null,"",null,null,null,null,26.5,37.536975895990693,0.75149050875638113,3.9321490811058658E-2,-49.248509491243617,null,-999,{"$error":"#N/A"},{"$error":"#N/A"},null,null,-49.248509491243617,null,-2.2045407685048488,3.5939547621771689E-8,null,null,56.107637499999811,15.825137499999812,5.5652217087533407,0.35084709210693993,{"$error":"#N/A"},{"$error":"#N/A"},null,-999,{"$error":"#N/A"},{"$error":"#N/A"},3.5939547621771689E-8,{"$error":"#N/A"},-999,{"$error":"#N/A"},{"$error":"#N/A"},"for points",{"$f":"IF(AND($BD$9,$AR$70,$BD$13,NOT($BD$5),NOT($BD$10)),IF($BD$12,AU114,AU115),NA())","v":{"$error":"#N/A"}},{"$f":"AS117","v":-5.5},100,{"$f":"AX10-AU117","v":5.5},-12,{"$f":"AS96","v":{"$error":"#N/A"}},{"$f":"$AT$72","v":-26},null,null,null,null,null,null,13,0.79595944285392761,"","",-999,24.2,-999,47,{"$f":"IF(BL118=\"\",NA(),COUNTIF(BL118:$BL$303,BL118))","v":1},46.177500000000002,0.53774999999999995,{"$error":"#N/A"},47,{"$f":"IF(BQ118=\"\",NA(),COUNTIF(BQ118:$BQ$303,BQ118))","v":1},46.177500000000002,-49.462250000000004,{"$error":"#N/A"},"",{"$f":"IF(BV118=\"\",NA(),COUNTIF(BV118:$BV$303,BV118))","v":{"$error":"#N/A"}},{"$error":"#VALUE!"},{"$error":"#N/A"},{"$error":"#N/A"},"",{"$f":"IF(CA118=\"\",NA(),COUNTIF(CA118:$CA$303,CA118))","v":{"$error":"#N/A"}},{"$error":"#VALUE!"},{"$error":"#N/A"},{"$error":"#N/A"},34,{"$f":"IF(CF118=\"\",NA(),COUNTIF($CF118:CF$303,CF118))","v":2},"",{"$f":"IF(CH118=\"\",NA(),COUNTIF($CH118:CH$303,CH118))","v":{"$error":"#N/A"}},{"$error":"#N/A"},{"$error":"#N/A"},{"$error":"#N/A"}]
[-0.31282777046316707,0.72096337173177549,-0.76626841500725817,null,null,"",null,null,null,null,27,37.851844108922322,0.89670348645700049,4.3592812421560587E-2,-49.103296513543,null,-999,{"$error":"#N/A"},{"$error":"#N/A"},null,null,-49.103296513543,null,-2.122891110412076,4.2107261128690769E-8,null,null,56.406224999999807,16.123724999999808,5.7772112861248628,0.32850437916404746,{"$error":"#N/A"},{"$error":"#N/A"},null,-999,{"$error":"#N/A"},{"$error":"#N/A"},4.2107261128690769E-8,{"$error":"#N/A"},-999,{"$error":"#N/A"},{"$error":"#N/A"},"labels",{"$f":"IF(AND($BD$9,$AR$70,$BD$13,NOT($BD$5),NOT($BD$10)),AVERAGE(AX3+AU120,AR117),NA())","v":{"$error":"#N/A"}},{"$f":"AS117-AQ120","v":-6.9},null,{"$f":"AX11+AX13+AU117","v":20.5},null,{"$f":"BB110","v":{"$error":"#N/A"}},{"$f":"$BC$86","v":-50},null,null,null,null,null,null,14,0.77601203322410583,"","",-999,24.2,-999,36,{"$f":"IF(BL119=\"\",NA(),COUNTIF(BL119:$BL$303,BL119))","v":2},35.370000000000005,1.6132499999999999,{"$error":"#N/A"},36,{"$f":"IF(BQ119=\"\",NA(),COUNTIF(BQ119:$BQ$303,BQ119))","v":2},35.370000000000005,-48.386750000000006,{"$error":"#N/A"},"",{"$f":"IF(BV119=\"\",NA(),COUNTIF(BV119:$BV$303,BV119))","v":{"$error":"#N/A"}},{"$error":"#VALUE!"},{"$error":"#N/A"},{"$error":"#N/A"},"",{"$f":"IF(CA119=\"\",NA(),COUNTIF(CA119:$CA$303,CA119))","v":{"$error":"#N/A"}},{"$error":"#VALUE!"},{"$error":"#N/A"},{"$error":"#N/A"},17,{"$f":"IF(CF119=\"\",NA(),COUNTIF($CF119:CF$303,CF119))","v":2},"",{"$f":"IF(CH119=\"\",NA(),COUNTIF($CH119:CH$303,CH119))","v":{"$error":"#N/A"}},{"$error":"#N/A"},{"$error":"#N/A"},{"$error":"#N/A"}]
[-0.24243595199194501,1.2404669909440087,-0.59384437768614384,null,null,"",null,null,null,null,27.5,38.163710266247975,1.0628669926933685,4.8357843607694635E-2,-48.937133007306635,null,-999,{"$error":"#N/A"},{"$error":"#N/A"},null,null,-48.937133007306635,null,-2.0412414523193032,4.9548837836791287E-8,null,null,56.704812499999804,16.422312499999805,5.9931632855033294,0.30688475701596918,{"$error":"#N/A"},{"$error":"#N/A"},null,-999,{"$error":"#N/A"},{"$error":"#N/A"},4.9548837836791287E-8,{"$error":"#N/A"},-999,{"$error":"#N/A"},{"$error":"#N/A"},1.4,{"$f":"IF(AND($BD$9,$AR$70,$BD$13,NOT($BD$5),NOT($BD$10)),AR118+(AY3-AR118)/3,NA())","v":{"$error":"#N/A"}},{"$f":"AS119","v":-6.9},null,0,null,null,null,null,null,null,null,null,null,15,0.42039749026298523,"","",-999,24.2,-999,37,{"$f":"IF(BL120=\"\",NA(),COUNTIF(BL120:$BL$303,BL120))","v":1},36.352499999999999,0.53774999999999995,{"$error":"#N/A"},37,{"$f":"IF(BQ120=\"\",NA(),COUNTIF(BQ120:$BQ$303,BQ120))","v":1},36.352499999999999,-49.462250000000004,{"$error":"#N/A"},"",{"$f":"IF(BV120=\"\",NA(),COUNTIF(BV120:$BV$303,BV120))","v":{"$error":"#N/A"}},{"$error":"#VALUE!"},{"$error":"#N/A"},{"$error":"#N/A"},"",{"$f":"IF(CA120=\"\",NA(),COUNTIF(CA120:$CA$303,CA120))","v":{"$error":"#N/A"}},{"$error":"#VALUE!"},{"$error":"#N/A"},{"$error":"#N/A"},28,{"$f":"IF(CF120=\"\",NA(),COUNTIF($CF120:CF$303,CF120))","v":1},"",{"$f":"IF(CH120=\"\",NA(),COUNTIF($CH120:CH$303,CH120))","v":{"$error":"#N/A"}},{"$error":"#N/A"},{"$error":"#N/A"},{"$error":"#N/A"}]
[-0.27597602306842278,0.72924325518312594,-0.67600043776019503,null,null,"",null,null,null,null,28,38.471785489354716,1.2514505273174059,5.3672007747980664E-2,-48.748549472682598,null,-999,{"$error":"#N/A"},{"$error":"#N/A"},null,null,-48.748549472682598,null,-1.9595917942265306,5.8571734552861327E-8,null,null,57.0033999999998,16.720899999999801,6.2130777068887406,0.28603427324870234,{"$error":"#N/A"},{"$error":"#N/A"},null,-999,{"$error":"#N/A"},{"$error":"#N/A"},5.8571734552861327E-8,{"$error":"#N/A"},-999,{"$error":"#N/A"},{"$error":"#N/A"},null,null,null,null,null,null,null,null,null,null,null,null,null,null,16,0.36779722571372986,"","",-999,24.2,-999,36,{"$f":"IF(BL121=\"\",NA(),COUNTIF(BL121:$BL$303,BL121))","v":1},35.370000000000005,0.53774999999999995,{"$error":"#N/A"},36,{"$f":"IF(BQ121=\"\",NA(),COUNTIF(BQ121:$BQ$303,BQ121))","v":1},35.370000000000005,-49.462250000000004,{"$error":"#N/A"},"",{"$f":"IF(BV121=\"\",NA(),COUNTIF(BV121:$BV$303,BV121))","v":{"$error":"#N/A"}},{"$error":"#VALUE!"},{"$error":"#N/A"},{"$error":"#N/A"},"",{"$f":"IF(CA121=\"\",NA(),COUNTIF(CA121:$CA$303,CA121))","v":{"$error":"#N/A"}},{"$error":"#VALUE!"},{"$error":"#N/A"},{"$error":"#N/A"},17,{"$f":"IF(CF121=\"\",NA(),COUNTIF($CF121:CF$303,CF121))","v":1},"",{"$f":"IF(CH121=\"\",NA(),COUNTIF($CH121:CH$303,CH121))","v":{"$error":"#N/A"}},{"$error":"#N/A"},{"$error":"#N/A"},{"$error":"#N/A"}]
[-0.47277482612622085,1.1871273247931968,-1.1580570872422777,null,null,"",null,null,null,null,28.5,38.775271490642979,1.4637036454343004,5.9595643372414596E-2,-48.5362963545657,null,-999,{"$error":"#N/A"},{"$error":"#N/A"},null,null,-48.5362963545657,null,-1.877942136133758,6.9568247845399021E-8,null,null,57.301987499999797,17.019487499999798,6.4369545502810963,0.26599142649144292,{"$error":"#N/A"},{"$error":"#N/A"},null,-999,{"$error":"#N/A"},{"$error":"#N/A"},6.9568247845399021E-8,{"$error":"#N/A"},-999,{"$error":"#N/A"},{"$error":"#N/A"},null,"Panel 1 y axis",null,"Highlighted points",null,null,null,null,null,null,null,null,null,null,17,3.8501232862472534E-2,"","",-999,24.2,-999,33,{"$f":"IF(BL122=\"\",NA(),COUNTIF(BL122:$BL$303,BL122))","v":1},32.422499999999999,0.53774999999999995,{"$error":"#N/A"},33,{"$f":"IF(BQ122=\"\",NA(),COUNTIF(BQ122:$BQ$303,BQ122))","v":1},32.422499999999999,-49.462250000000004,{"$error":"#N/A"},"",{"$f":"IF(BV122=\"\",NA(),COUNTIF(BV122:$BV$303,BV122))","v":{"$error":"#N/A"}},{"$error":"#VALUE!"},{"$error":"#N/A"},{"$error":"#N/A"},"",{"$f":"IF(CA122=\"\",NA(),COUNTIF(CA122:$CA$303,CA122))","v":{"$error":"#N/A"}},{"$error":"#VALUE!"},{"$error":"#N/A"},{"$error":"#N/A"},27,{"$f":"IF(CF122=\"\",NA(),COUNTIF($CF122:CF$303,CF122))","v":1},"",{"$f":"IF(CH122=\"\",NA(),COUNTIF($CH122:CH$303,CH122))","v":{"$error":"#N/A"}},{"$error":"#N/A"},{"$error":"#N/A"},{"$error":"#N/A"}]
[0.74279281599859848,0.98129668687581095,1.8194633838015997,null,null,"",null,null,null,null,29,39.073363907636477,1.7005810164717881,6.6194002037843119E-2,-48.299418983528213,null,-999,{"$error":"#N/A"},{"$error":"#N/A"},null,null,-48.299418983528213,null,-1.7962924780409855,8.3041788017871491E-8,null,null,57.600574999999793,17.318074999999794,6.6647938156803974,0.24678713637902958,{"$error":"#N/A"},{"$error":"#N/A"},null,-999,{"$error":"#N/A"},{"$error":"#N/A"},8.3041788017871491E-8,{"$error":"#N/A"},-999,{"$error":"#N/A"},{"$error":"#N/A"},0,{"$f":"$AX$3+$AZ$3*AQ123","v":0},{"$f":"$AX$6","v":27},"axis H0",{"$f":"AU125","v":{"$error":"#N/A"}},26,null,null,null,null,null,null,null,null,18,0.82914075255393982,"","",-999,24.2,-999,52,{"$f":"IF(BL123=\"\",NA(),COUNTIF(BL123:$BL$303,BL123))","v":1},51.09,0.53774999999999995,{"$error":"#N/A"},52,{"$f":"IF(BQ123=\"\",NA(),COUNTIF(BQ123:$BQ$303,BQ123))","v":1},51.09,-49.462250000000004,{"$error":"#N/A"},"",{"$f":"IF(BV123=\"\",NA(),COUNTIF(BV123:$BV$303,BV123))","v":{"$error":"#N/A"}},{"$error":"#VALUE!"},{"$error":"#N/A"},{"$error":"#N/A"},"",{"$f":"IF(CA123=\"\",NA(),COUNTIF(CA123:$CA$303,CA123))","v":{"$error":"#N/A"}},{"$error":"#VALUE!"},{"$error":"#N/A"},{"$error":"#N/A"},22,{"$f":"IF(CF123=\"\",NA(),COUNTIF($CF123:CF$303,CF123))","v":1},"",{"$f":"IF(CH123=\"\",NA(),COUNTIF($CH123:CH$303,CH123))","v":{"$error":"#N/A"}},{"$error":"#N/A"},{"$error":"#N/A"},{"$error":"#N/A"}]
[-0.17748813642497044,0.85672432790125275,-0.43475536963866623,null,null,"",null,null,null,null,29.5,39.365255761323745,1.9626651115299851,7.3537095716891002E-2,-48.037334888470014,null,-999,{"$error":"#N/A"},{"$error":"#N/A"},null,null,-48.037334888470014,null,-1.7146428199482129,9.9642118892206211E-8,null,null,57.89916249999979,17.616662499999791,6.8965955030866413,0.2284449353302401,{"$error":"#N/A"},{"$error":"#N/A"},null,-999,{"$error":"#N/A"},{"$error":"#N/A"},9.9642118892206211E-8,{"$error":"#N/A"},-999,{"$error":"#N/A"},{"$error":"#N/A"},1,10,27,"axis H1",{"$f":"AU126","v":{"$error":"#N/A"}},{"$f":"AV123","v":26},null,null,null,null,null,null,null,null,19,0.30436918139457703,"","",-999,24.2,-999,38,{"$f":"IF(BL124=\"\",NA(),COUNTIF(BL124:$BL$303,BL124))","v":1},37.335000000000001,0.53774999999999995,{"$error":"#N/A"},38,{"$f":"IF(BQ124=\"\",NA(),COUNTIF(BQ124:$BQ$303,BQ124))","v":1},37.335000000000001,-49.462250000000004,{"$error":"#N/A"},"",{"$f":"IF(BV124=\"\",NA(),COUNTIF(BV124:$BV$303,BV124))","v":{"$error":"#N/A"}},{"$error":"#VALUE!"},{"$error":"#N/A"},{"$error":"#N/A"},"",{"$f":"IF(CA124=\"\",NA(),COUNTIF(CA124:$CA$303,CA124))","v":{"$error":"#N/A"}},{"$error":"#VALUE!"},{"$error":"#N/A"},{"$error":"#N/A"},20,{"$f":"IF(CF124=\"\",NA(),COUNTIF($CF124:CF$303,CF124))","v":2},"",{"$f":"IF(CH124=\"\",NA(),COUNTIF($CH124:CH$303,CH124))","v":{"$error":"#N/A"}},{"$error":"#N/A"},{"$error":"#N/A"},{"$error":"#N/A"}]
[-0.43757695485333725,0.88363497851776596,-1.0718402625915477,null,null,"",null,null,null,null,30,39.650141018685147,2.2500894411889245,8.1699343327682084E-2,-47.749910558811074,null,-999,{"$error":"#N/A"},{"$error":"#N/A"},null,null,-47.749910558811074,null,-1.6329931618554403,1.2021304774840444E-7,null,null,58.197749999999786,17.915249999999787,7.1323596124998305,0.21098121432641859,{"$error":"#N/A"},{"$error":"#N/A"},null,-999,{"$error":"#N/A"},{"$error":"#N/A"},1.2021304774840444E-7,{"$error":"#N/A"},-999,{"$error":"#N/A"},{"$error":"#N/A"},2,20,27,"mid H0",{"$f":"IF(AND(NOT($BB$12),$BD$3,$BD$2,AR70),BN2,NA())","v":{"$error":"#N/A"}},{"$f":"AX15+AX14+1","v":-25},null,null,null,null,null,null,null,null,20,0.77074512839317322,"","",-999,24.2,-999,34,{"$f":"IF(BL125=\"\",NA(),COUNTIF(BL125:$BL$303,BL125))","v":1},33.405000000000001,0.53774999999999995,{"$error":"#N/A"},34,{"$f":"IF(BQ125=\"\",NA(),COUNTIF(BQ125:$BQ$303,BQ125))","v":1},33.405000000000001,-49.462250000000004,{"$error":"#N/A"},"",{"$f":"IF(BV125=\"\",NA(),COUNTIF(BV125:$BV$303,BV125))","v":{"$error":"#N/A"}},{"$error":"#VALUE!"},{"$error":"#N/A"},{"$error":"#N/A"},"",{"$f":"IF(CA125=\"\",NA(),COUNTIF(CA125:$CA$303,CA125))","v":{"$error":"#N/A"}},{"$error":"#VALUE!"},{"$error":"#N/A"},{"$error":"#N/A"},20,{"$f":"IF(CF125=\"\",NA(),COUNTIF($CF125:CF$303,CF125))","v":1},"",{"$f":"IF(CH125=\"\",NA(),COUNTIF($CH125:CH$303,CH125))","v":{"$error":"#N/A"}},{"$error":"#N/A"},{"$error":"#N/A"},{"$error":"#N/A"}]
[-4.7482525946620203E-2,0.92483936330311056,-0.11630796026768193,null,null,"",null,null,null,null,30.5,39.927218238020828,2.5624657206449841,9.0758981948456788E-2,-47.437534279355013,null,-999,{"$error":"#N/A"},{"$error":"#N/A"},null,null,-47.437534279355013,null,-1.5513435037626677,1.458571698156893E-7,null,null,58.496337499999782,18.213837499999784,7.3720861439199643,0.19440554102074001,{"$error":"#N/A"},{"$error":"#N/A"},null,-999,{"$error":"#N/A"},{"$error":"#N/A"},1.458571698156893E-7,{"$error":"#N/A"},-999,{"$error":"#N/A"},{"$error":"#N/A"},3,30,27,"mid H!",{"$f":"IF(AND(NOT($BB$13),$BD$4,$BD$2,AR70),BX2,NA())","v":{"$error":"#N/A"}},{"$f":"AV125","v":-25},null,null,null,null,null,null,null,null,21,0.30361840128898621,"","",-999,24.2,-999,40,{"$f":"IF(BL126=\"\",NA(),COUNTIF(BL126:$BL$303,BL126))","v":1},39.300000000000004,0.53774999999999995,{"$error":"#N/A"},40,{"$f":"IF(BQ126=\"\",NA(),COUNTIF(BQ126:$BQ$303,BQ126))","v":1},39.300000000000004,-49.462250000000004,{"$error":"#N/A"},"",{"$f":"IF(BV126=\"\",NA(),COUNTIF(BV126:$BV$303,BV126))","v":{"$error":"#N/A"}},{"$error":"#VALUE!"},{"$error":"#N/A"},{"$error":"#N/A"},"",{"$f":"IF(CA126=\"\",NA(),COUNTIF(CA126:$CA$303,CA126))","v":{"$error":"#N/A"}},{"$error":"#VALUE!"},{"$error":"#N/A"},{"$error":"#N/A"},21,{"$f":"IF(CF126=\"\",NA(),COUNTIF($CF126:CF$303,CF126))","v":1},"",{"$f":"IF(CH126=\"\",NA(),COUNTIF($CH126:CH$303,CH126))","v":{"$error":"#N/A"}},{"$error":"#N/A"},{"$error":"#N/A"},{"$error":"#N/A"}]
[-8.0877900994595298E-2,1.4995427397167029,-0.19810958890409408,null,null,"",null,null,null,null,31,40.195694274515262,2.898818674553322,0.10079717464332796,-47.101181325446674,null,-999,{"$error":"#N/A"},{"$error":"#N/A"},null,null,-47.101181325446674,null,-1.4696938456698951,1.780243407488191E-7,null,null,58.794924999999779,18.51242499999978,7.6157750973470417,0.17872104854461474,{"$error":"#N/A"},{"$error":"#N/A"},null,-999,{"$error":"#N/A"},{"$error":"#N/A"},1.780243407488191E-7,{"$error":"#N/A"},-999,{"$error":"#N/A"},{"$error":"#N/A"},4,40,27,"low H0",{"$f":"IF(AND(NOT($BB$12),$BD$3,$BD$2,AR70,BD10),BS2,NA())","v":{"$error":"#N/A"}},{"$f":"$AX$15","v":-50},null,null,null,null,null,null,null,null,22,0.95992907881736755,"","",-999,24.2,-999,39,{"$f":"IF(BL127=\"\",NA(),COUNTIF(BL127:$BL$303,BL127))","v":1},38.317500000000003,0.53774999999999995,{"$error":"#N/A"},39,{"$f":"IF(BQ127=\"\",NA(),COUNTIF(BQ127:$BQ$303,BQ127))","v":1},38.317500000000003,-49.462250000000004,{"$error":"#N/A"},"",{"$f":"IF(BV127=\"\",NA(),COUNTIF(BV127:$BV$303,BV127))","v":{"$error":"#N/A"}},{"$error":"#VALUE!"},{"$error":"#N/A"},{"$error":"#N/A"},"",{"$f":"IF(CA127=\"\",NA(),COUNTIF(CA127:$CA$303,CA127))","v":{"$error":"#N/A"}},{"$error":"#VALUE!"},{"$error":"#N/A"},{"$error":"#N/A"},34,{"$f":"IF(CF127=\"\",NA(),COUNTIF($CF127:CF$303,CF127))","v":1},"",{"$f":"IF(CH127=\"\",NA(),COUNTIF($CH127:CH$303,CH127))","v":{"$error":"#N/A"}},{"$error":"#N/A"},{"$error":"#N/A"},{"$error":"#N/A"}]
[null,null,"",null,null,"",null,null,null,null,31.5,40.454788022468421,3.2575323700976626,{"$f":"IF(K128>$O$9,1-TDIST((K128-$O$9)/$BB$9,$K$14-1,1),TDIST(($O$9-K128)/$BB$9,$K$14-1,1))","v":0.11189677878537901},-46.742467629902336,null,-999,{"$error":"#N/A"},{"$error":"#N/A"},null,null,-46.742467629902336,null,-1.3880441875771226,{"$f":"nct(X128,$AW$136,$AW$137)","v":2.1863345588522885E-7},null,null,59.093512499999775,18.811012499999777,7.8634264727810637,0.1639248288349571,{"$error":"#N/A"},{"$error":"#N/A"},null,-999,{"$error":"#N/A"},{"$error":"#N/A"},{"$f":"Y128","v":2.1863345588522885E-7},{"$error":"#N/A"},-999,{"$error":"#N/A"},{"$error":"#N/A"},5,50,27,"low H1",{"$f":"IF(AND(NOT($BB$13),$BD$4,$BD$2,AR70,BD10),CC2,NA())","v":{"$error":"#N/A"}},{"$f":"AV127","v":-50},null,null,null,null,null,null,null,null,23,0.26725170016288757,"","",-999,24.2,-999,"",{"$f":"IF(BL128=\"\",NA(),COUNTIF(BL128:$BL$303,BL128))","v":{"$error":"#N/A"}},{"$error":"#VALUE!"},{"$error":"#N/A"},{"$error":"#N/A"},"",{"$f":"IF(BQ128=\"\",NA(),COUNTIF(BQ128:$BQ$303,BQ128))","v":{"$error":"#N/A"}},{"$error":"#VALUE!"},{"$error":"#N/A"},{"$error":"#N/A"},"",{"$f":"IF(BV128=\"\",NA(),COUNTIF(BV128:$BV$303,BV128))","v":{"$error":"#N/A"}},{"$error":"#VALUE!"},{"$error":"#N/A"},{"$error":"#N/A"},"",{"$f":"IF(CA128=\"\",NA(),COUNTIF(CA128:$CA$303,CA128))","v":{"$error":"#N/A"}},{"$error":"#VALUE!"},{"$error":"#N/A"},{"$error":"#N/A"},"",{"$f":"IF(CF128=\"\",NA(),COUNTIF($CF128:CF$303,CF128))","v":{"$error":"#N/A"}},"",{"$f":"IF(CH128=\"\",NA(),COUNTIF($CH128:CH$303,CH128))","v":{"$error":"#N/A"}},{"$error":"#N/A"},{"$error":"#N/A"},{"$error":"#N/A"}]
[null,null,"",null,null,"",null,null,null,null,32,{"$f":"IF(NOT($BB$12),$AX$6+$AX$5*$X$62*NORMDIST(K129,$O$9,$R$11,FALSE),-999)","v":40.703734169806147},3.636311948549932,0.12414070427450419,-46.363688051450069,null,{"$f":"IF($BB$12,$AX$6+$AX$5*$X$62*NORMDIST(K129,$O$9,$R$11,FALSE),-999)","v":-999},{"$error":"#N/A"},{"$error":"#N/A"},null,null,-46.363688051450069,null,{"$f":"X128+$AW$140","v":-1.30639452948435},2.7024082938394241E-7,null,null,59.392099999999772,19.109599999999773,8.1150402702220283,0.15000846528219419,{"$error":"#N/A"},{"$error":"#N/A"},null,{"$f":"IF(NOT($BB$13),$AX$6+$AX$5*$X$62*NORMDIST(K129,$V$9,$R$11,FALSE),-999)","v":-999},{"$f":"IF(AND(NOT($BB$13),$BD$4,$BD$9),$AX$9+$AM$62*NORMDIST(K129,$V$9,$R$11/SQRT($K$14),FALSE),NA())","v":{"$error":"#N/A"}},{"$error":"#N/A"},2.7024082938394241E-7,{"$f":"IF(AND(NOT($BB$13),$BD$10,$BD$4,$BD$9,$BB$25),IF($BD$12,$AX$15+$AM$62*NORMDIST(K129,$V$9,$R$11/SQRT($K$14),FALSE),$AX$15+$AM$62*(AL130-AL128)/(2*$BB$1)),NA())","v":{"$error":"#N/A"}},{"$f":"IF(AND($BB$4,$BB$13),$AX$6+$AX$5*$X$62*NORMDIST(K129,$V$9,$R$11,FALSE),-999)","v":-999},{"$f":"IF(AND($BB$4,$BD$6,$BB$13,$BD$4,$BD$9),$AX$9+$AM$62*NORMDIST(K129,$V$9,$R$11/SQRT($K$14),FALSE),NA())","v":{"$error":"#N/A"}},{"$f":"IF(AND($BB$4,$BD$10,$BB$13,$BD$4,$BD$9,$BB$25),IF($BD$12,$AX$15+$AM$62*NORMDIST(K129,$V$9,$R$11/SQRT($K$14),FALSE),$AX$15+$AM$62*(AL130-AL128)/(2*$BB$1)),NA())","v":{"$error":"#N/A"}},6,60,27,null,null,null,null,null,null,null,null,null,null,null,24,0.47590097784996033,"","",-999,24.2,-999,"",{"$f":"IF(BL129=\"\",NA(),COUNTIF(BL129:$BL$303,BL129))","v":{"$error":"#N/A"}},{"$error":"#VALUE!"},{"$error":"#N/A"},{"$error":"#N/A"},"",{"$f":"IF(BQ129=\"\",NA(),COUNTIF(BQ129:$BQ$303,BQ129))","v":{"$error":"#N/A"}},{"$error":"#VALUE!"},{"$error":"#N/A"},{"$error":"#N/A"},"",{"$f":"IF(BV129=\"\",NA(),COUNTIF(BV129:$BV$303,BV129))","v":{"$error":"#N/A"}},{"$error":"#VALUE!"},{"$error":"#N/A"},{"$error":"#N/A"},"",{"$f":"IF(CA129=\"\",NA(),COUNTIF(CA129:$CA$303,CA129))","v":{"$error":"#N/A"}},{"$error":"#VALUE!"},{"$error":"#N/A"},{"$error":"#N/A"},"",{"$f":"IF(CF129=\"\",NA(),COUNTIF($CF129:CF$303,CF129))","v":{"$error":"#N/A"}},"",{"$f":"IF(CH129=\"\",NA(),COUNTIF($CH129:CH$303,CH129))","v":{"$error":"#N/A"}},{"$error":"#N/A"},{"$error":"#N/A"},{"$error":"#N/A"}]
[null,null,"",null,null,"",null,null,null,null,{"$f":"K129+$BB$1","v":32.5},40.941786939866262,{"$f":"IF(AND(NOT($BB$12),$BB$6,$BD$3,$BD$9),$AX$9+$O$62*NORMDIST(K130,$O$9,$R$11/SQRT($K$14),FALSE),NA())","v":4.0321643864992902},0.13760986601730157,{"$f":"IF(AND(NOT($BB$12),$BD$10,$BD$3,$BD$9),IF($BD$12,V130,$AX$15+$O$62*(N131-N129)/(2*$BB$1)),NA())","v":-45.967835613500711},null,-999,{"$f":"IF(AND($BB$12,$BB$6,$BD$3,$BD$9),$AX$9+$O$62*NORMDIST(K130,$O$9,$R$11/SQRT($K$14),FALSE),NA())","v":{"$error":"#N/A"}},{"$f":"IF(AND($BB$12,$BD$10,$BD$3,$BD$9),IF($BD$12,$AX$15+$O$62*NORMDIST(K130,$O$9,$R$11/SQRT($K$14),FALSE),$AX$15+$O$62*(N131-N129)/(2*$BB$1)),NA())","v":{"$error":"#N/A"}},null,null,{"$f":"IF(AND(NOT($BB$12),$BD$3,$BD$9),$AX$15+$O$62*NORMDIST(K130,$O$9,$R$11/SQRT($K$14),FALSE),NA())","v":-45.967835613500711},null,-1.2247448713915774,3.3627462108933811E-7,null,null,59.690687499999768,{"$f":"AB130-$AA$63","v":19.408187499999769},{"$f":"AC130^2/$AA$66","v":8.3706164896699402},{"$f":"CHIDIST(AD130,$K$16)","v":0.13695849015408343},{"$error":"#N/A"},{"$error":"#N/A"},null,-999,{"$error":"#N/A"},{"$f":"IF($BD$6,AJ130,NA())","v":{"$error":"#N/A"}},3.3627462108933811E-7,{"$error":"#N/A"},-999,{"$error":"#N/A"},{"$error":"#N/A"},7,70,27,null,"Panel labels",null,null,null,null,null,null,null,null,null,25,0.96521231532096863,"","",-999,24.2,-999,"",{"$f":"IF(BL130=\"\",NA(),COUNTIF(BL130:$BL$303,BL130))","v":{"$error":"#N/A"}},{"$error":"#VALUE!"},{"$error":"#N/A"},{"$error":"#N/A"},"",{"$f":"IF(BQ130=\"\",NA(),COUNTIF(BQ130:$BQ$303,BQ130))","v":{"$error":"#N/A"}},{"$error":"#VALUE!"},{"$error":"#N/A"},{"$error":"#N/A"},"",{"$f":"IF(BV130=\"\",NA(),COUNTIF(BV130:$BV$303,BV130))","v":{"$error":"#N/A"}},{"$error":"#VALUE!"},{"$error":"#N/A"},{"$error":"#N/A"},"",{"$f":"IF(CA130=\"\",NA(),COUNTIF(CA130:$CA$303,CA130))","v":{"$error":"#N/A"}},{"$error":"#VALUE!"},{"$error":"#N/A"},{"$error":"#N/A"},"",{"$f":"IF(CF130=\"\",NA(),COUNTIF($CF130:CF$303,CF130))","v":{"$error":"#N/A"}},"",{"$f":"IF(CH130=\"\",NA(),COUNTIF($CH130:CH$303,CH130))","v":{"$error":"#N/A"}},{"$error":"#N/A"},{"$error":"#N/A"},{"$error":"#N/A"}]
[null,null,"",null,null,"",null,null,null,null,33,41.168223795051567,4.441401443489668,0.15238066537092682,-45.558598556510333,null,-999,{"$error":"#N/A"},{"$error":"#N/A"},null,null,-45.558598556510333,null,-1.1430952132988048,4.2136295669512472E-7,null,null,{"$f":"AB130+$AA$65","v":59.989274999999765},19.706774999999766,8.6301551311247948,0.12475691839552941,{"$f":"IF(AND(IF($BB$5=1,$A$4<>\"\",$D$4<>\"\"),NOT($BD$12),$BD$5,$BD$4,$BD$9),$AX$12+$AA$67*(AE130-AE132)/(2*$AA$65),NA())","v":{"$error":"#N/A"}},{"$f":"IF(AND(IF($BB$5=1,$A$4<>\"\",$D$4<>\"\"),$BD$12,$BD$5,$BD$4,$BD$9),$AX$12+$AA$67*(AE130-AE132)/(2*$AA$65),NA())","v":{"$error":"#N/A"}},null,-999,{"$error":"#N/A"},{"$error":"#N/A"},4.2136295669512472E-7,{"$error":"#N/A"},-999,{"$error":"#N/A"},{"$error":"#N/A"},8,80,27,null,8,2.6599999999999999E-2,null,null,null,null,null,null,null,null,26,0.70096978545188904,"","",-999,24.2,-999,"",{"$f":"IF(BL131=\"\",NA(),COUNTIF(BL131:$BL$303,BL131))","v":{"$error":"#N/A"}},{"$error":"#VALUE!"},{"$error":"#N/A"},{"$error":"#N/A"},"",{"$f":"IF(BQ131=\"\",NA(),COUNTIF(BQ131:$BQ$303,BQ131))","v":{"$error":"#N/A"}},{"$error":"#VALUE!"},{"$error":"#N/A"},{"$error":"#N/A"},"",{"$f":"IF(BV131=\"\",NA(),COUNTIF(BV131:$BV$303,BV131))","v":{"$error":"#N/A"}},{"$error":"#VALUE!"},{"$error":"#N/A"},{"$error":"#N/A"},"",{"$f":"IF(CA131=\"\",NA(),COUNTIF(CA131:$CA$303,CA131))","v":{"$error":"#N/A"}},{"$error":"#VALUE!"},{"$error":"#N/A"},{"$error":"#N/A"},"",{"$f":"IF(CF131=\"\",NA(),COUNTIF($CF131:CF$303,CF131))","v":{"$error":"#N/A"}},"",{"$f":"IF(CH131=\"\",NA(),COUNTIF($CH131:CH$303,CH131))","v":{"$error":"#N/A"}},{"$error":"#N/A"},{"$error":"#N/A"},{"$error":"#N/A"}]
[null,null,"",null,null,"",null,null,null,null,33.5,41.382349076756149,4.8596672430775953,0.16852203802455651,-45.140332756922405,null,-999,{"$error":"#N/A"},{"$error":"#N/A"},null,null,-45.140332756922405,null,-1.0614455552060322,5.317958183899474E-7,null,null,60.287862499999761,20.005362499999762,8.893656194586594,0.11338177973306002,{"$error":"#N/A"},{"$error":"#N/A"},null,-999,{"$error":"#N/A"},{"$error":"#N/A"},5.317958183899474E-7,{"$error":"#N/A"},-999,{"$error":"#N/A"},{"$error":"#N/A"},9,90,27,null,8,12,0.3,null,null,null,null,null,null,null,27,0.96712610125541687,"","",-999,24.2,-999,{"$f":"IF(A132=\"\",\"\",ROUND(($O$9+$R$11*A132)/$BA$34,0))","v":""},{"$f":"IF(BL132=\"\",NA(),COUNTIF(BL132:$BL$303,BL132))","v":{"$error":"#N/A"}},{"$f":"BL132*$BA$34","v":{"$error":"#VALUE!"}},{"$f":"IF(AND(NOT($BB$12),$BB$6,$BD$3,$BD$8),$AX$9-$BA$33/2+BM132*$BA$33,NA())","v":{"$error":"#N/A"}},{"$f":"IF(AND($BB$12,$BB$6,$BD$3,$BD$8),$AX$9-$BA$33/2+BM132*$BA$33,NA())","v":{"$error":"#N/A"}},{"$f":"IF(C132=\"\",\"\",ROUND(($O$9+C132*$BB$9)/$BA$34,0))","v":""},{"$f":"IF(BQ132=\"\",NA(),COUNTIF(BQ132:$BQ$303,BQ132))","v":{"$error":"#N/A"}},{"$f":"BQ132*$BA$34","v":{"$error":"#VALUE!"}},{"$error":"#N/A"},{"$error":"#N/A"},{"$f":"IF(D132=\"\",\"\",ROUND(($V$9+$R$11*D132)/$BA$34,0))","v":""},{"$f":"IF(BV132=\"\",NA(),COUNTIF(BV132:$BV$303,BV132))","v":{"$error":"#N/A"}},{"$f":"BV132*$BA$34","v":{"$error":"#VALUE!"}},{"$f":"IF(AND(NOT($BB$13),$BD$6,$BD$4,$BD$8),$AX$9-$BA$33/2+BW132*$BA$33,NA())","v":{"$error":"#N/A"}},{"$f":"IF(AND($BB$4,$BD$6,$BB$13,$BD$4,$BD$8),$AX$9-$BA$33/2+BW132*$BA$33,NA())","v":{"$error":"#N/A"}},{"$f":"IF(F132=\"\",\"\",ROUND(($O$9+F132*$BB$9)/$BA$34,0))","v":""},{"$f":"IF(CA132=\"\",NA(),COUNTIF(CA132:$CA$303,CA132))","v":{"$error":"#N/A"}},{"$f":"CA132*$BA$34","v":{"$error":"#VALUE!"}},{"$error":"#N/A"},{"$error":"#N/A"},"",{"$f":"IF(CF132=\"\",NA(),COUNTIF($CF132:CF$303,CF132))","v":{"$error":"#N/A"}},"",{"$f":"IF(CH132=\"\",NA(),COUNTIF($CH132:CH$303,CH132))","v":{"$error":"#N/A"}},{"$error":"#N/A"},{"$error":"#N/A"},{"$error":"#N/A"}]
[null,null,{"$f":"IF(AND(A133<>\"\",$K$14>1),(($O$9+$R$11*A133)-$O$9)/IF($BD$12,$BB$9,$R$11*B133/SQRT($K$14)),\"\")","v":""},null,null,{"$f":"IF(AND(D133<>\"\",$K$14>1),(($V$9+$R$11*D133)-$O$9)/IF($BD$12,$BB$9,$R$11*E133/SQRT($K$14)),\"\")","v":""},null,null,null,null,34,41.583497556011601,5.2819920058267043,0.18609210228196654,-44.718007994173298,null,-999,{"$error":"#N/A"},{"$error":"#N/A"},null,null,-44.718007994173298,null,-0.97979589711325965,6.7617896919553271E-7,null,null,60.586449999999758,20.303949999999759,9.1611196800553376,0.10280765251491167,{"$error":"#N/A"},{"$error":"#N/A"},null,-999,{"$error":"#N/A"},{"$error":"#N/A"},6.7617896919553271E-7,{"$error":"#N/A"},-999,{"$error":"#N/A"},{"$error":"#N/A"},10,100,27,"z or t",0,{"$f":"IF($BD$10, $AX$15+$AW$133+AW132,NA())","v":-39.700000000000003},10,null,null,null,null,null,null,null,28,0.58519348502159119,"","",-999,24.2,-999,"",{"$f":"IF(BL133=\"\",NA(),COUNTIF(BL133:$BL$303,BL133))","v":{"$error":"#N/A"}},{"$error":"#VALUE!"},{"$error":"#N/A"},{"$error":"#N/A"},"",{"$f":"IF(BQ133=\"\",NA(),COUNTIF(BQ133:$BQ$303,BQ133))","v":{"$error":"#N/A"}},{"$error":"#VALUE!"},{"$f":"IF(AND(NOT($BB$12),$BD$10,$BD$3,$BD$8),$AX$15-$BA$33/2+BR133*$BA$33,NA())","v":{"$error":"#N/A"}},{"$f":"IF(AND($BB$12,$BD$10,$BD$3,$BD$8),$AX$15-$BA$33/2+BR133*$BA$33,NA())","v":{"$error":"#N/A"}},"",{"$f":"IF(BV133=\"\",NA(),COUNTIF(BV133:$BV$303,BV133))","v":{"$error":"#N/A"}},{"$error":"#VALUE!"},{"$error":"#N/A"},{"$error":"#N/A"},"",{"$f":"IF(CA133=\"\",NA(),COUNTIF(CA133:$CA$303,CA133))","v":{"$error":"#N/A"}},{"$error":"#VALUE!"},{"$f":"IF(AND(NOT($BB$13),$BD$10,$BD$4,$BD$8),$AX$15-$BA$33/2+CB133*$BA$33,NA())","v":{"$error":"#N/A"}},{"$f":"IF(AND($BB$4,$BD$10,$BB$13,$BD$4,$BD$8),$AX$15-$BA$33/2+CB133*$BA$33,NA())","v":{"$error":"#N/A"}},{"$f":"IF(B133=\"\",\"\",ROUND(($R$11*B133)/$BA$37,0))","v":""},{"$f":"IF(CF133=\"\",NA(),COUNTIF($CF133:CF$303,CF133))","v":{"$error":"#N/A"}},{"$f":"IF(E133=\"\",\"\",ROUND(($R$11*E133)/$BA$37,0))","v":""},{"$f":"IF(CH133=\"\",NA(),COUNTIF($CH133:CH$303,CH133))","v":{"$error":"#N/A"}},{"$f":"$AX$35+IF($BB$5=1,CF133,CH133)*$BA$37","v":{"$error":"#N/A"}},{"$f":"IF(AND(NOT($BD$12),$BD$5,$BD$4,$BD$8),$AX$12-$BA$36/2+IF($BB$5=1,CG133,CI133)*$BA$36,NA())","v":{"$error":"#N/A"}},{"$f":"IF(AND($BD$12,$BD$5,$BD$4,$BD$8),$AX$12-$BA$36/2+IF($BB$5=1,CG133,CI133)*$BA$36,NA())","v":{"$error":"#N/A"}}]
[null,null,"",null,null,"",null,null,null,null,34.5,41.771037869570208,5.7028723391543572,0.20513449358880137,-44.297127660845646,null,-999,{"$error":"#N/A"},{"$error":"#N/A"},null,null,-44.297127660845646,null,-0.89814623902048707,8.6636376621498177E-7,null,null,60.885037499999754,20.602537499999755,9.4325455875310258,9.3006191319354656E-2,{"$error":"#N/A"},{"$error":"#N/A"},null,-999,{"$error":"#N/A"},{"$error":"#N/A"},8.6636376621498177E-7,{"$error":"#N/A"},-999,{"$error":"#N/A"},{"$error":"#N/A"},null,null,null,"labels",3.2,{"$f":"IF($BD$10, $AX$15+$AW$133,NA())","v":-40},{"$f":"IF(BD12,\"z\",\"t\")","v":"z"},null,null,null,null,null,null,null,29,0.4577312171459198,"","",-999,24.2,-999,"",{"$f":"IF(BL134=\"\",NA(),COUNTIF(BL134:$BL$303,BL134))","v":{"$error":"#N/A"}},{"$error":"#VALUE!"},{"$error":"#N/A"},{"$error":"#N/A"},"",{"$f":"IF(BQ134=\"\",NA(),COUNTIF(BQ134:$BQ$303,BQ134))","v":{"$error":"#N/A"}},{"$error":"#VALUE!"},{"$error":"#N/A"},{"$error":"#N/A"},"",{"$f":"IF(BV134=\"\",NA(),COUNTIF(BV134:$BV$303,BV134))","v":{"$error":"#N/A"}},{"$error":"#VALUE!"},{"$error":"#N/A"},{"$error":"#N/A"},"",{"$f":"IF(CA134=\"\",NA(),COUNTIF(CA134:$CA$303,CA134))","v":{"$error":"#N/A"}},{"$error":"#VALUE!"},{"$error":"#N/A"},{"$error":"#N/A"},"",{"$f":"IF(CF134=\"\",NA(),COUNTIF($CF134:CF$303,CF134))","v":{"$error":"#N/A"}},"",{"$f":"IF(CH134=\"\",NA(),COUNTIF($CH134:CH$303,CH134))","v":{"$error":"#N/A"}},{"$error":"#N/A"},{"$error":"#N/A"},{"$error":"#N/A"}]
[null,null,"",null,null,"",null,null,null,null,35,41.944375816642527,6.1163772403914187,0.22567452603403565,-43.883622759608585,null,-999,{"$error":"#N/A"},{"$error":"#N/A"},null,null,-43.883622759608585,null,-0.81649658092771449,1.1187762209025315E-6,null,null,61.183624999999751,20.901124999999752,9.7079339170136585,8.394664124477498E-2,{"$error":"#N/A"},{"$error":"#N/A"},null,-999,{"$error":"#N/A"},{"$error":"#N/A"},1.1187762209025315E-6,{"$error":"#N/A"},-999,{"$error":"#N/A"},{"$error":"#N/A"},"Labels on pop means",null,null,null,null,null,null,null,null,null,null,null,null,null,30,0.12196502089500427,"","",-999,24.2,-999,"",{"$f":"IF(BL135=\"\",NA(),COUNTIF(BL135:$BL$303,BL135))","v":{"$error":"#N/A"}},{"$error":"#VALUE!"},{"$error":"#N/A"},{"$error":"#N/A"},"",{"$f":"IF(BQ135=\"\",NA(),COUNTIF(BQ135:$BQ$303,BQ135))","v":{"$error":"#N/A"}},{"$error":"#VALUE!"},{"$error":"#N/A"},{"$error":"#N/A"},"",{"$f":"IF(BV135=\"\",NA(),COUNTIF(BV135:$BV$303,BV135))","v":{"$error":"#N/A"}},{"$error":"#VALUE!"},{"$error":"#N/A"},{"$error":"#N/A"},"",{"$f":"IF(CA135=\"\",NA(),COUNTIF(CA135:$CA$303,CA135))","v":{"$error":"#N/A"}},{"$error":"#VALUE!"},{"$error":"#N/A"},{"$error":"#N/A"},"",{"$f":"IF(CF135=\"\",NA(),COUNTIF($CF135:CF$303,CF135))","v":{"$error":"#N/A"}},"",{"$f":"IF(CH135=\"\",NA(),COUNTIF($CH135:CH$303,CH135))","v":{"$error":"#N/A"}},{"$error":"#N/A"},{"$error":"#N/A"},{"$error":"#N/A"}]
[null,null,"",null,null,"",null,null,null,null,35.5,42.102957492236754,6.516277650455315,0.24771537089730244,-43.483722349544685,null,-999,{"$error":"#N/A"},{"$error":"#N/A"},null,null,-43.483722349544685,null,-0.73484692283494191,1.4563236697379742E-6,null,null,61.482212499999747,21.199712499999748,9.9872846685032357,7.5596332723932583E-2,{"$error":"#N/A"},{"$error":"#N/A"},null,-999,{"$error":"#N/A"},{"$error":"#N/A"},1.4563236697379742E-6,{"$error":"#N/A"},-999,{"$error":"#N/A"},{"$error":"#N/A"},null,1.4,null,null,null,"NCP",{"$f":"(V9-O9)/BB9","v":4.0824829046386295},null,null,null,null,null,null,null,31,0.79449531435966492,"","",-999,24.2,-999,"",{"$f":"IF(BL136=\"\",NA(),COUNTIF(BL136:$BL$303,BL136))","v":{"$error":"#N/A"}},{"$error":"#VALUE!"},{"$error":"#N/A"},{"$error":"#N/A"},"",{"$f":"IF(BQ136=\"\",NA(),COUNTIF(BQ136:$BQ$303,BQ136))","v":{"$error":"#N/A"}},{"$error":"#VALUE!"},{"$error":"#N/A"},{"$error":"#N/A"},"",{"$f":"IF(BV136=\"\",NA(),COUNTIF(BV136:$BV$303,BV136))","v":{"$error":"#N/A"}},{"$error":"#VALUE!"},{"$error":"#N/A"},{"$error":"#N/A"},"",{"$f":"IF(CA136=\"\",NA(),COUNTIF(CA136:$CA$303,CA136))","v":{"$error":"#N/A"}},{"$error":"#VALUE!"},{"$error":"#N/A"},{"$error":"#N/A"},"",{"$f":"IF(CF136=\"\",NA(),COUNTIF($CF136:CF$303,CF136))","v":{"$error":"#N/A"}},"",{"$f":"IF(CH136=\"\",NA(),COUNTIF($CH136:CH$303,CH136))","v":{"$error":"#N/A"}},{"$error":"#N/A"},{"$error":"#N/A"},{"$error":"#N/A"}]
[null,null,"",null,null,"",null,null,null,null,36,42.246272234002156,6.8961960816130752,0.27123449394472754,-43.103803918386923,null,-999,{"$error":"#N/A"},{"$error":"#N/A"},null,null,-43.103803918386923,null,-0.65319726474216933,1.9111404584870501E-6,null,null,61.780799999999743,21.498299999999745,10.270597841999756,6.7921151656610293E-2,{"$error":"#N/A"},{"$error":"#N/A"},null,-999,{"$error":"#N/A"},{"$error":"#N/A"},1.9111404584870501E-6,{"$error":"#N/A"},-999,{"$error":"#N/A"},{"$error":"#N/A"},"H0 pop",{"$f":"O9-$AR$136","v":38.6},{"$f":"MAX(L65:L265)","v":42.798114303896732},null,null,"Degrees of freedom",{"$f":"$K$14-1","v":5},null,null,null,null,null,null,null,32,0.4720357358455658,"","",-999,24.2,-999,"",{"$f":"IF(BL137=\"\",NA(),COUNTIF(BL137:$BL$303,BL137))","v":{"$error":"#N/A"}},{"$error":"#VALUE!"},{"$error":"#N/A"},{"$error":"#N/A"},"",{"$f":"IF(BQ137=\"\",NA(),COUNTIF(BQ137:$BQ$303,BQ137))","v":{"$error":"#N/A"}},{"$error":"#VALUE!"},{"$error":"#N/A"},{"$error":"#N/A"},"",{"$f":"IF(BV137=\"\",NA(),COUNTIF(BV137:$BV$303,BV137))","v":{"$error":"#N/A"}},{"$error":"#VALUE!"},{"$error":"#N/A"},{"$error":"#N/A"},"",{"$f":"IF(CA137=\"\",NA(),COUNTIF(CA137:$CA$303,CA137))","v":{"$error":"#N/A"}},{"$error":"#VALUE!"},{"$error":"#N/A"},{"$error":"#N/A"},"",{"$f":"IF(CF137=\"\",NA(),COUNTIF($CF137:CF$303,CF137))","v":{"$error":"#N/A"}},"",{"$f":"IF(CH137=\"\",NA(),COUNTIF($CH137:CH$303,CH137))","v":{"$error":"#N/A"}},{"$error":"#N/A"},{"$error":"#N/A"},{"$error":"#N/A"}]
[null,null,"",null,null,"",null,null,null,null,36.5,42.373855360652456,7.2497716155414196,0.29618063179296855,-42.75022838445858,null,-999,{"$error":"#N/A"},{"$error":"#N/A"},null,null,-42.75022838445858,null,-0.57154760664939674,2.5285509307235405E-6,null,null,62.07938749999974,21.796887499999741,10.557873437503222,6.088598235363616E-2,{"$error":"#N/A"},{"$error":"#N/A"},null,-999,{"$error":"#N/A"},{"$error":"#N/A"},2.5285509307235405E-6,{"$error":"#N/A"},-999,{"$error":"#N/A"},{"$error":"#N/A"},"Ho grey",{"$f":"O9-$AR$136","v":38.6},{"$f":"MAX(Q65:Q265)","v":-999},null,null,"LH end t axis",{"$f":"(0-O9)/BB9","v":-6.5319726474218074},null,null,null,null,null,null,null,33,0.49492022395133972,"","",-999,24.2,-999,"",{"$f":"IF(BL138=\"\",NA(),COUNTIF(BL138:$BL$303,BL138))","v":{"$error":"#N/A"}},{"$error":"#VALUE!"},{"$error":"#N/A"},{"$error":"#N/A"},"",{"$f":"IF(BQ138=\"\",NA(),COUNTIF(BQ138:$BQ$303,BQ138))","v":{"$error":"#N/A"}},{"$error":"#VALUE!"},{"$error":"#N/A"},{"$error":"#N/A"},"",{"$f":"IF(BV138=\"\",NA(),COUNTIF(BV138:$BV$303,BV138))","v":{"$error":"#N/A"}},{"$error":"#VALUE!"},{"$error":"#N/A"},{"$error":"#N/A"},"",{"$f":"IF(CA138=\"\",NA(),COUNTIF(CA138:$CA$303,CA138))","v":{"$error":"#N/A"}},{"$error":"#VALUE!"},{"$error":"#N/A"},{"$error":"#N/A"},"",{"$f":"IF(CF138=\"\",NA(),COUNTIF($CF138:CF$303,CF138))","v":{"$error":"#N/A"}},"",{"$f":"IF(CH138=\"\",NA(),COUNTIF($CH138:CH$303,CH138))","v":{"$error":"#N/A"}},{"$error":"#N/A"},{"$error":"#N/A"},{"$error":"#N/A"}]
[null,null,"",null,null,"",null,null,null,null,37,42.485290681428054,7.5708345094239862,0.32247160683709419,-42.429165490576011,null,-999,{"$error":"#N/A"},{"$error":"#N/A"},null,null,-42.429165490576011,null,-0.48989794855662416,3.3728010621092922E-6,null,null,62.377974999999736,22.095474999999738,10.849111455013631,5.4455109022599889E-2,{"$error":"#N/A"},{"$error":"#N/A"},null,-999,{"$error":"#N/A"},{"$error":"#N/A"},3.3728010621092922E-6,{"$error":"#N/A"},-999,{"$error":"#N/A"},{"$error":"#N/A"},"H1 pop",{"$f":"V9-$AR$136","v":63.6},{"$f":"MAX(AI65:AI265)","v":-999},null,null,"RH end t axis",{"$f":"(100-O9)/BB9","v":9.7979589711327115},null,null,null,null,null,null,null,34,0.67347630858421326,"","",-999,24.2,-999,"",{"$f":"IF(BL139=\"\",NA(),COUNTIF(BL139:$BL$303,BL139))","v":{"$error":"#N/A"}},{"$error":"#VALUE!"},{"$error":"#N/A"},{"$error":"#N/A"},"",{"$f":"IF(BQ139=\"\",NA(),COUNTIF(BQ139:$BQ$303,BQ139))","v":{"$error":"#N/A"}},{"$error":"#VALUE!"},{"$error":"#N/A"},{"$error":"#N/A"},"",{"$f":"IF(BV139=\"\",NA(),COUNTIF(BV139:$BV$303,BV139))","v":{"$error":"#N/A"}},{"$error":"#VALUE!"},{"$error":"#N/A"},{"$error":"#N/A"},"",{"$f":"IF(CA139=\"\",NA(),COUNTIF(CA139:$CA$303,CA139))","v":{"$error":"#N/A"}},{"$error":"#VALUE!"},{"$error":"#N/A"},{"$error":"#N/A"},"",{"$f":"IF(CF139=\"\",NA(),COUNTIF($CF139:CF$303,CF139))","v":{"$error":"#N/A"}},"",{"$f":"IF(CH139=\"\",NA(),COUNTIF($CH139:CH$303,CH139))","v":{"$error":"#N/A"}},{"$error":"#N/A"},{"$error":"#N/A"},{"$error":"#N/A"}]
[null,null,"",null,null,"",null,null,null,null,37.5,42.580212757636815,7.8535838347130111,0.34999327140170899,-42.146416165286986,null,-999,{"$error":"#N/A"},{"$error":"#N/A"},null,null,-42.146416165286986,null,-0.40824829046385158,4.535353864147245E-6,null,null,62.676562499999733,22.394062499999734,11.144311894530984,4.8592602016732413E-2,{"$error":"#N/A"},{"$error":"#N/A"},null,-999,{"$error":"#N/A"},{"$error":"#N/A"},4.535353864147245E-6,{"$error":"#N/A"},-999,{"$error":"#N/A"},{"$error":"#N/A"},"H1 grey",{"$f":"V9-$AR$136","v":63.6},{"$f":"MAX(AN65:AN265)","v":-999},null,null,"t increment",{"$f":"(AW139-AW138)/200","v":8.1649658092772595E-2},null,null,null,null,null,null,null,35,{"$f":"MOD(BF139*10000013,1)","v":0.84103414416313171},"","",-999,24.2,-999,"",{"$f":"IF(BL140=\"\",NA(),COUNTIF(BL140:$BL$303,BL140))","v":{"$error":"#N/A"}},{"$error":"#VALUE!"},{"$error":"#N/A"},{"$error":"#N/A"},"",{"$f":"IF(BQ140=\"\",NA(),COUNTIF(BQ140:$BQ$303,BQ140))","v":{"$error":"#N/A"}},{"$error":"#VALUE!"},{"$error":"#N/A"},{"$error":"#N/A"},"",{"$f":"IF(BV140=\"\",NA(),COUNTIF(BV140:$BV$303,BV140))","v":{"$error":"#N/A"}},{"$error":"#VALUE!"},{"$error":"#N/A"},{"$error":"#N/A"},"",{"$f":"IF(CA140=\"\",NA(),COUNTIF(CA140:$CA$303,CA140))","v":{"$error":"#N/A"}},{"$error":"#VALUE!"},{"$error":"#N/A"},{"$error":"#N/A"},"",{"$f":"IF(CF140=\"\",NA(),COUNTIF($CF140:CF$303,CF140))","v":{"$error":"#N/A"}},"",{"$f":"IF(CH140=\"\",NA(),COUNTIF($CH140:CH$303,CH140))","v":{"$error":"#N/A"}},{"$error":"#N/A"},{"$error":"#N/A"},{"$error":"#N/A"}]
[null,null,"",null,null,"",null,null,null,null,38,42.658308899078378,8.0927610702640695,0.37859982889672139,-41.907238929735932,null,-999,{"$error":"#N/A"},{"$error":"#N/A"},null,null,-41.907238929735932,null,-0.326598632371079,6.1468880607213907E-6,null,null,62.975149999999729,22.69264999999973,11.443474756055283,4.3262647148218113E-2,{"$error":"#N/A"},{"$error":"#N/A"},null,-999,{"$error":"#N/A"},{"$error":"#N/A"},6.1468880607213907E-6,{"$error":"#N/A"},-999,{"$error":"#N/A"},{"$error":"#N/A"},null,null,null,null,null,null,null,null,null,null,null,null,null,null,36,0.37507519125938416,"","",-999,24.2,-999,"",{"$f":"IF(BL141=\"\",NA(),COUNTIF(BL141:$BL$303,BL141))","v":{"$error":"#N/A"}},{"$error":"#VALUE!"},{"$error":"#N/A"},{"$error":"#N/A"},"",{"$f":"IF(BQ141=\"\",NA(),COUNTIF(BQ141:$BQ$303,BQ141))","v":{"$error":"#N/A"}},{"$error":"#VALUE!"},{"$error":"#N/A"},{"$error":"#N/A"},"",{"$f":"IF(BV141=\"\",NA(),COUNTIF(BV141:$BV$303,BV141))","v":{"$error":"#N/A"}},{"$error":"#VALUE!"},{"$error":"#N/A"},{"$error":"#N/A"},"",{"$f":"IF(CA141=\"\",NA(),COUNTIF(CA141:$CA$303,CA141))","v":{"$error":"#N/A"}},{"$error":"#VALUE!"},{"$error":"#N/A"},{"$error":"#N/A"},"",{"$f":"IF(CF141=\"\",NA(),COUNTIF($CF141:CF$303,CF141))","v":{"$error":"#N/A"}},"",{"$f":"IF(CH141=\"\",NA(),COUNTIF($CH141:CH$303,CH141))","v":{"$error":"#N/A"}},{"$error":"#N/A"},{"$error":"#N/A"},{"$error":"#N/A"}]
[null,null,"",null,null,"",null,null,null,null,38.5,42.719320880089661,8.2838124263996775,0.40811570062445807,-41.716187573600322,null,-999,{"$error":"#N/A"},{"$error":"#N/A"},null,null,-41.716187573600322,null,-0.24494897427830642,8.3946235372904698E-6,null,null,63.273737499999726,22.991237499999727,11.746600039586527,3.842984894396393E-2,{"$error":"#N/A"},{"$error":"#N/A"},null,-999,{"$error":"#N/A"},{"$error":"#N/A"},8.3946235372904698E-6,{"$error":"#N/A"},-999,{"$error":"#N/A"},{"$error":"#N/A"},null,null,null,null,null,null,null,null,null,null,null,null,null,null,37,0.78857132792472839,"","",-999,24.2,-999,"",{"$f":"IF(BL142=\"\",NA(),COUNTIF(BL142:$BL$303,BL142))","v":{"$error":"#N/A"}},{"$error":"#VALUE!"},{"$error":"#N/A"},{"$error":"#N/A"},"",{"$f":"IF(BQ142=\"\",NA(),COUNTIF(BQ142:$BQ$303,BQ142))","v":{"$error":"#N/A"}},{"$error":"#VALUE!"},{"$error":"#N/A"},{"$error":"#N/A"},"",{"$f":"IF(BV142=\"\",NA(),COUNTIF(BV142:$BV$303,BV142))","v":{"$error":"#N/A"}},{"$error":"#VALUE!"},{"$error":"#N/A"},{"$error":"#N/A"},"",{"$f":"IF(CA142=\"\",NA(),COUNTIF(CA142:$CA$303,CA142))","v":{"$error":"#N/A"}},{"$error":"#VALUE!"},{"$error":"#N/A"},{"$error":"#N/A"},"",{"$f":"IF(CF142=\"\",NA(),COUNTIF($CF142:CF$303,CF142))","v":{"$error":"#N/A"}},"",{"$f":"IF(CH142=\"\",NA(),COUNTIF($CH142:CH$303,CH142))","v":{"$error":"#N/A"}},{"$error":"#N/A"},{"$error":"#N/A"},{"$error":"#N/A"}]
[null,null,"",null,null,"",null,null,null,null,39,42.763046362032505,8.4230329148955647,0.43833899531535914,-41.576967085104435,null,-999,{"$error":"#N/A"},{"$error":"#N/A"},null,null,-41.576967085104435,null,-0.16329931618553384,1.1547252494482221E-5,null,null,63.572324999999722,23.289824999999723,12.053687745124714,3.4059494321224675E-2,{"$error":"#N/A"},{"$error":"#N/A"},null,-999,{"$error":"#N/A"},{"$error":"#N/A"},1.1547252494482221E-5,{"$error":"#N/A"},-999,{"$error":"#N/A"},{"$error":"#N/A"},null,null,null,null,null,null,null,null,null,null,null,null,null,null,38,0.53067454695701599,"","",-999,24.2,-999,"",{"$f":"IF(BL143=\"\",NA(),COUNTIF(BL143:$BL$303,BL143))","v":{"$error":"#N/A"}},{"$error":"#VALUE!"},{"$error":"#N/A"},{"$error":"#N/A"},"",{"$f":"IF(BQ143=\"\",NA(),COUNTIF(BQ143:$BQ$303,BQ143))","v":{"$error":"#N/A"}},{"$error":"#VALUE!"},{"$error":"#N/A"},{"$error":"#N/A"},"",{"$f":"IF(BV143=\"\",NA(),COUNTIF(BV143:$BV$303,BV143))","v":{"$error":"#N/A"}},{"$error":"#VALUE!"},{"$error":"#N/A"},{"$error":"#N/A"},"",{"$f":"IF(CA143=\"\",NA(),COUNTIF(CA143:$CA$303,CA143))","v":{"$error":"#N/A"}},{"$error":"#VALUE!"},{"$error":"#N/A"},{"$error":"#N/A"},"",{"$f":"IF(CF143=\"\",NA(),COUNTIF($CF143:CF$303,CF143))","v":{"$error":"#N/A"}},"",{"$f":"IF(CH143=\"\",NA(),COUNTIF($CH143:CH$303,CH143))","v":{"$error":"#N/A"}},{"$error":"#N/A"},{"$error":"#N/A"},{"$error":"#N/A"}]
[null,null,"",null,null,"",null,null,null,null,39.5,42.789340011257089,8.5076858030457121,0.46904650389332481,-41.49231419695429,null,-999,{"$error":"#N/A"},{"$error":"#N/A"},null,null,-41.49231419695429,null,-8.1649658092761243E-2,1.5990634089517849E-5,null,null,63.870912499999719,23.58841249999972,12.364737872669846,3.0117779571200012E-2,{"$error":"#N/A"},{"$error":"#N/A"},null,-999,{"$error":"#N/A"},{"$error":"#N/A"},1.5990634089517849E-5,{"$error":"#N/A"},-999,{"$error":"#N/A"},{"$error":"#N/A"},null,null,null,null,null,null,null,null,null,null,null,null,null,null,39,0.36833927035331726,"","",-999,24.2,-999,"",{"$f":"IF(BL144=\"\",NA(),COUNTIF(BL144:$BL$303,BL144))","v":{"$error":"#N/A"}},{"$error":"#VALUE!"},{"$error":"#N/A"},{"$error":"#N/A"},"",{"$f":"IF(BQ144=\"\",NA(),COUNTIF(BQ144:$BQ$303,BQ144))","v":{"$error":"#N/A"}},{"$error":"#VALUE!"},{"$error":"#N/A"},{"$error":"#N/A"},"",{"$f":"IF(BV144=\"\",NA(),COUNTIF(BV144:$BV$303,BV144))","v":{"$error":"#N/A"}},{"$error":"#VALUE!"},{"$error":"#N/A"},{"$error":"#N/A"},"",{"$f":"IF(CA144=\"\",NA(),COUNTIF(CA144:$CA$303,CA144))","v":{"$error":"#N/A"}},{"$error":"#VALUE!"},{"$error":"#N/A"},{"$error":"#N/A"},"",{"$f":"IF(CF144=\"\",NA(),COUNTIF($CF144:CF$303,CF144))","v":{"$error":"#N/A"}},"",{"$f":"IF(CH144=\"\",NA(),COUNTIF($CH144:CH$303,CH144))","v":{"$error":"#N/A"}},{"$error":"#N/A"},{"$error":"#N/A"},{"$error":"#N/A"}]
[null,null,"",null,null,"",null,null,null,null,40,42.798114303896732,8.5360920732040331,0.5,-41.463907926795969,null,-999,{"$error":"#N/A"},{"$error":"#N/A"},null,null,-41.463907926795969,null,1.1352030426792226E-14,2.2278545303890708E-5,null,null,64.169499999999715,23.886999999999716,12.67975042222192,2.657200170045089E-2,{"$error":"#N/A"},{"$error":"#N/A"},null,-999,{"$error":"#N/A"},{"$error":"#N/A"},2.2278545303890708E-5,{"$error":"#N/A"},-999,{"$error":"#N/A"},{"$error":"#N/A"},null,null,null,null,null,null,null,null,null,null,null,null,null,null,40,0.49194368720054626,"","",-999,24.2,-999,"",{"$f":"IF(BL145=\"\",NA(),COUNTIF(BL145:$BL$303,BL145))","v":{"$error":"#N/A"}},{"$error":"#VALUE!"},{"$error":"#N/A"},{"$error":"#N/A"},"",{"$f":"IF(BQ145=\"\",NA(),COUNTIF(BQ145:$BQ$303,BQ145))","v":{"$error":"#N/A"}},{"$error":"#VALUE!"},{"$error":"#N/A"},{"$error":"#N/A"},"",{"$f":"IF(BV145=\"\",NA(),COUNTIF(BV145:$BV$303,BV145))","v":{"$error":"#N/A"}},{"$error":"#VALUE!"},{"$error":"#N/A"},{"$error":"#N/A"},"",{"$f":"IF(CA145=\"\",NA(),COUNTIF(CA145:$CA$303,CA145))","v":{"$error":"#N/A"}},{"$error":"#VALUE!"},{"$error":"#N/A"},{"$error":"#N/A"},"",{"$f":"IF(CF145=\"\",NA(),COUNTIF($CF145:CF$303,CF145))","v":{"$error":"#N/A"}},"",{"$f":"IF(CH145=\"\",NA(),COUNTIF($CH145:CH$303,CH145))","v":{"$error":"#N/A"}},{"$error":"#N/A"},{"$error":"#N/A"},{"$error":"#N/A"}]
[null,null,"",null,null,"",null,null,null,null,40.5,42.789340011257089,8.5076858030457121,0.53095349610667519,-41.49231419695429,null,-999,{"$error":"#N/A"},{"$error":"#N/A"},null,null,-41.49231419695429,null,8.1649658092783947E-2,3.1204192976212851E-5,null,null,64.468087499999712,24.185587499999713,12.998725393780941,2.3390715634981261E-2,{"$error":"#N/A"},{"$error":"#N/A"},null,-999,{"$error":"#N/A"},{"$error":"#N/A"},3.1204192976212851E-5,{"$error":"#N/A"},-999,{"$error":"#N/A"},{"$error":"#N/A"},null,null,null,null,null,null,null,null,null,null,null,null,null,null,41,0.26727339625358582,"","",-999,24.2,-999,"",{"$f":"IF(BL146=\"\",NA(),COUNTIF(BL146:$BL$303,BL146))","v":{"$error":"#N/A"}},{"$error":"#VALUE!"},{"$error":"#N/A"},{"$error":"#N/A"},"",{"$f":"IF(BQ146=\"\",NA(),COUNTIF(BQ146:$BQ$303,BQ146))","v":{"$error":"#N/A"}},{"$error":"#VALUE!"},{"$error":"#N/A"},{"$error":"#N/A"},"",{"$f":"IF(BV146=\"\",NA(),COUNTIF(BV146:$BV$303,BV146))","v":{"$error":"#N/A"}},{"$error":"#VALUE!"},{"$error":"#N/A"},{"$error":"#N/A"},"",{"$f":"IF(CA146=\"\",NA(),COUNTIF(CA146:$CA$303,CA146))","v":{"$error":"#N/A"}},{"$error":"#VALUE!"},{"$error":"#N/A"},{"$error":"#N/A"},"",{"$f":"IF(CF146=\"\",NA(),COUNTIF($CF146:CF$303,CF146))","v":{"$error":"#N/A"}},"",{"$f":"IF(CH146=\"\",NA(),COUNTIF($CH146:CH$303,CH146))","v":{"$error":"#N/A"}},{"$error":"#N/A"},{"$error":"#N/A"},{"$error":"#N/A"}]
[null,null,"",null,null,"",null,null,null,null,41,42.763046362032505,8.4230329148955647,0.56166100468464086,-41.576967085104435,null,-999,{"$error":"#N/A"},{"$error":"#N/A"},null,null,-41.576967085104435,null,0.16329931618555654,4.3899857457464157E-5,null,null,64.766674999999708,24.484174999999709,13.321662787346906,2.0543859163423158E-2,{"$error":"#N/A"},{"$error":"#N/A"},null,-999,{"$error":"#N/A"},{"$error":"#N/A"},4.3899857457464157E-5,{"$error":"#N/A"},-999,{"$error":"#N/A"},{"$error":"#N/A"},null,null,null,null,null,null,null,null,null,null,null,null,null,null,42,0.43709000945091248,"","",-999,24.2,-999,"",{"$f":"IF(BL147=\"\",NA(),COUNTIF(BL147:$BL$303,BL147))","v":{"$error":"#N/A"}},{"$error":"#VALUE!"},{"$error":"#N/A"},{"$error":"#N/A"},"",{"$f":"IF(BQ147=\"\",NA(),COUNTIF(BQ147:$BQ$303,BQ147))","v":{"$error":"#N/A"}},{"$error":"#VALUE!"},{"$error":"#N/A"},{"$error":"#N/A"},"",{"$f":"IF(BV147=\"\",NA(),COUNTIF(BV147:$BV$303,BV147))","v":{"$error":"#N/A"}},{"$error":"#VALUE!"},{"$error":"#N/A"},{"$error":"#N/A"},"",{"$f":"IF(CA147=\"\",NA(),COUNTIF(CA147:$CA$303,CA147))","v":{"$error":"#N/A"}},{"$error":"#VALUE!"},{"$error":"#N/A"},{"$error":"#N/A"},"",{"$f":"IF(CF147=\"\",NA(),COUNTIF($CF147:CF$303,CF147))","v":{"$error":"#N/A"}},"",{"$f":"IF(CH147=\"\",NA(),COUNTIF($CH147:CH$303,CH147))","v":{"$error":"#N/A"}},{"$error":"#N/A"},{"$error":"#N/A"},{"$error":"#N/A"}]
[null,null,"",null,null,"",null,null,null,null,41.5,42.719320880089661,8.2838124263996775,0.59188429937554199,-41.716187573600322,null,-999,{"$error":"#N/A"},{"$error":"#N/A"},null,null,-41.716187573600322,null,0.24494897427832912,6.197386263922642E-5,null,null,65.065262499999704,24.782762499999706,13.648562602919815,1.8002847786668504E-2,{"$error":"#N/A"},{"$error":"#N/A"},null,-999,{"$error":"#N/A"},{"$error":"#N/A"},6.197386263922642E-5,{"$error":"#N/A"},-999,{"$error":"#N/A"},{"$error":"#N/A"},null,null,null,null,null,null,null,null,null,null,null,null,null,null,43,0.77667924761772156,"","",-999,24.2,-999,"",{"$f":"IF(BL148=\"\",NA(),COUNTIF(BL148:$BL$303,BL148))","v":{"$error":"#N/A"}},{"$error":"#VALUE!"},{"$error":"#N/A"},{"$error":"#N/A"},"",{"$f":"IF(BQ148=\"\",NA(),COUNTIF(BQ148:$BQ$303,BQ148))","v":{"$error":"#N/A"}},{"$error":"#VALUE!"},{"$error":"#N/A"},{"$error":"#N/A"},"",{"$f":"IF(BV148=\"\",NA(),COUNTIF(BV148:$BV$303,BV148))","v":{"$error":"#N/A"}},{"$error":"#VALUE!"},{"$error":"#N/A"},{"$error":"#N/A"},"",{"$f":"IF(CA148=\"\",NA(),COUNTIF(CA148:$CA$303,CA148))","v":{"$error":"#N/A"}},{"$error":"#VALUE!"},{"$error":"#N/A"},{"$error":"#N/A"},"",{"$f":"IF(CF148=\"\",NA(),COUNTIF($CF148:CF$303,CF148))","v":{"$error":"#N/A"}},"",{"$f":"IF(CH148=\"\",NA(),COUNTIF($CH148:CH$303,CH148))","v":{"$error":"#N/A"}},{"$error":"#N/A"},{"$error":"#N/A"},{"$error":"#N/A"}]
[null,null,"",null,null,"",null,null,null,null,42,42.658308899078378,8.0927610702640695,0.62140017110327861,-41.907238929735932,null,-999,{"$error":"#N/A"},{"$error":"#N/A"},null,null,-41.907238929735932,null,0.3265986323711017,8.7695844228209482E-5,null,null,65.363849999999701,25.081349999999702,13.979424840499668,1.5740641855745911E-2,{"$error":"#N/A"},{"$error":"#N/A"},null,-999,{"$error":"#N/A"},{"$error":"#N/A"},8.7695844228209482E-5,{"$error":"#N/A"},-999,{"$error":"#N/A"},{"$error":"#N/A"},null,null,null,null,null,null,null,null,null,null,null,null,null,null,44,0.57300743460655212,"","",-999,24.2,-999,"",{"$f":"IF(BL149=\"\",NA(),COUNTIF(BL149:$BL$303,BL149))","v":{"$error":"#N/A"}},{"$error":"#VALUE!"},{"$error":"#N/A"},{"$error":"#N/A"},"",{"$f":"IF(BQ149=\"\",NA(),COUNTIF(BQ149:$BQ$303,BQ149))","v":{"$error":"#N/A"}},{"$error":"#VALUE!"},{"$error":"#N/A"},{"$error":"#N/A"},"",{"$f":"IF(BV149=\"\",NA(),COUNTIF(BV149:$BV$303,BV149))","v":{"$error":"#N/A"}},{"$error":"#VALUE!"},{"$error":"#N/A"},{"$error":"#N/A"},"",{"$f":"IF(CA149=\"\",NA(),COUNTIF(CA149:$CA$303,CA149))","v":{"$error":"#N/A"}},{"$error":"#VALUE!"},{"$error":"#N/A"},{"$error":"#N/A"},"",{"$f":"IF(CF149=\"\",NA(),COUNTIF($CF149:CF$303,CF149))","v":{"$error":"#N/A"}},"",{"$f":"IF(CH149=\"\",NA(),COUNTIF($CH149:CH$303,CH149))","v":{"$error":"#N/A"}},{"$error":"#N/A"},{"$error":"#N/A"},{"$error":"#N/A"}]
[null,null,"",null,null,"",null,null,null,null,42.5,42.580212757636815,7.8535838347130111,0.65000672859829101,-42.146416165286986,null,-999,{"$error":"#N/A"},{"$error":"#N/A"},null,null,-42.146416165286986,null,0.40824829046387429,1.2424266881106504E-4,null,null,65.662437499999697,25.379937499999699,14.314249500086465,1.3731788523164283E-2,{"$error":"#N/A"},{"$error":"#N/A"},null,-999,{"$error":"#N/A"},{"$error":"#N/A"},1.2424266881106504E-4,{"$error":"#N/A"},-999,{"$error":"#N/A"},{"$error":"#N/A"},null,null,null,null,null,null,null,null,null,null,null,null,null,null,45,0.79516217112541199,"","",-999,24.2,-999,"",{"$f":"IF(BL150=\"\",NA(),COUNTIF(BL150:$BL$303,BL150))","v":{"$error":"#N/A"}},{"$error":"#VALUE!"},{"$error":"#N/A"},{"$error":"#N/A"},"",{"$f":"IF(BQ150=\"\",NA(),COUNTIF(BQ150:$BQ$303,BQ150))","v":{"$error":"#N/A"}},{"$error":"#VALUE!"},{"$error":"#N/A"},{"$error":"#N/A"},"",{"$f":"IF(BV150=\"\",NA(),COUNTIF(BV150:$BV$303,BV150))","v":{"$error":"#N/A"}},{"$error":"#VALUE!"},{"$error":"#N/A"},{"$error":"#N/A"},"",{"$f":"IF(CA150=\"\",NA(),COUNTIF(CA150:$CA$303,CA150))","v":{"$error":"#N/A"}},{"$error":"#VALUE!"},{"$error":"#N/A"},{"$error":"#N/A"},"",{"$f":"IF(CF150=\"\",NA(),COUNTIF($CF150:CF$303,CF150))","v":{"$error":"#N/A"}},"",{"$f":"IF(CH150=\"\",NA(),COUNTIF($CH150:CH$303,CH150))","v":{"$error":"#N/A"}},{"$error":"#N/A"},{"$error":"#N/A"},{"$error":"#N/A"}]
[null,null,"",null,null,"",null,null,null,null,43,42.485290681428054,7.5708345094239862,0.67752839316290581,-42.429165490576011,null,-999,{"$error":"#N/A"},{"$error":"#N/A"},null,null,-42.429165490576011,null,0.48989794855664687,1.760178230350379E-4,null,null,65.961024999999694,25.678524999999695,14.653036581680208,1.1952441111666037E-2,{"$error":"#N/A"},{"$error":"#N/A"},null,-999,{"$error":"#N/A"},{"$error":"#N/A"},1.760178230350379E-4,{"$error":"#N/A"},-999,{"$error":"#N/A"},{"$error":"#N/A"},null,null,null,null,null,null,null,null,null,null,null,null,null,null,46,4.836234450340271E-2,"","",-999,24.2,-999,"",{"$f":"IF(BL151=\"\",NA(),COUNTIF(BL151:$BL$303,BL151))","v":{"$error":"#N/A"}},{"$error":"#VALUE!"},{"$error":"#N/A"},{"$error":"#N/A"},"",{"$f":"IF(BQ151=\"\",NA(),COUNTIF(BQ151:$BQ$303,BQ151))","v":{"$error":"#N/A"}},{"$error":"#VALUE!"},{"$error":"#N/A"},{"$error":"#N/A"},"",{"$f":"IF(BV151=\"\",NA(),COUNTIF(BV151:$BV$303,BV151))","v":{"$error":"#N/A"}},{"$error":"#VALUE!"},{"$error":"#N/A"},{"$error":"#N/A"},"",{"$f":"IF(CA151=\"\",NA(),COUNTIF(CA151:$CA$303,CA151))","v":{"$error":"#N/A"}},{"$error":"#VALUE!"},{"$error":"#N/A"},{"$error":"#N/A"},"",{"$f":"IF(CF151=\"\",NA(),COUNTIF($CF151:CF$303,CF151))","v":{"$error":"#N/A"}},"",{"$f":"IF(CH151=\"\",NA(),COUNTIF($CH151:CH$303,CH151))","v":{"$error":"#N/A"}},{"$error":"#N/A"},{"$error":"#N/A"},{"$error":"#N/A"}]
[null,null,"",null,null,"",null,null,null,null,43.5,42.373855360652456,7.2497716155414196,0.7038193682070315,-42.75022838445858,null,-999,{"$error":"#N/A"},{"$error":"#N/A"},null,null,-42.75022838445858,null,0.5715476066494195,2.4905597555027032E-4,null,null,66.25961249999969,25.977112499999691,14.995786085280894,1.0380358525302802E-2,{"$error":"#N/A"},{"$error":"#N/A"},null,-999,{"$error":"#N/A"},{"$error":"#N/A"},2.4905597555027032E-4,{"$error":"#N/A"},-999,{"$error":"#N/A"},{"$error":"#N/A"},null,null,null,null,null,null,null,null,null,null,null,null,null,null,47,7.3744505643844604E-2,"","",-999,24.2,-999,"",{"$f":"IF(BL152=\"\",NA(),COUNTIF(BL152:$BL$303,BL152))","v":{"$error":"#N/A"}},{"$error":"#VALUE!"},{"$error":"#N/A"},{"$error":"#N/A"},"",{"$f":"IF(BQ152=\"\",NA(),COUNTIF(BQ152:$BQ$303,BQ152))","v":{"$error":"#N/A"}},{"$error":"#VALUE!"},{"$error":"#N/A"},{"$error":"#N/A"},"",{"$f":"IF(BV152=\"\",NA(),COUNTIF(BV152:$BV$303,BV152))","v":{"$error":"#N/A"}},{"$error":"#VALUE!"},{"$error":"#N/A"},{"$error":"#N/A"},"",{"$f":"IF(CA152=\"\",NA(),COUNTIF(CA152:$CA$303,CA152))","v":{"$error":"#N/A"}},{"$error":"#VALUE!"},{"$error":"#N/A"},{"$error":"#N/A"},"",{"$f":"IF(CF152=\"\",NA(),COUNTIF($CF152:CF$303,CF152))","v":{"$error":"#N/A"}},"",{"$f":"IF(CH152=\"\",NA(),COUNTIF($CH152:CH$303,CH152))","v":{"$error":"#N/A"}},{"$error":"#N/A"},{"$error":"#N/A"},{"$error":"#N/A"}]
[null,null,"",null,null,"",null,null,null,null,44,42.246272234002156,6.8961960816130752,0.72876550605527246,-43.103803918386923,null,-999,{"$error":"#N/A"},{"$error":"#N/A"},null,null,-43.103803918386923,null,0.65319726474219209,3.5152095998176077E-4,null,null,66.558199999999687,26.275699999999688,15.342498010888525,8.9948872982864546E-3,{"$error":"#N/A"},{"$error":"#N/A"},null,-999,{"$error":"#N/A"},{"$error":"#N/A"},3.5152095998176077E-4,{"$error":"#N/A"},-999,{"$error":"#N/A"},{"$error":"#N/A"},null,null,null,null,null,null,null,null,null,null,null,null,null,null,48,1.5117019414901733E-2,"","",-999,24.2,-999,"",{"$f":"IF(BL153=\"\",NA(),COUNTIF(BL153:$BL$303,BL153))","v":{"$error":"#N/A"}},{"$error":"#VALUE!"},{"$error":"#N/A"},{"$error":"#N/A"},"",{"$f":"IF(BQ153=\"\",NA(),COUNTIF(BQ153:$BQ$303,BQ153))","v":{"$error":"#N/A"}},{"$error":"#VALUE!"},{"$error":"#N/A"},{"$error":"#N/A"},"",{"$f":"IF(BV153=\"\",NA(),COUNTIF(BV153:$BV$303,BV153))","v":{"$error":"#N/A"}},{"$error":"#VALUE!"},{"$error":"#N/A"},{"$error":"#N/A"},"",{"$f":"IF(CA153=\"\",NA(),COUNTIF(CA153:$CA$303,CA153))","v":{"$error":"#N/A"}},{"$error":"#VALUE!"},{"$error":"#N/A"},{"$error":"#N/A"},"",{"$f":"IF(CF153=\"\",NA(),COUNTIF($CF153:CF$303,CF153))","v":{"$error":"#N/A"}},"",{"$f":"IF(CH153=\"\",NA(),COUNTIF($CH153:CH$303,CH153))","v":{"$error":"#N/A"}},{"$error":"#N/A"},{"$error":"#N/A"},{"$error":"#N/A"}]
[null,null,"",null,null,"",null,null,null,null,44.5,42.102957492236754,6.516277650455315,0.75228462910269756,-43.483722349544685,null,-999,{"$error":"#N/A"},{"$error":"#N/A"},null,null,-43.483722349544685,null,0.73484692283496467,4.9429893707152108E-4,null,null,66.856787499999683,26.574287499999684,15.6931723585031,7.7769288046301496E-3,{"$error":"#N/A"},{"$error":"#N/A"},null,-999,{"$error":"#N/A"},{"$error":"#N/A"},4.9429893707152108E-4,{"$error":"#N/A"},-999,{"$error":"#N/A"},{"$error":"#N/A"},null,null,null,null,null,null,null,null,null,null,null,null,null,null,49,0.39067026972770691,"","",-999,24.2,-999,"",{"$f":"IF(BL154=\"\",NA(),COUNTIF(BL154:$BL$303,BL154))","v":{"$error":"#N/A"}},{"$error":"#VALUE!"},{"$error":"#N/A"},{"$error":"#N/A"},"",{"$f":"IF(BQ154=\"\",NA(),COUNTIF(BQ154:$BQ$303,BQ154))","v":{"$error":"#N/A"}},{"$error":"#VALUE!"},{"$error":"#N/A"},{"$error":"#N/A"},"",{"$f":"IF(BV154=\"\",NA(),COUNTIF(BV154:$BV$303,BV154))","v":{"$error":"#N/A"}},{"$error":"#VALUE!"},{"$error":"#N/A"},{"$error":"#N/A"},"",{"$f":"IF(CA154=\"\",NA(),COUNTIF(CA154:$CA$303,CA154))","v":{"$error":"#N/A"}},{"$error":"#VALUE!"},{"$error":"#N/A"},{"$error":"#N/A"},"",{"$f":"IF(CF154=\"\",NA(),COUNTIF($CF154:CF$303,CF154))","v":{"$error":"#N/A"}},"",{"$f":"IF(CH154=\"\",NA(),COUNTIF($CH154:CH$303,CH154))","v":{"$error":"#N/A"}},{"$error":"#N/A"},{"$error":"#N/A"},{"$error":"#N/A"}]
[null,null,"",null,null,"",null,null,null,null,45,41.944375816642527,6.1163772403914187,0.77432547396596441,-43.883622759608585,null,-999,{"$error":"#N/A"},{"$error":"#N/A"},null,null,-43.883622759608585,null,0.81649658092773725,6.9167853658547304E-4,null,null,67.15537499999968,26.872874999999681,16.047809128124619,6.7088940435674864E-3,{"$error":"#N/A"},{"$error":"#N/A"},null,-999,{"$error":"#N/A"},{"$error":"#N/A"},6.9167853658547304E-4,{"$error":"#N/A"},-999,{"$error":"#N/A"},{"$error":"#N/A"},null,null,null,null,null,null,null,null,null,null,null,null,null,null,50,0.77599057555198669,"","",-999,24.2,-999,"",{"$f":"IF(BL155=\"\",NA(),COUNTIF(BL155:$BL$303,BL155))","v":{"$error":"#N/A"}},{"$error":"#VALUE!"},{"$error":"#N/A"},{"$error":"#N/A"},"",{"$f":"IF(BQ155=\"\",NA(),COUNTIF(BQ155:$BQ$303,BQ155))","v":{"$error":"#N/A"}},{"$error":"#VALUE!"},{"$error":"#N/A"},{"$error":"#N/A"},"",{"$f":"IF(BV155=\"\",NA(),COUNTIF(BV155:$BV$303,BV155))","v":{"$error":"#N/A"}},{"$error":"#VALUE!"},{"$error":"#N/A"},{"$error":"#N/A"},"",{"$f":"IF(CA155=\"\",NA(),COUNTIF(CA155:$CA$303,CA155))","v":{"$error":"#N/A"}},{"$error":"#VALUE!"},{"$error":"#N/A"},{"$error":"#N/A"},"",{"$f":"IF(CF155=\"\",NA(),COUNTIF($CF155:CF$303,CF155))","v":{"$error":"#N/A"}},"",{"$f":"IF(CH155=\"\",NA(),COUNTIF($CH155:CH$303,CH155))","v":{"$error":"#N/A"}},{"$error":"#N/A"},{"$error":"#N/A"},{"$error":"#N/A"}]
[null,null,"",null,null,"",null,null,null,null,45.5,41.771037869570208,5.7028723391543572,0.79486550641119869,-44.297127660845646,null,-999,{"$error":"#N/A"},{"$error":"#N/A"},null,null,-44.297127660845646,null,0.89814623902050983,9.6209643826756835E-4,null,null,67.453962499999676,27.171462499999677,16.40640831975308,5.7746483601165601E-3,{"$error":"#N/A"},{"$error":"#N/A"},null,-999,{"$error":"#N/A"},{"$error":"#N/A"},9.6209643826756835E-4,{"$error":"#N/A"},-999,{"$error":"#N/A"},{"$error":"#N/A"},null,null,null,null,null,null,null,null,null,null,null,null,null,null,51,0.8433973491191864,"","",-999,24.2,-999,"",{"$f":"IF(BL156=\"\",NA(),COUNTIF(BL156:$BL$303,BL156))","v":{"$error":"#N/A"}},{"$error":"#VALUE!"},{"$error":"#N/A"},{"$error":"#N/A"},"",{"$f":"IF(BQ156=\"\",NA(),COUNTIF(BQ156:$BQ$303,BQ156))","v":{"$error":"#N/A"}},{"$error":"#VALUE!"},{"$error":"#N/A"},{"$error":"#N/A"},"",{"$f":"IF(BV156=\"\",NA(),COUNTIF(BV156:$BV$303,BV156))","v":{"$error":"#N/A"}},{"$error":"#VALUE!"},{"$error":"#N/A"},{"$error":"#N/A"},"",{"$f":"IF(CA156=\"\",NA(),COUNTIF(CA156:$CA$303,CA156))","v":{"$error":"#N/A"}},{"$error":"#VALUE!"},{"$error":"#N/A"},{"$error":"#N/A"},"",{"$f":"IF(CF156=\"\",NA(),COUNTIF($CF156:CF$303,CF156))","v":{"$error":"#N/A"}},"",{"$f":"IF(CH156=\"\",NA(),COUNTIF($CH156:CH$303,CH156))","v":{"$error":"#N/A"}},{"$error":"#N/A"},{"$error":"#N/A"},{"$error":"#N/A"}]
[null,null,"",null,null,"",null,null,null,null,46,41.583497556011601,5.2819920058267043,0.8139078977180334,-44.718007994173298,null,-999,{"$error":"#N/A"},{"$error":"#N/A"},null,null,-44.718007994173298,null,0.97979589711328241,1.3289109521262157E-3,null,null,67.752549999999673,27.470049999999674,16.76896993338849,4.9594477149325173E-3,{"$error":"#N/A"},{"$error":"#N/A"},null,-999,{"$error":"#N/A"},{"$error":"#N/A"},1.3289109521262157E-3,{"$error":"#N/A"},-999,{"$error":"#N/A"},{"$error":"#N/A"},null,null,null,null,null,null,null,null,null,null,null,null,null,null,52,0.45535740256309509,"","",-999,24.2,-999,"",{"$f":"IF(BL157=\"\",NA(),COUNTIF(BL157:$BL$303,BL157))","v":{"$error":"#N/A"}},{"$error":"#VALUE!"},{"$error":"#N/A"},{"$error":"#N/A"},"",{"$f":"IF(BQ157=\"\",NA(),COUNTIF(BQ157:$BQ$303,BQ157))","v":{"$error":"#N/A"}},{"$error":"#VALUE!"},{"$error":"#N/A"},{"$error":"#N/A"},"",{"$f":"IF(BV157=\"\",NA(),COUNTIF(BV157:$BV$303,BV157))","v":{"$error":"#N/A"}},{"$error":"#VALUE!"},{"$error":"#N/A"},{"$error":"#N/A"},"",{"$f":"IF(CA157=\"\",NA(),COUNTIF(CA157:$CA$303,CA157))","v":{"$error":"#N/A"}},{"$error":"#VALUE!"},{"$error":"#N/A"},{"$error":"#N/A"},"",{"$f":"IF(CF157=\"\",NA(),COUNTIF($CF157:CF$303,CF157))","v":{"$error":"#N/A"}},"",{"$f":"IF(CH157=\"\",NA(),COUNTIF($CH157:CH$303,CH157))","v":{"$error":"#N/A"}},{"$error":"#N/A"},{"$error":"#N/A"},{"$error":"#N/A"}]
[null,null,"",null,null,"",null,null,null,null,46.5,41.382349076756149,4.8596672430775953,0.83147796197544355,-45.140332756922405,null,-999,{"$error":"#N/A"},{"$error":"#N/A"},null,null,-45.140332756922405,null,1.0614455552060551,1.8211493890009059E-3,null,null,68.051137499999669,27.76863749999967,17.135493969030843,4.249869774283069E-3,{"$error":"#N/A"},{"$error":"#N/A"},null,-999,{"$error":"#N/A"},{"$error":"#N/A"},1.8211493890009059E-3,{"$error":"#N/A"},-999,{"$error":"#N/A"},{"$error":"#N/A"},null,null,null,null,null,null,null,null,null,null,null,null,null,null,53,0.94527718424797058,"","",-999,24.2,-999,"",{"$f":"IF(BL158=\"\",NA(),COUNTIF(BL158:$BL$303,BL158))","v":{"$error":"#N/A"}},{"$error":"#VALUE!"},{"$error":"#N/A"},{"$error":"#N/A"},"",{"$f":"IF(BQ158=\"\",NA(),COUNTIF(BQ158:$BQ$303,BQ158))","v":{"$error":"#N/A"}},{"$error":"#VALUE!"},{"$error":"#N/A"},{"$error":"#N/A"},"",{"$f":"IF(BV158=\"\",NA(),COUNTIF(BV158:$BV$303,BV158))","v":{"$error":"#N/A"}},{"$error":"#VALUE!"},{"$error":"#N/A"},{"$error":"#N/A"},"",{"$f":"IF(CA158=\"\",NA(),COUNTIF(CA158:$CA$303,CA158))","v":{"$error":"#N/A"}},{"$error":"#VALUE!"},{"$error":"#N/A"},{"$error":"#N/A"},"",{"$f":"IF(CF158=\"\",NA(),COUNTIF($CF158:CF$303,CF158))","v":{"$error":"#N/A"}},"",{"$f":"IF(CH158=\"\",NA(),COUNTIF($CH158:CH$303,CH158))","v":{"$error":"#N/A"}},{"$error":"#N/A"},{"$error":"#N/A"},{"$error":"#N/A"}]
[null,null,"",null,null,"",null,null,null,null,47,41.168223795051567,4.441401443489668,0.84761933462907324,-45.558598556510333,null,-999,{"$error":"#N/A"},{"$error":"#N/A"},null,null,-45.558598556510333,null,1.1430952132988277,2.4741598489996771E-3,null,null,68.349724999999665,28.067224999999667,17.505980426680139,3.633739731870892E-3,{"$error":"#N/A"},{"$error":"#N/A"},null,-999,{"$error":"#N/A"},{"$error":"#N/A"},2.4741598489996771E-3,{"$error":"#N/A"},-999,{"$error":"#N/A"},{"$error":"#N/A"},null,null,null,null,null,null,null,null,null,null,null,null,null,null,54,0.13108310103416443,"","",-999,24.2,-999,"",{"$f":"IF(BL159=\"\",NA(),COUNTIF(BL159:$BL$303,BL159))","v":{"$error":"#N/A"}},{"$error":"#VALUE!"},{"$error":"#N/A"},{"$error":"#N/A"},"",{"$f":"IF(BQ159=\"\",NA(),COUNTIF(BQ159:$BQ$303,BQ159))","v":{"$error":"#N/A"}},{"$error":"#VALUE!"},{"$error":"#N/A"},{"$error":"#N/A"},"",{"$f":"IF(BV159=\"\",NA(),COUNTIF(BV159:$BV$303,BV159))","v":{"$error":"#N/A"}},{"$error":"#VALUE!"},{"$error":"#N/A"},{"$error":"#N/A"},"",{"$f":"IF(CA159=\"\",NA(),COUNTIF(CA159:$CA$303,CA159))","v":{"$error":"#N/A"}},{"$error":"#VALUE!"},{"$error":"#N/A"},{"$error":"#N/A"},"",{"$f":"IF(CF159=\"\",NA(),COUNTIF($CF159:CF$303,CF159))","v":{"$error":"#N/A"}},"",{"$f":"IF(CH159=\"\",NA(),COUNTIF($CH159:CH$303,CH159))","v":{"$error":"#N/A"}},{"$error":"#N/A"},{"$error":"#N/A"},{"$error":"#N/A"}]
[null,null,"",null,null,"",null,null,null,null,47.5,40.941786939866262,4.0321643864992902,0.86239013398269848,-45.967835613500711,null,-999,{"$error":"#N/A"},{"$error":"#N/A"},null,null,-45.967835613500711,null,1.2247448713916003,3.3300874526602724E-3,null,null,68.648312499999662,28.365812499999663,17.880429306336382,3.100053900112179E-3,{"$error":"#N/A"},{"$error":"#N/A"},null,-999,{"$error":"#N/A"},{"$error":"#N/A"},3.3300874526602724E-3,{"$error":"#N/A"},-999,{"$error":"#N/A"},{"$error":"#N/A"},null,null,null,null,null,null,null,null,null,null,null,null,null,null,55,0.71442195773124695,"","",-999,24.2,-999,"",{"$f":"IF(BL160=\"\",NA(),COUNTIF(BL160:$BL$303,BL160))","v":{"$error":"#N/A"}},{"$error":"#VALUE!"},{"$error":"#N/A"},{"$error":"#N/A"},"",{"$f":"IF(BQ160=\"\",NA(),COUNTIF(BQ160:$BQ$303,BQ160))","v":{"$error":"#N/A"}},{"$error":"#VALUE!"},{"$error":"#N/A"},{"$error":"#N/A"},"",{"$f":"IF(BV160=\"\",NA(),COUNTIF(BV160:$BV$303,BV160))","v":{"$error":"#N/A"}},{"$error":"#VALUE!"},{"$error":"#N/A"},{"$error":"#N/A"},"",{"$f":"IF(CA160=\"\",NA(),COUNTIF(CA160:$CA$303,CA160))","v":{"$error":"#N/A"}},{"$error":"#VALUE!"},{"$error":"#N/A"},{"$error":"#N/A"},"",{"$f":"IF(CF160=\"\",NA(),COUNTIF($CF160:CF$303,CF160))","v":{"$error":"#N/A"}},"",{"$f":"IF(CH160=\"\",NA(),COUNTIF($CH160:CH$303,CH160))","v":{"$error":"#N/A"}},{"$error":"#N/A"},{"$error":"#N/A"},{"$error":"#N/A"}]
[null,null,"",null,null,"",null,null,null,null,48,40.703734169806147,3.636311948549932,0.87585929572549581,-46.363688051450069,null,-999,{"$error":"#N/A"},{"$error":"#N/A"},null,null,-46.363688051450069,null,1.3063945294843728,4.4380919011678078E-3,null,null,68.946899999999658,28.664399999999659,18.258840607999566,2.6389018407751942E-3,{"$error":"#N/A"},{"$error":"#N/A"},null,-999,{"$error":"#N/A"},{"$error":"#N/A"},4.4380919011678078E-3,{"$error":"#N/A"},-999,{"$error":"#N/A"},{"$error":"#N/A"},null,null,null,null,null,null,null,null,null,null,null,null,null,null,56,0.8647979199886322,"","",-999,24.2,-999,"",{"$f":"IF(BL161=\"\",NA(),COUNTIF(BL161:$BL$303,BL161))","v":{"$error":"#N/A"}},{"$error":"#VALUE!"},{"$error":"#N/A"},{"$error":"#N/A"},"",{"$f":"IF(BQ161=\"\",NA(),COUNTIF(BQ161:$BQ$303,BQ161))","v":{"$error":"#N/A"}},{"$error":"#VALUE!"},{"$error":"#N/A"},{"$error":"#N/A"},"",{"$f":"IF(BV161=\"\",NA(),COUNTIF(BV161:$BV$303,BV161))","v":{"$error":"#N/A"}},{"$error":"#VALUE!"},{"$error":"#N/A"},{"$error":"#N/A"},"",{"$f":"IF(CA161=\"\",NA(),COUNTIF(CA161:$CA$303,CA161))","v":{"$error":"#N/A"}},{"$error":"#VALUE!"},{"$error":"#N/A"},{"$error":"#N/A"},"",{"$f":"IF(CF161=\"\",NA(),COUNTIF($CF161:CF$303,CF161))","v":{"$error":"#N/A"}},"",{"$f":"IF(CH161=\"\",NA(),COUNTIF($CH161:CH$303,CH161))","v":{"$error":"#N/A"}},{"$error":"#N/A"},{"$error":"#N/A"},{"$error":"#N/A"}]
[null,null,"",null,null,"",null,null,null,null,48.5,40.454788022468421,3.2575323700976626,0.88810322121462093,-46.742467629902336,null,-999,{"$error":"#N/A"},{"$error":"#N/A"},null,null,-46.742467629902336,null,1.3880441875771454,5.8542297818988519E-3,null,null,69.245487499999655,28.962987499999656,18.641214331669694,2.2413883476823156E-3,{"$error":"#N/A"},{"$error":"#N/A"},null,-999,{"$error":"#N/A"},{"$error":"#N/A"},5.8542297818988519E-3,{"$error":"#N/A"},-999,{"$error":"#N/A"},{"$error":"#N/A"},null,null,null,null,null,null,null,null,null,null,null,null,null,null,57,0.442259281873703,"","",-999,24.2,-999,"",{"$f":"IF(BL162=\"\",NA(),COUNTIF(BL162:$BL$303,BL162))","v":{"$error":"#N/A"}},{"$error":"#VALUE!"},{"$error":"#N/A"},{"$error":"#N/A"},"",{"$f":"IF(BQ162=\"\",NA(),COUNTIF(BQ162:$BQ$303,BQ162))","v":{"$error":"#N/A"}},{"$error":"#VALUE!"},{"$error":"#N/A"},{"$error":"#N/A"},"",{"$f":"IF(BV162=\"\",NA(),COUNTIF(BV162:$BV$303,BV162))","v":{"$error":"#N/A"}},{"$error":"#VALUE!"},{"$error":"#N/A"},{"$error":"#N/A"},"",{"$f":"IF(CA162=\"\",NA(),COUNTIF(CA162:$CA$303,CA162))","v":{"$error":"#N/A"}},{"$error":"#VALUE!"},{"$error":"#N/A"},{"$error":"#N/A"},"",{"$f":"IF(CF162=\"\",NA(),COUNTIF($CF162:CF$303,CF162))","v":{"$error":"#N/A"}},"",{"$f":"IF(CH162=\"\",NA(),COUNTIF($CH162:CH$303,CH162))","v":{"$error":"#N/A"}},{"$error":"#N/A"},{"$error":"#N/A"},{"$error":"#N/A"}]
[null,null,"",null,null,"",null,null,null,null,49,40.195694274515262,2.898818674553322,0.89920282535667206,-47.101181325446674,null,-999,{"$error":"#N/A"},{"$error":"#N/A"},null,null,-47.101181325446674,null,1.469693845669918,7.6409421315508756E-3,null,null,69.544074999999651,29.261574999999652,19.027550477346772,1.8995563070411546E-3,{"$error":"#N/A"},{"$error":"#N/A"},null,-999,{"$error":"#N/A"},{"$error":"#N/A"},7.6409421315508756E-3,{"$error":"#N/A"},-999,{"$error":"#N/A"},{"$error":"#N/A"},null,null,null,null,null,null,null,null,null,null,null,null,null,null,58,0.56810769438743591,"","",-999,24.2,-999,"",{"$f":"IF(BL163=\"\",NA(),COUNTIF(BL163:$BL$303,BL163))","v":{"$error":"#N/A"}},{"$error":"#VALUE!"},{"$error":"#N/A"},{"$error":"#N/A"},"",{"$f":"IF(BQ163=\"\",NA(),COUNTIF(BQ163:$BQ$303,BQ163))","v":{"$error":"#N/A"}},{"$error":"#VALUE!"},{"$error":"#N/A"},{"$error":"#N/A"},"",{"$f":"IF(BV163=\"\",NA(),COUNTIF(BV163:$BV$303,BV163))","v":{"$error":"#N/A"}},{"$error":"#VALUE!"},{"$error":"#N/A"},{"$error":"#N/A"},"",{"$f":"IF(CA163=\"\",NA(),COUNTIF(CA163:$CA$303,CA163))","v":{"$error":"#N/A"}},{"$error":"#VALUE!"},{"$error":"#N/A"},{"$error":"#N/A"},"",{"$f":"IF(CF163=\"\",NA(),COUNTIF($CF163:CF$303,CF163))","v":{"$error":"#N/A"}},"",{"$f":"IF(CH163=\"\",NA(),COUNTIF($CH163:CH$303,CH163))","v":{"$error":"#N/A"}},{"$error":"#N/A"},{"$error":"#N/A"},{"$error":"#N/A"}]
[null,null,"",null,null,"",null,null,null,null,49.5,39.927218238020828,2.5624657206449841,0.90924101805154323,-47.437534279355013,null,-999,{"$error":"#N/A"},{"$error":"#N/A"},null,null,-47.437534279355013,null,1.5513435037626906,9.8661146315230461E-3,null,null,69.842662499999648,29.560162499999649,19.417849045030788,1.6063112923809389E-3,{"$error":"#N/A"},{"$error":"#N/A"},null,-999,{"$error":"#N/A"},{"$error":"#N/A"},9.8661146315230461E-3,{"$error":"#N/A"},-999,{"$error":"#N/A"},{"$error":"#N/A"},null,null,null,null,null,null,null,null,null,null,null,null,null,null,59,0.32927438616752625,"","",-999,24.2,-999,"",{"$f":"IF(BL164=\"\",NA(),COUNTIF(BL164:$BL$303,BL164))","v":{"$error":"#N/A"}},{"$error":"#VALUE!"},{"$error":"#N/A"},{"$error":"#N/A"},"",{"$f":"IF(BQ164=\"\",NA(),COUNTIF(BQ164:$BQ$303,BQ164))","v":{"$error":"#N/A"}},{"$error":"#VALUE!"},{"$error":"#N/A"},{"$error":"#N/A"},"",{"$f":"IF(BV164=\"\",NA(),COUNTIF(BV164:$BV$303,BV164))","v":{"$error":"#N/A"}},{"$error":"#VALUE!"},{"$error":"#N/A"},{"$error":"#N/A"},"",{"$f":"IF(CA164=\"\",NA(),COUNTIF(CA164:$CA$303,CA164))","v":{"$error":"#N/A"}},{"$error":"#VALUE!"},{"$error":"#N/A"},{"$error":"#N/A"},"",{"$f":"IF(CF164=\"\",NA(),COUNTIF($CF164:CF$303,CF164))","v":{"$error":"#N/A"}},"",{"$f":"IF(CH164=\"\",NA(),COUNTIF($CH164:CH$303,CH164))","v":{"$error":"#N/A"}},{"$error":"#N/A"},{"$error":"#N/A"},{"$error":"#N/A"}]
[null,null,"",null,null,"",null,null,null,null,50,39.650141018685147,2.2500894411889245,0.91830065667231797,-47.749910558811074,null,-999,{"$error":"#N/A"},{"$error":"#N/A"},null,null,-47.749910558811074,null,1.6329931618554632,1.2601711899056461E-2,null,null,70.141249999999644,29.858749999999645,19.812110034721751,1.3553485935432253E-3,{"$error":"#N/A"},{"$error":"#N/A"},null,-999,{"$error":"#N/A"},{"$error":"#N/A"},1.2601711899056461E-2,{"$error":"#N/A"},-999,{"$error":"#N/A"},{"$error":"#N/A"},null,null,null,null,null,null,null,null,null,null,null,null,null,null,60,0.14224228262901306,"","",-999,24.2,-999,"",{"$f":"IF(BL165=\"\",NA(),COUNTIF(BL165:$BL$303,BL165))","v":{"$error":"#N/A"}},{"$error":"#VALUE!"},{"$error":"#N/A"},{"$error":"#N/A"},"",{"$f":"IF(BQ165=\"\",NA(),COUNTIF(BQ165:$BQ$303,BQ165))","v":{"$error":"#N/A"}},{"$error":"#VALUE!"},{"$error":"#N/A"},{"$error":"#N/A"},"",{"$f":"IF(BV165=\"\",NA(),COUNTIF(BV165:$BV$303,BV165))","v":{"$error":"#N/A"}},{"$error":"#VALUE!"},{"$error":"#N/A"},{"$error":"#N/A"},"",{"$f":"IF(CA165=\"\",NA(),COUNTIF(CA165:$CA$303,CA165))","v":{"$error":"#N/A"}},{"$error":"#VALUE!"},{"$error":"#N/A"},{"$error":"#N/A"},"",{"$f":"IF(CF165=\"\",NA(),COUNTIF($CF165:CF$303,CF165))","v":{"$error":"#N/A"}},"",{"$f":"IF(CH165=\"\",NA(),COUNTIF($CH165:CH$303,CH165))","v":{"$error":"#N/A"}},{"$error":"#N/A"},{"$error":"#N/A"},{"$error":"#N/A"}]
[null,null,"",null,null,"",null,null,null,null,50.5,39.365255761323745,1.9626651115299851,0.92646290428310896,-48.037334888470014,null,-999,{"$error":"#N/A"},{"$error":"#N/A"},null,null,-48.037334888470014,null,1.7146428199482358,1.592202471659324E-2,null,null,70.439837499999641,30.157337499999642,20.210333446419657,1.1410832340664494E-3,{"$error":"#N/A"},{"$error":"#N/A"},null,-999,{"$error":"#N/A"},{"$error":"#N/A"},1.592202471659324E-2,{"$error":"#N/A"},-999,{"$error":"#N/A"},{"$error":"#N/A"},null,null,null,null,null,null,null,null,null,null,null,null,null,null,61,0.67543980479240417,"","",-999,24.2,-999,"",{"$f":"IF(BL166=\"\",NA(),COUNTIF(BL166:$BL$303,BL166))","v":{"$error":"#N/A"}},{"$error":"#VALUE!"},{"$error":"#N/A"},{"$error":"#N/A"},"",{"$f":"IF(BQ166=\"\",NA(),COUNTIF(BQ166:$BQ$303,BQ166))","v":{"$error":"#N/A"}},{"$error":"#VALUE!"},{"$error":"#N/A"},{"$error":"#N/A"},"",{"$f":"IF(BV166=\"\",NA(),COUNTIF(BV166:$BV$303,BV166))","v":{"$error":"#N/A"}},{"$error":"#VALUE!"},{"$error":"#N/A"},{"$error":"#N/A"},"",{"$f":"IF(CA166=\"\",NA(),COUNTIF(CA166:$CA$303,CA166))","v":{"$error":"#N/A"}},{"$error":"#VALUE!"},{"$error":"#N/A"},{"$error":"#N/A"},"",{"$f":"IF(CF166=\"\",NA(),COUNTIF($CF166:CF$303,CF166))","v":{"$error":"#N/A"}},"",{"$f":"IF(CH166=\"\",NA(),COUNTIF($CH166:CH$303,CH166))","v":{"$error":"#N/A"}},{"$error":"#N/A"},{"$error":"#N/A"},{"$error":"#N/A"}]
[null,null,"",null,null,"",null,null,null,null,51,39.073363907636477,1.7005810164717881,0.93380599796215691,-48.299418983528213,null,-999,{"$error":"#N/A"},{"$error":"#N/A"},null,null,-48.299418983528213,null,1.7962924780410083,1.9901605040109873E-2,null,null,70.738424999999637,30.455924999999638,20.612519280124509,9.5858339948048292E-4,{"$error":"#N/A"},{"$error":"#N/A"},null,-999,{"$error":"#N/A"},{"$error":"#N/A"},1.9901605040109873E-2,{"$error":"#N/A"},-999,{"$error":"#N/A"},{"$error":"#N/A"},null,null,null,null,null,null,null,null,null,null,null,null,null,null,62,0.82864150404930115,"","",-999,24.2,-999,"",{"$f":"IF(BL167=\"\",NA(),COUNTIF(BL167:$BL$303,BL167))","v":{"$error":"#N/A"}},{"$error":"#VALUE!"},{"$error":"#N/A"},{"$error":"#N/A"},"",{"$f":"IF(BQ167=\"\",NA(),COUNTIF(BQ167:$BQ$303,BQ167))","v":{"$error":"#N/A"}},{"$error":"#VALUE!"},{"$error":"#N/A"},{"$error":"#N/A"},"",{"$f":"IF(BV167=\"\",NA(),COUNTIF(BV167:$BV$303,BV167))","v":{"$error":"#N/A"}},{"$error":"#VALUE!"},{"$error":"#N/A"},{"$error":"#N/A"},"",{"$f":"IF(CA167=\"\",NA(),COUNTIF(CA167:$CA$303,CA167))","v":{"$error":"#N/A"}},{"$error":"#VALUE!"},{"$error":"#N/A"},{"$error":"#N/A"},"",{"$f":"IF(CF167=\"\",NA(),COUNTIF($CF167:CF$303,CF167))","v":{"$error":"#N/A"}},"",{"$f":"IF(CH167=\"\",NA(),COUNTIF($CH167:CH$303,CH167))","v":{"$error":"#N/A"}},{"$error":"#N/A"},{"$error":"#N/A"},{"$error":"#N/A"}]
[null,null,"",null,null,"",null,null,null,null,51.5,38.775271490642979,1.4637036454343004,0.94040435662758537,-48.5362963545657,null,-999,{"$error":"#N/A"},{"$error":"#N/A"},null,null,-48.5362963545657,null,1.8779421361337809,2.4612993662313256E-2,null,null,71.037012499999634,30.754512499999635,21.018667535836308,8.035075809320353E-4,{"$error":"#N/A"},{"$error":"#N/A"},null,-999,{"$error":"#N/A"},{"$error":"#N/A"},2.4612993662313256E-2,{"$error":"#N/A"},-999,{"$error":"#N/A"},{"$error":"#N/A"},null,null,null,null,null,null,null,null,null,null,null,null,null,null,63,0.81283256411552429,"","",-999,24.2,-999,"",{"$f":"IF(BL168=\"\",NA(),COUNTIF(BL168:$BL$303,BL168))","v":{"$error":"#N/A"}},{"$error":"#VALUE!"},{"$error":"#N/A"},{"$error":"#N/A"},"",{"$f":"IF(BQ168=\"\",NA(),COUNTIF(BQ168:$BQ$303,BQ168))","v":{"$error":"#N/A"}},{"$error":"#VALUE!"},{"$error":"#N/A"},{"$error":"#N/A"},"",{"$f":"IF(BV168=\"\",NA(),COUNTIF(BV168:$BV$303,BV168))","v":{"$error":"#N/A"}},{"$error":"#VALUE!"},{"$error":"#N/A"},{"$error":"#N/A"},"",{"$f":"IF(CA168=\"\",NA(),COUNTIF(CA168:$CA$303,CA168))","v":{"$error":"#N/A"}},{"$error":"#VALUE!"},{"$error":"#N/A"},{"$error":"#N/A"},"",{"$f":"IF(CF168=\"\",NA(),COUNTIF($CF168:CF$303,CF168))","v":{"$error":"#N/A"}},"",{"$f":"IF(CH168=\"\",NA(),COUNTIF($CH168:CH$303,CH168))","v":{"$error":"#N/A"}},{"$error":"#N/A"},{"$error":"#N/A"},{"$error":"#N/A"}]
[null,null,"",null,null,"",null,null,null,null,52,38.471785489354716,1.2514505273174059,0.94632799225201936,-48.748549472682598,null,-999,{"$error":"#N/A"},{"$error":"#N/A"},null,null,-48.748549472682598,null,1.9595917942265535,3.0124365773410145E-2,null,null,71.33559999999963,31.053099999999631,21.428778213555045,6.7204563426608238E-4,{"$error":"#N/A"},{"$error":"#N/A"},null,-999,{"$error":"#N/A"},{"$error":"#N/A"},3.0124365773410145E-2,{"$error":"#N/A"},-999,{"$error":"#N/A"},{"$error":"#N/A"},null,null,null,null,null,null,null,null,null,null,null,null,null,null,64,0.20797857642173767,"","",-999,24.2,-999,"",{"$f":"IF(BL169=\"\",NA(),COUNTIF(BL169:$BL$303,BL169))","v":{"$error":"#N/A"}},{"$error":"#VALUE!"},{"$error":"#N/A"},{"$error":"#N/A"},"",{"$f":"IF(BQ169=\"\",NA(),COUNTIF(BQ169:$BQ$303,BQ169))","v":{"$error":"#N/A"}},{"$error":"#VALUE!"},{"$error":"#N/A"},{"$error":"#N/A"},"",{"$f":"IF(BV169=\"\",NA(),COUNTIF(BV169:$BV$303,BV169))","v":{"$error":"#N/A"}},{"$error":"#VALUE!"},{"$error":"#N/A"},{"$error":"#N/A"},"",{"$f":"IF(CA169=\"\",NA(),COUNTIF(CA169:$CA$303,CA169))","v":{"$error":"#N/A"}},{"$error":"#VALUE!"},{"$error":"#N/A"},{"$error":"#N/A"},"",{"$f":"IF(CF169=\"\",NA(),COUNTIF($CF169:CF$303,CF169))","v":{"$error":"#N/A"}},"",{"$f":"IF(CH169=\"\",NA(),COUNTIF($CH169:CH$303,CH169))","v":{"$error":"#N/A"}},{"$error":"#N/A"},{"$error":"#N/A"},{"$error":"#N/A"}]
[null,null,"",null,null,"",null,null,null,null,52.5,38.163710266247975,1.0628669926933685,0.95164215639230532,-48.937133007306635,null,-999,{"$error":"#N/A"},{"$error":"#N/A"},null,null,-48.937133007306635,null,2.0412414523193263,3.6497228114042608E-2,null,null,71.634187499999626,31.351687499999628,21.842851313280732,5.6086386395577182E-4,{"$error":"#N/A"},{"$error":"#N/A"},null,-999,{"$error":"#N/A"},{"$error":"#N/A"},3.6497228114042608E-2,{"$error":"#N/A"},-999,{"$error":"#N/A"},{"$error":"#N/A"},null,null,null,null,null,null,null,null,null,null,null,null,null,null,65,0.4679388701915741,"","",-999,24.2,-999,"",{"$f":"IF(BL170=\"\",NA(),COUNTIF(BL170:$BL$303,BL170))","v":{"$error":"#N/A"}},{"$error":"#VALUE!"},{"$error":"#N/A"},{"$error":"#N/A"},"",{"$f":"IF(BQ170=\"\",NA(),COUNTIF(BQ170:$BQ$303,BQ170))","v":{"$error":"#N/A"}},{"$error":"#VALUE!"},{"$error":"#N/A"},{"$error":"#N/A"},"",{"$f":"IF(BV170=\"\",NA(),COUNTIF(BV170:$BV$303,BV170))","v":{"$error":"#N/A"}},{"$error":"#VALUE!"},{"$error":"#N/A"},{"$error":"#N/A"},"",{"$f":"IF(CA170=\"\",NA(),COUNTIF(CA170:$CA$303,CA170))","v":{"$error":"#N/A"}},{"$error":"#VALUE!"},{"$error":"#N/A"},{"$error":"#N/A"},"",{"$f":"IF(CF170=\"\",NA(),COUNTIF($CF170:CF$303,CF170))","v":{"$error":"#N/A"}},"",{"$f":"IF(CH170=\"\",NA(),COUNTIF($CH170:CH$303,CH170))","v":{"$error":"#N/A"}},{"$error":"#N/A"},{"$error":"#N/A"},{"$error":"#N/A"}]
[null,null,"",null,null,"",null,null,null,null,53,37.851844108922322,0.89670348645700049,0.95640718757843945,-49.103296513543,null,-999,{"$error":"#N/A"},{"$error":"#N/A"},null,null,-49.103296513543,null,2.1228911104120991,4.3784297430006641E-2,null,null,71.932774999999623,31.650274999999624,22.260886835013363,4.6705416361354123E-4,{"$error":"#N/A"},{"$error":"#N/A"},null,-999,{"$error":"#N/A"},{"$error":"#N/A"},4.3784297430006641E-2,{"$error":"#N/A"},-999,{"$error":"#N/A"},{"$error":"#N/A"},null,null,null,null,null,null,null,null,null,null,null,null,null,null,66,0.78512105345726013,"","",-999,24.2,-999,"",{"$f":"IF(BL171=\"\",NA(),COUNTIF(BL171:$BL$303,BL171))","v":{"$error":"#N/A"}},{"$error":"#VALUE!"},{"$error":"#N/A"},{"$error":"#N/A"},"",{"$f":"IF(BQ171=\"\",NA(),COUNTIF(BQ171:$BQ$303,BQ171))","v":{"$error":"#N/A"}},{"$error":"#VALUE!"},{"$error":"#N/A"},{"$error":"#N/A"},"",{"$f":"IF(BV171=\"\",NA(),COUNTIF(BV171:$BV$303,BV171))","v":{"$error":"#N/A"}},{"$error":"#VALUE!"},{"$error":"#N/A"},{"$error":"#N/A"},"",{"$f":"IF(CA171=\"\",NA(),COUNTIF(CA171:$CA$303,CA171))","v":{"$error":"#N/A"}},{"$error":"#VALUE!"},{"$error":"#N/A"},{"$error":"#N/A"},"",{"$f":"IF(CF171=\"\",NA(),COUNTIF($CF171:CF$303,CF171))","v":{"$error":"#N/A"}},"",{"$f":"IF(CH171=\"\",NA(),COUNTIF($CH171:CH$303,CH171))","v":{"$error":"#N/A"}},{"$error":"#N/A"},{"$error":"#N/A"},{"$error":"#N/A"}]
[null,null,"",null,null,"",null,null,null,null,53.5,37.536975895990693,0.75149050875638113,0.96067850918894138,-49.248509491243617,null,-999,{"$error":"#N/A"},{"$error":"#N/A"},null,null,-49.248509491243617,null,2.2045407685048719,5.2027674650284156E-2,null,null,72.231362499999619,31.94886249999962,22.682884778752932,3.8808717954159992E-4,{"$error":"#N/A"},{"$error":"#N/A"},null,-999,{"$error":"#N/A"},{"$error":"#N/A"},5.2027674650284156E-2,{"$error":"#N/A"},-999,{"$error":"#N/A"},{"$error":"#N/A"},null,null,null,null,null,null,null,null,null,null,null,null,null,null,67,{"$f":"MOD(BF171*10000013,1)","v":0.74114629626274109},{"$f":"IF(AND($BD$4,$BE171<=$K$14),NORMSINV(BF172),\"\")","v":""},{"$f":"IF(BG172=\"\",\"\",$V$9+$R$11*BG172)","v":""},{"$f":"IF(AND(NOT($BB$12),$BB$4,$BD$2,BH172<>\"\",$D$4<>\"\"),BH172,-999)","v":-999},{"$f":"$AX$8-$BJ$105","v":24.2},{"$f":"IF(AND($BB$12,$BD$2,BH172<>\"\",$D$4<>\"\"),BH172,-999)","v":-999},"",{"$f":"IF(BL172=\"\",NA(),COUNTIF(BL172:$BL$303,BL172))","v":{"$error":"#N/A"}},{"$error":"#VALUE!"},{"$error":"#N/A"},{"$error":"#N/A"},"",{"$f":"IF(BQ172=\"\",NA(),COUNTIF(BQ172:$BQ$303,BQ172))","v":{"$error":"#N/A"}},{"$error":"#VALUE!"},{"$error":"#N/A"},{"$error":"#N/A"},"",{"$f":"IF(BV172=\"\",NA(),COUNTIF(BV172:$BV$303,BV172))","v":{"$error":"#N/A"}},{"$error":"#VALUE!"},{"$error":"#N/A"},{"$error":"#N/A"},"",{"$f":"IF(CA172=\"\",NA(),COUNTIF(CA172:$CA$303,CA172))","v":{"$error":"#N/A"}},{"$error":"#VALUE!"},{"$error":"#N/A"},{"$error":"#N/A"},"",{"$f":"IF(CF172=\"\",NA(),COUNTIF($CF172:CF$303,CF172))","v":{"$error":"#N/A"}},"",{"$f":"IF(CH172=\"\",NA(),COUNTIF($CH172:CH$303,CH172))","v":{"$error":"#N/A"}},{"$error":"#N/A"},{"$error":"#N/A"},{"$error":"#N/A"}]
[null,null,"",null,null,"",null,null,null,null,54,37.219881905768212,0.62560879400640479,0.96450674133287462,-49.374391205993597,null,-999,{"$error":"#N/A"},{"$error":"#N/A"},null,null,-49.374391205993597,null,2.2861904265976447,6.1257405062339357E-2,null,null,72.529949999999616,32.247449999999617,23.108845144499451,3.2176941005411535E-4,{"$error":"#N/A"},{"$error":"#N/A"},null,-999,{"$error":"#N/A"},{"$error":"#N/A"},6.1257405062339357E-2,{"$error":"#N/A"},-999,{"$error":"#N/A"},{"$error":"#N/A"},null,null,null,null,null,null,null,null,null,null,null,null,null,null,68,0.59752926230430603,"","",-999,24.2,-999,"",{"$f":"IF(BL173=\"\",NA(),COUNTIF(BL173:$BL$303,BL173))","v":{"$error":"#N/A"}},{"$error":"#VALUE!"},{"$error":"#N/A"},{"$error":"#N/A"},"",{"$f":"IF(BQ173=\"\",NA(),COUNTIF(BQ173:$BQ$303,BQ173))","v":{"$error":"#N/A"}},{"$error":"#VALUE!"},{"$error":"#N/A"},{"$error":"#N/A"},"",{"$f":"IF(BV173=\"\",NA(),COUNTIF(BV173:$BV$303,BV173))","v":{"$error":"#N/A"}},{"$error":"#VALUE!"},{"$error":"#N/A"},{"$error":"#N/A"},"",{"$f":"IF(CA173=\"\",NA(),COUNTIF(CA173:$CA$303,CA173))","v":{"$error":"#N/A"}},{"$error":"#VALUE!"},{"$error":"#N/A"},{"$error":"#N/A"},"",{"$f":"IF(CF173=\"\",NA(),COUNTIF($CF173:CF$303,CF173))","v":{"$error":"#N/A"}},"",{"$f":"IF(CH173=\"\",NA(),COUNTIF($CH173:CH$303,CH173))","v":{"$error":"#N/A"}},{"$error":"#N/A"},{"$error":"#N/A"},{"$error":"#N/A"}]
[null,null,"",null,null,"",null,null,null,null,54.5,36.901322784724471,0.51735290647888788,0.96793789319111834,-49.482647093521109,null,-999,{"$error":"#N/A"},{"$error":"#N/A"},null,null,-49.482647093521109,null,2.3678400846904175,7.149048499138122E-2,null,null,72.828537499999612,32.546037499999613,23.538767932252913,2.6620411018655175E-4,{"$error":"#N/A"},{"$error":"#N/A"},null,-999,{"$error":"#N/A"},{"$error":"#N/A"},7.149048499138122E-2,{"$error":"#N/A"},-999,{"$error":"#N/A"},{"$error":"#N/A"},null,null,null,null,null,null,null,null,null,null,null,null,null,null,69,0.39092347025871277,"","",-999,24.2,-999,"",{"$f":"IF(BL174=\"\",NA(),COUNTIF(BL174:$BL$303,BL174))","v":{"$error":"#N/A"}},{"$error":"#VALUE!"},{"$error":"#N/A"},{"$error":"#N/A"},"",{"$f":"IF(BQ174=\"\",NA(),COUNTIF(BQ174:$BQ$303,BQ174))","v":{"$error":"#N/A"}},{"$error":"#VALUE!"},{"$error":"#N/A"},{"$error":"#N/A"},"",{"$f":"IF(BV174=\"\",NA(),COUNTIF(BV174:$BV$303,BV174))","v":{"$error":"#N/A"}},{"$error":"#VALUE!"},{"$error":"#N/A"},{"$error":"#N/A"},"",{"$f":"IF(CA174=\"\",NA(),COUNTIF(CA174:$CA$303,CA174))","v":{"$error":"#N/A"}},{"$error":"#VALUE!"},{"$error":"#N/A"},{"$error":"#N/A"},"",{"$f":"IF(CF174=\"\",NA(),COUNTIF($CF174:CF$303,CF174))","v":{"$error":"#N/A"}},"",{"$f":"IF(CH174=\"\",NA(),COUNTIF($CH174:CH$303,CH174))","v":{"$error":"#N/A"}},{"$error":"#N/A"},{"$error":"#N/A"},{"$error":"#N/A"}]
[null,null,"",null,null,"",null,null,null,null,55,36.582040690958074,0.42498699964299086,0.97101361328837821,-49.575013000357011,null,-999,{"$error":"#N/A"},{"$error":"#N/A"},null,null,-49.575013000357011,null,2.4494897427831903,8.2730343581532723E-2,null,null,73.127124999999609,32.84462499999961,23.972653142013318,2.1975583789648697E-4,{"$error":"#N/A"},{"$error":"#N/A"},null,-999,{"$error":"#N/A"},{"$error":"#N/A"},8.2730343581532723E-2,{"$error":"#N/A"},-999,{"$error":"#N/A"},{"$error":"#N/A"},null,null,null,null,null,null,null,null,null,null,null,null,null,null,70,0.78459224104881287,"","",-999,24.2,-999,"",{"$f":"IF(BL175=\"\",NA(),COUNTIF(BL175:$BL$303,BL175))","v":{"$error":"#N/A"}},{"$error":"#VALUE!"},{"$error":"#N/A"},{"$error":"#N/A"},"",{"$f":"IF(BQ175=\"\",NA(),COUNTIF(BQ175:$BQ$303,BQ175))","v":{"$error":"#N/A"}},{"$error":"#VALUE!"},{"$error":"#N/A"},{"$error":"#N/A"},"",{"$f":"IF(BV175=\"\",NA(),COUNTIF(BV175:$BV$303,BV175))","v":{"$error":"#N/A"}},{"$error":"#VALUE!"},{"$error":"#N/A"},{"$error":"#N/A"},"",{"$f":"IF(CA175=\"\",NA(),COUNTIF(CA175:$CA$303,CA175))","v":{"$error":"#N/A"}},{"$error":"#VALUE!"},{"$error":"#N/A"},{"$error":"#N/A"},"",{"$f":"IF(CF175=\"\",NA(),COUNTIF($CF175:CF$303,CF175))","v":{"$error":"#N/A"}},"",{"$f":"IF(CH175=\"\",NA(),COUNTIF($CH175:CH$303,CH175))","v":{"$error":"#N/A"}},{"$error":"#N/A"},{"$error":"#N/A"},{"$error":"#N/A"}]
[null,null,"",null,null,"",null,null,null,null,55.5,36.262756626162457,0.34679202408759996,0.97377147096541383,-49.653207975912402,null,-999,{"$error":"#N/A"},{"$error":"#N/A"},null,null,-49.653207975912402,null,2.5311394008759631,9.4966797447665049E-2,null,null,73.425712499999605,33.143212499999606,24.410500773780672,1.8101845292285555E-4,{"$error":"#N/A"},{"$error":"#N/A"},null,-999,{"$error":"#N/A"},{"$error":"#N/A"},9.4966797447665049E-2,{"$error":"#N/A"},-999,{"$error":"#N/A"},{"$error":"#N/A"},null,null,null,null,null,null,null,null,null,null,null,null,null,null,71,0.61018726229667664,"","",-999,24.2,-999,"",{"$f":"IF(BL176=\"\",NA(),COUNTIF(BL176:$BL$303,BL176))","v":{"$error":"#N/A"}},{"$error":"#VALUE!"},{"$error":"#N/A"},{"$error":"#N/A"},"",{"$f":"IF(BQ176=\"\",NA(),COUNTIF(BQ176:$BQ$303,BQ176))","v":{"$error":"#N/A"}},{"$error":"#VALUE!"},{"$error":"#N/A"},{"$error":"#N/A"},"",{"$f":"IF(BV176=\"\",NA(),COUNTIF(BV176:$BV$303,BV176))","v":{"$error":"#N/A"}},{"$error":"#VALUE!"},{"$error":"#N/A"},{"$error":"#N/A"},"",{"$f":"IF(CA176=\"\",NA(),COUNTIF(CA176:$CA$303,CA176))","v":{"$error":"#N/A"}},{"$error":"#VALUE!"},{"$error":"#N/A"},{"$error":"#N/A"},"",{"$f":"IF(CF176=\"\",NA(),COUNTIF($CF176:CF$303,CF176))","v":{"$error":"#N/A"}},"",{"$f":"IF(CH176=\"\",NA(),COUNTIF($CH176:CH$303,CH176))","v":{"$error":"#N/A"}},{"$error":"#N/A"},{"$error":"#N/A"},{"$error":"#N/A"}]
[null,null,"",null,null,"",null,null,null,null,56,35.944167967698128,0.28110415135352218,0.97624525727020617,-49.718895848646476,null,-999,{"$error":"#N/A"},{"$error":"#N/A"},null,null,-49.718895848646476,null,2.6127890589687359,0.10817644881911817,null,null,73.724299999999602,33.441799999999603,24.852310827554962,1.4878636207504937E-4,{"$error":"#N/A"},{"$error":"#N/A"},null,-999,{"$error":"#N/A"},{"$error":"#N/A"},0.10817644881911817,{"$error":"#N/A"},-999,{"$error":"#N/A"},{"$error":"#N/A"},null,null,null,null,null,null,null,null,null,null,null,null,null,null,72,0.55540117621421814,"","",-999,24.2,-999,"",{"$f":"IF(BL177=\"\",NA(),COUNTIF(BL177:$BL$303,BL177))","v":{"$error":"#N/A"}},{"$error":"#VALUE!"},{"$error":"#N/A"},{"$error":"#N/A"},"",{"$f":"IF(BQ177=\"\",NA(),COUNTIF(BQ177:$BQ$303,BQ177))","v":{"$error":"#N/A"}},{"$error":"#VALUE!"},{"$error":"#N/A"},{"$error":"#N/A"},"",{"$f":"IF(BV177=\"\",NA(),COUNTIF(BV177:$BV$303,BV177))","v":{"$error":"#N/A"}},{"$error":"#VALUE!"},{"$error":"#N/A"},{"$error":"#N/A"},"",{"$f":"IF(CA177=\"\",NA(),COUNTIF(CA177:$CA$303,CA177))","v":{"$error":"#N/A"}},{"$error":"#VALUE!"},{"$error":"#N/A"},{"$error":"#N/A"},"",{"$f":"IF(CF177=\"\",NA(),COUNTIF($CF177:CF$303,CF177))","v":{"$error":"#N/A"}},"",{"$f":"IF(CH177=\"\",NA(),COUNTIF($CH177:CH$303,CH177))","v":{"$error":"#N/A"}},{"$error":"#N/A"},{"$error":"#N/A"},{"$error":"#N/A"}]
[null,null,"",null,null,"",null,null,null,null,56.5,35.626946210489002,0.22634459154437811,0.9784652906582515,-49.773655408455625,null,-999,{"$error":"#N/A"},{"$error":"#N/A"},null,null,-49.773655408455625,null,2.6944387170615087,0.12232347611425733,null,null,74.022887499999598,33.740387499999599,25.298083303336206,1.2202879386200524E-4,{"$error":"#N/A"},{"$error":"#N/A"},null,-999,{"$error":"#N/A"},{"$error":"#N/A"},0.12232347611425733,{"$error":"#N/A"},-999,{"$error":"#N/A"},{"$error":"#N/A"},null,null,null,null,null,null,null,null,null,null,null,null,null,null,73,0.98235747218132019,"","",-999,24.2,-999,"",{"$f":"IF(BL178=\"\",NA(),COUNTIF(BL178:$BL$303,BL178))","v":{"$error":"#N/A"}},{"$error":"#VALUE!"},{"$error":"#N/A"},{"$error":"#N/A"},"",{"$f":"IF(BQ178=\"\",NA(),COUNTIF(BQ178:$BQ$303,BQ178))","v":{"$error":"#N/A"}},{"$error":"#VALUE!"},{"$error":"#N/A"},{"$error":"#N/A"},"",{"$f":"IF(BV178=\"\",NA(),COUNTIF(BV178:$BV$303,BV178))","v":{"$error":"#N/A"}},{"$error":"#VALUE!"},{"$error":"#N/A"},{"$error":"#N/A"},"",{"$f":"IF(CA178=\"\",NA(),COUNTIF(CA178:$CA$303,CA178))","v":{"$error":"#N/A"}},{"$error":"#VALUE!"},{"$error":"#N/A"},{"$error":"#N/A"},"",{"$f":"IF(CF178=\"\",NA(),COUNTIF($CF178:CF$303,CF178))","v":{"$error":"#N/A"}},"",{"$f":"IF(CH178=\"\",NA(),COUNTIF($CH178:CH$303,CH178))","v":{"$error":"#N/A"}},{"$error":"#N/A"},{"$error":"#N/A"},{"$error":"#N/A"}]
[null,null,"",null,null,"",null,null,null,null,57,35.311734926539074,0.18104131158933615,0.98045871872214385,-49.81895868841066,null,-999,{"$error":"#N/A"},{"$error":"#N/A"},null,null,-49.81895868841066,null,2.7760883751542815,0.13736075058859942,null,null,74.321474999999595,34.038974999999596,25.747818201124385,9.9866880079972016E-5,{"$error":"#N/A"},{"$error":"#N/A"},null,-999,{"$error":"#N/A"},{"$error":"#N/A"},0.13736075058859942,{"$error":"#N/A"},-999,{"$error":"#N/A"},{"$error":"#N/A"},null,null,null,null,null,null,null,null,null,null,null,null,null,null,74,0.49246034026145935,"","",-999,24.2,-999,"",{"$f":"IF(BL179=\"\",NA(),COUNTIF(BL179:$BL$303,BL179))","v":{"$error":"#N/A"}},{"$error":"#VALUE!"},{"$error":"#N/A"},{"$error":"#N/A"},"",{"$f":"IF(BQ179=\"\",NA(),COUNTIF(BQ179:$BQ$303,BQ179))","v":{"$error":"#N/A"}},{"$error":"#VALUE!"},{"$error":"#N/A"},{"$error":"#N/A"},"",{"$f":"IF(BV179=\"\",NA(),COUNTIF(BV179:$BV$303,BV179))","v":{"$error":"#N/A"}},{"$error":"#VALUE!"},{"$error":"#N/A"},{"$error":"#N/A"},"",{"$f":"IF(CA179=\"\",NA(),COUNTIF(CA179:$CA$303,CA179))","v":{"$error":"#N/A"}},{"$error":"#VALUE!"},{"$error":"#N/A"},{"$error":"#N/A"},"",{"$f":"IF(CF179=\"\",NA(),COUNTIF($CF179:CF$303,CF179))","v":{"$error":"#N/A"}},"",{"$f":"IF(CH179=\"\",NA(),COUNTIF($CH179:CH$303,CH179))","v":{"$error":"#N/A"}},{"$error":"#N/A"},{"$error":"#N/A"},{"$error":"#N/A"}]
[null,null,"",null,null,"",null,null,null,null,57.5,34.999147947940727,0.1438434054990039,0.98224980944042262,-49.856156594500995,null,-999,{"$error":"#N/A"},{"$error":"#N/A"},null,null,-49.856156594500995,null,2.8577380332470543,0.15323120392604778,null,null,74.620062499999591,34.337562499999592,26.201515520919514,8.1553321349176283E-5,{"$error":"#N/A"},{"$error":"#N/A"},null,-999,{"$error":"#N/A"},{"$error":"#N/A"},0.15323120392604778,{"$error":"#N/A"},-999,{"$error":"#N/A"},{"$error":"#N/A"},null,null,null,null,null,null,null,null,null,null,null,null,null,null,75,0.80459901690483093,"","",-999,24.2,-999,"",{"$f":"IF(BL180=\"\",NA(),COUNTIF(BL180:$BL$303,BL180))","v":{"$error":"#N/A"}},{"$error":"#VALUE!"},{"$error":"#N/A"},{"$error":"#N/A"},"",{"$f":"IF(BQ180=\"\",NA(),COUNTIF(BQ180:$BQ$303,BQ180))","v":{"$error":"#N/A"}},{"$error":"#VALUE!"},{"$error":"#N/A"},{"$error":"#N/A"},"",{"$f":"IF(BV180=\"\",NA(),COUNTIF(BV180:$BV$303,BV180))","v":{"$error":"#N/A"}},{"$error":"#VALUE!"},{"$error":"#N/A"},{"$error":"#N/A"},"",{"$f":"IF(CA180=\"\",NA(),COUNTIF(CA180:$CA$303,CA180))","v":{"$error":"#N/A"}},{"$error":"#VALUE!"},{"$error":"#N/A"},{"$error":"#N/A"},"",{"$f":"IF(CF180=\"\",NA(),COUNTIF($CF180:CF$303,CF180))","v":{"$error":"#N/A"}},"",{"$f":"IF(CH180=\"\",NA(),COUNTIF($CH180:CH$303,CH180))","v":{"$error":"#N/A"}},{"$error":"#N/A"},{"$error":"#N/A"},{"$error":"#N/A"}]
[null,null,"",null,null,"",null,null,null,null,58,34.689767777335234,0.1135290304811911,0.98386022756990132,-49.886470969518811,null,-999,{"$error":"#N/A"},{"$error":"#N/A"},null,null,-49.886470969518811,null,2.9393876913398271,0.16986936890421325,null,null,74.918649999999587,34.636149999999589,26.65917526272159,6.645441678548305E-5,{"$error":"#N/A"},{"$error":"#N/A"},null,-999,{"$error":"#N/A"},{"$error":"#N/A"},0.16986936890421325,{"$error":"#N/A"},-999,{"$error":"#N/A"},{"$error":"#N/A"},null,null,null,null,null,null,null,null,null,null,null,null,null,null,76,0.628835529088974,"","",-999,24.2,-999,"",{"$f":"IF(BL181=\"\",NA(),COUNTIF(BL181:$BL$303,BL181))","v":{"$error":"#N/A"}},{"$error":"#VALUE!"},{"$error":"#N/A"},{"$error":"#N/A"},"",{"$f":"IF(BQ181=\"\",NA(),COUNTIF(BQ181:$BQ$303,BQ181))","v":{"$error":"#N/A"}},{"$error":"#VALUE!"},{"$error":"#N/A"},{"$error":"#N/A"},"",{"$f":"IF(BV181=\"\",NA(),COUNTIF(BV181:$BV$303,BV181))","v":{"$error":"#N/A"}},{"$error":"#VALUE!"},{"$error":"#N/A"},{"$error":"#N/A"},"",{"$f":"IF(CA181=\"\",NA(),COUNTIF(CA181:$CA$303,CA181))","v":{"$error":"#N/A"}},{"$error":"#VALUE!"},{"$error":"#N/A"},{"$error":"#N/A"},"",{"$f":"IF(CF181=\"\",NA(),COUNTIF($CF181:CF$303,CF181))","v":{"$error":"#N/A"}},"",{"$f":"IF(CH181=\"\",NA(),COUNTIF($CH181:CH$303,CH181))","v":{"$error":"#N/A"}},{"$error":"#N/A"},{"$error":"#N/A"},{"$error":"#N/A"}]
[null,null,"",null,null,"",null,null,null,null,58.5,34.384144227909204,8.9007910343619698E-2,0.98530929346654428,-49.910992089656382,null,-999,{"$error":"#N/A"},{"$error":"#N/A"},null,null,-49.910992089656382,null,3.0210373494325999,0.18720301764189146,null,null,75.217237499999584,34.934737499999585,27.120797426530604,5.403424424928725E-5,{"$error":"#N/A"},{"$error":"#N/A"},null,-999,{"$error":"#N/A"},{"$error":"#N/A"},0.18720301764189146,{"$error":"#N/A"},-999,{"$error":"#N/A"},{"$error":"#N/A"},null,null,null,null,null,null,null,null,null,null,null,null,null,null,77,0.46575161814689636,"","",-999,24.2,-999,"",{"$f":"IF(BL182=\"\",NA(),COUNTIF(BL182:$BL$303,BL182))","v":{"$error":"#N/A"}},{"$error":"#VALUE!"},{"$error":"#N/A"},{"$error":"#N/A"},"",{"$f":"IF(BQ182=\"\",NA(),COUNTIF(BQ182:$BQ$303,BQ182))","v":{"$error":"#N/A"}},{"$error":"#VALUE!"},{"$error":"#N/A"},{"$error":"#N/A"},"",{"$f":"IF(BV182=\"\",NA(),COUNTIF(BV182:$BV$303,BV182))","v":{"$error":"#N/A"}},{"$error":"#VALUE!"},{"$error":"#N/A"},{"$error":"#N/A"},"",{"$f":"IF(CA182=\"\",NA(),COUNTIF(CA182:$CA$303,CA182))","v":{"$error":"#N/A"}},{"$error":"#VALUE!"},{"$error":"#N/A"},{"$error":"#N/A"},"",{"$f":"IF(CF182=\"\",NA(),COUNTIF($CF182:CF$303,CF182))","v":{"$error":"#N/A"}},"",{"$f":"IF(CH182=\"\",NA(),COUNTIF($CH182:CH$303,CH182))","v":{"$error":"#N/A"}},{"$error":"#N/A"},{"$error":"#N/A"},{"$error":"#N/A"}]
[null,null,"",null,null,"",null,null,null,null,59,34.082793293183805,6.931943027516041E-2,0.9866142228841811,-49.930680569724842,null,-999,{"$error":"#N/A"},{"$error":"#N/A"},null,null,-49.930680569724842,null,3.1026870075253727,0.20515482827448339,null,null,75.51582499999958,35.233324999999581,27.586382012346565,4.3840786244721517E-5,{"$error":"#N/A"},{"$error":"#N/A"},null,-999,{"$error":"#N/A"},{"$error":"#N/A"},0.20515482827448339,{"$error":"#N/A"},-999,{"$error":"#N/A"},{"$error":"#N/A"},null,null,null,null,null,null,null,null,null,null,null,null,null,null,78,0.23623999953269958,"","",-999,24.2,-999,"",{"$f":"IF(BL183=\"\",NA(),COUNTIF(BL183:$BL$303,BL183))","v":{"$error":"#N/A"}},{"$error":"#VALUE!"},{"$error":"#N/A"},{"$error":"#N/A"},"",{"$f":"IF(BQ183=\"\",NA(),COUNTIF(BQ183:$BQ$303,BQ183))","v":{"$error":"#N/A"}},{"$error":"#VALUE!"},{"$error":"#N/A"},{"$error":"#N/A"},"",{"$f":"IF(BV183=\"\",NA(),COUNTIF(BV183:$BV$303,BV183))","v":{"$error":"#N/A"}},{"$error":"#VALUE!"},{"$error":"#N/A"},{"$error":"#N/A"},"",{"$f":"IF(CA183=\"\",NA(),COUNTIF(CA183:$CA$303,CA183))","v":{"$error":"#N/A"}},{"$error":"#VALUE!"},{"$error":"#N/A"},{"$error":"#N/A"},"",{"$f":"IF(CF183=\"\",NA(),COUNTIF($CF183:CF$303,CF183))","v":{"$error":"#N/A"}},"",{"$f":"IF(CH183=\"\",NA(),COUNTIF($CH183:CH$303,CH183))","v":{"$error":"#N/A"}},{"$error":"#N/A"},{"$error":"#N/A"},{"$error":"#N/A"}]
[null,null,"",null,null,"",null,null,null,null,59.5,33.786196245093173,5.3627316764429826E-2,0.98779034723954173,-49.946372683235573,null,-999,{"$error":"#N/A"},{"$error":"#N/A"},null,null,-49.946372683235573,null,3.1843366656181455,0.22364401997967001,null,null,75.814412499999577,35.531912499999578,28.055929020169476,3.5493806941529425E-5,{"$error":"#N/A"},{"$error":"#N/A"},null,-999,{"$error":"#N/A"},{"$error":"#N/A"},0.22364401997967001,{"$error":"#N/A"},-999,{"$error":"#N/A"},{"$error":"#N/A"},null,null,null,null,null,null,null,null,null,null,null,null,null,null,79,6.6446989774703979E-2,"","",-999,24.2,-999,"",{"$f":"IF(BL184=\"\",NA(),COUNTIF(BL184:$BL$303,BL184))","v":{"$error":"#N/A"}},{"$error":"#VALUE!"},{"$error":"#N/A"},{"$error":"#N/A"},"",{"$f":"IF(BQ184=\"\",NA(),COUNTIF(BQ184:$BQ$303,BQ184))","v":{"$error":"#N/A"}},{"$error":"#VALUE!"},{"$error":"#N/A"},{"$error":"#N/A"},"",{"$f":"IF(BV184=\"\",NA(),COUNTIF(BV184:$BV$303,BV184))","v":{"$error":"#N/A"}},{"$error":"#VALUE!"},{"$error":"#N/A"},{"$error":"#N/A"},"",{"$f":"IF(CA184=\"\",NA(),COUNTIF(CA184:$CA$303,CA184))","v":{"$error":"#N/A"}},{"$error":"#VALUE!"},{"$error":"#N/A"},{"$error":"#N/A"},"",{"$f":"IF(CF184=\"\",NA(),COUNTIF($CF184:CF$303,CF184))","v":{"$error":"#N/A"}},"",{"$f":"IF(CH184=\"\",NA(),COUNTIF($CH184:CH$303,CH184))","v":{"$error":"#N/A"}},{"$error":"#N/A"},{"$error":"#N/A"},{"$error":"#N/A"}]
[null,null,"",null,null,"",null,null,null,null,60,33.494798957169344,4.1211825672170063E-2,0.98885131453705388,-49.958788174327829,null,-999,{"$error":"#N/A"},{"$error":"#N/A"},null,null,-49.958788174327829,null,3.2659863237109183,0.24258790693290555,null,null,76.112999999999573,35.830499999999574,28.529438449999322,2.8674297431476577E-5,{"$error":"#N/A"},{"$error":"#N/A"},null,-999,{"$error":"#N/A"},{"$error":"#N/A"},0.24258790693290555,{"$error":"#N/A"},-999,{"$error":"#N/A"},{"$error":"#N/A"},null,null,null,null,null,null,null,null,null,null,null,null,null,null,80,0.76155790686607361,"","",-999,24.2,-999,"",{"$f":"IF(BL185=\"\",NA(),COUNTIF(BL185:$BL$303,BL185))","v":{"$error":"#N/A"}},{"$error":"#VALUE!"},{"$error":"#N/A"},{"$error":"#N/A"},"",{"$f":"IF(BQ185=\"\",NA(),COUNTIF(BQ185:$BQ$303,BQ185))","v":{"$error":"#N/A"}},{"$error":"#VALUE!"},{"$error":"#N/A"},{"$error":"#N/A"},"",{"$f":"IF(BV185=\"\",NA(),COUNTIF(BV185:$BV$303,BV185))","v":{"$error":"#N/A"}},{"$error":"#VALUE!"},{"$error":"#N/A"},{"$error":"#N/A"},"",{"$f":"IF(CA185=\"\",NA(),COUNTIF(CA185:$CA$303,CA185))","v":{"$error":"#N/A"}},{"$error":"#VALUE!"},{"$error":"#N/A"},{"$error":"#N/A"},"",{"$f":"IF(CF185=\"\",NA(),COUNTIF($CF185:CF$303,CF185))","v":{"$error":"#N/A"}},"",{"$f":"IF(CH185=\"\",NA(),COUNTIF($CH185:CH$303,CH185))","v":{"$error":"#N/A"}},{"$error":"#N/A"},{"$error":"#N/A"},{"$error":"#N/A"}]
[null,null,"",null,null,"",null,null,null,null,60.5,33.209011448066136,3.1460262642319714E-2,0.98980927142141728,-49.968539737357681,null,-999,{"$error":"#N/A"},{"$error":"#N/A"},null,null,-49.968539737357681,null,3.3476359818036912,0.26190333300321011,null,null,76.41158749999957,36.129087499999571,29.006910301836115,2.3115318758089139E-5,{"$error":"#N/A"},{"$error":"#N/A"},null,-999,{"$error":"#N/A"},{"$error":"#N/A"},0.26190333300321011,{"$error":"#N/A"},-999,{"$error":"#N/A"},{"$error":"#N/A"},null,null,null,null,null,null,null,null,null,null,null,null,null,null,81,0.96891352534294128,"","",-999,24.2,-999,"",{"$f":"IF(BL186=\"\",NA(),COUNTIF(BL186:$BL$303,BL186))","v":{"$error":"#N/A"}},{"$error":"#VALUE!"},{"$error":"#N/A"},{"$error":"#N/A"},"",{"$f":"IF(BQ186=\"\",NA(),COUNTIF(BQ186:$BQ$303,BQ186))","v":{"$error":"#N/A"}},{"$error":"#VALUE!"},{"$error":"#N/A"},{"$error":"#N/A"},"",{"$f":"IF(BV186=\"\",NA(),COUNTIF(BV186:$BV$303,BV186))","v":{"$error":"#N/A"}},{"$error":"#VALUE!"},{"$error":"#N/A"},{"$error":"#N/A"},"",{"$f":"IF(CA186=\"\",NA(),COUNTIF(CA186:$CA$303,CA186))","v":{"$error":"#N/A"}},{"$error":"#VALUE!"},{"$error":"#N/A"},{"$error":"#N/A"},"",{"$f":"IF(CF186=\"\",NA(),COUNTIF($CF186:CF$303,CF186))","v":{"$error":"#N/A"}},"",{"$f":"IF(CH186=\"\",NA(),COUNTIF($CH186:CH$303,CH186))","v":{"$error":"#N/A"}},{"$error":"#N/A"},{"$error":"#N/A"},{"$error":"#N/A"}]
[null,null,"",null,null,"",null,null,null,null,61,32.929207639175495,2.3856544432549375E-2,0.99067502776252392,-49.976143455567453,null,-999,{"$error":"#N/A"},{"$error":"#N/A"},null,null,-49.976143455567453,null,3.429285639896464,0.28150795999588524,null,null,76.710174999999566,36.427674999999567,29.488344575679857,1.8594085090918143E-5,{"$error":"#N/A"},{"$error":"#N/A"},null,-999,{"$error":"#N/A"},{"$error":"#N/A"},0.28150795999588524,{"$error":"#N/A"},-999,{"$error":"#N/A"},{"$error":"#N/A"},null,null,null,null,null,null,null,null,null,null,null,null,null,null,82,0.84930524230003357,"","",-999,24.2,-999,"",{"$f":"IF(BL187=\"\",NA(),COUNTIF(BL187:$BL$303,BL187))","v":{"$error":"#N/A"}},{"$error":"#VALUE!"},{"$error":"#N/A"},{"$error":"#N/A"},"",{"$f":"IF(BQ187=\"\",NA(),COUNTIF(BQ187:$BQ$303,BQ187))","v":{"$error":"#N/A"}},{"$error":"#VALUE!"},{"$error":"#N/A"},{"$error":"#N/A"},"",{"$f":"IF(BV187=\"\",NA(),COUNTIF(BV187:$BV$303,BV187))","v":{"$error":"#N/A"}},{"$error":"#VALUE!"},{"$error":"#N/A"},{"$error":"#N/A"},"",{"$f":"IF(CA187=\"\",NA(),COUNTIF(CA187:$CA$303,CA187))","v":{"$error":"#N/A"}},{"$error":"#VALUE!"},{"$error":"#N/A"},{"$error":"#N/A"},"",{"$f":"IF(CF187=\"\",NA(),COUNTIF($CF187:CF$303,CF187))","v":{"$error":"#N/A"}},"",{"$f":"IF(CH187=\"\",NA(),COUNTIF($CH187:CH$303,CH187))","v":{"$error":"#N/A"}},{"$error":"#N/A"},{"$error":"#N/A"},{"$error":"#N/A"}]
[null,null,"",null,null,"",null,null,null,null,61.5,32.655725318727406,1.7970387172357292E-2,0.99145820426957021,-49.982029612827645,null,-999,{"$error":"#N/A"},{"$error":"#N/A"},null,null,-49.982029612827645,null,3.5109352979892368,0.30132139241474837,null,null,77.008762499999563,36.726262499999564,29.973741271530535,1.4925142337425656E-5,{"$error":"#N/A"},{"$error":"#N/A"},null,-999,{"$error":"#N/A"},{"$error":"#N/A"},0.30132139241474837,{"$error":"#N/A"},-999,{"$error":"#N/A"},{"$error":"#N/A"},null,null,null,null,null,null,null,null,null,null,null,null,null,null,83,0.46396848559379578,"","",-999,24.2,-999,"",{"$f":"IF(BL188=\"\",NA(),COUNTIF(BL188:$BL$303,BL188))","v":{"$error":"#N/A"}},{"$error":"#VALUE!"},{"$error":"#N/A"},{"$error":"#N/A"},"",{"$f":"IF(BQ188=\"\",NA(),COUNTIF(BQ188:$BQ$303,BQ188))","v":{"$error":"#N/A"}},{"$error":"#VALUE!"},{"$error":"#N/A"},{"$error":"#N/A"},"",{"$f":"IF(BV188=\"\",NA(),COUNTIF(BV188:$BV$303,BV188))","v":{"$error":"#N/A"}},{"$error":"#VALUE!"},{"$error":"#N/A"},{"$error":"#N/A"},"",{"$f":"IF(CA188=\"\",NA(),COUNTIF(CA188:$CA$303,CA188))","v":{"$error":"#N/A"}},{"$error":"#VALUE!"},{"$error":"#N/A"},{"$error":"#N/A"},"",{"$f":"IF(CF188=\"\",NA(),COUNTIF($CF188:CF$303,CF188))","v":{"$error":"#N/A"}},"",{"$f":"IF(CH188=\"\",NA(),COUNTIF($CH188:CH$303,CH188))","v":{"$error":"#N/A"}},{"$error":"#N/A"},{"$error":"#N/A"},{"$error":"#N/A"}]
[null,null,"",null,null,"",null,null,null,null,62,32.388866303526207,1.3446586016356154E-2,0.99216736489825186,-49.986553413983643,null,-999,{"$error":"#N/A"},{"$error":"#N/A"},null,null,-49.986553413983643,null,3.5925849560820096,0.32126613066034904,null,null,77.307349999999559,37.02484999999956,30.463100389388167,1.1954510241076288E-5,{"$error":"#N/A"},{"$error":"#N/A"},null,-999,{"$error":"#N/A"},{"$error":"#N/A"},0.32126613066034904,{"$error":"#N/A"},-999,{"$error":"#N/A"},{"$error":"#N/A"},null,null,null,null,null,null,null,null,null,null,null,null,null,null,84,0.88752827048301697,"","",-999,24.2,-999,"",{"$f":"IF(BL189=\"\",NA(),COUNTIF(BL189:$BL$303,BL189))","v":{"$error":"#N/A"}},{"$error":"#VALUE!"},{"$error":"#N/A"},{"$error":"#N/A"},"",{"$f":"IF(BQ189=\"\",NA(),COUNTIF(BQ189:$BQ$303,BQ189))","v":{"$error":"#N/A"}},{"$error":"#VALUE!"},{"$error":"#N/A"},{"$error":"#N/A"},"",{"$f":"IF(BV189=\"\",NA(),COUNTIF(BV189:$BV$303,BV189))","v":{"$error":"#N/A"}},{"$error":"#VALUE!"},{"$error":"#N/A"},{"$error":"#N/A"},"",{"$f":"IF(CA189=\"\",NA(),COUNTIF(CA189:$CA$303,CA189))","v":{"$error":"#N/A"}},{"$error":"#VALUE!"},{"$error":"#N/A"},{"$error":"#N/A"},"",{"$f":"IF(CF189=\"\",NA(),COUNTIF($CF189:CF$303,CF189))","v":{"$error":"#N/A"}},"",{"$f":"IF(CH189=\"\",NA(),COUNTIF($CH189:CH$303,CH189))","v":{"$error":"#N/A"}},{"$error":"#N/A"},{"$error":"#N/A"},{"$error":"#N/A"}]
[null,null,"",null,null,"",null,null,null,null,62.5,32.12889678836931,9.9947362497116964E-3,0.99281013510301108,-49.990005263750291,null,-999,{"$error":"#N/A"},{"$error":"#N/A"},null,null,-49.990005263750291,null,3.6742346141747824,0.3412683520887474,null,null,77.605937499999555,37.323437499999557,30.956421929252738,9.5546684013815894E-6,{"$error":"#N/A"},{"$error":"#N/A"},null,-999,{"$error":"#N/A"},{"$error":"#N/A"},0.3412683520887474,{"$error":"#N/A"},-999,{"$error":"#N/A"},{"$error":"#N/A"},null,null,null,null,null,null,null,null,null,null,null,null,null,null,85,0.24269768595695496,"","",-999,24.2,-999,"",{"$f":"IF(BL190=\"\",NA(),COUNTIF(BL190:$BL$303,BL190))","v":{"$error":"#N/A"}},{"$error":"#VALUE!"},{"$error":"#N/A"},{"$error":"#N/A"},"",{"$f":"IF(BQ190=\"\",NA(),COUNTIF(BQ190:$BQ$303,BQ190))","v":{"$error":"#N/A"}},{"$error":"#VALUE!"},{"$error":"#N/A"},{"$error":"#N/A"},"",{"$f":"IF(BV190=\"\",NA(),COUNTIF(BV190:$BV$303,BV190))","v":{"$error":"#N/A"}},{"$error":"#VALUE!"},{"$error":"#N/A"},{"$error":"#N/A"},"",{"$f":"IF(CA190=\"\",NA(),COUNTIF(CA190:$CA$303,CA190))","v":{"$error":"#N/A"}},{"$error":"#VALUE!"},{"$error":"#N/A"},{"$error":"#N/A"},"",{"$f":"IF(CF190=\"\",NA(),COUNTIF($CF190:CF$303,CF190))","v":{"$error":"#N/A"}},"",{"$f":"IF(CH190=\"\",NA(),COUNTIF($CH190:CH$303,CH190))","v":{"$error":"#N/A"}},{"$error":"#N/A"},{"$error":"#N/A"},{"$error":"#N/A"}]
[null,null,"",null,null,"",null,null,null,null,63,31.876047872223644,7.3796428715154792E-3,0.99339330724174402,-49.992620357128487,null,-999,{"$error":"#N/A"},{"$error":"#N/A"},null,null,-49.992620357128487,null,3.7558842722675552,0.36125852535919678,null,null,77.904524999999552,37.622024999999553,31.453705891124255,7.6202785163446739E-6,{"$error":"#N/A"},{"$error":"#N/A"},null,-999,{"$error":"#N/A"},{"$error":"#N/A"},0.36125852535919678,{"$error":"#N/A"},-999,{"$error":"#N/A"},{"$error":"#N/A"},null,null,null,null,null,null,null,null,null,null,null,null,null,null,86,1.4639467000961304E-2,"","",-999,24.2,-999,"",{"$f":"IF(BL191=\"\",NA(),COUNTIF(BL191:$BL$303,BL191))","v":{"$error":"#N/A"}},{"$error":"#VALUE!"},{"$error":"#N/A"},{"$error":"#N/A"},"",{"$f":"IF(BQ191=\"\",NA(),COUNTIF(BQ191:$BQ$303,BQ191))","v":{"$error":"#N/A"}},{"$error":"#VALUE!"},{"$error":"#N/A"},{"$error":"#N/A"},"",{"$f":"IF(BV191=\"\",NA(),COUNTIF(BV191:$BV$303,BV191))","v":{"$error":"#N/A"}},{"$error":"#VALUE!"},{"$error":"#N/A"},{"$error":"#N/A"},"",{"$f":"IF(CA191=\"\",NA(),COUNTIF(CA191:$CA$303,CA191))","v":{"$error":"#N/A"}},{"$error":"#VALUE!"},{"$error":"#N/A"},{"$error":"#N/A"},"",{"$f":"IF(CF191=\"\",NA(),COUNTIF($CF191:CF$303,CF191))","v":{"$error":"#N/A"}},"",{"$f":"IF(CH191=\"\",NA(),COUNTIF($CH191:CH$303,CH191))","v":{"$error":"#N/A"}},{"$error":"#N/A"},{"$error":"#N/A"},{"$error":"#N/A"}]
[null,null,"",null,null,"",null,null,null,null,63.5,31.6305162494039,5.4125766021353048E-3,{"$f":"IF(K192>$O$9,1-TDIST((K192-$O$9)/$BB$9,$K$14-1,1),TDIST(($O$9-K192)/$BB$9,$K$14-1,1))","v":0.99392293435494172},-49.994587423397867,null,-999,{"$error":"#N/A"},{"$error":"#N/A"},null,null,-49.994587423397867,null,3.837533930360328,{"$f":"nct(X192,$AW$136,$AW$137)","v":0.38117186803960723},null,null,78.203112499999548,37.92061249999955,31.954952275002714,6.0645463775107627E-6,{"$error":"#N/A"},{"$error":"#N/A"},null,-999,{"$error":"#N/A"},{"$error":"#N/A"},{"$f":"Y192","v":0.38117186803960723},{"$error":"#N/A"},-999,{"$error":"#N/A"},{"$error":"#N/A"},null,null,null,null,null,null,null,null,null,null,null,null,null,null,87,0.86032268404960632,"","",-999,24.2,-999,"",{"$f":"IF(BL192=\"\",NA(),COUNTIF(BL192:$BL$303,BL192))","v":{"$error":"#N/A"}},{"$error":"#VALUE!"},{"$error":"#N/A"},{"$error":"#N/A"},"",{"$f":"IF(BQ192=\"\",NA(),COUNTIF(BQ192:$BQ$303,BQ192))","v":{"$error":"#N/A"}},{"$error":"#VALUE!"},{"$error":"#N/A"},{"$error":"#N/A"},"",{"$f":"IF(BV192=\"\",NA(),COUNTIF(BV192:$BV$303,BV192))","v":{"$error":"#N/A"}},{"$error":"#VALUE!"},{"$error":"#N/A"},{"$error":"#N/A"},"",{"$f":"IF(CA192=\"\",NA(),COUNTIF(CA192:$CA$303,CA192))","v":{"$error":"#N/A"}},{"$error":"#VALUE!"},{"$error":"#N/A"},{"$error":"#N/A"},"",{"$f":"IF(CF192=\"\",NA(),COUNTIF($CF192:CF$303,CF192))","v":{"$error":"#N/A"}},"",{"$f":"IF(CH192=\"\",NA(),COUNTIF($CH192:CH$303,CH192))","v":{"$error":"#N/A"}},{"$error":"#N/A"},{"$error":"#N/A"},{"$error":"#N/A"}]
[null,null,"",null,null,"",null,null,null,null,64,{"$f":"IF(NOT($BB$12),$AX$6+$AX$5*$X$62*NORMDIST(K193,$O$9,$R$11,FALSE),-999)","v":31.392465053306438},3.9434602715092918E-3,0.99440441347652175,-49.996056539728492,null,{"$f":"IF($BB$12,$AX$6+$AX$5*$X$62*NORMDIST(K193,$O$9,$R$11,FALSE),-999)","v":-999},{"$error":"#N/A"},{"$error":"#N/A"},null,null,-49.996056539728492,null,{"$f":"X192+$AW$140","v":3.9191835884531008},0.40094866063304663,null,null,78.501699999999545,38.219199999999546,32.460161080888113,4.8161376658581054E-6,{"$error":"#N/A"},{"$error":"#N/A"},null,{"$f":"IF(NOT($BB$13),$AX$6+$AX$5*$X$62*NORMDIST(K193,$V$9,$R$11,FALSE),-999)","v":-999},{"$f":"IF(AND(NOT($BB$13),$BD$4,$BD$9),$AX$9+$AM$62*NORMDIST(K193,$V$9,$R$11/SQRT($K$14),FALSE),NA())","v":{"$error":"#N/A"}},{"$error":"#N/A"},0.40094866063304663,{"$f":"IF(AND(NOT($BB$13),$BD$10,$BD$4,$BD$9,$BB$25),IF($BD$12,$AX$15+$AM$62*NORMDIST(K193,$V$9,$R$11/SQRT($K$14),FALSE),$AX$15+$AM$62*(AL194-AL192)/(2*$BB$1)),NA())","v":{"$error":"#N/A"}},{"$f":"IF(AND($BB$4,$BB$13),$AX$6+$AX$5*$X$62*NORMDIST(K193,$V$9,$R$11,FALSE),-999)","v":-999},{"$f":"IF(AND($BB$4,$BD$6,$BB$13,$BD$4,$BD$9),$AX$9+$AM$62*NORMDIST(K193,$V$9,$R$11/SQRT($K$14),FALSE),NA())","v":{"$error":"#N/A"}},{"$f":"IF(AND($BB$4,$BD$10,$BB$13,$BD$4,$BD$9,$BB$25),IF($BD$12,$AX$15+$AM$62*NORMDIST(K193,$V$9,$R$11/SQRT($K$14),FALSE),$AX$15+$AM$62*(AL194-AL192)/(2*$BB$1)),NA())","v":{"$error":"#N/A"}},null,null,null,null,null,null,null,null,null,null,null,null,null,null,88,2.4690955877304077E-2,"","",-999,24.2,-999,"",{"$f":"IF(BL193=\"\",NA(),COUNTIF(BL193:$BL$303,BL193))","v":{"$error":"#N/A"}},{"$error":"#VALUE!"},{"$error":"#N/A"},{"$error":"#N/A"},"",{"$f":"IF(BQ193=\"\",NA(),COUNTIF(BQ193:$BQ$303,BQ193))","v":{"$error":"#N/A"}},{"$error":"#VALUE!"},{"$error":"#N/A"},{"$error":"#N/A"},"",{"$f":"IF(BV193=\"\",NA(),COUNTIF(BV193:$BV$303,BV193))","v":{"$error":"#N/A"}},{"$error":"#VALUE!"},{"$error":"#N/A"},{"$error":"#N/A"},"",{"$f":"IF(CA193=\"\",NA(),COUNTIF(CA193:$CA$303,CA193))","v":{"$error":"#N/A"}},{"$error":"#VALUE!"},{"$error":"#N/A"},{"$error":"#N/A"},"",{"$f":"IF(CF193=\"\",NA(),COUNTIF($CF193:CF$303,CF193))","v":{"$error":"#N/A"}},"",{"$f":"IF(CH193=\"\",NA(),COUNTIF($CH193:CH$303,CH193))","v":{"$error":"#N/A"}},{"$error":"#N/A"},{"$error":"#N/A"},{"$error":"#N/A"}]
[null,null,"",null,null,"",null,null,null,null,{"$f":"K193+$BB$1","v":64.5},31.162024839703506,{"$f":"IF(AND(NOT($BB$12),$BB$6,$BD$3,$BD$9),$AX$9+$O$62*NORMDIST(K194,$O$9,$R$11/SQRT($K$14),FALSE),NA())","v":2.8540106368586107E-3},0.99484255955652401,{"$f":"IF(AND(NOT($BB$12),$BD$10,$BD$3,$BD$9),IF($BD$12,V194,$AX$15+$O$62*(N195-N193)/(2*$BB$1)),NA())","v":-49.99714598936314},null,-999,{"$f":"IF(AND($BB$12,$BB$6,$BD$3,$BD$9),$AX$9+$O$62*NORMDIST(K194,$O$9,$R$11/SQRT($K$14),FALSE),NA())","v":{"$error":"#N/A"}},{"$f":"IF(AND($BB$12,$BD$10,$BD$3,$BD$9),IF($BD$12,$AX$15+$O$62*NORMDIST(K194,$O$9,$R$11/SQRT($K$14),FALSE),$AX$15+$O$62*(N195-N193)/(2*$BB$1)),NA())","v":{"$error":"#N/A"}},null,null,{"$f":"IF(AND(NOT($BB$12),$BD$3,$BD$9),$AX$15+$O$62*NORMDIST(K194,$O$9,$R$11/SQRT($K$14),FALSE),NA())","v":-49.99714598936314},null,4.0008332465458736,0.42053443220061304,null,null,78.800287499999541,{"$f":"AB194-$AA$63","v":38.517787499999542},{"$f":"AC194^2/$AA$66","v":32.969332308780466},{"$f":"CHIDIST(AD194,$K$16)","v":3.8165713564532497E-6},{"$error":"#N/A"},{"$error":"#N/A"},null,-999,{"$error":"#N/A"},{"$f":"IF($BD$6,AJ194,NA())","v":{"$error":"#N/A"}},0.42053443220061304,{"$error":"#N/A"},-999,{"$error":"#N/A"},{"$error":"#N/A"},null,null,null,null,null,null,null,null,null,null,null,null,null,null,89,0.87975546717643738,"","",-999,24.2,-999,"",{"$f":"IF(BL194=\"\",NA(),COUNTIF(BL194:$BL$303,BL194))","v":{"$error":"#N/A"}},{"$error":"#VALUE!"},{"$error":"#N/A"},{"$error":"#N/A"},"",{"$f":"IF(BQ194=\"\",NA(),COUNTIF(BQ194:$BQ$303,BQ194))","v":{"$error":"#N/A"}},{"$error":"#VALUE!"},{"$error":"#N/A"},{"$error":"#N/A"},"",{"$f":"IF(BV194=\"\",NA(),COUNTIF(BV194:$BV$303,BV194))","v":{"$error":"#N/A"}},{"$error":"#VALUE!"},{"$error":"#N/A"},{"$error":"#N/A"},"",{"$f":"IF(CA194=\"\",NA(),COUNTIF(CA194:$CA$303,CA194))","v":{"$error":"#N/A"}},{"$error":"#VALUE!"},{"$error":"#N/A"},{"$error":"#N/A"},"",{"$f":"IF(CF194=\"\",NA(),COUNTIF($CF194:CF$303,CF194))","v":{"$error":"#N/A"}},"",{"$f":"IF(CH194=\"\",NA(),COUNTIF($CH194:CH$303,CH194))","v":{"$error":"#N/A"}},{"$error":"#N/A"},{"$error":"#N/A"},{"$error":"#N/A"}]
[null,null,"",null,null,"",null,null,null,null,65,30.939294696192849,2.0518159823048215E-3,0.99524167099253069,-49.997948184017694,null,-999,{"$error":"#N/A"},{"$error":"#N/A"},null,null,-49.997948184017694,null,4.0824829046386464,0.43988003377233592,null,null,{"$f":"AB194+$AA$65","v":79.098874999999538},38.816374999999539,33.482465958679761,3.0180235194933658E-6,{"$f":"IF(AND(IF($BB$5=1,$A$4<>\"\",$D$4<>\"\"),NOT($BD$12),$BD$5,$BD$4,$BD$9),$AX$12+$AA$67*(AE194-AE196)/(2*$AA$65),NA())","v":{"$error":"#N/A"}},{"$f":"IF(AND(IF($BB$5=1,$A$4<>\"\",$D$4<>\"\"),$BD$12,$BD$5,$BD$4,$BD$9),$AX$12+$AA$67*(AE194-AE196)/(2*$AA$65),NA())","v":{"$error":"#N/A"}},null,-999,{"$error":"#N/A"},{"$error":"#N/A"},0.43988003377233592,{"$error":"#N/A"},-999,{"$error":"#N/A"},{"$error":"#N/A"},null,null,null,null,null,null,null,null,null,null,null,null,null,null,90,0.10858544707298279,"","",-999,24.2,-999,"",{"$f":"IF(BL195=\"\",NA(),COUNTIF(BL195:$BL$303,BL195))","v":{"$error":"#N/A"}},{"$error":"#VALUE!"},{"$error":"#N/A"},{"$error":"#N/A"},"",{"$f":"IF(BQ195=\"\",NA(),COUNTIF(BQ195:$BQ$303,BQ195))","v":{"$error":"#N/A"}},{"$error":"#VALUE!"},{"$error":"#N/A"},{"$error":"#N/A"},"",{"$f":"IF(BV195=\"\",NA(),COUNTIF(BV195:$BV$303,BV195))","v":{"$error":"#N/A"}},{"$error":"#VALUE!"},{"$error":"#N/A"},{"$error":"#N/A"},"",{"$f":"IF(CA195=\"\",NA(),COUNTIF(CA195:$CA$303,CA195))","v":{"$error":"#N/A"}},{"$error":"#VALUE!"},{"$error":"#N/A"},{"$error":"#N/A"},"",{"$f":"IF(CF195=\"\",NA(),COUNTIF($CF195:CF$303,CF195))","v":{"$error":"#N/A"}},"",{"$f":"IF(CH195=\"\",NA(),COUNTIF($CH195:CH$303,CH195))","v":{"$error":"#N/A"}},{"$error":"#N/A"},{"$error":"#N/A"},{"$error":"#N/A"}]
[null,null,"",null,null,"",null,null,null,null,65.5,30.724343464124722,1.4652979188643218E-3,0.99560558768151908,-49.998534702081137,null,-999,{"$error":"#N/A"},{"$error":"#N/A"},null,null,-49.998534702081137,null,4.1641325627314192,0.45894161594941141,null,null,79.397462499999534,39.114962499999535,33.999562030585999,2.381482503702921E-6,{"$error":"#N/A"},{"$error":"#N/A"},null,-999,{"$error":"#N/A"},{"$error":"#N/A"},0.45894161594941141,{"$error":"#N/A"},-999,{"$error":"#N/A"},{"$error":"#N/A"},null,null,null,null,null,null,null,null,null,null,null,null,null,null,91,0.88234063982963562,"","",-999,24.2,-999,{"$f":"IF(A196=\"\",\"\",ROUND(($O$9+$R$11*A196)/$BA$34,0))","v":""},{"$f":"IF(BL196=\"\",NA(),COUNTIF(BL196:$BL$303,BL196))","v":{"$error":"#N/A"}},{"$f":"BL196*$BA$34","v":{"$error":"#VALUE!"}},{"$f":"IF(AND(NOT($BB$12),$BB$6,$BD$3,$BD$8),$AX$9-$BA$33/2+BM196*$BA$33,NA())","v":{"$error":"#N/A"}},{"$f":"IF(AND($BB$12,$BB$6,$BD$3,$BD$8),$AX$9-$BA$33/2+BM196*$BA$33,NA())","v":{"$error":"#N/A"}},{"$f":"IF(C196=\"\",\"\",ROUND(($O$9+C196*$BB$9)/$BA$34,0))","v":""},{"$f":"IF(BQ196=\"\",NA(),COUNTIF(BQ196:$BQ$303,BQ196))","v":{"$error":"#N/A"}},{"$f":"BQ196*$BA$34","v":{"$error":"#VALUE!"}},{"$error":"#N/A"},{"$error":"#N/A"},{"$f":"IF(D196=\"\",\"\",ROUND(($V$9+$R$11*D196)/$BA$34,0))","v":""},{"$f":"IF(BV196=\"\",NA(),COUNTIF(BV196:$BV$303,BV196))","v":{"$error":"#N/A"}},{"$f":"BV196*$BA$34","v":{"$error":"#VALUE!"}},{"$f":"IF(AND(NOT($BB$13),$BD$6,$BD$4,$BD$8),$AX$9-$BA$33/2+BW196*$BA$33,NA())","v":{"$error":"#N/A"}},{"$f":"IF(AND($BB$4,$BD$6,$BB$13,$BD$4,$BD$8),$AX$9-$BA$33/2+BW196*$BA$33,NA())","v":{"$error":"#N/A"}},{"$f":"IF(F196=\"\",\"\",ROUND(($O$9+F196*$BB$9)/$BA$34,0))","v":""},{"$f":"IF(CA196=\"\",NA(),COUNTIF(CA196:$CA$303,CA196))","v":{"$error":"#N/A"}},{"$f":"CA196*$BA$34","v":{"$error":"#VALUE!"}},{"$error":"#N/A"},{"$error":"#N/A"},"",{"$f":"IF(CF196=\"\",NA(),COUNTIF($CF196:CF$303,CF196))","v":{"$error":"#N/A"}},"",{"$f":"IF(CH196=\"\",NA(),COUNTIF($CH196:CH$303,CH196))","v":{"$error":"#N/A"}},{"$error":"#N/A"},{"$error":"#N/A"},{"$error":"#N/A"}]
[null,null,{"$f":"IF(AND(A197<>\"\",$K$14>1),(($O$9+$R$11*A197)-$O$9)/IF($BD$12,$BB$9,$R$11*B197/SQRT($K$14)),\"\")","v":""},null,null,{"$f":"IF(AND(D197<>\"\",$K$14>1),(($V$9+$R$11*D197)-$O$9)/IF($BD$12,$BB$9,$R$11*E197/SQRT($K$14)),\"\")","v":""},null,null,null,null,66,30.517211059187439,1.0394848418429166E-3,0.99593774241994759,-49.99896051515816,null,-999,{"$error":"#N/A"},{"$error":"#N/A"},null,null,-49.99896051515816,null,4.245782220824192,0.47768052669065614,null,null,79.696049999999531,39.413549999999532,34.520620524499179,1.8752039197507141E-6,{"$error":"#N/A"},{"$error":"#N/A"},null,-999,{"$error":"#N/A"},{"$error":"#N/A"},0.47768052669065614,{"$error":"#N/A"},-999,{"$error":"#N/A"},{"$error":"#N/A"},null,null,null,null,null,null,null,null,null,null,null,null,null,null,92,0.86872467398643494,"","",-999,24.2,-999,"",{"$f":"IF(BL197=\"\",NA(),COUNTIF(BL197:$BL$303,BL197))","v":{"$error":"#N/A"}},{"$error":"#VALUE!"},{"$error":"#N/A"},{"$error":"#N/A"},"",{"$f":"IF(BQ197=\"\",NA(),COUNTIF(BQ197:$BQ$303,BQ197))","v":{"$error":"#N/A"}},{"$error":"#VALUE!"},{"$f":"IF(AND(NOT($BB$12),$BD$10,$BD$3,$BD$8),$AX$15-$BA$33/2+BR197*$BA$33,NA())","v":{"$error":"#N/A"}},{"$f":"IF(AND($BB$12,$BD$10,$BD$3,$BD$8),$AX$15-$BA$33/2+BR197*$BA$33,NA())","v":{"$error":"#N/A"}},"",{"$f":"IF(BV197=\"\",NA(),COUNTIF(BV197:$BV$303,BV197))","v":{"$error":"#N/A"}},{"$error":"#VALUE!"},{"$error":"#N/A"},{"$error":"#N/A"},"",{"$f":"IF(CA197=\"\",NA(),COUNTIF(CA197:$CA$303,CA197))","v":{"$error":"#N/A"}},{"$error":"#VALUE!"},{"$f":"IF(AND(NOT($BB$13),$BD$10,$BD$4,$BD$8),$AX$15-$BA$33/2+CB197*$BA$33,NA())","v":{"$error":"#N/A"}},{"$f":"IF(AND($BB$4,$BD$10,$BB$13,$BD$4,$BD$8),$AX$15-$BA$33/2+CB197*$BA$33,NA())","v":{"$error":"#N/A"}},{"$f":"IF(B197=\"\",\"\",ROUND(($R$11*B197)/$BA$37,0))","v":""},{"$f":"IF(CF197=\"\",NA(),COUNTIF($CF197:CF$303,CF197))","v":{"$error":"#N/A"}},{"$f":"IF(E197=\"\",\"\",ROUND(($R$11*E197)/$BA$37,0))","v":""},{"$f":"IF(CH197=\"\",NA(),COUNTIF($CH197:CH$303,CH197))","v":{"$error":"#N/A"}},{"$f":"$AX$35+IF($BB$5=1,CF197,CH197)*$BA$37","v":{"$error":"#N/A"}},{"$f":"IF(AND(NOT($BD$12),$BD$5,$BD$4,$BD$8),$AX$12-$BA$36/2+IF($BB$5=1,CG197,CI197)*$BA$36,NA())","v":{"$error":"#N/A"}},{"$f":"IF(AND($BD$12,$BD$5,$BD$4,$BD$8),$AX$12-$BA$36/2+IF($BB$5=1,CG197,CI197)*$BA$36,NA())","v":{"$error":"#N/A"}}]
[null,null,"",null,null,"",null,null,null,null,66.5,30.317909876818604,7.3251258748984426E-4,0.99624120639924596,-49.99926748741251,null,-999,{"$error":"#N/A"},{"$error":"#N/A"},null,null,-49.99926748741251,null,4.3274318789169648,0.49606314440940608,null,null,79.994637499999527,39.712137499999528,35.045641440419303,1.4734205334610167E-6,{"$error":"#N/A"},{"$error":"#N/A"},null,-999,{"$error":"#N/A"},{"$error":"#N/A"},0.49606314440940608,{"$error":"#N/A"},-999,{"$error":"#N/A"},{"$error":"#N/A"},null,null,null,null,null,null,null,null,null,null,null,null,null,null,93,3.328511118888855E-2,"","",-999,24.2,-999,"",{"$f":"IF(BL198=\"\",NA(),COUNTIF(BL198:$BL$303,BL198))","v":{"$error":"#N/A"}},{"$error":"#VALUE!"},{"$error":"#N/A"},{"$error":"#N/A"},"",{"$f":"IF(BQ198=\"\",NA(),COUNTIF(BQ198:$BQ$303,BQ198))","v":{"$error":"#N/A"}},{"$error":"#VALUE!"},{"$error":"#N/A"},{"$error":"#N/A"},"",{"$f":"IF(BV198=\"\",NA(),COUNTIF(BV198:$BV$303,BV198))","v":{"$error":"#N/A"}},{"$error":"#VALUE!"},{"$error":"#N/A"},{"$error":"#N/A"},"",{"$f":"IF(CA198=\"\",NA(),COUNTIF(CA198:$CA$303,CA198))","v":{"$error":"#N/A"}},{"$error":"#VALUE!"},{"$error":"#N/A"},{"$error":"#N/A"},"",{"$f":"IF(CF198=\"\",NA(),COUNTIF($CF198:CF$303,CF198))","v":{"$error":"#N/A"}},"",{"$f":"IF(CH198=\"\",NA(),COUNTIF($CH198:CH$303,CH198))","v":{"$error":"#N/A"}},{"$error":"#N/A"},{"$error":"#N/A"},{"$error":"#N/A"}]
[null,null,"",null,null,"",null,null,null,null,67,30.126426268715409,5.1276305550464077E-4,0.99651872946785136,-49.999487236944496,null,-999,{"$error":"#N/A"},{"$error":"#N/A"},null,null,-49.999487236944496,null,4.4090815370097376,0.51406066032839814,null,null,80.293224999999524,40.010724999999525,35.574624778346376,1.1552681703998867E-6,{"$error":"#N/A"},{"$error":"#N/A"},null,-999,{"$error":"#N/A"},{"$error":"#N/A"},0.51406066032839814,{"$error":"#N/A"},-999,{"$error":"#N/A"},{"$error":"#N/A"},null,null,null,null,null,null,null,null,null,null,null,null,null,null,94,0.54459533095359802,"","",-999,24.2,-999,"",{"$f":"IF(BL199=\"\",NA(),COUNTIF(BL199:$BL$303,BL199))","v":{"$error":"#N/A"}},{"$error":"#VALUE!"},{"$error":"#N/A"},{"$error":"#N/A"},"",{"$f":"IF(BQ199=\"\",NA(),COUNTIF(BQ199:$BQ$303,BQ199))","v":{"$error":"#N/A"}},{"$error":"#VALUE!"},{"$error":"#N/A"},{"$error":"#N/A"},"",{"$f":"IF(BV199=\"\",NA(),COUNTIF(BV199:$BV$303,BV199))","v":{"$error":"#N/A"}},{"$error":"#VALUE!"},{"$error":"#N/A"},{"$error":"#N/A"},"",{"$f":"IF(CA199=\"\",NA(),COUNTIF(CA199:$CA$303,CA199))","v":{"$error":"#N/A"}},{"$error":"#VALUE!"},{"$error":"#N/A"},{"$error":"#N/A"},"",{"$f":"IF(CF199=\"\",NA(),COUNTIF($CF199:CF$303,CF199))","v":{"$error":"#N/A"}},"",{"$f":"IF(CH199=\"\",NA(),COUNTIF($CH199:CH$303,CH199))","v":{"$error":"#N/A"}},{"$error":"#N/A"},{"$error":"#N/A"},{"$error":"#N/A"}]
[null,null,"",null,null,"",null,null,null,null,67.5,29.942722076936125,3.5655215447975754E-4,0.99677277576022738,-49.999643447845521,null,-999,{"$error":"#N/A"},{"$error":"#N/A"},null,null,-49.999643447845521,null,4.4907311951025104,0.53164882267044145,null,null,80.59181249999952,40.309312499999521,36.107570538280392,9.0389403877347408E-7,{"$error":"#N/A"},{"$error":"#N/A"},null,-999,{"$error":"#N/A"},{"$error":"#N/A"},0.53164882267044145,{"$error":"#N/A"},-999,{"$error":"#N/A"},{"$error":"#N/A"},null,null,null,null,null,null,null,null,null,null,null,null,null,null,95,0.38927528262138367,"","",-999,24.2,-999,"",{"$f":"IF(BL200=\"\",NA(),COUNTIF(BL200:$BL$303,BL200))","v":{"$error":"#N/A"}},{"$error":"#VALUE!"},{"$error":"#N/A"},{"$error":"#N/A"},"",{"$f":"IF(BQ200=\"\",NA(),COUNTIF(BQ200:$BQ$303,BQ200))","v":{"$error":"#N/A"}},{"$error":"#VALUE!"},{"$error":"#N/A"},{"$error":"#N/A"},"",{"$f":"IF(BV200=\"\",NA(),COUNTIF(BV200:$BV$303,BV200))","v":{"$error":"#N/A"}},{"$error":"#VALUE!"},{"$error":"#N/A"},{"$error":"#N/A"},"",{"$f":"IF(CA200=\"\",NA(),COUNTIF(CA200:$CA$303,CA200))","v":{"$error":"#N/A"}},{"$error":"#VALUE!"},{"$error":"#N/A"},{"$error":"#N/A"},"",{"$f":"IF(CF200=\"\",NA(),COUNTIF($CF200:CF$303,CF200))","v":{"$error":"#N/A"}},"",{"$f":"IF(CH200=\"\",NA(),COUNTIF($CH200:CH$303,CH200))","v":{"$error":"#N/A"}},{"$error":"#N/A"},{"$error":"#N/A"},{"$error":"#N/A"}]
[null,null,"",null,null,"",null,null,null,null,68,29.76673621240824,2.4628281376188216E-4,0.9970055552282886,-49.999753717186238,null,-999,{"$error":"#N/A"},{"$error":"#N/A"},null,null,-49.999753717186238,null,4.5723808531952832,0.54880765379964302,null,null,80.890399999999516,40.607899999999518,36.64447872022135,7.0571866180423778E-7,{"$error":"#N/A"},{"$error":"#N/A"},null,-999,{"$error":"#N/A"},{"$error":"#N/A"},0.54880765379964302,{"$error":"#N/A"},-999,{"$error":"#N/A"},{"$error":"#N/A"},null,null,null,null,null,null,null,null,null,null,null,null,null,null,96,0.88679251074790955,"","",-999,24.2,-999,"",{"$f":"IF(BL201=\"\",NA(),COUNTIF(BL201:$BL$303,BL201))","v":{"$error":"#N/A"}},{"$error":"#VALUE!"},{"$error":"#N/A"},{"$error":"#N/A"},"",{"$f":"IF(BQ201=\"\",NA(),COUNTIF(BQ201:$BQ$303,BQ201))","v":{"$error":"#N/A"}},{"$error":"#VALUE!"},{"$error":"#N/A"},{"$error":"#N/A"},"",{"$f":"IF(BV201=\"\",NA(),COUNTIF(BV201:$BV$303,BV201))","v":{"$error":"#N/A"}},{"$error":"#VALUE!"},{"$error":"#N/A"},{"$error":"#N/A"},"",{"$f":"IF(CA201=\"\",NA(),COUNTIF(CA201:$CA$303,CA201))","v":{"$error":"#N/A"}},{"$error":"#VALUE!"},{"$error":"#N/A"},{"$error":"#N/A"},"",{"$f":"IF(CF201=\"\",NA(),COUNTIF($CF201:CF$303,CF201))","v":{"$error":"#N/A"}},"",{"$f":"IF(CH201=\"\",NA(),COUNTIF($CH201:CH$303,CH201))","v":{"$error":"#N/A"}},{"$error":"#N/A"},{"$error":"#N/A"},{"$error":"#N/A"}]
[null,null,"",null,null,"",null,null,null,null,68.5,29.598386265077192,1.6898565984984902E-4,0.99721905155137991,-49.999831014340153,null,-999,{"$error":"#N/A"},{"$error":"#N/A"},null,null,-49.999831014340153,null,4.654030511288056,0.56552114994774116,null,null,81.188987499999513,40.906487499999514,37.185349324169259,5.4982663616190724E-7,{"$error":"#N/A"},{"$error":"#N/A"},null,-999,{"$error":"#N/A"},{"$error":"#N/A"},0.56552114994774116,{"$error":"#N/A"},-999,{"$error":"#N/A"},{"$error":"#N/A"},null,null,null,null,null,null,null,null,null,null,null,null,null,null,97,0.63578173518180847,"","",-999,24.2,-999,"",{"$f":"IF(BL202=\"\",NA(),COUNTIF(BL202:$BL$303,BL202))","v":{"$error":"#N/A"}},{"$error":"#VALUE!"},{"$error":"#N/A"},{"$error":"#N/A"},"",{"$f":"IF(BQ202=\"\",NA(),COUNTIF(BQ202:$BQ$303,BQ202))","v":{"$error":"#N/A"}},{"$error":"#VALUE!"},{"$error":"#N/A"},{"$error":"#N/A"},"",{"$f":"IF(BV202=\"\",NA(),COUNTIF(BV202:$BV$303,BV202))","v":{"$error":"#N/A"}},{"$error":"#VALUE!"},{"$error":"#N/A"},{"$error":"#N/A"},"",{"$f":"IF(CA202=\"\",NA(),COUNTIF(CA202:$CA$303,CA202))","v":{"$error":"#N/A"}},{"$error":"#VALUE!"},{"$error":"#N/A"},{"$error":"#N/A"},"",{"$f":"IF(CF202=\"\",NA(),COUNTIF($CF202:CF$303,CF202))","v":{"$error":"#N/A"}},"",{"$f":"IF(CH202=\"\",NA(),COUNTIF($CH202:CH$303,CH202))","v":{"$error":"#N/A"}},{"$error":"#N/A"},{"$error":"#N/A"},{"$error":"#N/A"}]
[null,null,"",null,null,"",null,null,null,null,69,29.43757013343415,1.1517820354596636E-4,0.99741504684730287,-49.999884821796456,null,-999,{"$error":"#N/A"},{"$error":"#N/A"},null,null,-49.999884821796456,null,4.7356801693808288,0.5817769717195338,null,null,81.487574999999509,41.205074999999511,37.730182350124103,4.2746519417520748E-7,{"$error":"#N/A"},{"$error":"#N/A"},null,-999,{"$error":"#N/A"},{"$error":"#N/A"},0.5817769717195338,{"$error":"#N/A"},-999,{"$error":"#N/A"},{"$error":"#N/A"},null,null,null,null,null,null,null,null,null,null,null,null,null,null,98,0.61698064208030701,"","",-999,24.2,-999,"",{"$f":"IF(BL203=\"\",NA(),COUNTIF(BL203:$BL$303,BL203))","v":{"$error":"#N/A"}},{"$error":"#VALUE!"},{"$error":"#N/A"},{"$error":"#N/A"},"",{"$f":"IF(BQ203=\"\",NA(),COUNTIF(BQ203:$BQ$303,BQ203))","v":{"$error":"#N/A"}},{"$error":"#VALUE!"},{"$error":"#N/A"},{"$error":"#N/A"},"",{"$f":"IF(BV203=\"\",NA(),COUNTIF(BV203:$BV$303,BV203))","v":{"$error":"#N/A"}},{"$error":"#VALUE!"},{"$error":"#N/A"},{"$error":"#N/A"},"",{"$f":"IF(CA203=\"\",NA(),COUNTIF(CA203:$CA$303,CA203))","v":{"$error":"#N/A"}},{"$error":"#VALUE!"},{"$error":"#N/A"},{"$error":"#N/A"},"",{"$f":"IF(CF203=\"\",NA(),COUNTIF($CF203:CF$303,CF203))","v":{"$error":"#N/A"}},"",{"$f":"IF(CH203=\"\",NA(),COUNTIF($CH203:CH$303,CH203))","v":{"$error":"#N/A"}},{"$error":"#N/A"},{"$error":"#N/A"},{"$error":"#N/A"}]
[null,null,"",null,null,"",null,null,null,null,69.5,29.284167661741659,7.7982194503145374E-5,0.99759514355859047,-49.999922017805495,null,-999,{"$error":"#N/A"},{"$error":"#N/A"},null,null,-49.999922017805495,null,4.8173298274736016,0.5975661322107868,null,null,81.786162499999506,41.503662499999507,38.278977798085897,3.3163263136996602E-7,{"$error":"#N/A"},{"$error":"#N/A"},null,-999,{"$error":"#N/A"},{"$error":"#N/A"},0.5975661322107868,{"$error":"#N/A"},-999,{"$error":"#N/A"},{"$error":"#N/A"},null,null,null,null,null,null,null,null,null,null,null,null,null,null,99,0.44155141711235046,"","",-999,24.2,-999,"",{"$f":"IF(BL204=\"\",NA(),COUNTIF(BL204:$BL$303,BL204))","v":{"$error":"#N/A"}},{"$error":"#VALUE!"},{"$error":"#N/A"},{"$error":"#N/A"},"",{"$f":"IF(BQ204=\"\",NA(),COUNTIF(BQ204:$BQ$303,BQ204))","v":{"$error":"#N/A"}},{"$error":"#VALUE!"},{"$error":"#N/A"},{"$error":"#N/A"},"",{"$f":"IF(BV204=\"\",NA(),COUNTIF(BV204:$BV$303,BV204))","v":{"$error":"#N/A"}},{"$error":"#VALUE!"},{"$error":"#N/A"},{"$error":"#N/A"},"",{"$f":"IF(CA204=\"\",NA(),COUNTIF(CA204:$CA$303,CA204))","v":{"$error":"#N/A"}},{"$error":"#VALUE!"},{"$error":"#N/A"},{"$error":"#N/A"},"",{"$f":"IF(CF204=\"\",NA(),COUNTIF($CF204:CF$303,CF204))","v":{"$error":"#N/A"}},"",{"$f":"IF(CH204=\"\",NA(),COUNTIF($CH204:CH$303,CH204))","v":{"$error":"#N/A"}},{"$error":"#N/A"},{"$error":"#N/A"},{"$error":"#N/A"}]
[null,null,"",null,null,"",null,null,null,null,70,29.138042273922245,5.2447562365327321E-5,0.9977607838449668,-49.999947552437632,null,-999,{"$error":"#N/A"},{"$error":"#N/A"},null,null,-49.999947552437632,null,4.8989794855663744,0.61288268831779025,null,null,82.084749999999502,41.802249999999503,38.831735668054634,2.5674143463386066E-7,{"$error":"#N/A"},{"$error":"#N/A"},null,-999,{"$error":"#N/A"},{"$error":"#N/A"},0.61288268831779025,{"$error":"#N/A"},-999,{"$error":"#N/A"},{"$error":"#N/A"},null,null,null,null,null,null,null,null,null,null,null,null,null,null,100,0.91129192709922791,"","",-999,24.2,-999,"",{"$f":"IF(BL205=\"\",NA(),COUNTIF(BL205:$BL$303,BL205))","v":{"$error":"#N/A"}},{"$error":"#VALUE!"},{"$error":"#N/A"},{"$error":"#N/A"},"",{"$f":"IF(BQ205=\"\",NA(),COUNTIF(BQ205:$BQ$303,BQ205))","v":{"$error":"#N/A"}},{"$error":"#VALUE!"},{"$error":"#N/A"},{"$error":"#N/A"},"",{"$f":"IF(BV205=\"\",NA(),COUNTIF(BV205:$BV$303,BV205))","v":{"$error":"#N/A"}},{"$error":"#VALUE!"},{"$error":"#N/A"},{"$error":"#N/A"},"",{"$f":"IF(CA205=\"\",NA(),COUNTIF(CA205:$CA$303,CA205))","v":{"$error":"#N/A"}},{"$error":"#VALUE!"},{"$error":"#N/A"},{"$error":"#N/A"},"",{"$f":"IF(CF205=\"\",NA(),COUNTIF($CF205:CF$303,CF205))","v":{"$error":"#N/A"}},"",{"$f":"IF(CH205=\"\",NA(),COUNTIF($CH205:CH$303,CH205))","v":{"$error":"#N/A"}},{"$error":"#N/A"},{"$error":"#N/A"},{"$error":"#N/A"}]
[null,null,"",null,null,"",null,null,null,null,70.5,28.999042593777016,3.5039658675686044E-5,0.99791326677431702,-49.999964960341323,null,-999,{"$error":"#N/A"},{"$error":"#N/A"},null,null,-49.999964960341323,null,4.9806291436591472,0.6277234396853435,null,null,82.383337499999499,42.1008374999995,39.388455960030313,1.9834331219863625E-7,{"$error":"#N/A"},{"$error":"#N/A"},null,-999,{"$error":"#N/A"},{"$error":"#N/A"},0.6277234396853435,{"$error":"#N/A"},-999,{"$error":"#N/A"},{"$error":"#N/A"},null,null,null,null,null,null,null,null,null,null,null,null,null,null,null,0.11778733134269714,"","",-999,24.2,-999,"",{"$f":"IF(BL206=\"\",NA(),COUNTIF(BL206:$BL$303,BL206))","v":{"$error":"#N/A"}},{"$error":"#VALUE!"},{"$error":"#N/A"},{"$error":"#N/A"},"",{"$f":"IF(BQ206=\"\",NA(),COUNTIF(BQ206:$BQ$303,BQ206))","v":{"$error":"#N/A"}},{"$error":"#VALUE!"},{"$error":"#N/A"},{"$error":"#N/A"},"",{"$f":"IF(BV206=\"\",NA(),COUNTIF(BV206:$BV$303,BV206))","v":{"$error":"#N/A"}},{"$error":"#VALUE!"},{"$error":"#N/A"},{"$error":"#N/A"},"",{"$f":"IF(CA206=\"\",NA(),COUNTIF(CA206:$CA$303,CA206))","v":{"$error":"#N/A"}},{"$error":"#VALUE!"},{"$error":"#N/A"},{"$error":"#N/A"},"",{"$f":"IF(CF206=\"\",NA(),COUNTIF($CF206:CF$303,CF206))","v":{"$error":"#N/A"}},"",{"$f":"IF(CH206=\"\",NA(),COUNTIF($CH206:CH$303,CH206))","v":{"$error":"#N/A"}},{"$error":"#N/A"},{"$error":"#N/A"},{"$error":"#N/A"}]
[null,null,"",null,null,"",null,null,null,null,71,28.867004041948515,2.3254078244810294E-5,0.99805376357015052,-49.999976745921757,null,-999,{"$error":"#N/A"},{"$error":"#N/A"},null,null,-49.999976745921757,null,5.06227880175192,0.64208763873614749,null,null,82.681924999999495,42.399424999999496,39.949138674012943,1.5290536423120831E-7,{"$error":"#N/A"},{"$error":"#N/A"},null,-999,{"$error":"#N/A"},{"$error":"#N/A"},0.64208763873614749,{"$error":"#N/A"},-999,{"$error":"#N/A"},{"$error":"#N/A"},null,null,null,null,null,null,null,null,null,null,null,null,null,null,null,null,null,null,null,null,null,"",{"$f":"IF(BL207=\"\",NA(),COUNTIF(BL207:$BL$303,BL207))","v":{"$error":"#N/A"}},{"$error":"#VALUE!"},{"$error":"#N/A"},{"$error":"#N/A"},"",{"$f":"IF(BQ207=\"\",NA(),COUNTIF(BQ207:$BQ$303,BQ207))","v":{"$error":"#N/A"}},{"$error":"#VALUE!"},{"$error":"#N/A"},{"$error":"#N/A"},"",{"$f":"IF(BV207=\"\",NA(),COUNTIF(BV207:$BV$303,BV207))","v":{"$error":"#N/A"}},{"$error":"#VALUE!"},{"$error":"#N/A"},{"$error":"#N/A"},"",{"$f":"IF(CA207=\"\",NA(),COUNTIF(CA207:$CA$303,CA207))","v":{"$error":"#N/A"}},{"$error":"#VALUE!"},{"$error":"#N/A"},{"$error":"#N/A"},"",{"$f":"IF(CF207=\"\",NA(),COUNTIF($CF207:CF$303,CF207))","v":{"$error":"#N/A"}},"",{"$f":"IF(CH207=\"\",NA(),COUNTIF($CH207:CH$303,CH207))","v":{"$error":"#N/A"}},{"$error":"#N/A"},{"$error":"#N/A"},{"$error":"#N/A"}]
[null,null,"",null,null,"",null,null,null,null,71.5,28.741750400824916,1.5330033196839172E-5,0.9981833311430639,-49.9999846699668,null,-999,{"$error":"#N/A"},{"$error":"#N/A"},null,null,-49.9999846699668,null,5.1439284598446928,0.65597671434964744,null,null,82.980512499999492,42.698012499999493,40.513783810002515,1.1762837709486068E-7,{"$error":"#N/A"},{"$error":"#N/A"},null,-999,{"$error":"#N/A"},{"$error":"#N/A"},0.65597671434964744,{"$error":"#N/A"},-999,{"$error":"#N/A"},{"$error":"#N/A"},null,null,null,null,null,null,null,null,null,null,null,null,null,null,null,null,null,null,null,null,null,"",{"$f":"IF(BL208=\"\",NA(),COUNTIF(BL208:$BL$303,BL208))","v":{"$error":"#N/A"}},{"$error":"#VALUE!"},{"$error":"#N/A"},{"$error":"#N/A"},"",{"$f":"IF(BQ208=\"\",NA(),COUNTIF(BQ208:$BQ$303,BQ208))","v":{"$error":"#N/A"}},{"$error":"#VALUE!"},{"$error":"#N/A"},{"$error":"#N/A"},"",{"$f":"IF(BV208=\"\",NA(),COUNTIF(BV208:$BV$303,BV208))","v":{"$error":"#N/A"}},{"$error":"#VALUE!"},{"$error":"#N/A"},{"$error":"#N/A"},"",{"$f":"IF(CA208=\"\",NA(),COUNTIF(CA208:$CA$303,CA208))","v":{"$error":"#N/A"}},{"$error":"#VALUE!"},{"$error":"#N/A"},{"$error":"#N/A"},"",{"$f":"IF(CF208=\"\",NA(),COUNTIF($CF208:CF$303,CF208))","v":{"$error":"#N/A"}},"",{"$f":"IF(CH208=\"\",NA(),COUNTIF($CH208:CH$303,CH208))","v":{"$error":"#N/A"}},{"$error":"#N/A"},{"$error":"#N/A"},{"$error":"#N/A"}]
[null,null,"",null,null,"",null,null,null,null,72,28.623095339390797,1.0039030290927827E-5,0.9983029241067316,-49.999989960969707,null,-999,{"$error":"#N/A"},{"$error":"#N/A"},null,null,-49.999989960969707,null,5.2255781179374656,0.66939401100782803,null,null,83.279099999999488,42.996599999999489,41.082391367999023,9.0299711390060451E-8,{"$error":"#N/A"},{"$error":"#N/A"},null,-999,{"$error":"#N/A"},{"$error":"#N/A"},0.66939401100782803,{"$error":"#N/A"},-999,{"$error":"#N/A"},{"$error":"#N/A"},null,null,null,null,null,null,null,null,null,null,null,null,null,null,null,null,null,null,null,null,null,"",{"$f":"IF(BL209=\"\",NA(),COUNTIF(BL209:$BL$303,BL209))","v":{"$error":"#N/A"}},{"$error":"#VALUE!"},{"$error":"#N/A"},{"$error":"#N/A"},"",{"$f":"IF(BQ209=\"\",NA(),COUNTIF(BQ209:$BQ$303,BQ209))","v":{"$error":"#N/A"}},{"$error":"#VALUE!"},{"$error":"#N/A"},{"$error":"#N/A"},"",{"$f":"IF(BV209=\"\",NA(),COUNTIF(BV209:$BV$303,BV209))","v":{"$error":"#N/A"}},{"$error":"#VALUE!"},{"$error":"#N/A"},{"$error":"#N/A"},"",{"$f":"IF(CA209=\"\",NA(),COUNTIF(CA209:$CA$303,CA209))","v":{"$error":"#N/A"}},{"$error":"#VALUE!"},{"$error":"#N/A"},{"$error":"#N/A"},"",{"$f":"IF(CF209=\"\",NA(),COUNTIF($CF209:CF$303,CF209))","v":{"$error":"#N/A"}},"",{"$f":"IF(CH209=\"\",NA(),COUNTIF($CH209:CH$303,CH209))","v":{"$error":"#N/A"}},{"$error":"#N/A"},{"$error":"#N/A"},{"$error":"#N/A"}]
[null,null,"",null,null,"",null,null,null,null,72.5,28.510843890854151,6.5304805064514158E-6,0.99841340545511004,-49.999993469519495,null,-999,{"$error":"#N/A"},{"$error":"#N/A"},null,null,-49.999993469519495,null,5.3072277760302384,0.68234454459182459,null,null,83.577687499999485,43.295187499999486,41.65496134800248,6.9174516584787405E-8,{"$error":"#N/A"},{"$error":"#N/A"},null,-999,{"$error":"#N/A"},{"$error":"#N/A"},0.68234454459182459,{"$error":"#N/A"},-999,{"$error":"#N/A"},{"$error":"#N/A"},null,null,null,null,null,null,null,null,null,null,null,null,null,null,null,null,null,null,null,null,null,"",{"$f":"IF(BL210=\"\",NA(),COUNTIF(BL210:$BL$303,BL210))","v":{"$error":"#N/A"}},{"$error":"#VALUE!"},{"$error":"#N/A"},{"$error":"#N/A"},"",{"$f":"IF(BQ210=\"\",NA(),COUNTIF(BQ210:$BQ$303,BQ210))","v":{"$error":"#N/A"}},{"$error":"#VALUE!"},{"$error":"#N/A"},{"$error":"#N/A"},"",{"$f":"IF(BV210=\"\",NA(),COUNTIF(BV210:$BV$303,BV210))","v":{"$error":"#N/A"}},{"$error":"#VALUE!"},{"$error":"#N/A"},{"$error":"#N/A"},"",{"$f":"IF(CA210=\"\",NA(),COUNTIF(CA210:$CA$303,CA210))","v":{"$error":"#N/A"}},{"$error":"#VALUE!"},{"$error":"#N/A"},{"$error":"#N/A"},"",{"$f":"IF(CF210=\"\",NA(),COUNTIF($CF210:CF$303,CF210))","v":{"$error":"#N/A"}},"",{"$f":"IF(CH210=\"\",NA(),COUNTIF($CH210:CH$303,CH210))","v":{"$error":"#N/A"}},{"$error":"#N/A"},{"$error":"#N/A"},{"$error":"#N/A"}]
[null,null,"",null,null,"",null,null,null,null,73,28.404793876710766,4.2199102428858149E-6,0.99851555605649589,-49.999995780089755,null,-999,{"$error":"#N/A"},{"$error":"#N/A"},null,null,-49.999995780089755,null,5.3888774341230112,0.69483477548674388,null,null,83.876274999999481,43.593774999999482,42.231493750012888,5.2880073071627165E-8,{"$error":"#N/A"},{"$error":"#N/A"},null,-999,{"$error":"#N/A"},{"$error":"#N/A"},0.69483477548674388,{"$error":"#N/A"},-999,{"$error":"#N/A"},{"$error":"#N/A"},null,null,null,null,null,null,null,null,null,null,null,null,null,null,null,null,null,null,null,null,null,"",{"$f":"IF(BL211=\"\",NA(),COUNTIF(BL211:$BL$303,BL211))","v":{"$error":"#N/A"}},{"$error":"#VALUE!"},{"$error":"#N/A"},{"$error":"#N/A"},"",{"$f":"IF(BQ211=\"\",NA(),COUNTIF(BQ211:$BQ$303,BQ211))","v":{"$error":"#N/A"}},{"$error":"#VALUE!"},{"$error":"#N/A"},{"$error":"#N/A"},"",{"$f":"IF(BV211=\"\",NA(),COUNTIF(BV211:$BV$303,BV211))","v":{"$error":"#N/A"}},{"$error":"#VALUE!"},{"$error":"#N/A"},{"$error":"#N/A"},"",{"$f":"IF(CA211=\"\",NA(),COUNTIF(CA211:$CA$303,CA211))","v":{"$error":"#N/A"}},{"$error":"#VALUE!"},{"$error":"#N/A"},{"$error":"#N/A"},"",{"$f":"IF(CF211=\"\",NA(),COUNTIF($CF211:CF$303,CF211))","v":{"$error":"#N/A"}},"",{"$f":"IF(CH211=\"\",NA(),COUNTIF($CH211:CH$303,CH211))","v":{"$error":"#N/A"}},{"$error":"#N/A"},{"$error":"#N/A"},{"$error":"#N/A"}]
[null,null,"",null,null,"",null,null,null,null,73.5,28.304737271737189,2.7087317191457239E-6,0.9986100831015331,-49.999997291268279,null,-999,{"$error":"#N/A"},{"$error":"#N/A"},null,null,-49.999997291268279,null,5.470527092215784,0.70687239922221579,null,null,84.174862499999477,43.892362499999479,42.811988574030231,4.0338962422732455E-8,{"$error":"#N/A"},{"$error":"#N/A"},null,-999,{"$error":"#N/A"},{"$error":"#N/A"},0.70687239922221579,{"$error":"#N/A"},-999,{"$error":"#N/A"},{"$error":"#N/A"},null,null,null,null,null,null,null,null,null,null,null,null,null,null,null,null,null,null,null,null,null,"",{"$f":"IF(BL212=\"\",NA(),COUNTIF(BL212:$BL$303,BL212))","v":{"$error":"#N/A"}},{"$error":"#VALUE!"},{"$error":"#N/A"},{"$error":"#N/A"},"",{"$f":"IF(BQ212=\"\",NA(),COUNTIF(BQ212:$BQ$303,BQ212))","v":{"$error":"#N/A"}},{"$error":"#VALUE!"},{"$error":"#N/A"},{"$error":"#N/A"},"",{"$f":"IF(BV212=\"\",NA(),COUNTIF(BV212:$BV$303,BV212))","v":{"$error":"#N/A"}},{"$error":"#VALUE!"},{"$error":"#N/A"},{"$error":"#N/A"},"",{"$f":"IF(CA212=\"\",NA(),COUNTIF(CA212:$CA$303,CA212))","v":{"$error":"#N/A"}},{"$error":"#VALUE!"},{"$error":"#N/A"},{"$error":"#N/A"},"",{"$f":"IF(CF212=\"\",NA(),COUNTIF($CF212:CF$303,CF212))","v":{"$error":"#N/A"}},"",{"$f":"IF(CH212=\"\",NA(),COUNTIF($CH212:CH$303,CH212))","v":{"$error":"#N/A"}},{"$error":"#N/A"},{"$error":"#N/A"},{"$error":"#N/A"}]
[null,null,"",null,null,"",null,null,null,null,74,28.210461505224263,1.7271635993181578E-6,0.99869762762592429,-49.9999982728364,null,-999,{"$error":"#N/A"},{"$error":"#N/A"},null,null,-49.9999982728364,null,5.5521767503085568,0.71846615453183416,null,null,84.473449999999474,44.190949999999475,43.396445820054524,3.0707522090476227E-8,{"$error":"#N/A"},{"$error":"#N/A"},null,-999,{"$error":"#N/A"},{"$error":"#N/A"},0.71846615453183416,{"$error":"#N/A"},-999,{"$error":"#N/A"},{"$error":"#N/A"},null,null,null,null,null,null,null,null,null,null,null,null,null,null,null,null,null,null,null,null,null,"",{"$f":"IF(BL213=\"\",NA(),COUNTIF(BL213:$BL$303,BL213))","v":{"$error":"#N/A"}},{"$error":"#VALUE!"},{"$error":"#N/A"},{"$error":"#N/A"},"",{"$f":"IF(BQ213=\"\",NA(),COUNTIF(BQ213:$BQ$303,BQ213))","v":{"$error":"#N/A"}},{"$error":"#VALUE!"},{"$error":"#N/A"},{"$error":"#N/A"},"",{"$f":"IF(BV213=\"\",NA(),COUNTIF(BV213:$BV$303,BV213))","v":{"$error":"#N/A"}},{"$error":"#VALUE!"},{"$error":"#N/A"},{"$error":"#N/A"},"",{"$f":"IF(CA213=\"\",NA(),COUNTIF(CA213:$CA$303,CA213))","v":{"$error":"#N/A"}},{"$error":"#VALUE!"},{"$error":"#N/A"},{"$error":"#N/A"},"",{"$f":"IF(CF213=\"\",NA(),COUNTIF($CF213:CF$303,CF213))","v":{"$error":"#N/A"}},"",{"$f":"IF(CH213=\"\",NA(),COUNTIF($CH213:CH$303,CH213))","v":{"$error":"#N/A"}},{"$error":"#N/A"},{"$error":"#N/A"},{"$error":"#N/A"}]
[null,null,"",null,null,"",null,null,null,null,74.5,28.121750694567407,1.0939706312679863E-6,0.99877877121423009,-49.999998906029369,null,-999,{"$error":"#N/A"},{"$error":"#N/A"},null,null,-49.999998906029369,null,5.6338264084013296,0.72962564844493272,null,null,84.77203749999947,44.489537499999471,43.984865488085759,2.3326672699775091E-8,{"$error":"#N/A"},{"$error":"#N/A"},null,-999,{"$error":"#N/A"},{"$error":"#N/A"},0.72962564844493272,{"$error":"#N/A"},-999,{"$error":"#N/A"},{"$error":"#N/A"},null,null,null,null,null,null,null,null,null,null,null,null,null,null,null,null,null,null,null,null,null,"",{"$f":"IF(BL214=\"\",NA(),COUNTIF(BL214:$BL$303,BL214))","v":{"$error":"#N/A"}},{"$error":"#VALUE!"},{"$error":"#N/A"},{"$error":"#N/A"},"",{"$f":"IF(BQ214=\"\",NA(),COUNTIF(BQ214:$BQ$303,BQ214))","v":{"$error":"#N/A"}},{"$error":"#VALUE!"},{"$error":"#N/A"},{"$error":"#N/A"},"",{"$f":"IF(BV214=\"\",NA(),COUNTIF(BV214:$BV$303,BV214))","v":{"$error":"#N/A"}},{"$error":"#VALUE!"},{"$error":"#N/A"},{"$error":"#N/A"},"",{"$f":"IF(CA214=\"\",NA(),COUNTIF(CA214:$CA$303,CA214))","v":{"$error":"#N/A"}},{"$error":"#VALUE!"},{"$error":"#N/A"},{"$error":"#N/A"},"",{"$f":"IF(CF214=\"\",NA(),COUNTIF($CF214:CF$303,CF214))","v":{"$error":"#N/A"}},"",{"$f":"IF(CH214=\"\",NA(),COUNTIF($CH214:CH$303,CH214))","v":{"$error":"#N/A"}},{"$error":"#N/A"},{"$error":"#N/A"},{"$error":"#N/A"}]
[null,null,"",null,null,"",null,null,null,null,75,28.038386808110896,6.8830758139635161E-7,0.99885404197848682,-49.99999931169242,null,-999,{"$error":"#N/A"},{"$error":"#N/A"},null,null,-49.99999931169242,null,5.7154760664941024,0.74036119781854992,null,null,85.070624999999467,44.788124999999468,44.577247578123938,1.7682732724739E-8,{"$error":"#N/A"},{"$error":"#N/A"},null,-999,{"$error":"#N/A"},{"$error":"#N/A"},0.74036119781854992,{"$error":"#N/A"},-999,{"$error":"#N/A"},{"$error":"#N/A"},null,null,null,null,null,null,null,null,null,null,null,null,null,null,null,null,null,null,null,null,null,"",{"$f":"IF(BL215=\"\",NA(),COUNTIF(BL215:$BL$303,BL215))","v":{"$error":"#N/A"}},{"$error":"#VALUE!"},{"$error":"#N/A"},{"$error":"#N/A"},"",{"$f":"IF(BQ215=\"\",NA(),COUNTIF(BQ215:$BQ$303,BQ215))","v":{"$error":"#N/A"}},{"$error":"#VALUE!"},{"$error":"#N/A"},{"$error":"#N/A"},"",{"$f":"IF(BV215=\"\",NA(),COUNTIF(BV215:$BV$303,BV215))","v":{"$error":"#N/A"}},{"$error":"#VALUE!"},{"$error":"#N/A"},{"$error":"#N/A"},"",{"$f":"IF(CA215=\"\",NA(),COUNTIF(CA215:$CA$303,CA215))","v":{"$error":"#N/A"}},{"$error":"#VALUE!"},{"$error":"#N/A"},{"$error":"#N/A"},"",{"$f":"IF(CF215=\"\",NA(),COUNTIF($CF215:CF$303,CF215))","v":{"$error":"#N/A"}},"",{"$f":"IF(CH215=\"\",NA(),COUNTIF($CH215:CH$303,CH215))","v":{"$error":"#N/A"}},{"$error":"#N/A"},{"$error":"#N/A"},{"$error":"#N/A"}]
[null,null,"",null,null,"",null,null,null,null,75.5,27.960150754895402,4.3019379964889837E-7,0.99892391989425955,-49.999999569806199,null,-999,{"$error":"#N/A"},{"$error":"#N/A"},null,null,-49.999999569806199,null,5.7971257245868753,0.75068368656641815,null,null,85.369212499999463,45.086712499999464,45.173592090169066,1.3376272729765131E-8,{"$error":"#N/A"},{"$error":"#N/A"},null,-999,{"$error":"#N/A"},{"$error":"#N/A"},0.75068368656641815,{"$error":"#N/A"},-999,{"$error":"#N/A"},{"$error":"#N/A"},null,null,null,null,null,null,null,null,null,null,null,null,null,null,null,null,null,null,null,null,null,"",{"$f":"IF(BL216=\"\",NA(),COUNTIF(BL216:$BL$303,BL216))","v":{"$error":"#N/A"}},{"$error":"#VALUE!"},{"$error":"#N/A"},{"$error":"#N/A"},"",{"$f":"IF(BQ216=\"\",NA(),COUNTIF(BQ216:$BQ$303,BQ216))","v":{"$error":"#N/A"}},{"$error":"#VALUE!"},{"$error":"#N/A"},{"$error":"#N/A"},"",{"$f":"IF(BV216=\"\",NA(),COUNTIF(BV216:$BV$303,BV216))","v":{"$error":"#N/A"}},{"$error":"#VALUE!"},{"$error":"#N/A"},{"$error":"#N/A"},"",{"$f":"IF(CA216=\"\",NA(),COUNTIF(CA216:$CA$303,CA216))","v":{"$error":"#N/A"}},{"$error":"#VALUE!"},{"$error":"#N/A"},{"$error":"#N/A"},"",{"$f":"IF(CF216=\"\",NA(),COUNTIF($CF216:CF$303,CF216))","v":{"$error":"#N/A"}},"",{"$f":"IF(CH216=\"\",NA(),COUNTIF($CH216:CH$303,CH216))","v":{"$error":"#N/A"}},{"$error":"#N/A"},{"$error":"#N/A"},{"$error":"#N/A"}]
[null,null,"",null,null,"",null,null,null,null,76,27.88682339967578,2.6708558159120428E-7,0.99898884156696777,-49.999999732914418,null,-999,{"$error":"#N/A"},{"$error":"#N/A"},null,null,-49.999999732914418,null,5.8787753826796481,0.76060443773655351,null,null,85.66779999999946,45.385299999999461,45.77389902422113,1.009742336007075E-8,{"$error":"#N/A"},{"$error":"#N/A"},null,-999,{"$error":"#N/A"},{"$error":"#N/A"},0.76060443773655351,{"$error":"#N/A"},-999,{"$error":"#N/A"},{"$error":"#N/A"},null,null,null,null,null,null,null,null,null,null,null,null,null,null,null,null,null,null,null,null,null,"",{"$f":"IF(BL217=\"\",NA(),COUNTIF(BL217:$BL$303,BL217))","v":{"$error":"#N/A"}},{"$error":"#VALUE!"},{"$error":"#N/A"},{"$error":"#N/A"},"",{"$f":"IF(BQ217=\"\",NA(),COUNTIF(BQ217:$BQ$303,BQ217))","v":{"$error":"#N/A"}},{"$error":"#VALUE!"},{"$error":"#N/A"},{"$error":"#N/A"},"",{"$f":"IF(BV217=\"\",NA(),COUNTIF(BV217:$BV$303,BV217))","v":{"$error":"#N/A"}},{"$error":"#VALUE!"},{"$error":"#N/A"},{"$error":"#N/A"},"",{"$f":"IF(CA217=\"\",NA(),COUNTIF(CA217:$CA$303,CA217))","v":{"$error":"#N/A"}},{"$error":"#VALUE!"},{"$error":"#N/A"},{"$error":"#N/A"},"",{"$f":"IF(CF217=\"\",NA(),COUNTIF($CF217:CF$303,CF217))","v":{"$error":"#N/A"}},"",{"$f":"IF(CH217=\"\",NA(),COUNTIF($CH217:CH$303,CH217))","v":{"$error":"#N/A"}},{"$error":"#N/A"},{"$error":"#N/A"},{"$error":"#N/A"}]
[null,null,"",null,null,"",null,null,null,null,76.5,27.818186502255337,1.6471814547616627E-7,0.99904920449272805,-49.999999835281855,null,-999,{"$error":"#N/A"},{"$error":"#N/A"},null,null,-49.999999835281855,null,5.9604250407724209,0.77013509952119152,null,null,85.966387499999456,45.683887499999457,46.378168380280151,7.6063498655928428E-9,{"$error":"#N/A"},{"$error":"#N/A"},null,-999,{"$error":"#N/A"},{"$error":"#N/A"},0.77013509952119152,{"$error":"#N/A"},-999,{"$error":"#N/A"},{"$error":"#N/A"},null,null,null,null,null,null,null,null,null,null,null,null,null,null,null,null,null,null,null,null,null,"",{"$f":"IF(BL218=\"\",NA(),COUNTIF(BL218:$BL$303,BL218))","v":{"$error":"#N/A"}},{"$error":"#VALUE!"},{"$error":"#N/A"},{"$error":"#N/A"},"",{"$f":"IF(BQ218=\"\",NA(),COUNTIF(BQ218:$BQ$303,BQ218))","v":{"$error":"#N/A"}},{"$error":"#VALUE!"},{"$error":"#N/A"},{"$error":"#N/A"},"",{"$f":"IF(BV218=\"\",NA(),COUNTIF(BV218:$BV$303,BV218))","v":{"$error":"#N/A"}},{"$error":"#VALUE!"},{"$error":"#N/A"},{"$error":"#N/A"},"",{"$f":"IF(CA218=\"\",NA(),COUNTIF(CA218:$CA$303,CA218))","v":{"$error":"#N/A"}},{"$error":"#VALUE!"},{"$error":"#N/A"},{"$error":"#N/A"},"",{"$f":"IF(CF218=\"\",NA(),COUNTIF($CF218:CF$303,CF218))","v":{"$error":"#N/A"}},"",{"$f":"IF(CH218=\"\",NA(),COUNTIF($CH218:CH$303,CH218))","v":{"$error":"#N/A"}},{"$error":"#N/A"},{"$error":"#N/A"},{"$error":"#N/A"}]
[null,null,"",null,null,"",null,null,null,null,77,27.754023580819752,1.0091068351980761E-7,0.99910537087040496,-49.999999899089318,null,-999,{"$error":"#N/A"},{"$error":"#N/A"},null,null,-49.999999899089318,null,6.0420746988651937,0.77928754424622249,null,null,86.264974999999453,45.982474999999454,46.986400158346108,5.7178514191542837E-9,{"$error":"#N/A"},{"$error":"#N/A"},null,-999,{"$error":"#N/A"},{"$error":"#N/A"},0.77928754424622249,{"$error":"#N/A"},-999,{"$error":"#N/A"},{"$error":"#N/A"},null,null,null,null,null,null,null,null,null,null,null,null,null,null,null,null,null,null,null,null,null,"",{"$f":"IF(BL219=\"\",NA(),COUNTIF(BL219:$BL$303,BL219))","v":{"$error":"#N/A"}},{"$error":"#VALUE!"},{"$error":"#N/A"},{"$error":"#N/A"},"",{"$f":"IF(BQ219=\"\",NA(),COUNTIF(BQ219:$BQ$303,BQ219))","v":{"$error":"#N/A"}},{"$error":"#VALUE!"},{"$error":"#N/A"},{"$error":"#N/A"},"",{"$f":"IF(BV219=\"\",NA(),COUNTIF(BV219:$BV$303,BV219))","v":{"$error":"#N/A"}},{"$error":"#VALUE!"},{"$error":"#N/A"},{"$error":"#N/A"},"",{"$f":"IF(CA219=\"\",NA(),COUNTIF(CA219:$CA$303,CA219))","v":{"$error":"#N/A"}},{"$error":"#VALUE!"},{"$error":"#N/A"},{"$error":"#N/A"},"",{"$f":"IF(CF219=\"\",NA(),COUNTIF($CF219:CF$303,CF219))","v":{"$error":"#N/A"}},"",{"$f":"IF(CH219=\"\",NA(),COUNTIF($CH219:CH$303,CH219))","v":{"$error":"#N/A"}},{"$error":"#N/A"},{"$error":"#N/A"},{"$error":"#N/A"}]
[null,null,"",null,null,"",null,null,null,null,77.5,27.694120699545316,6.1409781933736026E-8,0.99915767101492181,-49.999999938590221,null,-999,{"$error":"#N/A"},{"$error":"#N/A"},null,null,-49.999999938590221,null,6.1237243569579665,0.78807377937479939,null,null,86.563562499999449,46.28106249999945,47.598594358419007,4.289244632070884E-9,{"$error":"#N/A"},{"$error":"#N/A"},null,-999,{"$error":"#N/A"},{"$error":"#N/A"},0.78807377937479939,{"$error":"#N/A"},-999,{"$error":"#N/A"},{"$error":"#N/A"},null,null,null,null,null,null,null,null,null,null,null,null,null,null,null,null,null,null,null,null,null,"",{"$f":"IF(BL220=\"\",NA(),COUNTIF(BL220:$BL$303,BL220))","v":{"$error":"#N/A"}},{"$error":"#VALUE!"},{"$error":"#N/A"},{"$error":"#N/A"},"",{"$f":"IF(BQ220=\"\",NA(),COUNTIF(BQ220:$BQ$303,BQ220))","v":{"$error":"#N/A"}},{"$error":"#VALUE!"},{"$error":"#N/A"},{"$error":"#N/A"},"",{"$f":"IF(BV220=\"\",NA(),COUNTIF(BV220:$BV$303,BV220))","v":{"$error":"#N/A"}},{"$error":"#VALUE!"},{"$error":"#N/A"},{"$error":"#N/A"},"",{"$f":"IF(CA220=\"\",NA(),COUNTIF(CA220:$CA$303,CA220))","v":{"$error":"#N/A"}},{"$error":"#VALUE!"},{"$error":"#N/A"},{"$error":"#N/A"},"",{"$f":"IF(CF220=\"\",NA(),COUNTIF($CF220:CF$303,CF220))","v":{"$error":"#N/A"}},"",{"$f":"IF(CH220=\"\",NA(),COUNTIF($CH220:CH$303,CH220))","v":{"$error":"#N/A"}},{"$error":"#N/A"},{"$error":"#N/A"},{"$error":"#N/A"}]
[null,null,"",null,null,"",null,null,null,null,78,27.638267181300499,3.7122965861495108E-8,0.99920640641603975,-49.999999962877034,null,-999,{"$error":"#N/A"},{"$error":"#N/A"},null,null,-49.999999962877034,null,6.2053740150507393,0.79650586956726821,null,null,86.862149999999446,46.579649999999447,48.214750980498856,3.2108549509420411E-9,{"$error":"#N/A"},{"$error":"#N/A"},null,-999,{"$error":"#N/A"},{"$error":"#N/A"},0.79650586956726821,{"$error":"#N/A"},-999,{"$error":"#N/A"},{"$error":"#N/A"},null,null,null,null,null,null,null,null,null,null,null,null,null,null,null,null,null,null,null,null,null,"",{"$f":"IF(BL221=\"\",NA(),COUNTIF(BL221:$BL$303,BL221))","v":{"$error":"#N/A"}},{"$error":"#VALUE!"},{"$error":"#N/A"},{"$error":"#N/A"},"",{"$f":"IF(BQ221=\"\",NA(),COUNTIF(BQ221:$BQ$303,BQ221))","v":{"$error":"#N/A"}},{"$error":"#VALUE!"},{"$error":"#N/A"},{"$error":"#N/A"},"",{"$f":"IF(BV221=\"\",NA(),COUNTIF(BV221:$BV$303,BV221))","v":{"$error":"#N/A"}},{"$error":"#VALUE!"},{"$error":"#N/A"},{"$error":"#N/A"},"",{"$f":"IF(CA221=\"\",NA(),COUNTIF(CA221:$CA$303,CA221))","v":{"$error":"#N/A"}},{"$error":"#VALUE!"},{"$error":"#N/A"},{"$error":"#N/A"},"",{"$f":"IF(CF221=\"\",NA(),COUNTIF($CF221:CF$303,CF221))","v":{"$error":"#N/A"}},"",{"$f":"IF(CH221=\"\",NA(),COUNTIF($CH221:CH$303,CH221))","v":{"$error":"#N/A"}},{"$error":"#N/A"},{"$error":"#N/A"},{"$error":"#N/A"}]
[null,null,"",null,null,"",null,null,null,null,78.5,27.5862562467548,2.2292176872226535E-8,0.99925185248184578,-49.999999977707823,null,-999,{"$error":"#N/A"},{"$error":"#N/A"},null,null,-49.999999977707823,null,6.2870236731435121,0.80459586886149215,null,null,87.160737499999442,46.878237499999443,48.834870024585648,2.3985733645255295E-9,{"$error":"#N/A"},{"$error":"#N/A"},null,-999,{"$error":"#N/A"},{"$error":"#N/A"},0.80459586886149215,{"$error":"#N/A"},-999,{"$error":"#N/A"},{"$error":"#N/A"},null,null,null,null,null,null,null,null,null,null,null,null,null,null,null,null,null,null,null,null,null,"",{"$f":"IF(BL222=\"\",NA(),COUNTIF(BL222:$BL$303,BL222))","v":{"$error":"#N/A"}},{"$error":"#VALUE!"},{"$error":"#N/A"},{"$error":"#N/A"},"",{"$f":"IF(BQ222=\"\",NA(),COUNTIF(BQ222:$BQ$303,BQ222))","v":{"$error":"#N/A"}},{"$error":"#VALUE!"},{"$error":"#N/A"},{"$error":"#N/A"},"",{"$f":"IF(BV222=\"\",NA(),COUNTIF(BV222:$BV$303,BV222))","v":{"$error":"#N/A"}},{"$error":"#VALUE!"},{"$error":"#N/A"},{"$error":"#N/A"},"",{"$f":"IF(CA222=\"\",NA(),COUNTIF(CA222:$CA$303,CA222))","v":{"$error":"#N/A"}},{"$error":"#VALUE!"},{"$error":"#N/A"},{"$error":"#N/A"},"",{"$f":"IF(CF222=\"\",NA(),COUNTIF($CF222:CF$303,CF222))","v":{"$error":"#N/A"}},"",{"$f":"IF(CH222=\"\",NA(),COUNTIF($CH222:CH$303,CH222))","v":{"$error":"#N/A"}},{"$error":"#N/A"},{"$error":"#N/A"},{"$error":"#N/A"}]
[null,null,"",null,null,"",null,null,null,null,79,27.537885581653949,1.3297408110751991E-8,0.99929426100050334,-49.999999986702591,null,-999,{"$error":"#N/A"},{"$error":"#N/A"},null,null,-49.999999986702591,null,6.3686733312362849,0.8123557620710613,null,null,87.459324999999438,47.17682499999944,49.458951490679382,1.7880443913283217E-9,{"$error":"#N/A"},{"$error":"#N/A"},null,-999,{"$error":"#N/A"},{"$error":"#N/A"},0.8123557620710613,{"$error":"#N/A"},-999,{"$error":"#N/A"},{"$error":"#N/A"},null,null,null,null,null,null,null,null,null,null,null,null,null,null,null,null,null,null,null,null,null,"",{"$f":"IF(BL223=\"\",NA(),COUNTIF(BL223:$BL$303,BL223))","v":{"$error":"#N/A"}},{"$error":"#VALUE!"},{"$error":"#N/A"},{"$error":"#N/A"},"",{"$f":"IF(BQ223=\"\",NA(),COUNTIF(BQ223:$BQ$303,BQ223))","v":{"$error":"#N/A"}},{"$error":"#VALUE!"},{"$error":"#N/A"},{"$error":"#N/A"},"",{"$f":"IF(BV223=\"\",NA(),COUNTIF(BV223:$BV$303,BV223))","v":{"$error":"#N/A"}},{"$error":"#VALUE!"},{"$error":"#N/A"},{"$error":"#N/A"},"",{"$f":"IF(CA223=\"\",NA(),COUNTIF(CA223:$CA$303,CA223))","v":{"$error":"#N/A"}},{"$error":"#VALUE!"},{"$error":"#N/A"},{"$error":"#N/A"},"",{"$f":"IF(CF223=\"\",NA(),COUNTIF($CF223:CF$303,CF223))","v":{"$error":"#N/A"}},"",{"$f":"IF(CH223=\"\",NA(),COUNTIF($CH223:CH$303,CH223))","v":{"$error":"#N/A"}},{"$error":"#N/A"},{"$error":"#N/A"},{"$error":"#N/A"}]
[null,null,"",null,null,"",null,null,null,null,79.5,27.492957834415368,7.8792742865416841E-9,0.99933386235343091,-49.999999992120728,null,-999,{"$error":"#N/A"},{"$error":"#N/A"},null,null,-49.999999992120728,null,6.4503229893290577,0.81979741454048372,null,null,87.757912499999435,47.475412499999436,50.08699537878006,1.3301391315626659E-9,{"$error":"#N/A"},{"$error":"#N/A"},null,-999,{"$error":"#N/A"},{"$error":"#N/A"},0.81979741454048372,{"$error":"#N/A"},-999,{"$error":"#N/A"},{"$error":"#N/A"},null,null,null,null,null,null,null,null,null,null,null,null,null,null,null,null,null,null,null,null,null,"",{"$f":"IF(BL224=\"\",NA(),COUNTIF(BL224:$BL$303,BL224))","v":{"$error":"#N/A"}},{"$error":"#VALUE!"},{"$error":"#N/A"},{"$error":"#N/A"},"",{"$f":"IF(BQ224=\"\",NA(),COUNTIF(BQ224:$BQ$303,BQ224))","v":{"$error":"#N/A"}},{"$error":"#VALUE!"},{"$error":"#N/A"},{"$error":"#N/A"},"",{"$f":"IF(BV224=\"\",NA(),COUNTIF(BV224:$BV$303,BV224))","v":{"$error":"#N/A"}},{"$error":"#VALUE!"},{"$error":"#N/A"},{"$error":"#N/A"},"",{"$f":"IF(CA224=\"\",NA(),COUNTIF(CA224:$CA$303,CA224))","v":{"$error":"#N/A"}},{"$error":"#VALUE!"},{"$error":"#N/A"},{"$error":"#N/A"},"",{"$f":"IF(CF224=\"\",NA(),COUNTIF($CF224:CF$303,CF224))","v":{"$error":"#N/A"}},"",{"$f":"IF(CH224=\"\",NA(),COUNTIF($CH224:CH$303,CH224))","v":{"$error":"#N/A"}},{"$error":"#N/A"},{"$error":"#N/A"},{"$error":"#N/A"}]
[null,null,"",null,null,"",null,null,null,null,80,27.451281046542377,4.6377800025173225E-9,0.99937086750342718,-49.999999995362217,null,-999,{"$error":"#N/A"},{"$error":"#N/A"},null,null,-49.999999995362217,null,6.5319726474218305,0.82693252944293993,null,null,88.056499999999431,47.773999999999432,50.71900168888768,9.8743799108758616E-10,{"$error":"#N/A"},{"$error":"#N/A"},null,-999,{"$error":"#N/A"},{"$error":"#N/A"},0.82693252944293993,{"$error":"#N/A"},-999,{"$error":"#N/A"},{"$error":"#N/A"},null,null,null,null,null,null,null,null,null,null,null,null,null,null,null,null,null,null,null,null,null,"",{"$f":"IF(BL225=\"\",NA(),COUNTIF(BL225:$BL$303,BL225))","v":{"$error":"#N/A"}},{"$error":"#VALUE!"},{"$error":"#N/A"},{"$error":"#N/A"},"",{"$f":"IF(BQ225=\"\",NA(),COUNTIF(BQ225:$BQ$303,BQ225))","v":{"$error":"#N/A"}},{"$error":"#VALUE!"},{"$error":"#N/A"},{"$error":"#N/A"},"",{"$f":"IF(BV225=\"\",NA(),COUNTIF(BV225:$BV$303,BV225))","v":{"$error":"#N/A"}},{"$error":"#VALUE!"},{"$error":"#N/A"},{"$error":"#N/A"},"",{"$f":"IF(CA225=\"\",NA(),COUNTIF(CA225:$CA$303,CA225))","v":{"$error":"#N/A"}},{"$error":"#VALUE!"},{"$error":"#N/A"},{"$error":"#N/A"},"",{"$f":"IF(CF225=\"\",NA(),COUNTIF($CF225:CF$303,CF225))","v":{"$error":"#N/A"}},"",{"$f":"IF(CH225=\"\",NA(),COUNTIF($CH225:CH$303,CH225))","v":{"$error":"#N/A"}},{"$error":"#N/A"},{"$error":"#N/A"},{"$error":"#N/A"}]
[null,null,"",null,null,"",null,null,null,null,80.5,27.412669018651133,2.7116820834645919E-9,0.99940546978450351,-49.99999999728832,null,-999,{"$error":"#N/A"},{"$error":"#N/A"},null,null,-49.99999999728832,null,6.6136223055146033,0.83377261185704643,null,null,88.355087499999428,48.072587499999429,51.354970421002257,7.3150463259912541E-10,{"$error":"#N/A"},{"$error":"#N/A"},null,-999,{"$error":"#N/A"},{"$error":"#N/A"},0.83377261185704643,{"$error":"#N/A"},-999,{"$error":"#N/A"},{"$error":"#N/A"},null,null,null,null,null,null,null,null,null,null,null,null,null,null,null,null,null,null,null,null,null,"",{"$f":"IF(BL226=\"\",NA(),COUNTIF(BL226:$BL$303,BL226))","v":{"$error":"#N/A"}},{"$error":"#VALUE!"},{"$error":"#N/A"},{"$error":"#N/A"},"",{"$f":"IF(BQ226=\"\",NA(),COUNTIF(BQ226:$BQ$303,BQ226))","v":{"$error":"#N/A"}},{"$error":"#VALUE!"},{"$error":"#N/A"},{"$error":"#N/A"},"",{"$f":"IF(BV226=\"\",NA(),COUNTIF(BV226:$BV$303,BV226))","v":{"$error":"#N/A"}},{"$error":"#VALUE!"},{"$error":"#N/A"},{"$error":"#N/A"},"",{"$f":"IF(CA226=\"\",NA(),COUNTIF(CA226:$CA$303,CA226))","v":{"$error":"#N/A"}},{"$error":"#VALUE!"},{"$error":"#N/A"},{"$error":"#N/A"},"",{"$f":"IF(CF226=\"\",NA(),COUNTIF($CF226:CF$303,CF226))","v":{"$error":"#N/A"}},"",{"$f":"IF(CH226=\"\",NA(),COUNTIF($CH226:CH$303,CH226))","v":{"$error":"#N/A"}},{"$error":"#N/A"},{"$error":"#N/A"},{"$error":"#N/A"}]
[null,null,"",null,null,"",null,null,null,null,81,27.376941615151352,1.5749693377804545E-9,0.9994378465135525,-49.999999998425032,null,-999,{"$error":"#N/A"},{"$error":"#N/A"},null,null,-49.999999998425032,null,6.6952719636073761,0.84032893891056903,null,null,88.653674999999424,48.371174999999425,51.994901575123762,5.4077836129092898E-10,{"$error":"#N/A"},{"$error":"#N/A"},null,-999,{"$error":"#N/A"},{"$error":"#N/A"},0.84032893891056903,{"$error":"#N/A"},-999,{"$error":"#N/A"},{"$error":"#N/A"},null,null,null,null,null,null,null,null,null,null,null,null,null,null,null,null,null,null,null,null,null,"",{"$f":"IF(BL227=\"\",NA(),COUNTIF(BL227:$BL$303,BL227))","v":{"$error":"#N/A"}},{"$error":"#VALUE!"},{"$error":"#N/A"},{"$error":"#N/A"},"",{"$f":"IF(BQ227=\"\",NA(),COUNTIF(BQ227:$BQ$303,BQ227))","v":{"$error":"#N/A"}},{"$error":"#VALUE!"},{"$error":"#N/A"},{"$error":"#N/A"},"",{"$f":"IF(BV227=\"\",NA(),COUNTIF(BV227:$BV$303,BV227))","v":{"$error":"#N/A"}},{"$error":"#VALUE!"},{"$error":"#N/A"},{"$error":"#N/A"},"",{"$f":"IF(CA227=\"\",NA(),COUNTIF(CA227:$CA$303,CA227))","v":{"$error":"#N/A"}},{"$error":"#VALUE!"},{"$error":"#N/A"},{"$error":"#N/A"},"",{"$f":"IF(CF227=\"\",NA(),COUNTIF($CF227:CF$303,CF227))","v":{"$error":"#N/A"}},"",{"$f":"IF(CH227=\"\",NA(),COUNTIF($CH227:CH$303,CH227))","v":{"$error":"#N/A"}},{"$error":"#N/A"},{"$error":"#N/A"},{"$error":"#N/A"}]
[null,null,"",null,null,"",null,null,null,null,81.5,27.343925010822844,9.0867826078751638E-10,0.99946816044293207,-49.999999999091322,null,-999,{"$error":"#N/A"},{"$error":"#N/A"},null,null,-49.999999999091322,null,6.7769216217001489,0.84661253533202008,null,null,88.952262499999421,48.669762499999422,52.638795151252218,3.9894863974524248E-10,{"$error":"#N/A"},{"$error":"#N/A"},null,-999,{"$error":"#N/A"},{"$error":"#N/A"},0.84661253533202008,{"$error":"#N/A"},-999,{"$error":"#N/A"},{"$error":"#N/A"},null,null,null,null,null,null,null,null,null,null,null,null,null,null,null,null,null,null,null,null,null,"",{"$f":"IF(BL228=\"\",NA(),COUNTIF(BL228:$BL$303,BL228))","v":{"$error":"#N/A"}},{"$error":"#VALUE!"},{"$error":"#N/A"},{"$error":"#N/A"},"",{"$f":"IF(BQ228=\"\",NA(),COUNTIF(BQ228:$BQ$303,BQ228))","v":{"$error":"#N/A"}},{"$error":"#VALUE!"},{"$error":"#N/A"},{"$error":"#N/A"},"",{"$f":"IF(BV228=\"\",NA(),COUNTIF(BV228:$BV$303,BV228))","v":{"$error":"#N/A"}},{"$error":"#VALUE!"},{"$error":"#N/A"},{"$error":"#N/A"},"",{"$f":"IF(CA228=\"\",NA(),COUNTIF(CA228:$CA$303,CA228))","v":{"$error":"#N/A"}},{"$error":"#VALUE!"},{"$error":"#N/A"},{"$error":"#N/A"},"",{"$f":"IF(CF228=\"\",NA(),COUNTIF($CF228:CF$303,CF228))","v":{"$error":"#N/A"}},"",{"$f":"IF(CH228=\"\",NA(),COUNTIF($CH228:CH$303,CH228))","v":{"$error":"#N/A"}},{"$error":"#N/A"},{"$error":"#N/A"},{"$error":"#N/A"}]
[null,null,"",null,null,"",null,null,null,null,82,27.313451882686007,5.2077829633791159E-10,0.99949656107072848,-49.999999999479222,null,-999,{"$error":"#N/A"},{"$error":"#N/A"},null,null,-49.999999999479222,null,6.8585712797929217,0.85263415380270569,null,null,89.250849999999417,48.968349999999418,53.286651149387623,2.9370450343208922E-10,{"$error":"#N/A"},{"$error":"#N/A"},null,-999,{"$error":"#N/A"},{"$error":"#N/A"},0.85263415380270569,{"$error":"#N/A"},-999,{"$error":"#N/A"},{"$error":"#N/A"},null,null,null,null,null,null,null,null,null,null,null,null,null,null,null,null,null,null,null,null,null,"",{"$f":"IF(BL229=\"\",NA(),COUNTIF(BL229:$BL$303,BL229))","v":{"$error":"#N/A"}},{"$error":"#VALUE!"},{"$error":"#N/A"},{"$error":"#N/A"},"",{"$f":"IF(BQ229=\"\",NA(),COUNTIF(BQ229:$BQ$303,BQ229))","v":{"$error":"#N/A"}},{"$error":"#VALUE!"},{"$error":"#N/A"},{"$error":"#N/A"},"",{"$f":"IF(BV229=\"\",NA(),COUNTIF(BV229:$BV$303,BV229))","v":{"$error":"#N/A"}},{"$error":"#VALUE!"},{"$error":"#N/A"},{"$error":"#N/A"},"",{"$f":"IF(CA229=\"\",NA(),COUNTIF(CA229:$CA$303,CA229))","v":{"$error":"#N/A"}},{"$error":"#VALUE!"},{"$error":"#N/A"},{"$error":"#N/A"},"",{"$f":"IF(CF229=\"\",NA(),COUNTIF($CF229:CF$303,CF229))","v":{"$error":"#N/A"}},"",{"$f":"IF(CH229=\"\",NA(),COUNTIF($CH229:CH$303,CH229))","v":{"$error":"#N/A"}},{"$error":"#N/A"},{"$error":"#N/A"},{"$error":"#N/A"}]
[null,null,"",null,null,"",null,null,null,null,82.5,27.285361550678527,2.9648335630817125E-10,0.99952318582359712,-49.999999999703519,null,-999,{"$error":"#N/A"},{"$error":"#N/A"},null,null,-49.999999999703519,null,6.9402209378856945,0.85840425955224142,null,null,89.549437499999414,49.266937499999415,53.938469569529964,2.1577475124640025E-10,{"$error":"#N/A"},{"$error":"#N/A"},null,-999,{"$error":"#N/A"},{"$error":"#N/A"},0.85840425955224142,{"$error":"#N/A"},-999,{"$error":"#N/A"},{"$error":"#N/A"},null,null,null,null,null,null,null,null,null,null,null,null,null,null,null,null,null,null,null,null,null,"",{"$f":"IF(BL230=\"\",NA(),COUNTIF(BL230:$BL$303,BL230))","v":{"$error":"#N/A"}},{"$error":"#VALUE!"},{"$error":"#N/A"},{"$error":"#N/A"},"",{"$f":"IF(BQ230=\"\",NA(),COUNTIF(BQ230:$BQ$303,BQ230))","v":{"$error":"#N/A"}},{"$error":"#VALUE!"},{"$error":"#N/A"},{"$error":"#N/A"},"",{"$f":"IF(BV230=\"\",NA(),COUNTIF(BV230:$BV$303,BV230))","v":{"$error":"#N/A"}},{"$error":"#VALUE!"},{"$error":"#N/A"},{"$error":"#N/A"},"",{"$f":"IF(CA230=\"\",NA(),COUNTIF(CA230:$CA$303,CA230))","v":{"$error":"#N/A"}},{"$error":"#VALUE!"},{"$error":"#N/A"},{"$error":"#N/A"},"",{"$f":"IF(CF230=\"\",NA(),COUNTIF($CF230:CF$303,CF230))","v":{"$error":"#N/A"}},"",{"$f":"IF(CH230=\"\",NA(),COUNTIF($CH230:CH$303,CH230))","v":{"$error":"#N/A"}},{"$error":"#N/A"},{"$error":"#N/A"},{"$error":"#N/A"}]
[null,null,"",null,null,"",null,null,null,null,83,27.259500070724936,1.6766888014328971E-10,0.99954816112542799,-49.999999999832333,null,-999,{"$error":"#N/A"},{"$error":"#N/A"},null,null,-49.999999999832333,null,7.0218705959784673,0.86393301868937022,null,null,89.84802499999941,49.565524999999411,54.594250411679262,1.5819308894080315E-10,{"$error":"#N/A"},{"$error":"#N/A"},null,-999,{"$error":"#N/A"},{"$error":"#N/A"},0.86393301868937022,{"$error":"#N/A"},-999,{"$error":"#N/A"},{"$error":"#N/A"},null,null,null,null,null,null,null,null,null,null,null,null,null,null,null,null,null,null,null,null,null,"",{"$f":"IF(BL231=\"\",NA(),COUNTIF(BL231:$BL$303,BL231))","v":{"$error":"#N/A"}},{"$error":"#VALUE!"},{"$error":"#N/A"},{"$error":"#N/A"},"",{"$f":"IF(BQ231=\"\",NA(),COUNTIF(BQ231:$BQ$303,BQ231))","v":{"$error":"#N/A"}},{"$error":"#VALUE!"},{"$error":"#N/A"},{"$error":"#N/A"},"",{"$f":"IF(BV231=\"\",NA(),COUNTIF(BV231:$BV$303,BV231))","v":{"$error":"#N/A"}},{"$error":"#VALUE!"},{"$error":"#N/A"},{"$error":"#N/A"},"",{"$f":"IF(CA231=\"\",NA(),COUNTIF(CA231:$CA$303,CA231))","v":{"$error":"#N/A"}},{"$error":"#VALUE!"},{"$error":"#N/A"},{"$error":"#N/A"},"",{"$f":"IF(CF231=\"\",NA(),COUNTIF($CF231:CF$303,CF231))","v":{"$error":"#N/A"}},"",{"$f":"IF(CH231=\"\",NA(),COUNTIF($CH231:CH$303,CH231))","v":{"$error":"#N/A"}},{"$error":"#N/A"},{"$error":"#N/A"},{"$error":"#N/A"}]
[null,null,"",null,null,"",null,null,null,null,83.5,27.235720283823124,9.4190979344950797E-11,0.9995716033636266,-49.99999999990581,null,-999,{"$error":"#N/A"},{"$error":"#N/A"},null,null,-49.99999999990581,null,7.1035202540712401,0.86923028980587358,null,null,90.146612499999407,49.864112499999408,55.253993675835488,1.1573686250156313E-10,{"$error":"#N/A"},{"$error":"#N/A"},null,-999,{"$error":"#N/A"},{"$error":"#N/A"},0.86923028980587358,{"$error":"#N/A"},-999,{"$error":"#N/A"},{"$error":"#N/A"},null,null,null,null,null,null,null,null,null,null,null,null,null,null,null,null,null,null,null,null,null,"",{"$f":"IF(BL232=\"\",NA(),COUNTIF(BL232:$BL$303,BL232))","v":{"$error":"#N/A"}},{"$error":"#VALUE!"},{"$error":"#N/A"},{"$error":"#N/A"},"",{"$f":"IF(BQ232=\"\",NA(),COUNTIF(BQ232:$BQ$303,BQ232))","v":{"$error":"#N/A"}},{"$error":"#VALUE!"},{"$error":"#N/A"},{"$error":"#N/A"},"",{"$f":"IF(BV232=\"\",NA(),COUNTIF(BV232:$BV$303,BV232))","v":{"$error":"#N/A"}},{"$error":"#VALUE!"},{"$error":"#N/A"},{"$error":"#N/A"},"",{"$f":"IF(CA232=\"\",NA(),COUNTIF(CA232:$CA$303,CA232))","v":{"$error":"#N/A"}},{"$error":"#VALUE!"},{"$error":"#N/A"},{"$error":"#N/A"},"",{"$f":"IF(CF232=\"\",NA(),COUNTIF($CF232:CF$303,CF232))","v":{"$error":"#N/A"}},"",{"$f":"IF(CH232=\"\",NA(),COUNTIF($CH232:CH$303,CH232))","v":{"$error":"#N/A"}},{"$error":"#N/A"},{"$error":"#N/A"},{"$error":"#N/A"}]
[null,null,"",null,null,"",null,null,null,null,84,27.213881824775296,5.2561876888983174E-11,0.99959361976350891,-49.999999999947441,null,-999,{"$error":"#N/A"},{"$error":"#N/A"},null,null,-49.999999999947441,null,7.1851699121640129,0.87430561843526333,null,null,90.445199999999403,50.162699999999404,55.917699361998672,8.4499408268664631E-11,{"$error":"#N/A"},{"$error":"#N/A"},null,-999,{"$error":"#N/A"},{"$error":"#N/A"},0.87430561843526333,{"$error":"#N/A"},-999,{"$error":"#N/A"},{"$error":"#N/A"},null,null,null,null,null,null,null,null,null,null,null,null,null,null,null,null,null,null,null,null,null,"",{"$f":"IF(BL233=\"\",NA(),COUNTIF(BL233:$BL$303,BL233))","v":{"$error":"#N/A"}},{"$error":"#VALUE!"},{"$error":"#N/A"},{"$error":"#N/A"},"",{"$f":"IF(BQ233=\"\",NA(),COUNTIF(BQ233:$BQ$303,BQ233))","v":{"$error":"#N/A"}},{"$error":"#VALUE!"},{"$error":"#N/A"},{"$error":"#N/A"},"",{"$f":"IF(BV233=\"\",NA(),COUNTIF(BV233:$BV$303,BV233))","v":{"$error":"#N/A"}},{"$error":"#VALUE!"},{"$error":"#N/A"},{"$error":"#N/A"},"",{"$f":"IF(CA233=\"\",NA(),COUNTIF(CA233:$CA$303,CA233))","v":{"$error":"#N/A"}},{"$error":"#VALUE!"},{"$error":"#N/A"},{"$error":"#N/A"},"",{"$f":"IF(CF233=\"\",NA(),COUNTIF($CF233:CF$303,CF233))","v":{"$error":"#N/A"}},"",{"$f":"IF(CH233=\"\",NA(),COUNTIF($CH233:CH$303,CH233))","v":{"$error":"#N/A"}},{"$error":"#N/A"},{"$error":"#N/A"},{"$error":"#N/A"}]
[null,null,"",null,null,"",null,null,null,null,84.5,27.193851094163321,2.9136482496419482E-11,0.9996143091801708,-49.999999999970861,null,-999,{"$error":"#N/A"},{"$error":"#N/A"},null,null,-49.999999999970861,null,7.2668195702567857,0.87916823398862964,null,null,90.743787499999399,50.461287499999401,56.585367470168798,6.1564993105985487E-11,{"$error":"#N/A"},{"$error":"#N/A"},null,-999,{"$error":"#N/A"},{"$error":"#N/A"},0.87916823398862964,{"$error":"#N/A"},-999,{"$error":"#N/A"},{"$error":"#N/A"},null,null,null,null,null,null,null,null,null,null,null,null,null,null,null,null,null,null,null,null,null,"",{"$f":"IF(BL234=\"\",NA(),COUNTIF(BL234:$BL$303,BL234))","v":{"$error":"#N/A"}},{"$error":"#VALUE!"},{"$error":"#N/A"},{"$error":"#N/A"},"",{"$f":"IF(BQ234=\"\",NA(),COUNTIF(BQ234:$BQ$303,BQ234))","v":{"$error":"#N/A"}},{"$error":"#VALUE!"},{"$error":"#N/A"},{"$error":"#N/A"},"",{"$f":"IF(BV234=\"\",NA(),COUNTIF(BV234:$BV$303,BV234))","v":{"$error":"#N/A"}},{"$error":"#VALUE!"},{"$error":"#N/A"},{"$error":"#N/A"},"",{"$f":"IF(CA234=\"\",NA(),COUNTIF(CA234:$CA$303,CA234))","v":{"$error":"#N/A"}},{"$error":"#VALUE!"},{"$error":"#N/A"},{"$error":"#N/A"},"",{"$f":"IF(CF234=\"\",NA(),COUNTIF($CF234:CF$303,CF234))","v":{"$error":"#N/A"}},"",{"$f":"IF(CH234=\"\",NA(),COUNTIF($CH234:CH$303,CH234))","v":{"$error":"#N/A"}},{"$error":"#N/A"},{"$error":"#N/A"},{"$error":"#N/A"}]
[null,null,"",null,null,"",null,null,null,null,85,27.175501197112744,1.6043831032217882E-11,0.99963376281617633,-49.999999999983956,null,-999,{"$error":"#N/A"},{"$error":"#N/A"},null,null,-49.999999999983956,null,7.3484692283495585,0.88382704882812879,null,null,91.042374999999396,50.759874999999397,57.25699800034586,4.4762325549210478E-11,{"$error":"#N/A"},{"$error":"#N/A"},null,-999,{"$error":"#N/A"},{"$error":"#N/A"},0.88382704882812879,{"$error":"#N/A"},-999,{"$error":"#N/A"},{"$error":"#N/A"},null,null,null,null,null,null,null,null,null,null,null,null,null,null,null,null,null,null,null,null,null,"",{"$f":"IF(BL235=\"\",NA(),COUNTIF(BL235:$BL$303,BL235))","v":{"$error":"#N/A"}},{"$error":"#VALUE!"},{"$error":"#N/A"},{"$error":"#N/A"},"",{"$f":"IF(BQ235=\"\",NA(),COUNTIF(BQ235:$BQ$303,BQ235))","v":{"$error":"#N/A"}},{"$error":"#VALUE!"},{"$error":"#N/A"},{"$error":"#N/A"},"",{"$f":"IF(BV235=\"\",NA(),COUNTIF(BV235:$BV$303,BV235))","v":{"$error":"#N/A"}},{"$error":"#VALUE!"},{"$error":"#N/A"},{"$error":"#N/A"},"",{"$f":"IF(CA235=\"\",NA(),COUNTIF(CA235:$CA$303,CA235))","v":{"$error":"#N/A"}},{"$error":"#VALUE!"},{"$error":"#N/A"},{"$error":"#N/A"},"",{"$f":"IF(CF235=\"\",NA(),COUNTIF($CF235:CF$303,CF235))","v":{"$error":"#N/A"}},"",{"$f":"IF(CH235=\"\",NA(),COUNTIF($CH235:CH$303,CH235))","v":{"$error":"#N/A"}},{"$error":"#N/A"},{"$error":"#N/A"},{"$error":"#N/A"}]
[null,null,"",null,null,"",null,null,null,null,85.5,27.158711852309327,8.7757398834027445E-12,0.99965206487251901,-49.999999999991225,null,-999,{"$error":"#N/A"},{"$error":"#N/A"},null,null,-49.999999999991225,null,7.4301188864423313,0.88829065917372296,null,null,91.340962499999392,51.058462499999393,57.932590952529871,3.2478092484825089E-11,{"$error":"#N/A"},{"$error":"#N/A"},null,-999,{"$error":"#N/A"},{"$error":"#N/A"},0.88829065917372296,{"$error":"#N/A"},-999,{"$error":"#N/A"},{"$error":"#N/A"},null,null,null,null,null,null,null,null,null,null,null,null,null,null,null,null,null,null,null,null,null,"",{"$f":"IF(BL236=\"\",NA(),COUNTIF(BL236:$BL$303,BL236))","v":{"$error":"#N/A"}},{"$error":"#VALUE!"},{"$error":"#N/A"},{"$error":"#N/A"},"",{"$f":"IF(BQ236=\"\",NA(),COUNTIF(BQ236:$BQ$303,BQ236))","v":{"$error":"#N/A"}},{"$error":"#VALUE!"},{"$error":"#N/A"},{"$error":"#N/A"},"",{"$f":"IF(BV236=\"\",NA(),COUNTIF(BV236:$BV$303,BV236))","v":{"$error":"#N/A"}},{"$error":"#VALUE!"},{"$error":"#N/A"},{"$error":"#N/A"},"",{"$f":"IF(CA236=\"\",NA(),COUNTIF(CA236:$CA$303,CA236))","v":{"$error":"#N/A"}},{"$error":"#VALUE!"},{"$error":"#N/A"},{"$error":"#N/A"},"",{"$f":"IF(CF236=\"\",NA(),COUNTIF($CF236:CF$303,CF236))","v":{"$error":"#N/A"}},"",{"$f":"IF(CH236=\"\",NA(),COUNTIF($CH236:CH$303,CH236))","v":{"$error":"#N/A"}},{"$error":"#N/A"},{"$error":"#N/A"},{"$error":"#N/A"}]
[null,null,"",null,null,"",null,null,null,null,86,27.143369274629563,4.7683058924186332E-12,0.99966929313950903,-49.999999999995232,null,-999,{"$error":"#N/A"},{"$error":"#N/A"},null,null,-49.999999999995232,null,7.5117685445351041,0.89256734757150513,null,null,91.639549999999389,51.35704999999939,58.612146326720833,2.3516239502825326E-11,{"$error":"#N/A"},{"$error":"#N/A"},null,-999,{"$error":"#N/A"},{"$error":"#N/A"},0.89256734757150513,{"$error":"#N/A"},-999,{"$error":"#N/A"},{"$error":"#N/A"},null,null,null,null,null,null,null,null,null,null,null,null,null,null,null,null,null,null,null,null,null,"",{"$f":"IF(BL237=\"\",NA(),COUNTIF(BL237:$BL$303,BL237))","v":{"$error":"#N/A"}},{"$error":"#VALUE!"},{"$error":"#N/A"},{"$error":"#N/A"},"",{"$f":"IF(BQ237=\"\",NA(),COUNTIF(BQ237:$BQ$303,BQ237))","v":{"$error":"#N/A"}},{"$error":"#VALUE!"},{"$error":"#N/A"},{"$error":"#N/A"},"",{"$f":"IF(BV237=\"\",NA(),COUNTIF(BV237:$BV$303,BV237))","v":{"$error":"#N/A"}},{"$error":"#VALUE!"},{"$error":"#N/A"},{"$error":"#N/A"},"",{"$f":"IF(CA237=\"\",NA(),COUNTIF(CA237:$CA$303,CA237))","v":{"$error":"#N/A"}},{"$error":"#VALUE!"},{"$error":"#N/A"},{"$error":"#N/A"},"",{"$f":"IF(CF237=\"\",NA(),COUNTIF($CF237:CF$303,CF237))","v":{"$error":"#N/A"}},"",{"$f":"IF(CH237=\"\",NA(),COUNTIF($CH237:CH$303,CH237))","v":{"$error":"#N/A"}},{"$error":"#N/A"},{"$error":"#N/A"},{"$error":"#N/A"}]
[null,null,"",null,null,"",null,null,null,null,86.5,27.129366034625516,2.5736481766601077E-12,0.99968551953353901,-49.999999999997428,null,-999,{"$error":"#N/A"},{"$error":"#N/A"},null,null,-49.999999999997428,null,7.5934182026278769,0.89666508668123834,null,null,91.938137499999385,51.655637499999386,59.29566412291873,1.6992024985054559E-11,{"$error":"#N/A"},{"$error":"#N/A"},null,-999,{"$error":"#N/A"},{"$error":"#N/A"},0.89666508668123834,{"$error":"#N/A"},-999,{"$error":"#N/A"},{"$error":"#N/A"},null,null,null,null,null,null,null,null,null,null,null,null,null,null,null,null,null,null,null,null,null,"",{"$f":"IF(BL238=\"\",NA(),COUNTIF(BL238:$BL$303,BL238))","v":{"$error":"#N/A"}},{"$error":"#VALUE!"},{"$error":"#N/A"},{"$error":"#N/A"},"",{"$f":"IF(BQ238=\"\",NA(),COUNTIF(BQ238:$BQ$303,BQ238))","v":{"$error":"#N/A"}},{"$error":"#VALUE!"},{"$error":"#N/A"},{"$error":"#N/A"},"",{"$f":"IF(BV238=\"\",NA(),COUNTIF(BV238:$BV$303,BV238))","v":{"$error":"#N/A"}},{"$error":"#VALUE!"},{"$error":"#N/A"},{"$error":"#N/A"},"",{"$f":"IF(CA238=\"\",NA(),COUNTIF(CA238:$CA$303,CA238))","v":{"$error":"#N/A"}},{"$error":"#VALUE!"},{"$error":"#N/A"},{"$error":"#N/A"},"",{"$f":"IF(CF238=\"\",NA(),COUNTIF($CF238:CF$303,CF238))","v":{"$error":"#N/A"}},"",{"$f":"IF(CH238=\"\",NA(),COUNTIF($CH238:CH$303,CH238))","v":{"$error":"#N/A"}},{"$error":"#N/A"},{"$error":"#N/A"},{"$error":"#N/A"}]
[null,null,"",null,null,"",null,null,null,null,87,27.116600897967182,1.3798724715717351E-12,0.99970081058504978,-49.999999999998622,null,-999,{"$error":"#N/A"},{"$error":"#N/A"},null,null,-49.999999999998622,null,7.6750678607206497,0.90059154416825471,null,null,92.236724999999382,51.954224999999383,59.983144341123577,1.2252443633708004E-11,{"$error":"#N/A"},{"$error":"#N/A"},null,-999,{"$error":"#N/A"},{"$error":"#N/A"},0.90059154416825471,{"$error":"#N/A"},-999,{"$error":"#N/A"},{"$error":"#N/A"},null,null,null,null,null,null,null,null,null,null,null,null,null,null,null,null,null,null,null,null,null,"",{"$f":"IF(BL239=\"\",NA(),COUNTIF(BL239:$BL$303,BL239))","v":{"$error":"#N/A"}},{"$error":"#VALUE!"},{"$error":"#N/A"},{"$error":"#N/A"},"",{"$f":"IF(BQ239=\"\",NA(),COUNTIF(BQ239:$BQ$303,BQ239))","v":{"$error":"#N/A"}},{"$error":"#VALUE!"},{"$error":"#N/A"},{"$error":"#N/A"},"",{"$f":"IF(BV239=\"\",NA(),COUNTIF(BV239:$BV$303,BV239))","v":{"$error":"#N/A"}},{"$error":"#VALUE!"},{"$error":"#N/A"},{"$error":"#N/A"},"",{"$f":"IF(CA239=\"\",NA(),COUNTIF(CA239:$CA$303,CA239))","v":{"$error":"#N/A"}},{"$error":"#VALUE!"},{"$error":"#N/A"},{"$error":"#N/A"},"",{"$f":"IF(CF239=\"\",NA(),COUNTIF($CF239:CF$303,CF239))","v":{"$error":"#N/A"}},"",{"$f":"IF(CH239=\"\",NA(),COUNTIF($CH239:CH$303,CH239))","v":{"$error":"#N/A"}},{"$error":"#N/A"},{"$error":"#N/A"},{"$error":"#N/A"}]
[null,null,"",null,null,"",null,null,null,null,87.5,27.104978647795431,7.3490876479422707E-13,0.9997152278824637,-49.999999999999268,null,-999,{"$error":"#N/A"},{"$error":"#N/A"},null,null,-49.999999999999268,null,7.7567175188134225,0.90435408850949084,null,null,92.535312499999378,52.252812499999379,60.674586981335366,8.8165972749479291E-12,{"$error":"#N/A"},{"$error":"#N/A"},null,-999,{"$error":"#N/A"},{"$error":"#N/A"},0.90435408850949084,{"$error":"#N/A"},-999,{"$error":"#N/A"},{"$error":"#N/A"},null,null,null,null,null,null,null,null,null,null,null,null,null,null,null,null,null,null,null,null,null,"",{"$f":"IF(BL240=\"\",NA(),COUNTIF(BL240:$BL$303,BL240))","v":{"$error":"#N/A"}},{"$error":"#VALUE!"},{"$error":"#N/A"},{"$error":"#N/A"},"",{"$f":"IF(BQ240=\"\",NA(),COUNTIF(BQ240:$BQ$303,BQ240))","v":{"$error":"#N/A"}},{"$error":"#VALUE!"},{"$error":"#N/A"},{"$error":"#N/A"},"",{"$f":"IF(BV240=\"\",NA(),COUNTIF(BV240:$BV$303,BV240))","v":{"$error":"#N/A"}},{"$error":"#VALUE!"},{"$error":"#N/A"},{"$error":"#N/A"},"",{"$f":"IF(CA240=\"\",NA(),COUNTIF(CA240:$CA$303,CA240))","v":{"$error":"#N/A"}},{"$error":"#VALUE!"},{"$error":"#N/A"},{"$error":"#N/A"},"",{"$f":"IF(CF240=\"\",NA(),COUNTIF($CF240:CF$303,CF240))","v":{"$error":"#N/A"}},"",{"$f":"IF(CH240=\"\",NA(),COUNTIF($CH240:CH$303,CH240))","v":{"$error":"#N/A"}},{"$error":"#N/A"},{"$error":"#N/A"},{"$error":"#N/A"}]
[null,null,"",null,null,"",null,null,null,null,88,27.094409892778007,3.8880568535646991E-13,0.99972882847635669,-49.999999999999609,null,-999,{"$error":"#N/A"},{"$error":"#N/A"},null,null,-49.999999999999609,null,7.8383671769061953,0.9079597955457045,null,null,92.833899999999375,52.551399999999376,61.369992043554099,6.3311179701815249E-12,{"$error":"#N/A"},{"$error":"#N/A"},null,-999,{"$error":"#N/A"},{"$error":"#N/A"},0.9079597955457045,{"$error":"#N/A"},-999,{"$error":"#N/A"},{"$error":"#N/A"},null,null,null,null,null,null,null,null,null,null,null,null,null,null,null,null,null,null,null,null,null,"",{"$f":"IF(BL241=\"\",NA(),COUNTIF(BL241:$BL$303,BL241))","v":{"$error":"#N/A"}},{"$error":"#VALUE!"},{"$error":"#N/A"},{"$error":"#N/A"},"",{"$f":"IF(BQ241=\"\",NA(),COUNTIF(BQ241:$BQ$303,BQ241))","v":{"$error":"#N/A"}},{"$error":"#VALUE!"},{"$error":"#N/A"},{"$error":"#N/A"},"",{"$f":"IF(BV241=\"\",NA(),COUNTIF(BV241:$BV$303,BV241))","v":{"$error":"#N/A"}},{"$error":"#VALUE!"},{"$error":"#N/A"},{"$error":"#N/A"},"",{"$f":"IF(CA241=\"\",NA(),COUNTIF(CA241:$CA$303,CA241))","v":{"$error":"#N/A"}},{"$error":"#VALUE!"},{"$error":"#N/A"},{"$error":"#N/A"},"",{"$f":"IF(CF241=\"\",NA(),COUNTIF($CF241:CF$303,CF241))","v":{"$error":"#N/A"}},"",{"$f":"IF(CH241=\"\",NA(),COUNTIF($CH241:CH$303,CH241))","v":{"$error":"#N/A"}},{"$error":"#N/A"},{"$error":"#N/A"},{"$error":"#N/A"}]
[null,null,"",null,null,"",null,null,null,null,88.5,27.084810863492496,2.0433204904277881E-13,0.99974166524769648,-49.999999999999794,null,-999,{"$error":"#N/A"},{"$error":"#N/A"},null,null,-49.999999999999794,null,7.9200168349989681,0.91141545563241988,null,null,93.132487499999371,52.849987499999372,62.069359527779774,4.5369219922072001E-12,{"$error":"#N/A"},{"$error":"#N/A"},null,-999,{"$error":"#N/A"},{"$error":"#N/A"},0.91141545563241988,{"$error":"#N/A"},-999,{"$error":"#N/A"},{"$error":"#N/A"},null,null,null,null,null,null,null,null,null,null,null,null,null,null,null,null,null,null,null,null,null,"",{"$f":"IF(BL242=\"\",NA(),COUNTIF(BL242:$BL$303,BL242))","v":{"$error":"#N/A"}},{"$error":"#VALUE!"},{"$error":"#N/A"},{"$error":"#N/A"},"",{"$f":"IF(BQ242=\"\",NA(),COUNTIF(BQ242:$BQ$303,BQ242))","v":{"$error":"#N/A"}},{"$error":"#VALUE!"},{"$error":"#N/A"},{"$error":"#N/A"},"",{"$f":"IF(BV242=\"\",NA(),COUNTIF(BV242:$BV$303,BV242))","v":{"$error":"#N/A"}},{"$error":"#VALUE!"},{"$error":"#N/A"},{"$error":"#N/A"},"",{"$f":"IF(CA242=\"\",NA(),COUNTIF(CA242:$CA$303,CA242))","v":{"$error":"#N/A"}},{"$error":"#VALUE!"},{"$error":"#N/A"},{"$error":"#N/A"},"",{"$f":"IF(CF242=\"\",NA(),COUNTIF($CF242:CF$303,CF242))","v":{"$error":"#N/A"}},"",{"$f":"IF(CH242=\"\",NA(),COUNTIF($CH242:CH$303,CH242))","v":{"$error":"#N/A"}},{"$error":"#N/A"},{"$error":"#N/A"},{"$error":"#N/A"}]
[null,null,"",null,null,"",null,null,null,null,89,27.076103199586338,1.0667068325970726E-13,0.99975378724358588,-49.999999999999893,null,-999,{"$error":"#N/A"},{"$error":"#N/A"},null,null,-49.999999999999893,null,8.0016664930917401,0.91472758126014864,null,null,93.431074999999367,53.148574999999369,62.772689434012399,3.2444725758581531E-12,{"$error":"#N/A"},{"$error":"#N/A"},null,-999,{"$error":"#N/A"},{"$error":"#N/A"},0.91472758126014864,{"$error":"#N/A"},-999,{"$error":"#N/A"},{"$error":"#N/A"},null,null,null,null,null,null,null,null,null,null,null,null,null,null,null,null,null,null,null,null,null,"",{"$f":"IF(BL243=\"\",NA(),COUNTIF(BL243:$BL$303,BL243))","v":{"$error":"#N/A"}},{"$error":"#VALUE!"},{"$error":"#N/A"},{"$error":"#N/A"},"",{"$f":"IF(BQ243=\"\",NA(),COUNTIF(BQ243:$BQ$303,BQ243))","v":{"$error":"#N/A"}},{"$error":"#VALUE!"},{"$error":"#N/A"},{"$error":"#N/A"},"",{"$f":"IF(BV243=\"\",NA(),COUNTIF(BV243:$BV$303,BV243))","v":{"$error":"#N/A"}},{"$error":"#VALUE!"},{"$error":"#N/A"},{"$error":"#N/A"},"",{"$f":"IF(CA243=\"\",NA(),COUNTIF(CA243:$CA$303,CA243))","v":{"$error":"#N/A"}},{"$error":"#VALUE!"},{"$error":"#N/A"},{"$error":"#N/A"},"",{"$f":"IF(CF243=\"\",NA(),COUNTIF($CF243:CF$303,CF243))","v":{"$error":"#N/A"}},"",{"$f":"IF(CH243=\"\",NA(),COUNTIF($CH243:CH$303,CH243))","v":{"$error":"#N/A"}},{"$error":"#N/A"},{"$error":"#N/A"},{"$error":"#N/A"}]
[null,null,"",null,null,"",null,null,null,null,89.5,27.068213729986525,5.5316967911649915E-14,0.99976523998359501,-49.999999999999943,null,-999,{"$error":"#N/A"},{"$error":"#N/A"},null,null,-49.999999999999943,null,8.083316151184512,0.91790241503110392,null,null,93.729662499999364,53.447162499999365,63.47998176225196,2.3154167611393117E-12,{"$error":"#N/A"},{"$error":"#N/A"},null,-999,{"$error":"#N/A"},{"$error":"#N/A"},0.91790241503110392,{"$error":"#N/A"},-999,{"$error":"#N/A"},{"$error":"#N/A"},null,null,null,null,null,null,null,null,null,null,null,null,null,null,null,null,null,null,null,null,null,"",{"$f":"IF(BL244=\"\",NA(),COUNTIF(BL244:$BL$303,BL244))","v":{"$error":"#N/A"}},{"$error":"#VALUE!"},{"$error":"#N/A"},{"$error":"#N/A"},"",{"$f":"IF(BQ244=\"\",NA(),COUNTIF(BQ244:$BQ$303,BQ244))","v":{"$error":"#N/A"}},{"$error":"#VALUE!"},{"$error":"#N/A"},{"$error":"#N/A"},"",{"$f":"IF(BV244=\"\",NA(),COUNTIF(BV244:$BV$303,BV244))","v":{"$error":"#N/A"}},{"$error":"#VALUE!"},{"$error":"#N/A"},{"$error":"#N/A"},"",{"$f":"IF(CA244=\"\",NA(),COUNTIF(CA244:$CA$303,CA244))","v":{"$error":"#N/A"}},{"$error":"#VALUE!"},{"$error":"#N/A"},{"$error":"#N/A"},"",{"$f":"IF(CF244=\"\",NA(),COUNTIF($CF244:CF$303,CF244))","v":{"$error":"#N/A"}},"",{"$f":"IF(CH244=\"\",NA(),COUNTIF($CH244:CH$303,CH244))","v":{"$error":"#N/A"}},{"$error":"#N/A"},{"$error":"#N/A"},{"$error":"#N/A"}]
[null,null,"",null,null,"",null,null,null,null,90,27.061074248253128,2.8495505183485468E-14,0.99977606573945821,-49.999999999999972,null,-999,{"$error":"#N/A"},{"$error":"#N/A"},null,null,-49.999999999999972,null,8.1649658092772839,0.92094593789403956,null,null,94.02824999999936,53.745749999999362,64.191236512498477,1.6489856732583108E-12,{"$error":"#N/A"},{"$error":"#N/A"},null,-999,{"$error":"#N/A"},{"$error":"#N/A"},0.92094593789403956,{"$error":"#N/A"},-999,{"$error":"#N/A"},{"$error":"#N/A"},null,null,null,null,null,null,null,null,null,null,null,null,null,null,null,null,null,null,null,null,null,"",{"$f":"IF(BL245=\"\",NA(),COUNTIF(BL245:$BL$303,BL245))","v":{"$error":"#N/A"}},{"$error":"#VALUE!"},{"$error":"#N/A"},{"$error":"#N/A"},"",{"$f":"IF(BQ245=\"\",NA(),COUNTIF(BQ245:$BQ$303,BQ245))","v":{"$error":"#N/A"}},{"$error":"#VALUE!"},{"$error":"#N/A"},{"$error":"#N/A"},"",{"$f":"IF(BV245=\"\",NA(),COUNTIF(BV245:$BV$303,BV245))","v":{"$error":"#N/A"}},{"$error":"#VALUE!"},{"$error":"#N/A"},{"$error":"#N/A"},"",{"$f":"IF(CA245=\"\",NA(),COUNTIF(CA245:$CA$303,CA245))","v":{"$error":"#N/A"}},{"$error":"#VALUE!"},{"$error":"#N/A"},{"$error":"#N/A"},"",{"$f":"IF(CF245=\"\",NA(),COUNTIF($CF245:CF$303,CF245))","v":{"$error":"#N/A"}},"",{"$f":"IF(CH245=\"\",NA(),COUNTIF($CH245:CH$303,CH245))","v":{"$error":"#N/A"}},{"$error":"#N/A"},{"$error":"#N/A"},{"$error":"#N/A"}]
[null,null,"",null,null,"",null,null,null,null,90.5,27.054621284992677,1.4581394430750376E-14,0.99978630379062738,-49.999999999999986,null,-999,{"$error":"#N/A"},{"$error":"#N/A"},null,null,-49.999999999999986,null,8.2466154673700558,0.92386387755248955,null,null,94.326837499999357,54.044337499999358,64.906453684751924,1.1719460130173689E-12,{"$error":"#N/A"},{"$error":"#N/A"},null,-999,{"$error":"#N/A"},{"$error":"#N/A"},0.92386387755248955,{"$error":"#N/A"},-999,{"$error":"#N/A"},{"$error":"#N/A"},null,null,null,null,null,null,null,null,null,null,null,null,null,null,null,null,null,null,null,null,null,"",{"$f":"IF(BL246=\"\",NA(),COUNTIF(BL246:$BL$303,BL246))","v":{"$error":"#N/A"}},{"$error":"#VALUE!"},{"$error":"#N/A"},{"$error":"#N/A"},"",{"$f":"IF(BQ246=\"\",NA(),COUNTIF(BQ246:$BQ$303,BQ246))","v":{"$error":"#N/A"}},{"$error":"#VALUE!"},{"$error":"#N/A"},{"$error":"#N/A"},"",{"$f":"IF(BV246=\"\",NA(),COUNTIF(BV246:$BV$303,BV246))","v":{"$error":"#N/A"}},{"$error":"#VALUE!"},{"$error":"#N/A"},{"$error":"#N/A"},"",{"$f":"IF(CA246=\"\",NA(),COUNTIF(CA246:$CA$303,CA246))","v":{"$error":"#N/A"}},{"$error":"#VALUE!"},{"$error":"#N/A"},{"$error":"#N/A"},"",{"$f":"IF(CF246=\"\",NA(),COUNTIF($CF246:CF$303,CF246))","v":{"$error":"#N/A"}},"",{"$f":"IF(CH246=\"\",NA(),COUNTIF($CH246:CH$303,CH246))","v":{"$error":"#N/A"}},{"$error":"#N/A"},{"$error":"#N/A"},{"$error":"#N/A"}]
[null,null,"",null,null,"",null,null,null,null,91,27.04879587907153,7.4118472171787988E-15,0.9997959906579299,-49.999999999999993,null,-999,{"$error":"#N/A"},{"$error":"#N/A"},null,null,-49.999999999999993,null,8.3282651254628277,0.92666171697270583,null,null,94.625424999999353,54.342924999999354,65.62563327901232,8.3119267514492043E-13,{"$error":"#N/A"},{"$error":"#N/A"},null,-999,{"$error":"#N/A"},{"$error":"#N/A"},0.92666171697270583,{"$error":"#N/A"},-999,{"$error":"#N/A"},{"$error":"#N/A"},null,null,null,null,null,null,null,null,null,null,null,null,null,null,null,null,null,null,null,null,null,"",{"$f":"IF(BL247=\"\",NA(),COUNTIF(BL247:$BL$303,BL247))","v":{"$error":"#N/A"}},{"$error":"#VALUE!"},{"$error":"#N/A"},{"$error":"#N/A"},"",{"$f":"IF(BQ247=\"\",NA(),COUNTIF(BQ247:$BQ$303,BQ247))","v":{"$error":"#N/A"}},{"$error":"#VALUE!"},{"$error":"#N/A"},{"$error":"#N/A"},"",{"$f":"IF(BV247=\"\",NA(),COUNTIF(BV247:$BV$303,BV247))","v":{"$error":"#N/A"}},{"$error":"#VALUE!"},{"$error":"#N/A"},{"$error":"#N/A"},"",{"$f":"IF(CA247=\"\",NA(),COUNTIF(CA247:$CA$303,CA247))","v":{"$error":"#N/A"}},{"$error":"#VALUE!"},{"$error":"#N/A"},{"$error":"#N/A"},"",{"$f":"IF(CF247=\"\",NA(),COUNTIF($CF247:CF$303,CF247))","v":{"$error":"#N/A"}},"",{"$f":"IF(CH247=\"\",NA(),COUNTIF($CH247:CH$303,CH247))","v":{"$error":"#N/A"}},{"$error":"#N/A"},{"$error":"#N/A"},{"$error":"#N/A"}]
[null,null,"",null,null,"",null,null,null,null,91.5,27.043543349196984,3.7424720236626456E-15,0.99980516031735001,-49.999999999999993,null,-999,{"$error":"#N/A"},{"$error":"#N/A"},null,null,-49.999999999999993,null,8.4099147835555996,0.9293447029287849,null,null,94.92401249999935,54.641512499999351,66.34877529527968,5.883009447410311E-13,{"$error":"#N/A"},{"$error":"#N/A"},null,-999,{"$error":"#N/A"},{"$error":"#N/A"},0.9293447029287849,{"$error":"#N/A"},-999,{"$error":"#N/A"},{"$error":"#N/A"},null,null,null,null,null,null,null,null,null,null,null,null,null,null,null,null,null,null,null,null,null,"",{"$f":"IF(BL248=\"\",NA(),COUNTIF(BL248:$BL$303,BL248))","v":{"$error":"#N/A"}},{"$error":"#VALUE!"},{"$error":"#N/A"},{"$error":"#N/A"},"",{"$f":"IF(BQ248=\"\",NA(),COUNTIF(BQ248:$BQ$303,BQ248))","v":{"$error":"#N/A"}},{"$error":"#VALUE!"},{"$error":"#N/A"},{"$error":"#N/A"},"",{"$f":"IF(BV248=\"\",NA(),COUNTIF(BV248:$BV$303,BV248))","v":{"$error":"#N/A"}},{"$error":"#VALUE!"},{"$error":"#N/A"},{"$error":"#N/A"},"",{"$f":"IF(CA248=\"\",NA(),COUNTIF(CA248:$CA$303,CA248))","v":{"$error":"#N/A"}},{"$error":"#VALUE!"},{"$error":"#N/A"},{"$error":"#N/A"},"",{"$f":"IF(CF248=\"\",NA(),COUNTIF($CF248:CF$303,CF248))","v":{"$error":"#N/A"}},"",{"$f":"IF(CH248=\"\",NA(),COUNTIF($CH248:CH$303,CH248))","v":{"$error":"#N/A"}},{"$error":"#N/A"},{"$error":"#N/A"},{"$error":"#N/A"}]
[null,null,"",null,null,"",null,null,null,null,92,27.038813067266506,1.8771344062184002E-15,0.99981384439575882,-50,null,-999,{"$error":"#N/A"},{"$error":"#N/A"},null,null,-50,null,8.4915644416483715,0.93191785453111975,null,null,95.222599999999346,54.940099999999347,67.075879733553961,4.1552913042291228E-13,{"$error":"#N/A"},{"$error":"#N/A"},null,-999,{"$error":"#N/A"},{"$error":"#N/A"},0.93191785453111975,{"$error":"#N/A"},-999,{"$error":"#N/A"},{"$error":"#N/A"},null,null,null,null,null,null,null,null,null,null,null,null,null,null,null,null,null,null,null,null,null,"",{"$f":"IF(BL249=\"\",NA(),COUNTIF(BL249:$BL$303,BL249))","v":{"$error":"#N/A"}},{"$error":"#VALUE!"},{"$error":"#N/A"},{"$error":"#N/A"},"",{"$f":"IF(BQ249=\"\",NA(),COUNTIF(BQ249:$BQ$303,BQ249))","v":{"$error":"#N/A"}},{"$error":"#VALUE!"},{"$error":"#N/A"},{"$error":"#N/A"},"",{"$f":"IF(BV249=\"\",NA(),COUNTIF(BV249:$BV$303,BV249))","v":{"$error":"#N/A"}},{"$error":"#VALUE!"},{"$error":"#N/A"},{"$error":"#N/A"},"",{"$f":"IF(CA249=\"\",NA(),COUNTIF(CA249:$CA$303,CA249))","v":{"$error":"#N/A"}},{"$error":"#VALUE!"},{"$error":"#N/A"},{"$error":"#N/A"},"",{"$f":"IF(CF249=\"\",NA(),COUNTIF($CF249:CF$303,CF249))","v":{"$error":"#N/A"}},"",{"$f":"IF(CH249=\"\",NA(),COUNTIF($CH249:CH$303,CH249))","v":{"$error":"#N/A"}},{"$error":"#N/A"},{"$error":"#N/A"},{"$error":"#N/A"}]
[null,null,"",null,null,"",null,null,null,null,92.5,27.034558234723811,9.3526973497802249E-16,0.99982207235023535,-50,null,-999,{"$error":"#N/A"},{"$error":"#N/A"},null,null,-50,null,8.5732140997411435,0.9343859716929982,null,null,95.521187499999343,55.238687499999344,67.806946593835193,2.9289222570068196E-13,{"$error":"#N/A"},{"$error":"#N/A"},null,-999,{"$error":"#N/A"},{"$error":"#N/A"},0.9343859716929982,{"$error":"#N/A"},-999,{"$error":"#N/A"},{"$error":"#N/A"},null,null,null,null,null,null,null,null,null,null,null,null,null,null,null,null,null,null,null,null,null,"",{"$f":"IF(BL250=\"\",NA(),COUNTIF(BL250:$BL$303,BL250))","v":{"$error":"#N/A"}},{"$error":"#VALUE!"},{"$error":"#N/A"},{"$error":"#N/A"},"",{"$f":"IF(BQ250=\"\",NA(),COUNTIF(BQ250:$BQ$303,BQ250))","v":{"$error":"#N/A"}},{"$error":"#VALUE!"},{"$error":"#N/A"},{"$error":"#N/A"},"",{"$f":"IF(BV250=\"\",NA(),COUNTIF(BV250:$BV$303,BV250))","v":{"$error":"#N/A"}},{"$error":"#VALUE!"},{"$error":"#N/A"},{"$error":"#N/A"},"",{"$f":"IF(CA250=\"\",NA(),COUNTIF(CA250:$CA$303,CA250))","v":{"$error":"#N/A"}},{"$error":"#VALUE!"},{"$error":"#N/A"},{"$error":"#N/A"},"",{"$f":"IF(CF250=\"\",NA(),COUNTIF($CF250:CF$303,CF250))","v":{"$error":"#N/A"}},"",{"$f":"IF(CH250=\"\",NA(),COUNTIF($CH250:CH$303,CH250))","v":{"$error":"#N/A"}},{"$error":"#N/A"},{"$error":"#N/A"},{"$error":"#N/A"}]
[null,null,"",null,null,"",null,null,null,null,93,27.030735663005874,4.6289564548378826E-16,0.9998298716324634,-50,null,-999,{"$error":"#N/A"},{"$error":"#N/A"},null,null,-50,null,8.6548637578339154,0.93675364349707191,null,null,95.819774999999339,55.53727499999934,68.541975876123374,2.0602456089307945E-13,{"$error":"#N/A"},{"$error":"#N/A"},null,-999,{"$error":"#N/A"},{"$error":"#N/A"},0.93675364349707191,{"$error":"#N/A"},-999,{"$error":"#N/A"},{"$error":"#N/A"},null,null,null,null,null,null,null,null,null,null,null,null,null,null,null,null,null,null,null,null,null,"",{"$f":"IF(BL251=\"\",NA(),COUNTIF(BL251:$BL$303,BL251))","v":{"$error":"#N/A"}},{"$error":"#VALUE!"},{"$error":"#N/A"},{"$error":"#N/A"},"",{"$f":"IF(BQ251=\"\",NA(),COUNTIF(BQ251:$BQ$303,BQ251))","v":{"$error":"#N/A"}},{"$error":"#VALUE!"},{"$error":"#N/A"},{"$error":"#N/A"},"",{"$f":"IF(BV251=\"\",NA(),COUNTIF(BV251:$BV$303,BV251))","v":{"$error":"#N/A"}},{"$error":"#VALUE!"},{"$error":"#N/A"},{"$error":"#N/A"},"",{"$f":"IF(CA251=\"\",NA(),COUNTIF(CA251:$CA$303,CA251))","v":{"$error":"#N/A"}},{"$error":"#VALUE!"},{"$error":"#N/A"},{"$error":"#N/A"},"",{"$f":"IF(CF251=\"\",NA(),COUNTIF($CF251:CF$303,CF251))","v":{"$error":"#N/A"}},"",{"$f":"IF(CH251=\"\",NA(),COUNTIF($CH251:CH$303,CH251))","v":{"$error":"#N/A"}},{"$error":"#N/A"},{"$error":"#N/A"},{"$error":"#N/A"}]
[null,null,"",null,null,"",null,null,null,null,93.5,27.027305559017663,2.2757995813205237E-16,0.9998372678395443,-50,null,-999,{"$error":"#N/A"},{"$error":"#N/A"},null,null,-50,null,8.7365134159266873,0.93902525642991785,null,null,96.118362499999336,55.835862499999337,69.280967580418491,1.4462230301340363E-13,{"$error":"#N/A"},{"$error":"#N/A"},null,-999,{"$error":"#N/A"},{"$error":"#N/A"},0.93902525642991785,{"$error":"#N/A"},-999,{"$error":"#N/A"},{"$error":"#N/A"},null,null,null,null,null,null,null,null,null,null,null,null,null,null,null,null,null,null,null,null,null,"",{"$f":"IF(BL252=\"\",NA(),COUNTIF(BL252:$BL$303,BL252))","v":{"$error":"#N/A"}},{"$error":"#VALUE!"},{"$error":"#N/A"},{"$error":"#N/A"},"",{"$f":"IF(BQ252=\"\",NA(),COUNTIF(BQ252:$BQ$303,BQ252))","v":{"$error":"#N/A"}},{"$error":"#VALUE!"},{"$error":"#N/A"},{"$error":"#N/A"},"",{"$f":"IF(BV252=\"\",NA(),COUNTIF(BV252:$BV$303,BV252))","v":{"$error":"#N/A"}},{"$error":"#VALUE!"},{"$error":"#N/A"},{"$error":"#N/A"},"",{"$f":"IF(CA252=\"\",NA(),COUNTIF(CA252:$CA$303,CA252))","v":{"$error":"#N/A"}},{"$error":"#VALUE!"},{"$error":"#N/A"},{"$error":"#N/A"},"",{"$f":"IF(CF252=\"\",NA(),COUNTIF($CF252:CF$303,CF252))","v":{"$error":"#N/A"}},"",{"$f":"IF(CH252=\"\",NA(),COUNTIF($CH252:CH$303,CH252))","v":{"$error":"#N/A"}},{"$error":"#N/A"},{"$error":"#N/A"},{"$error":"#N/A"}]
[null,null,"",null,null,"",null,null,null,null,94,27.024231316432505,1.1114492432684827E-16,0.99984428485243693,-50,null,-999,{"$error":"#N/A"},{"$error":"#N/A"},null,null,-50,null,8.8181630740194592,0.94120500245871308,null,null,96.416949999999332,56.134449999999333,70.023921706720557,1.0131109432588768E-13,{"$error":"#N/A"},{"$error":"#N/A"},null,-999,{"$error":"#N/A"},{"$error":"#N/A"},0.94120500245871308,{"$error":"#N/A"},-999,{"$error":"#N/A"},{"$error":"#N/A"},null,null,null,null,null,null,null,null,null,null,null,null,null,null,null,null,null,null,null,null,null,"",{"$f":"IF(BL253=\"\",NA(),COUNTIF(BL253:$BL$303,BL253))","v":{"$error":"#N/A"}},{"$error":"#VALUE!"},{"$error":"#N/A"},{"$error":"#N/A"},"",{"$f":"IF(BQ253=\"\",NA(),COUNTIF(BQ253:$BQ$303,BQ253))","v":{"$error":"#N/A"}},{"$error":"#VALUE!"},{"$error":"#N/A"},{"$error":"#N/A"},"",{"$f":"IF(BV253=\"\",NA(),COUNTIF(BV253:$BV$303,BV253))","v":{"$error":"#N/A"}},{"$error":"#VALUE!"},{"$error":"#N/A"},{"$error":"#N/A"},"",{"$f":"IF(CA253=\"\",NA(),COUNTIF(CA253:$CA$303,CA253))","v":{"$error":"#N/A"}},{"$error":"#VALUE!"},{"$error":"#N/A"},{"$error":"#N/A"},"",{"$f":"IF(CF253=\"\",NA(),COUNTIF($CF253:CF$303,CF253))","v":{"$error":"#N/A"}},"",{"$f":"IF(CH253=\"\",NA(),COUNTIF($CH253:CH$303,CH253))","v":{"$error":"#N/A"}},{"$error":"#N/A"},{"$error":"#N/A"},{"$error":"#N/A"}]
[null,null,"",null,null,"",null,null,null,null,94.5,27.02147931348529,5.3920009401198398E-17,0.99985094496312132,-50,null,-999,{"$error":"#N/A"},{"$error":"#N/A"},null,null,-50,null,8.8998127321122311,0.9432968869284506,null,null,96.715537499999328,56.43303749999933,70.770838255029574,7.082466469424267E-14,{"$error":"#N/A"},{"$error":"#N/A"},null,-999,{"$error":"#N/A"},{"$error":"#N/A"},0.9432968869284506,{"$error":"#N/A"},-999,{"$error":"#N/A"},{"$error":"#N/A"},null,null,null,null,null,null,null,null,null,null,null,null,null,null,null,null,null,null,null,null,null,"",{"$f":"IF(BL254=\"\",NA(),COUNTIF(BL254:$BL$303,BL254))","v":{"$error":"#N/A"}},{"$error":"#VALUE!"},{"$error":"#N/A"},{"$error":"#N/A"},"",{"$f":"IF(BQ254=\"\",NA(),COUNTIF(BQ254:$BQ$303,BQ254))","v":{"$error":"#N/A"}},{"$error":"#VALUE!"},{"$error":"#N/A"},{"$error":"#N/A"},"",{"$f":"IF(BV254=\"\",NA(),COUNTIF(BV254:$BV$303,BV254))","v":{"$error":"#N/A"}},{"$error":"#VALUE!"},{"$error":"#N/A"},{"$error":"#N/A"},"",{"$f":"IF(CA254=\"\",NA(),COUNTIF(CA254:$CA$303,CA254))","v":{"$error":"#N/A"}},{"$error":"#VALUE!"},{"$error":"#N/A"},{"$error":"#N/A"},"",{"$f":"IF(CF254=\"\",NA(),COUNTIF($CF254:CF$303,CF254))","v":{"$error":"#N/A"}},"",{"$f":"IF(CH254=\"\",NA(),COUNTIF($CH254:CH$303,CH254))","v":{"$error":"#N/A"}},{"$error":"#N/A"},{"$error":"#N/A"},{"$error":"#N/A"}]
[null,null,"",null,null,"",null,null,null,null,95,27.019018717804183,2.5984537276185634E-17,0.99985726899147842,-50,null,-999,{"$error":"#N/A"},{"$error":"#N/A"},null,null,-50,null,8.981462390205003,0.94530473626316547,null,null,97.014124999999325,56.731624999999326,71.521717225345526,4.9410376170943744E-14,{"$error":"#N/A"},{"$error":"#N/A"},null,-999,{"$error":"#N/A"},{"$error":"#N/A"},0.94530473626316547,{"$error":"#N/A"},-999,{"$error":"#N/A"},{"$error":"#N/A"},null,null,null,null,null,null,null,null,null,null,null,null,null,null,null,null,null,null,null,null,null,"",{"$f":"IF(BL255=\"\",NA(),COUNTIF(BL255:$BL$303,BL255))","v":{"$error":"#N/A"}},{"$error":"#VALUE!"},{"$error":"#N/A"},{"$error":"#N/A"},"",{"$f":"IF(BQ255=\"\",NA(),COUNTIF(BQ255:$BQ$303,BQ255))","v":{"$error":"#N/A"}},{"$error":"#VALUE!"},{"$error":"#N/A"},{"$error":"#N/A"},"",{"$f":"IF(BV255=\"\",NA(),COUNTIF(BV255:$BV$303,BV255))","v":{"$error":"#N/A"}},{"$error":"#VALUE!"},{"$error":"#N/A"},{"$error":"#N/A"},"",{"$f":"IF(CA255=\"\",NA(),COUNTIF(CA255:$CA$303,CA255))","v":{"$error":"#N/A"}},{"$error":"#VALUE!"},{"$error":"#N/A"},{"$error":"#N/A"},"",{"$f":"IF(CF255=\"\",NA(),COUNTIF($CF255:CF$303,CF255))","v":{"$error":"#N/A"}},"",{"$f":"IF(CH255=\"\",NA(),COUNTIF($CH255:CH$303,CH255))","v":{"$error":"#N/A"}},{"$error":"#N/A"},{"$error":"#N/A"},{"$error":"#N/A"}]
[null,null,"",null,null,"",null,null,null,null,95.5,27.016821298713811,1.2438978555979946E-17,{"$f":"IF(K256>$O$9,1-TDIST((K256-$O$9)/$BB$9,$K$14-1,1),TDIST(($O$9-K256)/$BB$9,$K$14-1,1))","v":0.99986327639278283},-50,null,-999,{"$error":"#N/A"},{"$error":"#N/A"},null,null,-50,null,9.0631120482977749,{"$f":"nct(X256,$AW$136,$AW$137)","v":0.94723220545758424},null,null,97.312712499999321,57.030212499999323,72.276558617668428,3.4399982901505706E-14,{"$error":"#N/A"},{"$error":"#N/A"},null,-999,{"$error":"#N/A"},{"$error":"#N/A"},{"$f":"Y256","v":0.94723220545758424},{"$error":"#N/A"},-999,{"$error":"#N/A"},{"$error":"#N/A"},null,null,null,null,null,null,null,null,null,null,null,null,null,null,null,null,null,null,null,null,null,"",{"$f":"IF(BL256=\"\",NA(),COUNTIF(BL256:$BL$303,BL256))","v":{"$error":"#N/A"}},{"$error":"#VALUE!"},{"$error":"#N/A"},{"$error":"#N/A"},"",{"$f":"IF(BQ256=\"\",NA(),COUNTIF(BQ256:$BQ$303,BQ256))","v":{"$error":"#N/A"}},{"$error":"#VALUE!"},{"$error":"#N/A"},{"$error":"#N/A"},"",{"$f":"IF(BV256=\"\",NA(),COUNTIF(BV256:$BV$303,BV256))","v":{"$error":"#N/A"}},{"$error":"#VALUE!"},{"$error":"#N/A"},{"$error":"#N/A"},"",{"$f":"IF(CA256=\"\",NA(),COUNTIF(CA256:$CA$303,CA256))","v":{"$error":"#N/A"}},{"$error":"#VALUE!"},{"$error":"#N/A"},{"$error":"#N/A"},"",{"$f":"IF(CF256=\"\",NA(),COUNTIF($CF256:CF$303,CF256))","v":{"$error":"#N/A"}},"",{"$f":"IF(CH256=\"\",NA(),COUNTIF($CH256:CH$303,CH256))","v":{"$error":"#N/A"}},{"$error":"#N/A"},{"$error":"#N/A"},{"$error":"#N/A"}]
[null,null,"",null,null,"",null,null,null,null,96,{"$f":"IF(NOT($BB$12),$AX$6+$AX$5*$X$62*NORMDIST(K257,$O$9,$R$11,FALSE),-999)","v":27.014861247339219},5.9150599992739295E-18,0.99986898535662505,-50,null,{"$f":"IF($BB$12,$AX$6+$AX$5*$X$62*NORMDIST(K257,$O$9,$R$11,FALSE),-999)","v":-999},{"$error":"#N/A"},{"$error":"#N/A"},null,null,-50,null,{"$f":"X256+$AW$140","v":9.1447617063905469},0.94908278534950241,null,null,97.611299999999318,57.328799999999319,73.035362431998266,2.3900393030164678E-14,{"$error":"#N/A"},{"$error":"#N/A"},null,{"$f":"IF(NOT($BB$13),$AX$6+$AX$5*$X$62*NORMDIST(K257,$V$9,$R$11,FALSE),-999)","v":-999},{"$f":"IF(AND(NOT($BB$13),$BD$4,$BD$9),$AX$9+$AM$62*NORMDIST(K257,$V$9,$R$11/SQRT($K$14),FALSE),NA())","v":{"$error":"#N/A"}},{"$error":"#N/A"},0.94908278534950241,{"$f":"IF(AND(NOT($BB$13),$BD$10,$BD$4,$BD$9,$BB$25),IF($BD$12,$AX$15+$AM$62*NORMDIST(K257,$V$9,$R$11/SQRT($K$14),FALSE),$AX$15+$AM$62*(AL258-AL256)/(2*$BB$1)),NA())","v":{"$error":"#N/A"}},{"$f":"IF(AND($BB$4,$BB$13),$AX$6+$AX$5*$X$62*NORMDIST(K257,$V$9,$R$11,FALSE),-999)","v":-999},{"$f":"IF(AND($BB$4,$BD$6,$BB$13,$BD$4,$BD$9),$AX$9+$AM$62*NORMDIST(K257,$V$9,$R$11/SQRT($K$14),FALSE),NA())","v":{"$error":"#N/A"}},{"$f":"IF(AND($BB$4,$BD$10,$BB$13,$BD$4,$BD$9,$BB$25),IF($BD$12,$AX$15+$AM$62*NORMDIST(K257,$V$9,$R$11/SQRT($K$14),FALSE),$AX$15+$AM$62*(AL258-AL256)/(2*$BB$1)),NA())","v":{"$error":"#N/A"}},null,null,null,null,null,null,null,null,null,null,null,null,null,null,null,null,null,null,null,null,null,"",{"$f":"IF(BL257=\"\",NA(),COUNTIF(BL257:$BL$303,BL257))","v":{"$error":"#N/A"}},{"$error":"#VALUE!"},{"$error":"#N/A"},{"$error":"#N/A"},"",{"$f":"IF(BQ257=\"\",NA(),COUNTIF(BQ257:$BQ$303,BQ257))","v":{"$error":"#N/A"}},{"$error":"#VALUE!"},{"$error":"#N/A"},{"$error":"#N/A"},"",{"$f":"IF(BV257=\"\",NA(),COUNTIF(BV257:$BV$303,BV257))","v":{"$error":"#N/A"}},{"$error":"#VALUE!"},{"$error":"#N/A"},{"$error":"#N/A"},"",{"$f":"IF(CA257=\"\",NA(),COUNTIF(CA257:$CA$303,CA257))","v":{"$error":"#N/A"}},{"$error":"#VALUE!"},{"$error":"#N/A"},{"$error":"#N/A"},"",{"$f":"IF(CF257=\"\",NA(),COUNTIF($CF257:CF$303,CF257))","v":{"$error":"#N/A"}},"",{"$f":"IF(CH257=\"\",NA(),COUNTIF($CH257:CH$303,CH257))","v":{"$error":"#N/A"}},{"$error":"#N/A"},{"$error":"#N/A"},{"$error":"#N/A"}]
[null,null,"",null,null,"",null,null,null,null,{"$f":"K257+$BB$1","v":96.5},27.013115004745405,{"$f":"IF(AND(NOT($BB$12),$BB$6,$BD$3,$BD$9),$AX$9+$O$62*NORMDIST(K258,$O$9,$R$11/SQRT($K$14),FALSE),NA())","v":2.7940765011132949E-18},0.99987441289800105,{"$f":"IF(AND(NOT($BB$12),$BD$10,$BD$3,$BD$9),IF($BD$12,V258,$AX$15+$O$62*(N259-N257)/(2*$BB$1)),NA())","v":-50},null,-999,{"$f":"IF(AND($BB$12,$BB$6,$BD$3,$BD$9),$AX$9+$O$62*NORMDIST(K258,$O$9,$R$11/SQRT($K$14),FALSE),NA())","v":{"$error":"#N/A"}},{"$f":"IF(AND($BB$12,$BD$10,$BD$3,$BD$9),IF($BD$12,$AX$15+$O$62*NORMDIST(K258,$O$9,$R$11/SQRT($K$14),FALSE),$AX$15+$O$62*(N259-N257)/(2*$BB$1)),NA())","v":{"$error":"#N/A"}},null,null,{"$f":"IF(AND(NOT($BB$12),$BD$3,$BD$9),$AX$15+$O$62*NORMDIST(K258,$O$9,$R$11/SQRT($K$14),FALSE),NA())","v":-50},null,9.2264113644833188,0.95085980966558414,null,null,97.909887499999314,{"$f":"AB258-$AA$63","v":57.627387499999315},{"$f":"AC258^2/$AA$66","v":73.798128668335053},{"$f":"CHIDIST(AD258,$K$16)","v":1.6571389317447355E-14},{"$error":"#N/A"},{"$error":"#N/A"},null,-999,{"$error":"#N/A"},{"$f":"IF($BD$6,AJ258,NA())","v":{"$error":"#N/A"}},0.95085980966558414,{"$error":"#N/A"},-999,{"$error":"#N/A"},{"$error":"#N/A"},null,null,null,null,null,null,null,null,null,null,null,null,null,null,null,null,null,null,null,null,null,"",{"$f":"IF(BL258=\"\",NA(),COUNTIF(BL258:$BL$303,BL258))","v":{"$error":"#N/A"}},{"$error":"#VALUE!"},{"$error":"#N/A"},{"$error":"#N/A"},"",{"$f":"IF(BQ258=\"\",NA(),COUNTIF(BQ258:$BQ$303,BQ258))","v":{"$error":"#N/A"}},{"$error":"#VALUE!"},{"$error":"#N/A"},{"$error":"#N/A"},"",{"$f":"IF(BV258=\"\",NA(),COUNTIF(BV258:$BV$303,BV258))","v":{"$error":"#N/A"}},{"$error":"#VALUE!"},{"$error":"#N/A"},{"$error":"#N/A"},"",{"$f":"IF(CA258=\"\",NA(),COUNTIF(CA258:$CA$303,CA258))","v":{"$error":"#N/A"}},{"$error":"#VALUE!"},{"$error":"#N/A"},{"$error":"#N/A"},"",{"$f":"IF(CF258=\"\",NA(),COUNTIF($CF258:CF$303,CF258))","v":{"$error":"#N/A"}},"",{"$f":"IF(CH258=\"\",NA(),COUNTIF($CH258:CH$303,CH258))","v":{"$error":"#N/A"}},{"$error":"#N/A"},{"$error":"#N/A"},{"$error":"#N/A"}]
[null,null,"",null,null,"",null,null,null,null,97,27.011561098261343,1.3110586941419455E-18,0.99987957494123936,-50,null,-999,{"$error":"#N/A"},{"$error":"#N/A"},null,null,-50,null,9.3080610225760907,0.95256646183583515,null,null,{"$f":"AB258+$AA$65","v":98.208474999999311},57.925974999999312,74.564857326678776,1.1466217289220284E-14,{"$f":"IF(AND(IF($BB$5=1,$A$4<>\"\",$D$4<>\"\"),NOT($BD$12),$BD$5,$BD$4,$BD$9),$AX$12+$AA$67*(AE258-AE260)/(2*$AA$65),NA())","v":{"$error":"#N/A"}},{"$f":"IF(AND(IF($BB$5=1,$A$4<>\"\",$D$4<>\"\"),$BD$12,$BD$5,$BD$4,$BD$9),$AX$12+$AA$67*(AE258-AE260)/(2*$AA$65),NA())","v":{"$error":"#N/A"}},null,-999,{"$error":"#N/A"},{"$error":"#N/A"},0.95256646183583515,{"$error":"#N/A"},-999,{"$error":"#N/A"},{"$error":"#N/A"},null,null,null,null,null,null,null,null,null,null,null,null,null,null,null,null,null,null,null,null,null,"",{"$f":"IF(BL259=\"\",NA(),COUNTIF(BL259:$BL$303,BL259))","v":{"$error":"#N/A"}},{"$error":"#VALUE!"},{"$error":"#N/A"},{"$error":"#N/A"},"",{"$f":"IF(BQ259=\"\",NA(),COUNTIF(BQ259:$BQ$303,BQ259))","v":{"$error":"#N/A"}},{"$error":"#VALUE!"},{"$error":"#N/A"},{"$error":"#N/A"},"",{"$f":"IF(BV259=\"\",NA(),COUNTIF(BV259:$BV$303,BV259))","v":{"$error":"#N/A"}},{"$error":"#VALUE!"},{"$error":"#N/A"},{"$error":"#N/A"},"",{"$f":"IF(CA259=\"\",NA(),COUNTIF(CA259:$CA$303,CA259))","v":{"$error":"#N/A"}},{"$error":"#VALUE!"},{"$error":"#N/A"},{"$error":"#N/A"},"",{"$f":"IF(CF259=\"\",NA(),COUNTIF($CF259:CF$303,CF259))","v":{"$error":"#N/A"}},"",{"$f":"IF(CH259=\"\",NA(),COUNTIF($CH259:CH$303,CH259))","v":{"$error":"#N/A"}},{"$error":"#N/A"},{"$error":"#N/A"},{"$error":"#N/A"}]
[null,null,"",null,null,"",null,null,null,null,97.5,27.010179986060468,6.1109774384733321E-19,0.99988448639737537,-50,null,-999,{"$error":"#N/A"},{"$error":"#N/A"},null,null,-50,null,9.3897106806688626,0.95420578157433489,null,null,98.507062499999307,58.224562499999308,75.335548407029449,7.9175185149035117E-15,{"$error":"#N/A"},{"$error":"#N/A"},null,-999,{"$error":"#N/A"},{"$error":"#N/A"},0.95420578157433489,{"$error":"#N/A"},-999,{"$error":"#N/A"},{"$error":"#N/A"},null,null,null,null,null,null,null,null,null,null,null,null,null,null,null,null,null,null,null,null,null,{"$f":"IF(A260=\"\",\"\",ROUND(($O$9+$R$11*A260)/$BA$34,0))","v":""},{"$f":"IF(BL260=\"\",NA(),COUNTIF(BL260:$BL$303,BL260))","v":{"$error":"#N/A"}},{"$f":"BL260*$BA$34","v":{"$error":"#VALUE!"}},{"$f":"IF(AND(NOT($BB$12),$BB$6,$BD$3,$BD$8),$AX$9-$BA$33/2+BM260*$BA$33,NA())","v":{"$error":"#N/A"}},{"$f":"IF(AND($BB$12,$BB$6,$BD$3,$BD$8),$AX$9-$BA$33/2+BM260*$BA$33,NA())","v":{"$error":"#N/A"}},{"$f":"IF(C260=\"\",\"\",ROUND(($O$9+C260*$BB$9)/$BA$34,0))","v":""},{"$f":"IF(BQ260=\"\",NA(),COUNTIF(BQ260:$BQ$303,BQ260))","v":{"$error":"#N/A"}},{"$f":"BQ260*$BA$34","v":{"$error":"#VALUE!"}},{"$error":"#N/A"},{"$error":"#N/A"},{"$f":"IF(D260=\"\",\"\",ROUND(($V$9+$R$11*D260)/$BA$34,0))","v":""},{"$f":"IF(BV260=\"\",NA(),COUNTIF(BV260:$BV$303,BV260))","v":{"$error":"#N/A"}},{"$f":"BV260*$BA$34","v":{"$error":"#VALUE!"}},{"$f":"IF(AND(NOT($BB$13),$BD$6,$BD$4,$BD$8),$AX$9-$BA$33/2+BW260*$BA$33,NA())","v":{"$error":"#N/A"}},{"$f":"IF(AND($BB$4,$BD$6,$BB$13,$BD$4,$BD$8),$AX$9-$BA$33/2+BW260*$BA$33,NA())","v":{"$error":"#N/A"}},{"$f":"IF(F260=\"\",\"\",ROUND(($O$9+F260*$BB$9)/$BA$34,0))","v":""},{"$f":"IF(CA260=\"\",NA(),COUNTIF(CA260:$CA$303,CA260))","v":{"$error":"#N/A"}},{"$f":"CA260*$BA$34","v":{"$error":"#VALUE!"}},{"$error":"#N/A"},{"$error":"#N/A"},"",{"$f":"IF(CF260=\"\",NA(),COUNTIF($CF260:CF$303,CF260))","v":{"$error":"#N/A"}},"",{"$f":"IF(CH260=\"\",NA(),COUNTIF($CH260:CH$303,CH260))","v":{"$error":"#N/A"}},{"$error":"#N/A"},{"$error":"#N/A"},{"$error":"#N/A"}]
[null,null,{"$f":"IF(AND(A261<>\"\",$K$14>1),(($O$9+$R$11*A261)-$O$9)/IF($BD$12,$BB$9,$R$11*B261/SQRT($K$14)),\"\")","v":""},null,null,{"$f":"IF(AND(D261<>\"\",$K$14>1),(($V$9+$R$11*D261)-$O$9)/IF($BD$12,$BB$9,$R$11*E261/SQRT($K$14)),\"\")","v":""},null,null,null,null,98,27.008953910000788,2.829462414168218E-19,0.99988916123552574,-50,null,-999,{"$error":"#N/A"},{"$error":"#N/A"},null,null,-50,null,9.4713603387616345,0.95578067122487143,null,null,98.805649999999304,58.523149999999305,76.110201909387087,5.4558947047409842E-15,{"$error":"#N/A"},{"$error":"#N/A"},null,-999,{"$error":"#N/A"},{"$error":"#N/A"},0.95578067122487143,{"$error":"#N/A"},-999,{"$error":"#N/A"},{"$error":"#N/A"},null,null,null,null,null,null,null,null,null,null,null,null,null,null,null,null,null,null,null,null,null,"",{"$f":"IF(BL261=\"\",NA(),COUNTIF(BL261:$BL$303,BL261))","v":{"$error":"#N/A"}},{"$error":"#VALUE!"},{"$error":"#N/A"},{"$error":"#N/A"},"",{"$f":"IF(BQ261=\"\",NA(),COUNTIF(BQ261:$BQ$303,BQ261))","v":{"$error":"#N/A"}},{"$error":"#VALUE!"},{"$f":"IF(AND(NOT($BB$12),$BD$10,$BD$3,$BD$8),$AX$15-$BA$33/2+BR261*$BA$33,NA())","v":{"$error":"#N/A"}},{"$f":"IF(AND($BB$12,$BD$10,$BD$3,$BD$8),$AX$15-$BA$33/2+BR261*$BA$33,NA())","v":{"$error":"#N/A"}},"",{"$f":"IF(BV261=\"\",NA(),COUNTIF(BV261:$BV$303,BV261))","v":{"$error":"#N/A"}},{"$error":"#VALUE!"},{"$error":"#N/A"},{"$error":"#N/A"},"",{"$f":"IF(CA261=\"\",NA(),COUNTIF(CA261:$CA$303,CA261))","v":{"$error":"#N/A"}},{"$error":"#VALUE!"},{"$f":"IF(AND(NOT($BB$13),$BD$10,$BD$4,$BD$8),$AX$15-$BA$33/2+CB261*$BA$33,NA())","v":{"$error":"#N/A"}},{"$f":"IF(AND($BB$4,$BD$10,$BB$13,$BD$4,$BD$8),$AX$15-$BA$33/2+CB261*$BA$33,NA())","v":{"$error":"#N/A"}},{"$f":"IF(B261=\"\",\"\",ROUND(($R$11*B261)/$BA$37,0))","v":""},{"$f":"IF(CF261=\"\",NA(),COUNTIF($CF261:CF$303,CF261))","v":{"$error":"#N/A"}},{"$f":"IF(E261=\"\",\"\",ROUND(($R$11*E261)/$BA$37,0))","v":""},{"$f":"IF(CH261=\"\",NA(),COUNTIF($CH261:CH$303,CH261))","v":{"$error":"#N/A"}},{"$f":"$AX$35+IF($BB$5=1,CF261,CH261)*$BA$37","v":{"$error":"#N/A"}},{"$f":"IF(AND(NOT($BD$12),$BD$5,$BD$4,$BD$8),$AX$12-$BA$36/2+IF($BB$5=1,CG261,CI261)*$BA$36,NA())","v":{"$error":"#N/A"}},{"$f":"IF(AND($BD$12,$BD$5,$BD$4,$BD$8),$AX$12-$BA$36/2+IF($BB$5=1,CG261,CI261)*$BA$36,NA())","v":{"$error":"#N/A"}}]
[null,null,"",null,null,"",null,null,null,null,98.5,27.007866756667156,1.3013732684868479E-19,0.99989361254876707,-50,null,-999,{"$error":"#N/A"},{"$error":"#N/A"},null,null,-50,null,9.5530099968544064,0.95729390187272867,null,null,99.1042374999993,58.821737499999301,76.888817833751645,3.7518990144598309E-15,{"$error":"#N/A"},{"$error":"#N/A"},null,-999,{"$error":"#N/A"},{"$error":"#N/A"},0.95729390187272867,{"$error":"#N/A"},-999,{"$error":"#N/A"},{"$error":"#N/A"},null,null,null,null,null,null,null,null,null,null,null,null,null,null,null,null,null,null,null,null,null,"",{"$f":"IF(BL262=\"\",NA(),COUNTIF(BL262:$BL$303,BL262))","v":{"$error":"#N/A"}},{"$error":"#VALUE!"},{"$error":"#N/A"},{"$error":"#N/A"},"",{"$f":"IF(BQ262=\"\",NA(),COUNTIF(BQ262:$BQ$303,BQ262))","v":{"$error":"#N/A"}},{"$error":"#VALUE!"},{"$error":"#N/A"},{"$error":"#N/A"},"",{"$f":"IF(BV262=\"\",NA(),COUNTIF(BV262:$BV$303,BV262))","v":{"$error":"#N/A"}},{"$error":"#VALUE!"},{"$error":"#N/A"},{"$error":"#N/A"},"",{"$f":"IF(CA262=\"\",NA(),COUNTIF(CA262:$CA$303,CA262))","v":{"$error":"#N/A"}},{"$error":"#VALUE!"},{"$error":"#N/A"},{"$error":"#N/A"},"",{"$f":"IF(CF262=\"\",NA(),COUNTIF($CF262:CF$303,CF262))","v":{"$error":"#N/A"}},"",{"$f":"IF(CH262=\"\",NA(),COUNTIF($CH262:CH$303,CH262))","v":{"$error":"#N/A"}},{"$error":"#N/A"},{"$error":"#N/A"},{"$error":"#N/A"}]
[null,null,"",null,null,"",null,null,null,null,99,27.006903926505249,5.9457211532353911E-20,0.99989785261497577,-50,null,-999,{"$error":"#N/A"},{"$error":"#N/A"},null,null,-50,null,9.6346596549471784,0.95874811922372305,null,null,99.402824999999297,59.120324999999298,77.671396180123153,2.5748080607901658E-15,{"$error":"#N/A"},{"$error":"#N/A"},null,-999,{"$error":"#N/A"},{"$error":"#N/A"},0.95874811922372305,{"$error":"#N/A"},-999,{"$error":"#N/A"},{"$error":"#N/A"},null,null,null,null,null,null,null,null,null,null,null,null,null,null,null,null,null,null,null,null,null,"",{"$f":"IF(BL263=\"\",NA(),COUNTIF(BL263:$BL$303,BL263))","v":{"$error":"#N/A"}},{"$error":"#VALUE!"},{"$error":"#N/A"},{"$error":"#N/A"},"",{"$f":"IF(BQ263=\"\",NA(),COUNTIF(BQ263:$BQ$303,BQ263))","v":{"$error":"#N/A"}},{"$error":"#VALUE!"},{"$error":"#N/A"},{"$error":"#N/A"},"",{"$f":"IF(BV263=\"\",NA(),COUNTIF(BV263:$BV$303,BV263))","v":{"$error":"#N/A"}},{"$error":"#VALUE!"},{"$error":"#N/A"},{"$error":"#N/A"},"",{"$f":"IF(CA263=\"\",NA(),COUNTIF(CA263:$CA$303,CA263))","v":{"$error":"#N/A"}},{"$error":"#VALUE!"},{"$error":"#N/A"},{"$error":"#N/A"},"",{"$f":"IF(CF263=\"\",NA(),COUNTIF($CF263:CF$303,CF263))","v":{"$error":"#N/A"}},"",{"$f":"IF(CH263=\"\",NA(),COUNTIF($CH263:CH$303,CH263))","v":{"$error":"#N/A"}},{"$error":"#N/A"},{"$error":"#N/A"},{"$error":"#N/A"}]
[null,null,"",null,null,"",null,null,null,null,99.5,27.006052210890999,2.6984345995960904E-20,0.99990189295304699,-50,null,-999,{"$error":"#N/A"},{"$error":"#N/A"},null,null,-50,null,9.7163093130399503,0.96014584925417468,null,null,99.701412499999293,59.418912499999294,78.457936948501612,1.7633861543829131E-15,{"$error":"#N/A"},{"$error":"#N/A"},null,-999,{"$error":"#N/A"},{"$error":"#N/A"},0.96014584925417468,{"$error":"#N/A"},-999,{"$error":"#N/A"},{"$error":"#N/A"},null,null,null,null,null,null,null,null,null,null,null,null,null,null,null,null,null,null,null,null,null,"",{"$f":"IF(BL264=\"\",NA(),COUNTIF(BL264:$BL$303,BL264))","v":{"$error":"#N/A"}},{"$error":"#VALUE!"},{"$error":"#N/A"},{"$error":"#N/A"},"",{"$f":"IF(BQ264=\"\",NA(),COUNTIF(BQ264:$BQ$303,BQ264))","v":{"$error":"#N/A"}},{"$error":"#VALUE!"},{"$error":"#N/A"},{"$error":"#N/A"},"",{"$f":"IF(BV264=\"\",NA(),COUNTIF(BV264:$BV$303,BV264))","v":{"$error":"#N/A"}},{"$error":"#VALUE!"},{"$error":"#N/A"},{"$error":"#N/A"},"",{"$f":"IF(CA264=\"\",NA(),COUNTIF(CA264:$CA$303,CA264))","v":{"$error":"#N/A"}},{"$error":"#VALUE!"},{"$error":"#N/A"},{"$error":"#N/A"},"",{"$f":"IF(CF264=\"\",NA(),COUNTIF($CF264:CF$303,CF264))","v":{"$error":"#N/A"}},"",{"$f":"IF(CH264=\"\",NA(),COUNTIF($CH264:CH$303,CH264))","v":{"$error":"#N/A"}},{"$error":"#N/A"},{"$error":"#N/A"},{"$error":"#N/A"}]
[null,null,"",null,null,"",null,null,null,null,100,27.00529967694029,1.2165331829700079E-20,0.99990574437487201,-50,null,-999,{"$error":"#N/A"},{"$error":"#N/A"},null,null,-50,null,9.7979589711327222,0.96148950363513619,null,null,99.999999999999289,59.717499999999291,79.248440138887005,1.2052000012518502E-15,{"$error":"#N/A"},{"$error":"#N/A"},null,-999,{"$error":"#N/A"},{"$error":"#N/A"},0.96148950363513619,{"$error":"#N/A"},-999,{"$error":"#N/A"},{"$error":"#N/A"},null,null,null,null,null,null,null,null,null,null,null,null,null,null,null,null,null,null,null,null,null,"",{"$f":"IF(BL265=\"\",NA(),COUNTIF(BL265:$BL$303,BL265))","v":{"$error":"#N/A"}},{"$error":"#VALUE!"},{"$error":"#N/A"},{"$error":"#N/A"},"",{"$f":"IF(BQ265=\"\",NA(),COUNTIF(BQ265:$BQ$303,BQ265))","v":{"$error":"#N/A"}},{"$error":"#VALUE!"},{"$error":"#N/A"},{"$error":"#N/A"},"",{"$f":"IF(BV265=\"\",NA(),COUNTIF(BV265:$BV$303,BV265))","v":{"$error":"#N/A"}},{"$error":"#VALUE!"},{"$error":"#N/A"},{"$error":"#N/A"},"",{"$f":"IF(CA265=\"\",NA(),COUNTIF(CA265:$CA$303,CA265))","v":{"$error":"#N/A"}},{"$error":"#VALUE!"},{"$error":"#N/A"},{"$error":"#N/A"},"",{"$f":"IF(CF265=\"\",NA(),COUNTIF($CF265:CF$303,CF265))","v":{"$error":"#N/A"}},"",{"$f":"IF(CH265=\"\",NA(),COUNTIF($CH265:CH$303,CH265))","v":{"$error":"#N/A"}},{"$error":"#N/A"},{"$error":"#N/A"},{"$error":"#N/A"}]
[null,null,"",null,null,"",null,null,null,null,100.5,null,null,0.99990941703342195,null,null,null,null,null,null,null,null,null,9.8796086292254941,0.96278138493556509,null,null,100.29858749999929,60.016087499999287,80.042905751279349,8.2201592418393664E-16,{"$error":"#N/A"},{"$error":"#N/A"},null,null,null,null,0.96278138493556509,null,null,null,null,null,null,null,null,null,null,null,null,null,null,null,null,null,null,null,null,null,null,null,null,null,"",{"$f":"IF(BL266=\"\",NA(),COUNTIF(BL266:$BL$303,BL266))","v":{"$error":"#N/A"}},{"$error":"#VALUE!"},{"$error":"#N/A"},{"$error":"#N/A"},"",{"$f":"IF(BQ266=\"\",NA(),COUNTIF(BQ266:$BQ$303,BQ266))","v":{"$error":"#N/A"}},{"$error":"#VALUE!"},{"$error":"#N/A"},{"$error":"#N/A"},"",{"$f":"IF(BV266=\"\",NA(),COUNTIF(BV266:$BV$303,BV266))","v":{"$error":"#N/A"}},{"$error":"#VALUE!"},{"$error":"#N/A"},{"$error":"#N/A"},"",{"$f":"IF(CA266=\"\",NA(),COUNTIF(CA266:$CA$303,CA266))","v":{"$error":"#N/A"}},{"$error":"#VALUE!"},{"$error":"#N/A"},{"$error":"#N/A"},"",{"$f":"IF(CF266=\"\",NA(),COUNTIF($CF266:CF$303,CF266))","v":{"$error":"#N/A"}},"",{"$f":"IF(CH266=\"\",NA(),COUNTIF($CH266:CH$303,CH266))","v":{"$error":"#N/A"}},{"$error":"#N/A"},{"$error":"#N/A"},{"$error":"#N/A"}]
[null,null,"",null,null,"",null,null,null,null,null,null,null,null,null,null,null,null,null,null,null,null,null,null,null,null,null,100.59717499999928,60.314674999999284,80.841333785678628,5.5951408636275568E-16,{"$error":"#N/A"},{"$error":"#N/A"},null,null,null,null,null,null,null,null,null,null,null,null,null,null,null,null,null,null,null,null,null,null,null,null,null,null,null,null,null,null,"",{"$f":"IF(BL267=\"\",NA(),COUNTIF(BL267:$BL$303,BL267))","v":{"$error":"#N/A"}},{"$error":"#VALUE!"},{"$error":"#N/A"},{"$error":"#N/A"},"",{"$f":"IF(BQ267=\"\",NA(),COUNTIF(BQ267:$BQ$303,BQ267))","v":{"$error":"#N/A"}},{"$error":"#VALUE!"},{"$error":"#N/A"},{"$error":"#N/A"},"",{"$f":"IF(BV267=\"\",NA(),COUNTIF(BV267:$BV$303,BV267))","v":{"$error":"#N/A"}},{"$error":"#VALUE!"},{"$error":"#N/A"},{"$error":"#N/A"},"",{"$f":"IF(CA267=\"\",NA(),COUNTIF(CA267:$CA$303,CA267))","v":{"$error":"#N/A"}},{"$error":"#VALUE!"},{"$error":"#N/A"},{"$error":"#N/A"},"",{"$f":"IF(CF267=\"\",NA(),COUNTIF($CF267:CF$303,CF267))","v":{"$error":"#N/A"}},"",{"$f":"IF(CH267=\"\",NA(),COUNTIF($CH267:CH$303,CH267))","v":{"$error":"#N/A"}},{"$error":"#N/A"},{"$error":"#N/A"},{"$error":"#N/A"}]
[null,null,"",null,null,"",null,null,null,null,null,null,null,null,null,null,null,null,null,null,null,null,null,null,null,null,null,null,null,null,null,null,null,null,null,null,null,null,null,null,null,null,null,null,null,null,null,null,null,null,null,null,null,null,null,null,null,null,null,null,null,null,null,"",{"$f":"IF(BL268=\"\",NA(),COUNTIF(BL268:$BL$303,BL268))","v":{"$error":"#N/A"}},{"$error":"#VALUE!"},{"$error":"#N/A"},{"$error":"#N/A"},"",{"$f":"IF(BQ268=\"\",NA(),COUNTIF(BQ268:$BQ$303,BQ268))","v":{"$error":"#N/A"}},{"$error":"#VALUE!"},{"$error":"#N/A"},{"$error":"#N/A"},"",{"$f":"IF(BV268=\"\",NA(),COUNTIF(BV268:$BV$303,BV268))","v":{"$error":"#N/A"}},{"$error":"#VALUE!"},{"$error":"#N/A"},{"$error":"#N/A"},"",{"$f":"IF(CA268=\"\",NA(),COUNTIF(CA268:$CA$303,CA268))","v":{"$error":"#N/A"}},{"$error":"#VALUE!"},{"$error":"#N/A"},{"$error":"#N/A"},"",{"$f":"IF(CF268=\"\",NA(),COUNTIF($CF268:CF$303,CF268))","v":{"$error":"#N/A"}},"",{"$f":"IF(CH268=\"\",NA(),COUNTIF($CH268:CH$303,CH268))","v":{"$error":"#N/A"}},{"$error":"#N/A"},{"$error":"#N/A"},{"$error":"#N/A"}]
[null,null,"",null,null,"",null,null,null,null,null,null,null,null,null,null,null,null,null,null,null,null,null,null,null,null,null,null,null,null,null,null,null,null,null,null,null,null,null,null,null,null,null,null,null,null,null,null,null,null,null,null,null,null,null,null,null,null,null,null,null,null,null,"",{"$f":"IF(BL269=\"\",NA(),COUNTIF(BL269:$BL$303,BL269))","v":{"$error":"#N/A"}},{"$error":"#VALUE!"},{"$error":"#N/A"},{"$error":"#N/A"},"",{"$f":"IF(BQ269=\"\",NA(),COUNTIF(BQ269:$BQ$303,BQ269))","v":{"$error":"#N/A"}},{"$error":"#VALUE!"},{"$error":"#N/A"},{"$error":"#N/A"},"",{"$f":"IF(BV269=\"\",NA(),COUNTIF(BV269:$BV$303,BV269))","v":{"$error":"#N/A"}},{"$error":"#VALUE!"},{"$error":"#N/A"},{"$error":"#N/A"},"",{"$f":"IF(CA269=\"\",NA(),COUNTIF(CA269:$CA$303,CA269))","v":{"$error":"#N/A"}},{"$error":"#VALUE!"},{"$error":"#N/A"},{"$error":"#N/A"},"",{"$f":"IF(CF269=\"\",NA(),COUNTIF($CF269:CF$303,CF269))","v":{"$error":"#N/A"}},"",{"$f":"IF(CH269=\"\",NA(),COUNTIF($CH269:CH$303,CH269))","v":{"$error":"#N/A"}},{"$error":"#N/A"},{"$error":"#N/A"},{"$error":"#N/A"}]
[null,null,"",null,null,"",null,null,null,null,null,null,null,null,null,null,null,null,null,null,null,null,null,null,null,null,null,null,null,null,null,null,null,null,null,null,null,null,null,null,null,null,null,null,null,null,null,null,null,null,null,null,null,null,null,null,null,null,null,null,null,null,null,"",{"$f":"IF(BL270=\"\",NA(),COUNTIF(BL270:$BL$303,BL270))","v":{"$error":"#N/A"}},{"$error":"#VALUE!"},{"$error":"#N/A"},{"$error":"#N/A"},"",{"$f":"IF(BQ270=\"\",NA(),COUNTIF(BQ270:$BQ$303,BQ270))","v":{"$error":"#N/A"}},{"$error":"#VALUE!"},{"$error":"#N/A"},{"$error":"#N/A"},"",{"$f":"IF(BV270=\"\",NA(),COUNTIF(BV270:$BV$303,BV270))","v":{"$error":"#N/A"}},{"$error":"#VALUE!"},{"$error":"#N/A"},{"$error":"#N/A"},"",{"$f":"IF(CA270=\"\",NA(),COUNTIF(CA270:$CA$303,CA270))","v":{"$error":"#N/A"}},{"$error":"#VALUE!"},{"$error":"#N/A"},{"$error":"#N/A"},"",{"$f":"IF(CF270=\"\",NA(),COUNTIF($CF270:CF$303,CF270))","v":{"$error":"#N/A"}},"",{"$f":"IF(CH270=\"\",NA(),COUNTIF($CH270:CH$303,CH270))","v":{"$error":"#N/A"}},{"$error":"#N/A"},{"$error":"#N/A"},{"$error":"#N/A"}]
[null,null,"",null,null,"",null,null,null,null,null,null,null,null,null,null,null,null,null,null,null,null,null,null,null,null,null,null,null,null,null,null,null,null,null,null,null,null,null,null,null,null,null,null,null,null,null,null,null,null,null,null,null,null,null,null,null,null,null,null,null,null,null,"",{"$f":"IF(BL271=\"\",NA(),COUNTIF(BL271:$BL$303,BL271))","v":{"$error":"#N/A"}},{"$error":"#VALUE!"},{"$error":"#N/A"},{"$error":"#N/A"},"",{"$f":"IF(BQ271=\"\",NA(),COUNTIF(BQ271:$BQ$303,BQ271))","v":{"$error":"#N/A"}},{"$error":"#VALUE!"},{"$error":"#N/A"},{"$error":"#N/A"},"",{"$f":"IF(BV271=\"\",NA(),COUNTIF(BV271:$BV$303,BV271))","v":{"$error":"#N/A"}},{"$error":"#VALUE!"},{"$error":"#N/A"},{"$error":"#N/A"},"",{"$f":"IF(CA271=\"\",NA(),COUNTIF(CA271:$CA$303,CA271))","v":{"$error":"#N/A"}},{"$error":"#VALUE!"},{"$error":"#N/A"},{"$error":"#N/A"},"",{"$f":"IF(CF271=\"\",NA(),COUNTIF($CF271:CF$303,CF271))","v":{"$error":"#N/A"}},"",{"$f":"IF(CH271=\"\",NA(),COUNTIF($CH271:CH$303,CH271))","v":{"$error":"#N/A"}},{"$error":"#N/A"},{"$error":"#N/A"},{"$error":"#N/A"}]
[null,null,"",null,null,"",null,null,null,null,null,null,null,null,null,null,null,null,null,null,null,null,null,null,null,null,null,null,null,null,null,null,null,null,null,null,null,null,null,null,null,null,null,null,null,null,null,null,null,null,null,null,null,null,null,null,null,null,null,null,null,null,null,"",{"$f":"IF(BL272=\"\",NA(),COUNTIF(BL272:$BL$303,BL272))","v":{"$error":"#N/A"}},{"$error":"#VALUE!"},{"$error":"#N/A"},{"$error":"#N/A"},"",{"$f":"IF(BQ272=\"\",NA(),COUNTIF(BQ272:$BQ$303,BQ272))","v":{"$error":"#N/A"}},{"$error":"#VALUE!"},{"$error":"#N/A"},{"$error":"#N/A"},"",{"$f":"IF(BV272=\"\",NA(),COUNTIF(BV272:$BV$303,BV272))","v":{"$error":"#N/A"}},{"$error":"#VALUE!"},{"$error":"#N/A"},{"$error":"#N/A"},"",{"$f":"IF(CA272=\"\",NA(),COUNTIF(CA272:$CA$303,CA272))","v":{"$error":"#N/A"}},{"$error":"#VALUE!"},{"$error":"#N/A"},{"$error":"#N/A"},"",{"$f":"IF(CF272=\"\",NA(),COUNTIF($CF272:CF$303,CF272))","v":{"$error":"#N/A"}},"",{"$f":"IF(CH272=\"\",NA(),COUNTIF($CH272:CH$303,CH272))","v":{"$error":"#N/A"}},{"$error":"#N/A"},{"$error":"#N/A"},{"$error":"#N/A"}]
[null,null,"",null,null,"",null,null,null,null,null,null,null,null,null,null,null,null,null,null,null,null,null,null,null,null,null,null,null,null,null,null,null,null,null,null,null,null,null,null,null,null,null,null,null,null,null,null,null,null,null,null,null,null,null,null,null,null,null,null,null,null,null,"",{"$f":"IF(BL273=\"\",NA(),COUNTIF(BL273:$BL$303,BL273))","v":{"$error":"#N/A"}},{"$error":"#VALUE!"},{"$error":"#N/A"},{"$error":"#N/A"},"",{"$f":"IF(BQ273=\"\",NA(),COUNTIF(BQ273:$BQ$303,BQ273))","v":{"$error":"#N/A"}},{"$error":"#VALUE!"},{"$error":"#N/A"},{"$error":"#N/A"},"",{"$f":"IF(BV273=\"\",NA(),COUNTIF(BV273:$BV$303,BV273))","v":{"$error":"#N/A"}},{"$error":"#VALUE!"},{"$error":"#N/A"},{"$error":"#N/A"},"",{"$f":"IF(CA273=\"\",NA(),COUNTIF(CA273:$CA$303,CA273))","v":{"$error":"#N/A"}},{"$error":"#VALUE!"},{"$error":"#N/A"},{"$error":"#N/A"},"",{"$f":"IF(CF273=\"\",NA(),COUNTIF($CF273:CF$303,CF273))","v":{"$error":"#N/A"}},"",{"$f":"IF(CH273=\"\",NA(),COUNTIF($CH273:CH$303,CH273))","v":{"$error":"#N/A"}},{"$error":"#N/A"},{"$error":"#N/A"},{"$error":"#N/A"}]
[null,null,"",null,null,"",null,null,null,null,null,null,null,null,null,null,null,null,null,null,null,null,null,null,null,null,null,null,null,null,null,null,null,null,null,null,null,null,null,null,null,null,null,null,null,null,null,null,null,null,null,null,null,null,null,null,null,null,null,null,null,null,null,"",{"$f":"IF(BL274=\"\",NA(),COUNTIF(BL274:$BL$303,BL274))","v":{"$error":"#N/A"}},{"$error":"#VALUE!"},{"$error":"#N/A"},{"$error":"#N/A"},"",{"$f":"IF(BQ274=\"\",NA(),COUNTIF(BQ274:$BQ$303,BQ274))","v":{"$error":"#N/A"}},{"$error":"#VALUE!"},{"$error":"#N/A"},{"$error":"#N/A"},"",{"$f":"IF(BV274=\"\",NA(),COUNTIF(BV274:$BV$303,BV274))","v":{"$error":"#N/A"}},{"$error":"#VALUE!"},{"$error":"#N/A"},{"$error":"#N/A"},"",{"$f":"IF(CA274=\"\",NA(),COUNTIF(CA274:$CA$303,CA274))","v":{"$error":"#N/A"}},{"$error":"#VALUE!"},{"$error":"#N/A"},{"$error":"#N/A"},"",{"$f":"IF(CF274=\"\",NA(),COUNTIF($CF274:CF$303,CF274))","v":{"$error":"#N/A"}},"",{"$f":"IF(CH274=\"\",NA(),COUNTIF($CH274:CH$303,CH274))","v":{"$error":"#N/A"}},{"$error":"#N/A"},{"$error":"#N/A"},{"$error":"#N/A"}]
[null,null,"",null,null,"",null,null,null,null,null,null,null,null,null,null,null,null,null,null,null,null,null,null,null,null,null,null,null,null,null,null,null,null,null,null,null,null,null,null,null,null,null,null,null,null,null,null,null,null,null,null,null,null,null,null,null,null,null,null,null,null,null,"",{"$f":"IF(BL275=\"\",NA(),COUNTIF(BL275:$BL$303,BL275))","v":{"$error":"#N/A"}},{"$error":"#VALUE!"},{"$error":"#N/A"},{"$error":"#N/A"},"",{"$f":"IF(BQ275=\"\",NA(),COUNTIF(BQ275:$BQ$303,BQ275))","v":{"$error":"#N/A"}},{"$error":"#VALUE!"},{"$error":"#N/A"},{"$error":"#N/A"},"",{"$f":"IF(BV275=\"\",NA(),COUNTIF(BV275:$BV$303,BV275))","v":{"$error":"#N/A"}},{"$error":"#VALUE!"},{"$error":"#N/A"},{"$error":"#N/A"},"",{"$f":"IF(CA275=\"\",NA(),COUNTIF(CA275:$CA$303,CA275))","v":{"$error":"#N/A"}},{"$error":"#VALUE!"},{"$error":"#N/A"},{"$error":"#N/A"},"",{"$f":"IF(CF275=\"\",NA(),COUNTIF($CF275:CF$303,CF275))","v":{"$error":"#N/A"}},"",{"$f":"IF(CH275=\"\",NA(),COUNTIF($CH275:CH$303,CH275))","v":{"$error":"#N/A"}},{"$error":"#N/A"},{"$error":"#N/A"},{"$error":"#N/A"}]
[null,null,"",null,null,"",null,null,null,null,null,null,null,null,null,null,null,null,null,null,null,null,null,null,null,null,null,null,null,null,null,null,null,null,null,null,null,null,null,null,null,null,null,null,null,null,null,null,null,null,null,null,null,null,null,null,null,null,null,null,null,null,null,"",{"$f":"IF(BL276=\"\",NA(),COUNTIF(BL276:$BL$303,BL276))","v":{"$error":"#N/A"}},{"$error":"#VALUE!"},{"$error":"#N/A"},{"$error":"#N/A"},"",{"$f":"IF(BQ276=\"\",NA(),COUNTIF(BQ276:$BQ$303,BQ276))","v":{"$error":"#N/A"}},{"$error":"#VALUE!"},{"$error":"#N/A"},{"$error":"#N/A"},"",{"$f":"IF(BV276=\"\",NA(),COUNTIF(BV276:$BV$303,BV276))","v":{"$error":"#N/A"}},{"$error":"#VALUE!"},{"$error":"#N/A"},{"$error":"#N/A"},"",{"$f":"IF(CA276=\"\",NA(),COUNTIF(CA276:$CA$303,CA276))","v":{"$error":"#N/A"}},{"$error":"#VALUE!"},{"$error":"#N/A"},{"$error":"#N/A"},"",{"$f":"IF(CF276=\"\",NA(),COUNTIF($CF276:CF$303,CF276))","v":{"$error":"#N/A"}},"",{"$f":"IF(CH276=\"\",NA(),COUNTIF($CH276:CH$303,CH276))","v":{"$error":"#N/A"}},{"$error":"#N/A"},{"$error":"#N/A"},{"$error":"#N/A"}]
[null,null,"",null,null,"",null,null,null,null,null,null,null,null,null,null,null,null,null,null,null,null,null,null,null,null,null,null,null,null,null,null,null,null,null,null,null,null,null,null,null,null,null,null,null,null,null,null,null,null,null,null,null,null,null,null,null,null,null,null,null,null,null,"",{"$f":"IF(BL277=\"\",NA(),COUNTIF(BL277:$BL$303,BL277))","v":{"$error":"#N/A"}},{"$error":"#VALUE!"},{"$error":"#N/A"},{"$error":"#N/A"},"",{"$f":"IF(BQ277=\"\",NA(),COUNTIF(BQ277:$BQ$303,BQ277))","v":{"$error":"#N/A"}},{"$error":"#VALUE!"},{"$error":"#N/A"},{"$error":"#N/A"},"",{"$f":"IF(BV277=\"\",NA(),COUNTIF(BV277:$BV$303,BV277))","v":{"$error":"#N/A"}},{"$error":"#VALUE!"},{"$error":"#N/A"},{"$error":"#N/A"},"",{"$f":"IF(CA277=\"\",NA(),COUNTIF(CA277:$CA$303,CA277))","v":{"$error":"#N/A"}},{"$error":"#VALUE!"},{"$error":"#N/A"},{"$error":"#N/A"},"",{"$f":"IF(CF277=\"\",NA(),COUNTIF($CF277:CF$303,CF277))","v":{"$error":"#N/A"}},"",{"$f":"IF(CH277=\"\",NA(),COUNTIF($CH277:CH$303,CH277))","v":{"$error":"#N/A"}},{"$error":"#N/A"},{"$error":"#N/A"},{"$error":"#N/A"}]
[null,null,"",null,null,"",null,null,null,null,null,null,null,null,null,null,null,null,null,null,null,null,null,null,null,null,null,null,null,null,null,null,null,null,null,null,null,null,null,null,null,null,null,null,null,null,null,null,null,null,null,null,null,null,null,null,null,null,null,null,null,null,null,"",{"$f":"IF(BL278=\"\",NA(),COUNTIF(BL278:$BL$303,BL278))","v":{"$error":"#N/A"}},{"$error":"#VALUE!"},{"$error":"#N/A"},{"$error":"#N/A"},"",{"$f":"IF(BQ278=\"\",NA(),COUNTIF(BQ278:$BQ$303,BQ278))","v":{"$error":"#N/A"}},{"$error":"#VALUE!"},{"$error":"#N/A"},{"$error":"#N/A"},"",{"$f":"IF(BV278=\"\",NA(),COUNTIF(BV278:$BV$303,BV278))","v":{"$error":"#N/A"}},{"$error":"#VALUE!"},{"$error":"#N/A"},{"$error":"#N/A"},"",{"$f":"IF(CA278=\"\",NA(),COUNTIF(CA278:$CA$303,CA278))","v":{"$error":"#N/A"}},{"$error":"#VALUE!"},{"$error":"#N/A"},{"$error":"#N/A"},"",{"$f":"IF(CF278=\"\",NA(),COUNTIF($CF278:CF$303,CF278))","v":{"$error":"#N/A"}},"",{"$f":"IF(CH278=\"\",NA(),COUNTIF($CH278:CH$303,CH278))","v":{"$error":"#N/A"}},{"$error":"#N/A"},{"$error":"#N/A"},{"$error":"#N/A"}]
[null,null,"",null,null,"",null,null,null,null,null,null,null,null,null,null,null,null,null,null,null,null,null,null,null,null,null,null,null,null,null,null,null,null,null,null,null,null,null,null,null,null,null,null,null,null,null,null,null,null,null,null,null,null,null,null,null,null,null,null,null,null,null,"",{"$f":"IF(BL279=\"\",NA(),COUNTIF(BL279:$BL$303,BL279))","v":{"$error":"#N/A"}},{"$error":"#VALUE!"},{"$error":"#N/A"},{"$error":"#N/A"},"",{"$f":"IF(BQ279=\"\",NA(),COUNTIF(BQ279:$BQ$303,BQ279))","v":{"$error":"#N/A"}},{"$error":"#VALUE!"},{"$error":"#N/A"},{"$error":"#N/A"},"",{"$f":"IF(BV279=\"\",NA(),COUNTIF(BV279:$BV$303,BV279))","v":{"$error":"#N/A"}},{"$error":"#VALUE!"},{"$error":"#N/A"},{"$error":"#N/A"},"",{"$f":"IF(CA279=\"\",NA(),COUNTIF(CA279:$CA$303,CA279))","v":{"$error":"#N/A"}},{"$error":"#VALUE!"},{"$error":"#N/A"},{"$error":"#N/A"},"",{"$f":"IF(CF279=\"\",NA(),COUNTIF($CF279:CF$303,CF279))","v":{"$error":"#N/A"}},"",{"$f":"IF(CH279=\"\",NA(),COUNTIF($CH279:CH$303,CH279))","v":{"$error":"#N/A"}},{"$error":"#N/A"},{"$error":"#N/A"},{"$error":"#N/A"}]
[null,null,"",null,null,"",null,null,null,null,null,null,null,null,null,null,null,null,null,null,null,null,null,null,null,null,null,null,null,null,null,null,null,null,null,null,null,null,null,null,null,null,null,null,null,null,null,null,null,null,null,null,null,null,null,null,null,null,null,null,null,null,null,"",{"$f":"IF(BL280=\"\",NA(),COUNTIF(BL280:$BL$303,BL280))","v":{"$error":"#N/A"}},{"$error":"#VALUE!"},{"$error":"#N/A"},{"$error":"#N/A"},"",{"$f":"IF(BQ280=\"\",NA(),COUNTIF(BQ280:$BQ$303,BQ280))","v":{"$error":"#N/A"}},{"$error":"#VALUE!"},{"$error":"#N/A"},{"$error":"#N/A"},"",{"$f":"IF(BV280=\"\",NA(),COUNTIF(BV280:$BV$303,BV280))","v":{"$error":"#N/A"}},{"$error":"#VALUE!"},{"$error":"#N/A"},{"$error":"#N/A"},"",{"$f":"IF(CA280=\"\",NA(),COUNTIF(CA280:$CA$303,CA280))","v":{"$error":"#N/A"}},{"$error":"#VALUE!"},{"$error":"#N/A"},{"$error":"#N/A"},"",{"$f":"IF(CF280=\"\",NA(),COUNTIF($CF280:CF$303,CF280))","v":{"$error":"#N/A"}},"",{"$f":"IF(CH280=\"\",NA(),COUNTIF($CH280:CH$303,CH280))","v":{"$error":"#N/A"}},{"$error":"#N/A"},{"$error":"#N/A"},{"$error":"#N/A"}]
[null,null,"",null,null,"",null,null,null,null,null,null,null,null,null,null,null,null,null,null,null,null,null,null,null,null,null,null,null,null,null,null,null,null,null,null,null,null,null,null,null,null,null,null,null,null,null,null,null,null,null,null,null,null,null,null,null,null,null,null,null,null,null,"",{"$f":"IF(BL281=\"\",NA(),COUNTIF(BL281:$BL$303,BL281))","v":{"$error":"#N/A"}},{"$error":"#VALUE!"},{"$error":"#N/A"},{"$error":"#N/A"},"",{"$f":"IF(BQ281=\"\",NA(),COUNTIF(BQ281:$BQ$303,BQ281))","v":{"$error":"#N/A"}},{"$error":"#VALUE!"},{"$error":"#N/A"},{"$error":"#N/A"},"",{"$f":"IF(BV281=\"\",NA(),COUNTIF(BV281:$BV$303,BV281))","v":{"$error":"#N/A"}},{"$error":"#VALUE!"},{"$error":"#N/A"},{"$error":"#N/A"},"",{"$f":"IF(CA281=\"\",NA(),COUNTIF(CA281:$CA$303,CA281))","v":{"$error":"#N/A"}},{"$error":"#VALUE!"},{"$error":"#N/A"},{"$error":"#N/A"},"",{"$f":"IF(CF281=\"\",NA(),COUNTIF($CF281:CF$303,CF281))","v":{"$error":"#N/A"}},"",{"$f":"IF(CH281=\"\",NA(),COUNTIF($CH281:CH$303,CH281))","v":{"$error":"#N/A"}},{"$error":"#N/A"},{"$error":"#N/A"},{"$error":"#N/A"}]
[null,null,"",null,null,"",null,null,null,null,null,null,null,null,null,null,null,null,null,null,null,null,null,null,null,null,null,null,null,null,null,null,null,null,null,null,null,null,null,null,null,null,null,null,null,null,null,null,null,null,null,null,null,null,null,null,null,null,null,null,null,null,null,"",{"$f":"IF(BL282=\"\",NA(),COUNTIF(BL282:$BL$303,BL282))","v":{"$error":"#N/A"}},{"$error":"#VALUE!"},{"$error":"#N/A"},{"$error":"#N/A"},"",{"$f":"IF(BQ282=\"\",NA(),COUNTIF(BQ282:$BQ$303,BQ282))","v":{"$error":"#N/A"}},{"$error":"#VALUE!"},{"$error":"#N/A"},{"$error":"#N/A"},"",{"$f":"IF(BV282=\"\",NA(),COUNTIF(BV282:$BV$303,BV282))","v":{"$error":"#N/A"}},{"$error":"#VALUE!"},{"$error":"#N/A"},{"$error":"#N/A"},"",{"$f":"IF(CA282=\"\",NA(),COUNTIF(CA282:$CA$303,CA282))","v":{"$error":"#N/A"}},{"$error":"#VALUE!"},{"$error":"#N/A"},{"$error":"#N/A"},"",{"$f":"IF(CF282=\"\",NA(),COUNTIF($CF282:CF$303,CF282))","v":{"$error":"#N/A"}},"",{"$f":"IF(CH282=\"\",NA(),COUNTIF($CH282:CH$303,CH282))","v":{"$error":"#N/A"}},{"$error":"#N/A"},{"$error":"#N/A"},{"$error":"#N/A"}]
[null,null,"",null,null,"",null,null,null,null,null,null,null,null,null,null,null,null,null,null,null,null,null,null,null,null,null,null,null,null,null,null,null,null,null,null,null,null,null,null,null,null,null,null,null,null,null,null,null,null,null,null,null,null,null,null,null,null,null,null,null,null,null,"",{"$f":"IF(BL283=\"\",NA(),COUNTIF(BL283:$BL$303,BL283))","v":{"$error":"#N/A"}},{"$error":"#VALUE!"},{"$error":"#N/A"},{"$error":"#N/A"},"",{"$f":"IF(BQ283=\"\",NA(),COUNTIF(BQ283:$BQ$303,BQ283))","v":{"$error":"#N/A"}},{"$error":"#VALUE!"},{"$error":"#N/A"},{"$error":"#N/A"},"",{"$f":"IF(BV283=\"\",NA(),COUNTIF(BV283:$BV$303,BV283))","v":{"$error":"#N/A"}},{"$error":"#VALUE!"},{"$error":"#N/A"},{"$error":"#N/A"},"",{"$f":"IF(CA283=\"\",NA(),COUNTIF(CA283:$CA$303,CA283))","v":{"$error":"#N/A"}},{"$error":"#VALUE!"},{"$error":"#N/A"},{"$error":"#N/A"},"",{"$f":"IF(CF283=\"\",NA(),COUNTIF($CF283:CF$303,CF283))","v":{"$error":"#N/A"}},"",{"$f":"IF(CH283=\"\",NA(),COUNTIF($CH283:CH$303,CH283))","v":{"$error":"#N/A"}},{"$error":"#N/A"},{"$error":"#N/A"},{"$error":"#N/A"}]
[null,null,"",null,null,"",null,null,null,null,null,null,null,null,null,null,null,null,null,null,null,null,null,null,null,null,null,null,null,null,null,null,null,null,null,null,null,null,null,null,null,null,null,null,null,null,null,null,null,null,null,null,null,null,null,null,null,null,null,null,null,null,null,"",{"$f":"IF(BL284=\"\",NA(),COUNTIF(BL284:$BL$303,BL284))","v":{"$error":"#N/A"}},{"$error":"#VALUE!"},{"$error":"#N/A"},{"$error":"#N/A"},"",{"$f":"IF(BQ284=\"\",NA(),COUNTIF(BQ284:$BQ$303,BQ284))","v":{"$error":"#N/A"}},{"$error":"#VALUE!"},{"$error":"#N/A"},{"$error":"#N/A"},"",{"$f":"IF(BV284=\"\",NA(),COUNTIF(BV284:$BV$303,BV284))","v":{"$error":"#N/A"}},{"$error":"#VALUE!"},{"$error":"#N/A"},{"$error":"#N/A"},"",{"$f":"IF(CA284=\"\",NA(),COUNTIF(CA284:$CA$303,CA284))","v":{"$error":"#N/A"}},{"$error":"#VALUE!"},{"$error":"#N/A"},{"$error":"#N/A"},"",{"$f":"IF(CF284=\"\",NA(),COUNTIF($CF284:CF$303,CF284))","v":{"$error":"#N/A"}},"",{"$f":"IF(CH284=\"\",NA(),COUNTIF($CH284:CH$303,CH284))","v":{"$error":"#N/A"}},{"$error":"#N/A"},{"$error":"#N/A"},{"$error":"#N/A"}]
[null,null,"",null,null,"",null,null,null,null,null,null,null,null,null,null,null,null,null,null,null,null,null,null,null,null,null,null,null,null,null,null,null,null,null,null,null,null,null,null,null,null,null,null,null,null,null,null,null,null,null,null,null,null,null,null,null,null,null,null,null,null,null,"",{"$f":"IF(BL285=\"\",NA(),COUNTIF(BL285:$BL$303,BL285))","v":{"$error":"#N/A"}},{"$error":"#VALUE!"},{"$error":"#N/A"},{"$error":"#N/A"},"",{"$f":"IF(BQ285=\"\",NA(),COUNTIF(BQ285:$BQ$303,BQ285))","v":{"$error":"#N/A"}},{"$error":"#VALUE!"},{"$error":"#N/A"},{"$error":"#N/A"},"",{"$f":"IF(BV285=\"\",NA(),COUNTIF(BV285:$BV$303,BV285))","v":{"$error":"#N/A"}},{"$error":"#VALUE!"},{"$error":"#N/A"},{"$error":"#N/A"},"",{"$f":"IF(CA285=\"\",NA(),COUNTIF(CA285:$CA$303,CA285))","v":{"$error":"#N/A"}},{"$error":"#VALUE!"},{"$error":"#N/A"},{"$error":"#N/A"},"",{"$f":"IF(CF285=\"\",NA(),COUNTIF($CF285:CF$303,CF285))","v":{"$error":"#N/A"}},"",{"$f":"IF(CH285=\"\",NA(),COUNTIF($CH285:CH$303,CH285))","v":{"$error":"#N/A"}},{"$error":"#N/A"},{"$error":"#N/A"},{"$error":"#N/A"}]
[null,null,"",null,null,"",null,null,null,null,null,null,null,null,null,null,null,null,null,null,null,null,null,null,null,null,null,null,null,null,null,null,null,null,null,null,null,null,null,null,null,null,null,null,null,null,null,null,null,null,null,null,null,null,null,null,null,null,null,null,null,null,null,"",{"$f":"IF(BL286=\"\",NA(),COUNTIF(BL286:$BL$303,BL286))","v":{"$error":"#N/A"}},{"$error":"#VALUE!"},{"$error":"#N/A"},{"$error":"#N/A"},"",{"$f":"IF(BQ286=\"\",NA(),COUNTIF(BQ286:$BQ$303,BQ286))","v":{"$error":"#N/A"}},{"$error":"#VALUE!"},{"$error":"#N/A"},{"$error":"#N/A"},"",{"$f":"IF(BV286=\"\",NA(),COUNTIF(BV286:$BV$303,BV286))","v":{"$error":"#N/A"}},{"$error":"#VALUE!"},{"$error":"#N/A"},{"$error":"#N/A"},"",{"$f":"IF(CA286=\"\",NA(),COUNTIF(CA286:$CA$303,CA286))","v":{"$error":"#N/A"}},{"$error":"#VALUE!"},{"$error":"#N/A"},{"$error":"#N/A"},"",{"$f":"IF(CF286=\"\",NA(),COUNTIF($CF286:CF$303,CF286))","v":{"$error":"#N/A"}},"",{"$f":"IF(CH286=\"\",NA(),COUNTIF($CH286:CH$303,CH286))","v":{"$error":"#N/A"}},{"$error":"#N/A"},{"$error":"#N/A"},{"$error":"#N/A"}]
[null,null,"",null,null,"",null,null,null,null,null,null,null,null,null,null,null,null,null,null,null,null,null,null,null,null,null,null,null,null,null,null,null,null,null,null,null,null,null,null,null,null,null,null,null,null,null,null,null,null,null,null,null,null,null,null,null,null,null,null,null,null,null,"",{"$f":"IF(BL287=\"\",NA(),COUNTIF(BL287:$BL$303,BL287))","v":{"$error":"#N/A"}},{"$error":"#VALUE!"},{"$error":"#N/A"},{"$error":"#N/A"},"",{"$f":"IF(BQ287=\"\",NA(),COUNTIF(BQ287:$BQ$303,BQ287))","v":{"$error":"#N/A"}},{"$error":"#VALUE!"},{"$error":"#N/A"},{"$error":"#N/A"},"",{"$f":"IF(BV287=\"\",NA(),COUNTIF(BV287:$BV$303,BV287))","v":{"$error":"#N/A"}},{"$error":"#VALUE!"},{"$error":"#N/A"},{"$error":"#N/A"},"",{"$f":"IF(CA287=\"\",NA(),COUNTIF(CA287:$CA$303,CA287))","v":{"$error":"#N/A"}},{"$error":"#VALUE!"},{"$error":"#N/A"},{"$error":"#N/A"},"",{"$f":"IF(CF287=\"\",NA(),COUNTIF($CF287:CF$303,CF287))","v":{"$error":"#N/A"}},"",{"$f":"IF(CH287=\"\",NA(),COUNTIF($CH287:CH$303,CH287))","v":{"$error":"#N/A"}},{"$error":"#N/A"},{"$error":"#N/A"},{"$error":"#N/A"}]
[null,null,"",null,null,"",null,null,null,null,null,null,null,null,null,null,null,null,null,null,null,null,null,null,null,null,null,null,null,null,null,null,null,null,null,null,null,null,null,null,null,null,null,null,null,null,null,null,null,null,null,null,null,null,null,null,null,null,null,null,null,null,null,"",{"$f":"IF(BL288=\"\",NA(),COUNTIF(BL288:$BL$303,BL288))","v":{"$error":"#N/A"}},{"$error":"#VALUE!"},{"$error":"#N/A"},{"$error":"#N/A"},"",{"$f":"IF(BQ288=\"\",NA(),COUNTIF(BQ288:$BQ$303,BQ288))","v":{"$error":"#N/A"}},{"$error":"#VALUE!"},{"$error":"#N/A"},{"$error":"#N/A"},"",{"$f":"IF(BV288=\"\",NA(),COUNTIF(BV288:$BV$303,BV288))","v":{"$error":"#N/A"}},{"$error":"#VALUE!"},{"$error":"#N/A"},{"$error":"#N/A"},"",{"$f":"IF(CA288=\"\",NA(),COUNTIF(CA288:$CA$303,CA288))","v":{"$error":"#N/A"}},{"$error":"#VALUE!"},{"$error":"#N/A"},{"$error":"#N/A"},"",{"$f":"IF(CF288=\"\",NA(),COUNTIF($CF288:CF$303,CF288))","v":{"$error":"#N/A"}},"",{"$f":"IF(CH288=\"\",NA(),COUNTIF($CH288:CH$303,CH288))","v":{"$error":"#N/A"}},{"$error":"#N/A"},{"$error":"#N/A"},{"$error":"#N/A"}]
[null,null,"",null,null,"",null,null,null,null,null,null,null,null,null,null,null,null,null,null,null,null,null,null,null,null,null,null,null,null,null,null,null,null,null,null,null,null,null,null,null,null,null,null,null,null,null,null,null,null,null,null,null,null,null,null,null,null,null,null,null,null,null,"",{"$f":"IF(BL289=\"\",NA(),COUNTIF(BL289:$BL$303,BL289))","v":{"$error":"#N/A"}},{"$error":"#VALUE!"},{"$error":"#N/A"},{"$error":"#N/A"},"",{"$f":"IF(BQ289=\"\",NA(),COUNTIF(BQ289:$BQ$303,BQ289))","v":{"$error":"#N/A"}},{"$error":"#VALUE!"},{"$error":"#N/A"},{"$error":"#N/A"},"",{"$f":"IF(BV289=\"\",NA(),COUNTIF(BV289:$BV$303,BV289))","v":{"$error":"#N/A"}},{"$error":"#VALUE!"},{"$error":"#N/A"},{"$error":"#N/A"},"",{"$f":"IF(CA289=\"\",NA(),COUNTIF(CA289:$CA$303,CA289))","v":{"$error":"#N/A"}},{"$error":"#VALUE!"},{"$error":"#N/A"},{"$error":"#N/A"},"",{"$f":"IF(CF289=\"\",NA(),COUNTIF($CF289:CF$303,CF289))","v":{"$error":"#N/A"}},"",{"$f":"IF(CH289=\"\",NA(),COUNTIF($CH289:CH$303,CH289))","v":{"$error":"#N/A"}},{"$error":"#N/A"},{"$error":"#N/A"},{"$error":"#N/A"}]
[null,null,"",null,null,"",null,null,null,null,null,null,null,null,null,null,null,null,null,null,null,null,null,null,null,null,null,null,null,null,null,null,null,null,null,null,null,null,null,null,null,null,null,null,null,null,null,null,null,null,null,null,null,null,null,null,null,null,null,null,null,null,null,"",{"$f":"IF(BL290=\"\",NA(),COUNTIF(BL290:$BL$303,BL290))","v":{"$error":"#N/A"}},{"$error":"#VALUE!"},{"$error":"#N/A"},{"$error":"#N/A"},"",{"$f":"IF(BQ290=\"\",NA(),COUNTIF(BQ290:$BQ$303,BQ290))","v":{"$error":"#N/A"}},{"$error":"#VALUE!"},{"$error":"#N/A"},{"$error":"#N/A"},"",{"$f":"IF(BV290=\"\",NA(),COUNTIF(BV290:$BV$303,BV290))","v":{"$error":"#N/A"}},{"$error":"#VALUE!"},{"$error":"#N/A"},{"$error":"#N/A"},"",{"$f":"IF(CA290=\"\",NA(),COUNTIF(CA290:$CA$303,CA290))","v":{"$error":"#N/A"}},{"$error":"#VALUE!"},{"$error":"#N/A"},{"$error":"#N/A"},"",{"$f":"IF(CF290=\"\",NA(),COUNTIF($CF290:CF$303,CF290))","v":{"$error":"#N/A"}},"",{"$f":"IF(CH290=\"\",NA(),COUNTIF($CH290:CH$303,CH290))","v":{"$error":"#N/A"}},{"$error":"#N/A"},{"$error":"#N/A"},{"$error":"#N/A"}]
[null,null,"",null,null,"",null,null,null,null,null,null,null,null,null,null,null,null,null,null,null,null,null,null,null,null,null,null,null,null,null,null,null,null,null,null,null,null,null,null,null,null,null,null,null,null,null,null,null,null,null,null,null,null,null,null,null,null,null,null,null,null,null,"",{"$f":"IF(BL291=\"\",NA(),COUNTIF(BL291:$BL$303,BL291))","v":{"$error":"#N/A"}},{"$error":"#VALUE!"},{"$error":"#N/A"},{"$error":"#N/A"},"",{"$f":"IF(BQ291=\"\",NA(),COUNTIF(BQ291:$BQ$303,BQ291))","v":{"$error":"#N/A"}},{"$error":"#VALUE!"},{"$error":"#N/A"},{"$error":"#N/A"},"",{"$f":"IF(BV291=\"\",NA(),COUNTIF(BV291:$BV$303,BV291))","v":{"$error":"#N/A"}},{"$error":"#VALUE!"},{"$error":"#N/A"},{"$error":"#N/A"},"",{"$f":"IF(CA291=\"\",NA(),COUNTIF(CA291:$CA$303,CA291))","v":{"$error":"#N/A"}},{"$error":"#VALUE!"},{"$error":"#N/A"},{"$error":"#N/A"},"",{"$f":"IF(CF291=\"\",NA(),COUNTIF($CF291:CF$303,CF291))","v":{"$error":"#N/A"}},"",{"$f":"IF(CH291=\"\",NA(),COUNTIF($CH291:CH$303,CH291))","v":{"$error":"#N/A"}},{"$error":"#N/A"},{"$error":"#N/A"},{"$error":"#N/A"}]
[null,null,"",null,null,"",null,null,null,null,null,null,null,null,null,null,null,null,null,null,null,null,null,null,null,null,null,null,null,null,null,null,null,null,null,null,null,null,null,null,null,null,null,null,null,null,null,null,null,null,null,null,null,null,null,null,null,null,null,null,null,null,null,"",{"$f":"IF(BL292=\"\",NA(),COUNTIF(BL292:$BL$303,BL292))","v":{"$error":"#N/A"}},{"$error":"#VALUE!"},{"$error":"#N/A"},{"$error":"#N/A"},"",{"$f":"IF(BQ292=\"\",NA(),COUNTIF(BQ292:$BQ$303,BQ292))","v":{"$error":"#N/A"}},{"$error":"#VALUE!"},{"$error":"#N/A"},{"$error":"#N/A"},"",{"$f":"IF(BV292=\"\",NA(),COUNTIF(BV292:$BV$303,BV292))","v":{"$error":"#N/A"}},{"$error":"#VALUE!"},{"$error":"#N/A"},{"$error":"#N/A"},"",{"$f":"IF(CA292=\"\",NA(),COUNTIF(CA292:$CA$303,CA292))","v":{"$error":"#N/A"}},{"$error":"#VALUE!"},{"$error":"#N/A"},{"$error":"#N/A"},"",{"$f":"IF(CF292=\"\",NA(),COUNTIF($CF292:CF$303,CF292))","v":{"$error":"#N/A"}},"",{"$f":"IF(CH292=\"\",NA(),COUNTIF($CH292:CH$303,CH292))","v":{"$error":"#N/A"}},{"$error":"#N/A"},{"$error":"#N/A"},{"$error":"#N/A"}]
[null,null,"",null,null,"",null,null,null,null,null,null,null,null,null,null,null,null,null,null,null,null,null,null,null,null,null,null,null,null,null,null,null,null,null,null,null,null,null,null,null,null,null,null,null,null,null,null,null,null,null,null,null,null,null,null,null,null,null,null,null,null,null,"",{"$f":"IF(BL293=\"\",NA(),COUNTIF(BL293:$BL$303,BL293))","v":{"$error":"#N/A"}},{"$error":"#VALUE!"},{"$error":"#N/A"},{"$error":"#N/A"},"",{"$f":"IF(BQ293=\"\",NA(),COUNTIF(BQ293:$BQ$303,BQ293))","v":{"$error":"#N/A"}},{"$error":"#VALUE!"},{"$error":"#N/A"},{"$error":"#N/A"},"",{"$f":"IF(BV293=\"\",NA(),COUNTIF(BV293:$BV$303,BV293))","v":{"$error":"#N/A"}},{"$error":"#VALUE!"},{"$error":"#N/A"},{"$error":"#N/A"},"",{"$f":"IF(CA293=\"\",NA(),COUNTIF(CA293:$CA$303,CA293))","v":{"$error":"#N/A"}},{"$error":"#VALUE!"},{"$error":"#N/A"},{"$error":"#N/A"},"",{"$f":"IF(CF293=\"\",NA(),COUNTIF($CF293:CF$303,CF293))","v":{"$error":"#N/A"}},"",{"$f":"IF(CH293=\"\",NA(),COUNTIF($CH293:CH$303,CH293))","v":{"$error":"#N/A"}},{"$error":"#N/A"},{"$error":"#N/A"},{"$error":"#N/A"}]
[null,null,"",null,null,"",null,null,null,null,null,null,null,null,null,null,null,null,null,null,null,null,null,null,null,null,null,null,null,null,null,null,null,null,null,null,null,null,null,null,null,null,null,null,null,null,null,null,null,null,null,null,null,null,null,null,null,null,null,null,null,null,null,"",{"$f":"IF(BL294=\"\",NA(),COUNTIF(BL294:$BL$303,BL294))","v":{"$error":"#N/A"}},{"$error":"#VALUE!"},{"$error":"#N/A"},{"$error":"#N/A"},"",{"$f":"IF(BQ294=\"\",NA(),COUNTIF(BQ294:$BQ$303,BQ294))","v":{"$error":"#N/A"}},{"$error":"#VALUE!"},{"$error":"#N/A"},{"$error":"#N/A"},"",{"$f":"IF(BV294=\"\",NA(),COUNTIF(BV294:$BV$303,BV294))","v":{"$error":"#N/A"}},{"$error":"#VALUE!"},{"$error":"#N/A"},{"$error":"#N/A"},"",{"$f":"IF(CA294=\"\",NA(),COUNTIF(CA294:$CA$303,CA294))","v":{"$error":"#N/A"}},{"$error":"#VALUE!"},{"$error":"#N/A"},{"$error":"#N/A"},"",{"$f":"IF(CF294=\"\",NA(),COUNTIF($CF294:CF$303,CF294))","v":{"$error":"#N/A"}},"",{"$f":"IF(CH294=\"\",NA(),COUNTIF($CH294:CH$303,CH294))","v":{"$error":"#N/A"}},{"$error":"#N/A"},{"$error":"#N/A"},{"$error":"#N/A"}]
[null,null,"",null,null,"",null,null,null,null,null,null,null,null,null,null,null,null,null,null,null,null,null,null,null,null,null,null,null,null,null,null,null,null,null,null,null,null,null,null,null,null,null,null,null,null,null,null,null,null,null,null,null,null,null,null,null,null,null,null,null,null,null,"",{"$f":"IF(BL295=\"\",NA(),COUNTIF(BL295:$BL$303,BL295))","v":{"$error":"#N/A"}},{"$error":"#VALUE!"},{"$error":"#N/A"},{"$error":"#N/A"},"",{"$f":"IF(BQ295=\"\",NA(),COUNTIF(BQ295:$BQ$303,BQ295))","v":{"$error":"#N/A"}},{"$error":"#VALUE!"},{"$error":"#N/A"},{"$error":"#N/A"},"",{"$f":"IF(BV295=\"\",NA(),COUNTIF(BV295:$BV$303,BV295))","v":{"$error":"#N/A"}},{"$error":"#VALUE!"},{"$error":"#N/A"},{"$error":"#N/A"},"",{"$f":"IF(CA295=\"\",NA(),COUNTIF(CA295:$CA$303,CA295))","v":{"$error":"#N/A"}},{"$error":"#VALUE!"},{"$error":"#N/A"},{"$error":"#N/A"},"",{"$f":"IF(CF295=\"\",NA(),COUNTIF($CF295:CF$303,CF295))","v":{"$error":"#N/A"}},"",{"$f":"IF(CH295=\"\",NA(),COUNTIF($CH295:CH$303,CH295))","v":{"$error":"#N/A"}},{"$error":"#N/A"},{"$error":"#N/A"},{"$error":"#N/A"}]
[null,null,"",null,null,"",null,null,null,null,null,null,null,null,null,null,null,null,null,null,null,null,null,null,null,null,null,null,null,null,null,null,null,null,null,null,null,null,null,null,null,null,null,null,null,null,null,null,null,null,null,null,null,null,null,null,null,null,null,null,null,null,null,"",{"$f":"IF(BL296=\"\",NA(),COUNTIF(BL296:$BL$303,BL296))","v":{"$error":"#N/A"}},{"$error":"#VALUE!"},{"$error":"#N/A"},{"$error":"#N/A"},"",{"$f":"IF(BQ296=\"\",NA(),COUNTIF(BQ296:$BQ$303,BQ296))","v":{"$error":"#N/A"}},{"$error":"#VALUE!"},{"$error":"#N/A"},{"$error":"#N/A"},"",{"$f":"IF(BV296=\"\",NA(),COUNTIF(BV296:$BV$303,BV296))","v":{"$error":"#N/A"}},{"$error":"#VALUE!"},{"$error":"#N/A"},{"$error":"#N/A"},"",{"$f":"IF(CA296=\"\",NA(),COUNTIF(CA296:$CA$303,CA296))","v":{"$error":"#N/A"}},{"$error":"#VALUE!"},{"$error":"#N/A"},{"$error":"#N/A"},"",{"$f":"IF(CF296=\"\",NA(),COUNTIF($CF296:CF$303,CF296))","v":{"$error":"#N/A"}},"",{"$f":"IF(CH296=\"\",NA(),COUNTIF($CH296:CH$303,CH296))","v":{"$error":"#N/A"}},{"$error":"#N/A"},{"$error":"#N/A"},{"$error":"#N/A"}]
[null,null,"",null,null,"",null,null,null,null,null,null,null,null,null,null,null,null,null,null,null,null,null,null,null,null,null,null,null,null,null,null,null,null,null,null,null,null,null,null,null,null,null,null,null,null,null,null,null,null,null,null,null,null,null,null,null,null,null,null,null,null,null,"",{"$f":"IF(BL297=\"\",NA(),COUNTIF(BL297:$BL$303,BL297))","v":{"$error":"#N/A"}},{"$error":"#VALUE!"},{"$error":"#N/A"},{"$error":"#N/A"},"",{"$f":"IF(BQ297=\"\",NA(),COUNTIF(BQ297:$BQ$303,BQ297))","v":{"$error":"#N/A"}},{"$error":"#VALUE!"},{"$error":"#N/A"},{"$error":"#N/A"},"",{"$f":"IF(BV297=\"\",NA(),COUNTIF(BV297:$BV$303,BV297))","v":{"$error":"#N/A"}},{"$error":"#VALUE!"},{"$error":"#N/A"},{"$error":"#N/A"},"",{"$f":"IF(CA297=\"\",NA(),COUNTIF(CA297:$CA$303,CA297))","v":{"$error":"#N/A"}},{"$error":"#VALUE!"},{"$error":"#N/A"},{"$error":"#N/A"},"",{"$f":"IF(CF297=\"\",NA(),COUNTIF($CF297:CF$303,CF297))","v":{"$error":"#N/A"}},"",{"$f":"IF(CH297=\"\",NA(),COUNTIF($CH297:CH$303,CH297))","v":{"$error":"#N/A"}},{"$error":"#N/A"},{"$error":"#N/A"},{"$error":"#N/A"}]
[null,null,"",null,null,"",null,null,null,null,null,null,null,null,null,null,null,null,null,null,null,null,null,null,null,null,null,null,null,null,null,null,null,null,null,null,null,null,null,null,null,null,null,null,null,null,null,null,null,null,null,null,null,null,null,null,null,null,null,null,null,null,null,"",{"$f":"IF(BL298=\"\",NA(),COUNTIF(BL298:$BL$303,BL298))","v":{"$error":"#N/A"}},{"$error":"#VALUE!"},{"$error":"#N/A"},{"$error":"#N/A"},"",{"$f":"IF(BQ298=\"\",NA(),COUNTIF(BQ298:$BQ$303,BQ298))","v":{"$error":"#N/A"}},{"$error":"#VALUE!"},{"$error":"#N/A"},{"$error":"#N/A"},"",{"$f":"IF(BV298=\"\",NA(),COUNTIF(BV298:$BV$303,BV298))","v":{"$error":"#N/A"}},{"$error":"#VALUE!"},{"$error":"#N/A"},{"$error":"#N/A"},"",{"$f":"IF(CA298=\"\",NA(),COUNTIF(CA298:$CA$303,CA298))","v":{"$error":"#N/A"}},{"$error":"#VALUE!"},{"$error":"#N/A"},{"$error":"#N/A"},"",{"$f":"IF(CF298=\"\",NA(),COUNTIF($CF298:CF$303,CF298))","v":{"$error":"#N/A"}},"",{"$f":"IF(CH298=\"\",NA(),COUNTIF($CH298:CH$303,CH298))","v":{"$error":"#N/A"}},{"$error":"#N/A"},{"$error":"#N/A"},{"$error":"#N/A"}]
[null,null,"",null,null,"",null,null,null,null,null,null,null,null,null,null,null,null,null,null,null,null,null,null,null,null,null,null,null,null,null,null,null,null,null,null,null,null,null,null,null,null,null,null,null,null,null,null,null,null,null,null,null,null,null,null,null,null,null,null,null,null,null,"",{"$f":"IF(BL299=\"\",NA(),COUNTIF(BL299:$BL$303,BL299))","v":{"$error":"#N/A"}},{"$error":"#VALUE!"},{"$error":"#N/A"},{"$error":"#N/A"},"",{"$f":"IF(BQ299=\"\",NA(),COUNTIF(BQ299:$BQ$303,BQ299))","v":{"$error":"#N/A"}},{"$error":"#VALUE!"},{"$error":"#N/A"},{"$error":"#N/A"},"",{"$f":"IF(BV299=\"\",NA(),COUNTIF(BV299:$BV$303,BV299))","v":{"$error":"#N/A"}},{"$error":"#VALUE!"},{"$error":"#N/A"},{"$error":"#N/A"},"",{"$f":"IF(CA299=\"\",NA(),COUNTIF(CA299:$CA$303,CA299))","v":{"$error":"#N/A"}},{"$error":"#VALUE!"},{"$error":"#N/A"},{"$error":"#N/A"},"",{"$f":"IF(CF299=\"\",NA(),COUNTIF($CF299:CF$303,CF299))","v":{"$error":"#N/A"}},"",{"$f":"IF(CH299=\"\",NA(),COUNTIF($CH299:CH$303,CH299))","v":{"$error":"#N/A"}},{"$error":"#N/A"},{"$error":"#N/A"},{"$error":"#N/A"}]
[null,null,"",null,null,"",null,null,null,null,null,null,null,null,null,null,null,null,null,null,null,null,null,null,null,null,null,null,null,null,null,null,null,null,null,null,null,null,null,null,null,null,null,null,null,null,null,null,null,null,null,null,null,null,null,null,null,null,null,null,null,null,null,"",{"$f":"IF(BL300=\"\",NA(),COUNTIF(BL300:$BL$303,BL300))","v":{"$error":"#N/A"}},{"$error":"#VALUE!"},{"$error":"#N/A"},{"$error":"#N/A"},"",{"$f":"IF(BQ300=\"\",NA(),COUNTIF(BQ300:$BQ$303,BQ300))","v":{"$error":"#N/A"}},{"$error":"#VALUE!"},{"$error":"#N/A"},{"$error":"#N/A"},"",{"$f":"IF(BV300=\"\",NA(),COUNTIF(BV300:$BV$303,BV300))","v":{"$error":"#N/A"}},{"$error":"#VALUE!"},{"$error":"#N/A"},{"$error":"#N/A"},"",{"$f":"IF(CA300=\"\",NA(),COUNTIF(CA300:$CA$303,CA300))","v":{"$error":"#N/A"}},{"$error":"#VALUE!"},{"$error":"#N/A"},{"$error":"#N/A"},"",{"$f":"IF(CF300=\"\",NA(),COUNTIF($CF300:CF$303,CF300))","v":{"$error":"#N/A"}},"",{"$f":"IF(CH300=\"\",NA(),COUNTIF($CH300:CH$303,CH300))","v":{"$error":"#N/A"}},{"$error":"#N/A"},{"$error":"#N/A"},{"$error":"#N/A"}]
[null,null,"",null,null,"",null,null,null,null,null,null,null,null,null,null,null,null,null,null,null,null,null,null,null,null,null,null,null,null,null,null,null,null,null,null,null,null,null,null,null,null,null,null,null,null,null,null,null,null,null,null,null,null,null,null,null,null,null,null,null,null,null,"",{"$f":"IF(BL301=\"\",NA(),COUNTIF(BL301:$BL$303,BL301))","v":{"$error":"#N/A"}},{"$error":"#VALUE!"},{"$error":"#N/A"},{"$error":"#N/A"},"",{"$f":"IF(BQ301=\"\",NA(),COUNTIF(BQ301:$BQ$303,BQ301))","v":{"$error":"#N/A"}},{"$error":"#VALUE!"},{"$error":"#N/A"},{"$error":"#N/A"},"",{"$f":"IF(BV301=\"\",NA(),COUNTIF(BV301:$BV$303,BV301))","v":{"$error":"#N/A"}},{"$error":"#VALUE!"},{"$error":"#N/A"},{"$error":"#N/A"},"",{"$f":"IF(CA301=\"\",NA(),COUNTIF(CA301:$CA$303,CA301))","v":{"$error":"#N/A"}},{"$error":"#VALUE!"},{"$error":"#N/A"},{"$error":"#N/A"},"",{"$f":"IF(CF301=\"\",NA(),COUNTIF($CF301:CF$303,CF301))","v":{"$error":"#N/A"}},"",{"$f":"IF(CH301=\"\",NA(),COUNTIF($CH301:CH$303,CH301))","v":{"$error":"#N/A"}},{"$error":"#N/A"},{"$error":"#N/A"},{"$error":"#N/A"}]
[null,null,"",null,null,"",null,null,null,null,null,null,null,null,null,null,null,null,null,null,null,null,null,null,null,null,null,null,null,null,null,null,null,null,null,null,null,null,null,null,null,null,null,null,null,null,null,null,null,null,null,null,null,null,null,null,null,null,null,null,null,null,null,"",{"$f":"IF(BL302=\"\",NA(),COUNTIF(BL302:$BL$303,BL302))","v":{"$error":"#N/A"}},{"$error":"#VALUE!"},{"$error":"#N/A"},{"$error":"#N/A"},"",{"$f":"IF(BQ302=\"\",NA(),COUNTIF(BQ302:$BQ$303,BQ302))","v":{"$error":"#N/A"}},{"$error":"#VALUE!"},{"$error":"#N/A"},{"$error":"#N/A"},"",{"$f":"IF(BV302=\"\",NA(),COUNTIF(BV302:$BV$303,BV302))","v":{"$error":"#N/A"}},{"$error":"#VALUE!"},{"$error":"#N/A"},{"$error":"#N/A"},"",{"$f":"IF(CA302=\"\",NA(),COUNTIF(CA302:$CA$303,CA302))","v":{"$error":"#N/A"}},{"$error":"#VALUE!"},{"$error":"#N/A"},{"$error":"#N/A"},"",{"$f":"IF(CF302=\"\",NA(),COUNTIF($CF302:CF$303,CF302))","v":{"$error":"#N/A"}},"",{"$f":"IF(CH302=\"\",NA(),COUNTIF($CH302:CH$303,CH302))","v":{"$error":"#N/A"}},{"$error":"#N/A"},{"$error":"#N/A"},{"$error":"#N/A"}]
[null,null,"",null,null,"",null,null,null,null,null,null,null,null,null,null,null,null,null,null,null,null,null,null,null,null,null,null,null,null,null,null,null,null,null,null,null,null,null,null,null,null,null,null,null,null,null,null,null,null,null,null,null,null,null,null,null,null,null,null,null,null,null,"",{"$f":"IF(BL303=\"\",NA(),COUNTIF(BL303:$BL$303,BL303))","v":{"$error":"#N/A"}},{"$error":"#VALUE!"},{"$error":"#N/A"},{"$error":"#N/A"},"",{"$f":"IF(BQ303=\"\",NA(),COUNTIF(BQ303:$BQ$303,BQ303))","v":{"$error":"#N/A"}},{"$error":"#VALUE!"},{"$error":"#N/A"},{"$error":"#N/A"},"",{"$f":"IF(BV303=\"\",NA(),COUNTIF(BV303:$BV$303,BV303))","v":{"$error":"#N/A"}},{"$error":"#VALUE!"},{"$error":"#N/A"},{"$error":"#N/A"},"",{"$f":"IF(CA303=\"\",NA(),COUNTIF(CA303:$CA$303,CA303))","v":{"$error":"#N/A"}},{"$error":"#VALUE!"},{"$error":"#N/A"},{"$error":"#N/A"},"",{"$f":"IF(CF303=\"\",NA(),COUNTIF($CF303:CF$303,CF303))","v":{"$error":"#N/A"}},"",{"$f":"IF(CH303=\"\",NA(),COUNTIF($CH303:CH$303,CH303))","v":{"$error":"#N/A"}},{"$error":"#N/A"},{"$error":"#N/A"},{"$error":"#N/A"}]
[null,null,"",null,null,""]

{"sheet":"Noncentral t","index":2,"n_rows":31,"n_cols":233,"rows_kept":31,"cut":false,"hidden":false,"merged":[]}
[null,null,"Noncentral t",null,null,null,null,{"$f":"($F$6+$F$8+$F$17+$AG$22+$AG$23+$AG$13)/1000000","v":1.7195799999999998E-3},{"$f":"$H$1","v":1.7195799999999998E-3},1.7195799999999998E-3,1.7195799999999998E-3,1.7195799999999998E-3,1.7195799999999998E-3,1.7195799999999998E-3,1.7195799999999998E-3,1.7195799999999998E-3,1.7195799999999998E-3,1.7195799999999998E-3,1.7195799999999998E-3,1.7195799999999998E-3,1.7195799999999998E-3,null,null,null,null,null,null,null,null,null,null,"accurate t",{"$f":"IF(AND($AG$30,$F$22>AG9,$F$22<=AH9),0,-999)","v":-999},-999,-999,-999,-999,-999,-999,-999,-999,-999,-999,-999,-999,-999,-999,-999,-999,-999,-999,-999,-999,-999,-999,-999,-999,-999,-999,-999,-999,-999,-999,-999,{"$f":"IF(AND($AG$30,$F$22>BM9,$F$22<=BN9),0,-999)","v":-999},-999,-999,-999,-999,-999,-999,-999,-999,-999,-999,-999,-999,-999,-999,-999,-999,-999,-999,-999,-999,-999,-999,-999,-999,-999,-999,-999,-999,-999,-999,-999,{"$f":"IF(AND($AG$30,$F$22>CS9,$F$22<=CT9),0,-999)","v":-999},-999,-999,-999,-999,-999,-999,-999,-999,-999,-999,-999,-999,-999,-999,-999,-999,-999,-999,-999,-999,-999,-999,-999,-999,-999,-999,-999,-999,-999,-999,-999,{"$f":"IF(AND($AG$30,$F$22>DY9,$F$22<=DZ9),0,-999)","v":-999},-999,-999,-999,-999,-999,-999,-999,-999,-999,-999,-999,-999,-999,-999,-999,-999,-999,-999,-999,-999,-999,-999,-999,-999,-999,-999,-999,-999,-999,-999,-999,{"$f":"IF(AND($AG$30,$F$22>FE9,$F$22<=FF9),0,-999)","v":-999},-999,-999,-999,-999,-999,-999,-999,-999,-999,-999,-999,0,-999,-999,-999,-999,-999,-999,-999,-999,-999,-999,-999,-999,-999,-999,-999,-999,-999,-999,-999,{"$f":"IF(AND($AG$30,$F$22>GK9,$F$22<=GL9),0,-999)","v":-999},-999,-999,-999,-999,-999,-999,-999,-999,-999,-999,-999,-999,-999,-999,-999,-999,-999,-999,-999,-999,-999,-999,-999,-999,-999,-999,-999,-999,-999,-999,-999,{"$f":"IF(AND($AG$30,$F$22>HQ9,$F$22<=HR9),0,-999)","v":-999},-999,-999,-999,-999,-999,-999,-999]
[null,null,"Explore noncentral t distributions",null,null,null,null,{"$f":"$H$1","v":1.7195799999999998E-3},null,null,null,null,null,null,null,null,null,null,null,null,{"$f":"$H$1","v":1.7195799999999998E-3},null,null,null,null,null,null,null,null,null,null,"red vertical",{"$f":"IF(AND($AG$15,AH9>$F$8,AG9<=$F$8),0,NA())","v":{"$error":"#N/A"}},{"$error":"#N/A"},{"$error":"#N/A"},{"$error":"#N/A"},{"$error":"#N/A"},{"$error":"#N/A"},{"$error":"#N/A"},{"$error":"#N/A"},{"$error":"#N/A"},{"$error":"#N/A"},{"$error":"#N/A"},{"$error":"#N/A"},{"$error":"#N/A"},{"$error":"#N/A"},{"$error":"#N/A"},{"$error":"#N/A"},{"$error":"#N/A"},{"$error":"#N/A"},{"$error":"#N/A"},{"$error":"#N/A"},{"$error":"#N/A"},{"$error":"#N/A"},{"$error":"#N/A"},{"$error":"#N/A"},{"$error":"#N/A"},{"$error":"#N/A"},{"$error":"#N/A"},{"$error":"#N/A"},{"$error":"#N/A"},{"$error":"#N/A"},{"$error":"#N/A"},{"$error":"#N/A"},{"$f":"IF(AND($AG$15,BN9>$F$8,BM9<=$F$8),0,NA())","v":{"$error":"#N/A"}},{"$error":"#N/A"},{"$error":"#N/A"},{"$error":"#N/A"},{"$error":"#N/A"},{"$error":"#N/A"},{"$error":"#N/A"},{"$error":"#N/A"},{"$error":"#N/A"},{"$error":"#N/A"},{"$error":"#N/A"},{"$error":"#N/A"},{"$error":"#N/A"},{"$error":"#N/A"},{"$error":"#N/A"},{"$error":"#N/A"},{"$error":"#N/A"},{"$error":"#N/A"},{"$error":"#N/A"},{"$error":"#N/A"},{"$error":"#N/A"},{"$error":"#N/A"},{"$error":"#N/A"},{"$error":"#N/A"},{"$error":"#N/A"},{"$error":"#N/A"},{"$error":"#N/A"},{"$error":"#N/A"},{"$error":"#N/A"},{"$error":"#N/A"},{"$error":"#N/A"},{"$error":"#N/A"},{"$f":"IF(AND($AG$15,CT9>$F$8,CS9<=$F$8),0,NA())","v":{"$error":"#N/A"}},{"$error":"#N/A"},{"$error":"#N/A"},{"$error":"#N/A"},{"$error":"#N/A"},{"$error":"#N/A"},{"$error":"#N/A"},{"$error":"#N/A"},{"$error":"#N/A"},{"$error":"#N/A"},{"$error":"#N/A"},{"$error":"#N/A"},{"$error":"#N/A"},{"$error":"#N/A"},{"$error":"#N/A"},{"$error":"#N/A"},{"$error":"#N/A"},{"$error":"#N/A"},{"$error":"#N/A"},{"$error":"#N/A"},{"$error":"#N/A"},{"$error":"#N/A"},{"$error":"#N/A"},{"$error":"#N/A"},{"$error":"#N/A"},{"$error":"#N/A"},{"$error":"#N/A"},{"$error":"#N/A"},{"$error":"#N/A"},{"$error":"#N/A"},{"$error":"#N/A"},{"$error":"#N/A"},{"$f":"IF(AND($AG$15,DZ9>$F$8,DY9<=$F$8),0,NA())","v":{"$error":"#N/A"}},{"$error":"#N/A"},{"$error":"#N/A"},{"$error":"#N/A"},{"$error":"#N/A"},{"$error":"#N/A"},{"$error":"#N/A"},{"$error":"#N/A"},{"$error":"#N/A"},{"$error":"#N/A"},{"$error":"#N/A"},{"$error":"#N/A"},{"$error":"#N/A"},{"$error":"#N/A"},{"$error":"#N/A"},{"$error":"#N/A"},{"$error":"#N/A"},{"$error":"#N/A"},{"$error":"#N/A"},{"$error":"#N/A"},{"$error":"#N/A"},{"$error":"#N/A"},{"$error":"#N/A"},{"$error":"#N/A"},{"$error":"#N/A"},{"$error":"#N/A"},{"$error":"#N/A"},{"$error":"#N/A"},{"$error":"#N/A"},{"$error":"#N/A"},{"$error":"#N/A"},{"$error":"#N/A"},{"$f":"IF(AND($AG$15,FF9>$F$8,FE9<=$F$8),0,NA())","v":{"$error":"#N/A"}},{"$error":"#N/A"},{"$error":"#N/A"},{"$error":"#N/A"},{"$error":"#N/A"},{"$error":"#N/A"},{"$error":"#N/A"},{"$error":"#N/A"},{"$error":"#N/A"},{"$error":"#N/A"},{"$error":"#N/A"},{"$error":"#N/A"},{"$error":"#N/A"},{"$error":"#N/A"},{"$error":"#N/A"},{"$error":"#N/A"},{"$error":"#N/A"},{"$error":"#N/A"},{"$error":"#N/A"},{"$error":"#N/A"},{"$error":"#N/A"},{"$error":"#N/A"},{"$error":"#N/A"},{"$error":"#N/A"},{"$error":"#N/A"},{"$error":"#N/A"},{"$error":"#N/A"},{"$error":"#N/A"},{"$error":"#N/A"},{"$error":"#N/A"},{"$error":"#N/A"},{"$error":"#N/A"},{"$f":"IF(AND($AG$15,GL9>$F$8,GK9<=$F$8),0,NA())","v":{"$error":"#N/A"}},{"$error":"#N/A"},{"$error":"#N/A"},{"$error":"#N/A"},{"$error":"#N/A"},{"$error":"#N/A"},{"$error":"#N/A"},{"$error":"#N/A"},{"$error":"#N/A"},{"$error":"#N/A"},{"$error":"#N/A"},{"$error":"#N/A"},{"$error":"#N/A"},{"$error":"#N/A"},{"$error":"#N/A"},{"$error":"#N/A"},{"$error":"#N/A"},{"$error":"#N/A"},{"$error":"#N/A"},{"$error":"#N/A"},{"$error":"#N/A"},{"$error":"#N/A"},{"$error":"#N/A"},{"$error":"#N/A"},{"$error":"#N/A"},{"$error":"#N/A"},{"$error":"#N/A"},{"$error":"#N/A"},{"$error":"#N/A"},{"$error":"#N/A"},{"$error":"#N/A"},{"$error":"#N/A"},{"$f":"IF(AND($AG$15,HR9>$F$8,HQ9<=$F$8),0,NA())","v":{"$error":"#N/A"}},{"$error":"#N/A"},{"$error":"#N/A"},{"$error":"#N/A"},{"$error":"#N/A"},{"$error":"#N/A"},{"$error":"#N/A"},{"$error":"#N/A"}]
[null,null,null,null,null,null,null,1.7195799999999998E-3,null,null,null,null,null,null,null,null,null,null,null,null,1.7195799999999998E-3,null,null,null,null,null,null,null,null,null,null,"blue vertical",{"$f":"IF(AND($AG$14,$AG$27,AH9>0,AG9<=0),0,NA())","v":{"$error":"#N/A"}},{"$error":"#N/A"},{"$error":"#N/A"},{"$error":"#N/A"},{"$error":"#N/A"},{"$error":"#N/A"},{"$error":"#N/A"},{"$error":"#N/A"},{"$error":"#N/A"},{"$error":"#N/A"},{"$error":"#N/A"},{"$error":"#N/A"},{"$error":"#N/A"},{"$error":"#N/A"},{"$error":"#N/A"},{"$error":"#N/A"},{"$error":"#N/A"},{"$error":"#N/A"},{"$error":"#N/A"},{"$error":"#N/A"},{"$error":"#N/A"},{"$error":"#N/A"},{"$error":"#N/A"},{"$error":"#N/A"},{"$error":"#N/A"},{"$error":"#N/A"},{"$error":"#N/A"},{"$error":"#N/A"},{"$error":"#N/A"},{"$error":"#N/A"},{"$error":"#N/A"},{"$error":"#N/A"},{"$f":"IF(AND($AG$14,$AG$27,BN9>0,BM9<=0),0,NA())","v":{"$error":"#N/A"}},{"$error":"#N/A"},{"$error":"#N/A"},{"$error":"#N/A"},{"$error":"#N/A"},{"$error":"#N/A"},{"$error":"#N/A"},{"$error":"#N/A"},{"$error":"#N/A"},{"$error":"#N/A"},{"$error":"#N/A"},{"$error":"#N/A"},{"$error":"#N/A"},{"$error":"#N/A"},{"$error":"#N/A"},{"$error":"#N/A"},{"$error":"#N/A"},{"$error":"#N/A"},{"$error":"#N/A"},{"$error":"#N/A"},{"$error":"#N/A"},{"$error":"#N/A"},{"$error":"#N/A"},{"$error":"#N/A"},{"$error":"#N/A"},{"$error":"#N/A"},{"$error":"#N/A"},{"$error":"#N/A"},{"$error":"#N/A"},{"$error":"#N/A"},{"$error":"#N/A"},{"$error":"#N/A"},{"$f":"IF(AND($AG$14,$AG$27,CT9>0,CS9<=0),0,NA())","v":{"$error":"#N/A"}},{"$error":"#N/A"},{"$error":"#N/A"},{"$error":"#N/A"},{"$error":"#N/A"},{"$error":"#N/A"},{"$error":"#N/A"},{"$error":"#N/A"},{"$error":"#N/A"},{"$error":"#N/A"},{"$error":"#N/A"},{"$error":"#N/A"},{"$error":"#N/A"},{"$error":"#N/A"},{"$error":"#N/A"},{"$error":"#N/A"},{"$error":"#N/A"},{"$error":"#N/A"},{"$error":"#N/A"},{"$error":"#N/A"},{"$error":"#N/A"},{"$error":"#N/A"},{"$error":"#N/A"},{"$error":"#N/A"},{"$error":"#N/A"},{"$error":"#N/A"},{"$error":"#N/A"},{"$error":"#N/A"},{"$error":"#N/A"},{"$error":"#N/A"},{"$error":"#N/A"},{"$error":"#N/A"},{"$f":"IF(AND($AG$14,$AG$27,DZ9>0,DY9<=0),0,NA())","v":{"$error":"#N/A"}},{"$error":"#N/A"},{"$error":"#N/A"},{"$error":"#N/A"},{"$error":"#N/A"},{"$error":"#N/A"},{"$error":"#N/A"},{"$error":"#N/A"},{"$error":"#N/A"},{"$error":"#N/A"},{"$error":"#N/A"},{"$error":"#N/A"},{"$error":"#N/A"},{"$error":"#N/A"},{"$error":"#N/A"},{"$error":"#N/A"},{"$error":"#N/A"},{"$error":"#N/A"},{"$error":"#N/A"},{"$error":"#N/A"},{"$error":"#N/A"},{"$error":"#N/A"},{"$error":"#N/A"},{"$error":"#N/A"},{"$error":"#N/A"},{"$error":"#N/A"},{"$error":"#N/A"},{"$error":"#N/A"},{"$error":"#N/A"},{"$error":"#N/A"},{"$error":"#N/A"},{"$error":"#N/A"},{"$f":"IF(AND($AG$14,$AG$27,FF9>0,FE9<=0),0,NA())","v":{"$error":"#N/A"}},{"$error":"#N/A"},{"$error":"#N/A"},{"$error":"#N/A"},{"$error":"#N/A"},{"$error":"#N/A"},{"$error":"#N/A"},{"$error":"#N/A"},{"$error":"#N/A"},{"$error":"#N/A"},{"$error":"#N/A"},{"$error":"#N/A"},{"$error":"#N/A"},{"$error":"#N/A"},{"$error":"#N/A"},{"$error":"#N/A"},{"$error":"#N/A"},{"$error":"#N/A"},{"$error":"#N/A"},{"$error":"#N/A"},{"$error":"#N/A"},{"$error":"#N/A"},{"$error":"#N/A"},{"$error":"#N/A"},{"$error":"#N/A"},{"$error":"#N/A"},{"$error":"#N/A"},{"$error":"#N/A"},{"$error":"#N/A"},{"$error":"#N/A"},{"$error":"#N/A"},{"$error":"#N/A"},{"$f":"IF(AND($AG$14,$AG$27,GL9>0,GK9<=0),0,NA())","v":{"$error":"#N/A"}},{"$error":"#N/A"},{"$error":"#N/A"},{"$error":"#N/A"},{"$error":"#N/A"},{"$error":"#N/A"},{"$error":"#N/A"},{"$error":"#N/A"},{"$error":"#N/A"},{"$error":"#N/A"},{"$error":"#N/A"},{"$error":"#N/A"},{"$error":"#N/A"},{"$error":"#N/A"},{"$error":"#N/A"},{"$error":"#N/A"},{"$error":"#N/A"},{"$error":"#N/A"},{"$error":"#N/A"},{"$error":"#N/A"},{"$error":"#N/A"},{"$error":"#N/A"},{"$error":"#N/A"},{"$error":"#N/A"},{"$error":"#N/A"},{"$error":"#N/A"},{"$error":"#N/A"},{"$error":"#N/A"},{"$error":"#N/A"},{"$error":"#N/A"},{"$error":"#N/A"},{"$error":"#N/A"},{"$f":"IF(AND($AG$14,$AG$27,HR9>0,HQ9<=0),0,NA())","v":{"$error":"#N/A"}},{"$error":"#N/A"},{"$error":"#N/A"},{"$error":"#N/A"},{"$error":"#N/A"},{"$error":"#N/A"},{"$error":"#N/A"},{"$error":"#N/A"}]
[null,null,null,null,null,null,null,1.7195799999999998E-3,null,null,null,null,null,null,null,null,null,null,null,null,1.7195799999999998E-3]
[1,"Noncentral t distribution",null,null,null,null,null,1.7195799999999998E-3,null,null,null,null,null,null,null,null,null,null,null,null,1.7195799999999998E-3,null,null,null,null,null,null,null,null,null,null,"tail in front",{"$f":"IF($AG$16,AG6,NA())","v":{"$error":"#N/A"}},{"$error":"#N/A"},{"$error":"#N/A"},{"$error":"#N/A"},{"$error":"#N/A"},{"$error":"#N/A"},{"$error":"#N/A"},{"$error":"#N/A"},{"$error":"#N/A"},{"$error":"#N/A"},{"$error":"#N/A"},{"$error":"#N/A"},{"$error":"#N/A"},{"$error":"#N/A"},{"$error":"#N/A"},{"$error":"#N/A"},{"$error":"#N/A"},{"$error":"#N/A"},{"$error":"#N/A"},{"$error":"#N/A"},{"$error":"#N/A"},{"$error":"#N/A"},{"$error":"#N/A"},{"$error":"#N/A"},{"$error":"#N/A"},{"$error":"#N/A"},{"$error":"#N/A"},{"$error":"#N/A"},{"$error":"#N/A"},{"$error":"#N/A"},{"$error":"#N/A"},{"$error":"#N/A"},{"$f":"IF($AG$16,BM6,NA())","v":{"$error":"#N/A"}},{"$error":"#N/A"},{"$error":"#N/A"},{"$error":"#N/A"},{"$error":"#N/A"},{"$error":"#N/A"},{"$error":"#N/A"},{"$error":"#N/A"},{"$error":"#N/A"},{"$error":"#N/A"},{"$error":"#N/A"},{"$error":"#N/A"},{"$error":"#N/A"},{"$error":"#N/A"},{"$error":"#N/A"},{"$error":"#N/A"},{"$error":"#N/A"},{"$error":"#N/A"},{"$error":"#N/A"},{"$error":"#N/A"},{"$error":"#N/A"},{"$error":"#N/A"},{"$error":"#N/A"},{"$error":"#N/A"},{"$error":"#N/A"},{"$error":"#N/A"},{"$error":"#N/A"},{"$error":"#N/A"},{"$error":"#N/A"},{"$error":"#N/A"},{"$error":"#N/A"},{"$error":"#N/A"},{"$f":"IF($AG$16,CS6,NA())","v":{"$error":"#N/A"}},{"$error":"#N/A"},{"$error":"#N/A"},{"$error":"#N/A"},{"$error":"#N/A"},{"$error":"#N/A"},{"$error":"#N/A"},{"$error":"#N/A"},{"$error":"#N/A"},{"$error":"#N/A"},{"$error":"#N/A"},{"$error":"#N/A"},{"$error":"#N/A"},{"$error":"#N/A"},{"$error":"#N/A"},{"$error":"#N/A"},{"$error":"#N/A"},{"$error":"#N/A"},{"$error":"#N/A"},{"$error":"#N/A"},{"$error":"#N/A"},{"$error":"#N/A"},{"$error":"#N/A"},{"$error":"#N/A"},{"$error":"#N/A"},{"$error":"#N/A"},{"$error":"#N/A"},{"$error":"#N/A"},{"$error":"#N/A"},{"$error":"#N/A"},{"$error":"#N/A"},{"$error":"#N/A"},{"$f":"IF($AG$16,DY6,NA())","v":{"$error":"#N/A"}},{"$error":"#N/A"},{"$error":"#N/A"},{"$error":"#N/A"},{"$error":"#N/A"},{"$error":"#N/A"},{"$error":"#N/A"},{"$error":"#N/A"},{"$error":"#N/A"},{"$error":"#N/A"},{"$error":"#N/A"},{"$error":"#N/A"},{"$error":"#N/A"},{"$error":"#N/A"},{"$error":"#N/A"},{"$error":"#N/A"},{"$error":"#N/A"},{"$error":"#N/A"},{"$error":"#N/A"},{"$error":"#N/A"},{"$error":"#N/A"},{"$error":"#N/A"},{"$error":"#N/A"},{"$error":"#N/A"},{"$error":"#N/A"},{"$error":"#N/A"},{"$error":"#N/A"},{"$error":"#N/A"},{"$error":"#N/A"},{"$error":"#N/A"},{"$error":"#N/A"},{"$error":"#N/A"},{"$f":"IF($AG$16,FE6,NA())","v":{"$error":"#N/A"}},{"$error":"#N/A"},{"$error":"#N/A"},{"$error":"#N/A"},{"$error":"#N/A"},{"$error":"#N/A"},{"$error":"#N/A"},{"$error":"#N/A"},{"$error":"#N/A"},{"$error":"#N/A"},{"$error":"#N/A"},{"$error":"#N/A"},{"$error":"#N/A"},{"$error":"#N/A"},{"$error":"#N/A"},{"$error":"#N/A"},{"$error":"#N/A"},{"$error":"#N/A"},{"$error":"#N/A"},{"$error":"#N/A"},{"$error":"#N/A"},{"$error":"#N/A"},{"$error":"#N/A"},{"$error":"#N/A"},{"$error":"#N/A"},{"$error":"#N/A"},{"$error":"#N/A"},{"$error":"#N/A"},{"$error":"#N/A"},{"$error":"#N/A"},{"$error":"#N/A"},{"$error":"#N/A"},{"$f":"IF($AG$16,GK6,NA())","v":{"$error":"#N/A"}},{"$error":"#N/A"},{"$error":"#N/A"},{"$error":"#N/A"},{"$error":"#N/A"},{"$error":"#N/A"},{"$error":"#N/A"},{"$error":"#N/A"},{"$error":"#N/A"},{"$error":"#N/A"},{"$error":"#N/A"},{"$error":"#N/A"},{"$error":"#N/A"},{"$error":"#N/A"},{"$error":"#N/A"},{"$error":"#N/A"},{"$error":"#N/A"},{"$error":"#N/A"},{"$error":"#N/A"},{"$error":"#N/A"},{"$error":"#N/A"},{"$error":"#N/A"},{"$error":"#N/A"},{"$error":"#N/A"},{"$error":"#N/A"},{"$error":"#N/A"},{"$error":"#N/A"},{"$error":"#N/A"},{"$error":"#N/A"},{"$error":"#N/A"},{"$error":"#N/A"},{"$error":"#N/A"},{"$f":"IF($AG$16,HQ6,NA())","v":{"$error":"#N/A"}},{"$error":"#N/A"},{"$error":"#N/A"},{"$error":"#N/A"},{"$error":"#N/A"},{"$error":"#N/A"},{"$error":"#N/A"},{"$error":"#N/A"}]
[null,null,"     Degrees of freedom df ",null,null,5,null,1.7195799999999998E-3,null,null,null,null,null,null,null,null,null,null,null,null,1.7195799999999998E-3,null,null,null,null,null,null,null,null,null,null,"t tail",{"$f":"IF($AG$17,IF(OR(AND($AG$18,AG3<=$F$17),AND($AG$19,AG3>=(1-$F$17))),AG2,-999999999999),IF(OR(AND($AG$18,AG8<=$F$17),AND($AG$19,AG8>=(1-$F$17))),AG7,-999999999999))","v":-999999999999},-999999999999,-999999999999,-999999999999,-999999999999,-999999999999,-999999999999,-999999999999,-999999999999,-999999999999,-999999999999,-999999999999,-999999999999,-999999999999,-999999999999,-999999999999,-999999999999,-999999999999,-999999999999,-999999999999,-999999999999,-999999999999,-999999999999,-999999999999,-999999999999,-999999999999,-999999999999,-999999999999,-999999999999,-999999999999,-999999999999,-999999999999,{"$f":"IF($AG$17,IF(OR(AND($AG$18,BM3<=$F$17),AND($AG$19,BM3>=(1-$F$17))),BM2,-999999999999),IF(OR(AND($AG$18,BM8<=$F$17),AND($AG$19,BM8>=(1-$F$17))),BM7,-999999999999))","v":-999999999999},-999999999999,-999999999999,-999999999999,-999999999999,-999999999999,-999999999999,-999999999999,-999999999999,-999999999999,-999999999999,-999999999999,-999999999999,-999999999999,-999999999999,-999999999999,-999999999999,-999999999999,-999999999999,-999999999999,-999999999999,-999999999999,-999999999999,-999999999999,-999999999999,-999999999999,-999999999999,-999999999999,-999999999999,-999999999999,-999999999999,-999999999999,{"$f":"IF($AG$17,IF(OR(AND($AG$18,CS3<=$F$17),AND($AG$19,CS3>=(1-$F$17))),CS2,-999999999999),IF(OR(AND($AG$18,CS8<=$F$17),AND($AG$19,CS8>=(1-$F$17))),CS7,-999999999999))","v":-999999999999},-999999999999,-999999999999,-999999999999,-999999999999,-999999999999,-999999999999,-999999999999,-999999999999,-999999999999,-999999999999,-999999999999,-999999999999,-999999999999,-999999999999,-999999999999,-999999999999,-999999999999,-999999999999,-999999999999,-999999999999,-999999999999,-999999999999,-999999999999,-999999999999,-999999999999,-999999999999,-999999999999,-999999999999,-999999999999,-999999999999,-999999999999,{"$f":"IF($AG$17,IF(OR(AND($AG$18,DY3<=$F$17),AND($AG$19,DY3>=(1-$F$17))),DY2,-999999999999),IF(OR(AND($AG$18,DY8<=$F$17),AND($AG$19,DY8>=(1-$F$17))),DY7,-999999999999))","v":-999999999999},-999999999999,-999999999999,-999999999999,-999999999999,-999999999999,-999999999999,-999999999999,-999999999999,-999999999999,-999999999999,-999999999999,-999999999999,-999999999999,-999999999999,-999999999999,-999999999999,-999999999999,-999999999999,-999999999999,-999999999999,-999999999999,-999999999999,-999999999999,-999999999999,-999999999999,-999999999999,-999999999999,-999999999999,-999999999999,-999999999999,-999999999999,{"$f":"IF($AG$17,IF(OR(AND($AG$18,FE3<=$F$17),AND($AG$19,FE3>=(1-$F$17))),FE2,-999999999999),IF(OR(AND($AG$18,FE8<=$F$17),AND($AG$19,FE8>=(1-$F$17))),FE7,-999999999999))","v":-999999999999},-999999999999,-999999999999,-999999999999,-999999999999,-999999999999,-999999999999,-999999999999,-999999999999,-999999999999,-999999999999,-999999999999,-999999999999,-999999999999,-999999999999,-999999999999,-999999999999,-999999999999,-999999999999,-999999999999,-999999999999,-999999999999,-999999999999,-999999999999,-999999999999,-999999999999,-999999999999,-999999999999,-999999999999,-999999999999,-999999999999,-999999999999,{"$f":"IF($AG$17,IF(OR(AND($AG$18,GK3<=$F$17),AND($AG$19,GK3>=(1-$F$17))),GK2,-999999999999),IF(OR(AND($AG$18,GK8<=$F$17),AND($AG$19,GK8>=(1-$F$17))),GK7,-999999999999))","v":-999999999999},-999999999999,-999999999999,-999999999999,-999999999999,-999999999999,-999999999999,-999999999999,-999999999999,-999999999999,-999999999999,-999999999999,-999999999999,-999999999999,-999999999999,-999999999999,-999999999999,-999999999999,-999999999999,-999999999999,-999999999999,-999999999999,-999999999999,-999999999999,-999999999999,-999999999999,-999999999999,-999999999999,-999999999999,-999999999999,-999999999999,-999999999999,{"$f":"IF($AG$17,IF(OR(AND($AG$18,HQ3<=$F$17),AND($AG$19,HQ3>=(1-$F$17))),HQ2,-999999999999),IF(OR(AND($AG$18,HQ8<=$F$17),AND($AG$19,HQ8>=(1-$F$17))),HQ7,-999999999999))","v":-999999999999},-999999999999,-999999999999,-999999999999,-999999999999,-999999999999,-999999999999,-999999999999]
[null,null,"Noncentrality parameter",null,null,null,null,1.7195799999999998E-3,null,null,null,null,null,null,null,null,null,null,null,null,1.7195799999999998E-3,null,null,null,null,null,null,null,null,null,null,"Central t",{"$f":"IF($AG$27,(AH8-AG8)/$AG$26,NA())","v":1.7861434649228333E-2},1.9053129045432451E-2,2.0330228071632969E-2,2.1698963731559967E-2,2.3165990799562178E-2,2.4738406942890825E-2,2.6423772013057095E-2,2.8230126052462487E-2,3.0166005475495139E-2,3.2240456785222887E-2,3.4463047077236131E-2,3.6843870460842171E-2,3.9393549394836566E-2,4.2123229790939631E-2,4.5044568583902794E-2,4.8169720904509133E-2,5.1511269209852245E-2,5.5082250188218246E-2,5.8896029746230982E-2,6.2966258627356192E-2,6.7306772577088447E-2,7.1931477261686777E-2,7.6854209739669888E-2,8.2088574103095779E-2,8.7647748989967689E-2,9.3544297176881008E-2,9.978977070745243E-2,0.10639467443221556,0.11336791554598102,0.12071655301486101,0.12844543194588914,0.13655658818426564,{"$f":"IF($AG$27,(BN8-BM8)/$AG$26,NA())","v":0.14504911667214015},0.15391842554769219,0.16315588777434775,0.17274834193678368,0.18267759754535096,0.19292004202901114,0.20344617421128031,0.2142202914074598,0.225200213147001,0.23633711355134368,0.24757547580443129,0.25885318970184423,0.27010181152875234,0.28124700253043478,0.29220915791839608,0.30290423269253686,0.3132447636420943,0.323141078945266,0.33250267772409914,0.34123975410778384,0.34926482862810415,0.35649444561428933,0.36285088477910676,0.36826383248726557,0.37267195500465533,0.37602431652310142,0.37828158813095425,0.37941700026120073,0.37941700026111747,0.37828158813099533,0.37602431652310253,0.37267195500466421,{"$f":"IF($AG$27,(CT8-CS8)/$AG$26,NA())","v":0.36826383248727224},0.36285088477909788,0.35649444561429489,0.34926482862810193,0.34123975410777829,0.33250267772410913,0.32314107894526156,0.31324476364209985,0.30290423269253797,0.29220915791839053,0.28124700253044255,0.27010181152875345,0.25885318970183979,0.24757547580443351,0.2363371135513459,0.22520021314700323,0.21422029140745869,0.20344617421128364,0.19292004202901225,0.1826775975453554,0.17274834193678368,0.16315588777435108,0.15391842554768775,0.14504911667214238,0.13655658818426453,0.12844543194589164,0.12071655301486128,0.11336791554597658,0.10639467443221751,9.978977070745465E-2,9.3544297176881841E-2,8.7647748989965191E-2,{"$f":"IF($AG$27,(DZ8-DY8)/$AG$26,NA())","v":8.2088574103098555E-2},7.685420973967183E-2,7.1931477261686361E-2,6.730677257708928E-2,6.2966258627357163E-2,5.8896029746229317E-2,5.5082250188220883E-2,5.1511269209851829E-2,4.816972090450955E-2,4.5044568583902933E-2,4.2123229790937966E-2,3.9393549394837191E-2,3.6843870460843142E-2,3.4463047077235576E-2,3.2240456785224136E-2,3.0166005475493751E-2,2.8230126052464222E-2,2.6423772013057789E-2,2.4738406942890201E-2,2.3165990799562941E-2,2.1698963731560106E-2,2.0330228071632206E-2,1.9053129045432105E-2,1.7861434649228958E-2,1.674931507384958E-2,1.5711321985001359E-2,1.4742367911979581E-2,1.3837705946531109E-2,1.2992910495919219E-2,1.2203854981516216E-2,1.1466699704871797E-2,1.0777867271143382E-2,{"$f":"IF($AG$27,(FF8-FE8)/$AG$26,NA())","v":1.0134029152182311E-2},9.5320887242689167E-3,8.9691658986112976E-3,8.4425825814893329E-3,7.9498489543361472E-3,7.4886505569660144E-3,7.0568361512601818E-3,6.6524063385520193E-3,6.2735029008087473E-3,5.9183988336819482E-3,5.5854890382178723E-3,5.2732816374012614E-3,4.980389883659786E-3,4.7055246237270865E-3,4.4474872879485261E-3,4.2051633720729953E-3,3.97751638052668E-3,3.763582201570248E-3,3.5624638858999802E-3,3.3733268017455131E-3,3.1953941407891762E-3,3.0279427508284051E-3,2.8702992722329235E-3,2.7218365568693059E-3,2.5819703493312751E-3,2.4501562116086006E-3,2.3258866736353134E-3,2.2086885932504075E-3,2.0981207102344079E-3,1.9937713801798651E-3,1.8952564749219469E-3,1.8022174371434829E-3,{"$f":"IF($AG$27,(GL8-GK8)/$AG$26,NA())","v":1.7143194778013182E-3},1.6312499056403418E-3,1.5527165790296671E-3,1.4784464709483025E-3,1.4081843386737347E-3,1.3416914903507937E-3,1.278744641171059E-3,1.2191348525436574E-3,1.1626665479025355E-3,1.1091565996035335E-3,1.058433481471166E-3,1.010336482138996E-3,9.6471497471606327E-4,9.2142773848058468E-4,8.803423288394896E-4,8.4133449192780319E-4,8.0428762054607361E-4,7.6909224840271406E-4,7.356455798612771E-4,7.0385105249703983E-4,6.7361793020248584E-4,6.4486092445470433E-4,6.174998418173594E-4,5.914592557054732E-4,5.6666820421158448E-4,5.4305988710812159E-4,5.2057143769435044E-4,4.9914363712488807E-4,4.7872070332077854E-4,4.5925007174263399E-4,4.4068219459125757E-4,4.2297035343974443E-4,{"$f":"IF($AG$27,(HR8-HQ8)/$AG$26,NA())","v":4.0607048428675796E-4},3.8994101419165261E-4,3.7454270869430317E-4,3.5983852921139814E-4,3.4579349978081098E-4,3.3237458246793139E-4,3.1955056082555444E-4,3.0729193090328621E-4]
[null,null,null,null,"D",{"$f":"(AG28-1300)/100","v":2.5},null,1.7195799999999998E-3,null,null,null,null,null,null,null,null,null,null,null,null,1.7195799999999998E-3,null,null,null,null,null,null,null,null,null,null,"cdf(t)",{"$f":"IF(AG9<0,TDIST(ABS(AG9),$F$6,1),1-TDIST(AG9,$F$6,1))","v":1.5049623946187505E-2},1.5942695678648922E-2,1.6895352130920544E-2,1.7911863534502193E-2,1.8996811721080191E-2,2.01551112610583E-2,2.1392031608202841E-2,2.2713220208855696E-2,2.412472651147882E-2,2.5633026785253577E-2,2.7245049624514722E-2,2.8968201978376528E-2,3.0810395501418637E-2,3.2780072971160465E-2,3.4886234460707446E-2,3.7138462889902586E-2,3.9546948935128043E-2,4.2122512395620655E-2,4.4876624905031567E-2,4.7821426392343117E-2,5.0969739323710926E-2,5.4335077952565349E-2,5.7931651815649687E-2,6.1774362302633182E-2,6.5878791007787971E-2,7.0261178457286355E-2,7.4938393316130406E-2,7.9927881851503027E-2,8.5247615573113805E-2,9.0916011350412856E-2,9.6951839001155907E-2,0.10337411059845036,0.11020194000766365,0.11745439584127065,0.12515031711865526,0.13330811150737265,0.14194552860421183,0.15107940848147938,0.16072541058292994,0.17089771929349395,0.18160873386386694,0.19286874452121699,0.20468560019878418,0.21706437398900574,0.23000703347409795,0.24351212405053557,0.25757447417705731,0.27218493207297711,0.28733014370760396,0.30299238188970867,0.31914943583697197,0.33577456972317693,0.35283655742856612,0.37029979885997133,0.3881245211406858,0.40626706537964113,0.42468025700400441,0.44331385475423718,0.46211507058039225,0.48102914998693996,0.5,0.51897085001305587,0.53788492941960564,0.55668614524576077,{"$f":"IF(CS9<0,TDIST(ABS(CS9),$F$6,1),1-TDIST(CS9,$F$6,1))","v":0.57531974299599398},0.59373293462035759,0.61187547885931248,0.62970020114002723,0.64716344257143232,0.66422543027682124,0.68085056416302669,0.69700761811028977,0.71266985629239477,0.72781506792702166,0.74242552582294119,0.75648787594946332,0.76999296652590099,0.78293562601099298,0.79531439980121466,0.80713125547878195,0.81839126613613211,0.82910228070650505,0.83927458941706923,0.84892059151851984,0.85805447139578761,0.86669188849262679,0.87484968288134435,0.88254560415872874,0.88979805999233585,0.89662588940154908,0.90304816099884366,0.90908398864958673,0.91475238442688556,0.92007211814849643,0.92506160668386916,0.92973882154271326,0.93412120899221152,0.93822563769736644,0.94206834818435004,0.94566492204743435,0.94903026067628882,0.95217857360765668,0.95512337509496814,0.95787748760437919,0.96045305106487178,0.96286153711009725,0.9651137655392924,0.9672199270288393,0.96918960449858116,0.97103179802162332,0.97275495037548509,0.9743669732147463,0.97587527348852099,0.9772867797911442,0.97860796839179709,0.9798448887389416,0.98100318827891975,0.98208813646549775,0.98310464786907936,0.98405730432135097,0.98495037605381242,0.98578784180750489,0.98657340790675496,0.98731052630235394,0.9880024115996805,0.98865205712447646,0.98926224987355227,0.98983558485879586,{"$f":"IF(FE9<0,TDIST(ABS(FE9),$F$6,1),1-TDIST(FE9,$F$6,1))","v":0.99037447822235303},0.99088117967996214,0.99135778411617559,0.99180624241110615,0.99222837154018062,0.99262586398789743,0.99300029651574573,0.99335313832330874,0.99368575864023634,0.99399943378527678,0.99429535372696087,0.99457462817887177,0.99483829226074183,0.99508731175492482,0.99532258798611117,0.9955449623505086,0.99575522051911225,0.99595409633813858,0.9961422754482171,0.9963203986425121,0.99648906498259937,0.99664883468963883,0.99680023182718025,0.9969437467907919,0.99707983861863536,0.99720893713610192,0.99733144494668236,0.99744773928036412,0.99755817371002664,0.99766307974553836,0.99776276831454735,0.99785753113829345,0.99794764201015063,0.99803335798404069,0.99811492047932271,0.99819255630827419,0.99826647863182161,0.99833688784875529,0.99840397242327283,0.99846790965533139,0.99852886639795857,0.9985869997253537,0.99864245755533387,0.99869537922940743,0.99874589605351438,0.99879413180225018,0.99884020318917421,0.99888422030561619,0.99892628703021258,0.99896650141123988,0.99900495602366002,0.99904173830265308,0.99907693085527793,0.99911061175178806,0.99914285479801079,0.99917372979010166,0.99920330275288693,0.99923163616309751,0.99925878915745292,0.99928481772933764,0.99930977491119388,0.99933371094635992,0.99935667344994705,0.99937870755967662,{"$f":"IF(HQ9<0,TDIST(ABS(HQ9),$F$6,1),1-TDIST(HQ9,$F$6,1))","v":0.9993998560773486},0.99942015960156294,0.99943965665227252,0.99945838378770724,0.99947637571416781,0.99949366538915685,0.99951028411828025,0.99952626164632152,0.99954162624286669]
[null,null,null,null,null,null,null,1.7195799999999998E-3,null,null,null,null,null,null,null,null,null,null,null,null,1.7195799999999998E-3,null,null,null,null,null,null,null,null,null,null,"x",{"$f":"AG24","v":-3},{"$f":"AG9+$AG$26","v":-2.95},-2.9000000000000004,-2.8500000000000005,-2.8000000000000007,-2.7500000000000009,-2.7000000000000011,-2.6500000000000012,-2.6000000000000014,-2.5500000000000016,-2.5000000000000018,-2.450000000000002,-2.4000000000000021,-2.3500000000000023,-2.3000000000000025,-2.2500000000000027,-2.2000000000000028,-2.150000000000003,-2.1000000000000032,-2.0500000000000034,-2.0000000000000036,-1.9500000000000035,-1.9000000000000035,-1.8500000000000034,-1.8000000000000034,-1.7500000000000033,-1.7000000000000033,-1.6500000000000032,-1.6000000000000032,-1.5500000000000032,-1.5000000000000031,-1.4500000000000031,-1.400000000000003,{"$f":"BM9+$AG$26","v":-1.350000000000003},-1.3000000000000029,-1.2500000000000029,-1.2000000000000028,-1.1500000000000028,-1.1000000000000028,-1.0500000000000027,-1.0000000000000027,-0.95000000000000262,-0.90000000000000258,-0.85000000000000253,-0.80000000000000249,-0.75000000000000244,-0.7000000000000024,-0.65000000000000235,-0.60000000000000231,-0.55000000000000226,-0.50000000000000222,-0.45000000000000223,-0.40000000000000224,-0.35000000000000225,-0.30000000000000226,-0.25000000000000228,-0.20000000000000229,-0.1500000000000023,-0.1000000000000023,-5.0000000000002293E-2,-2.2898349882893854E-15,4.9999999999997713E-2,9.9999999999997716E-2,0.14999999999999772,0.19999999999999774,{"$f":"CS9+$AG$26","v":0.24999999999999772},0.29999999999999771,0.3499999999999977,0.39999999999999769,0.44999999999999768,0.49999999999999767,0.54999999999999771,0.59999999999999776,0.6499999999999978,0.69999999999999785,0.74999999999999789,0.79999999999999793,0.84999999999999798,0.89999999999999802,0.94999999999999807,0.99999999999999811,1.049999999999998,1.0999999999999981,1.1499999999999981,1.1999999999999982,1.2499999999999982,1.2999999999999983,1.3499999999999983,1.3999999999999984,1.4499999999999984,1.4999999999999984,1.5499999999999985,1.5999999999999985,1.6499999999999986,1.6999999999999986,1.7499999999999987,1.7999999999999987,{"$f":"DY9+$AG$26","v":1.8499999999999988},1.8999999999999988,1.9499999999999988,1.9999999999999989,2.0499999999999989,2.0999999999999988,2.1499999999999986,2.1999999999999984,2.2499999999999982,2.299999999999998,2.3499999999999979,2.3999999999999977,2.4499999999999975,2.4999999999999973,2.5499999999999972,2.599999999999997,2.6499999999999968,2.6999999999999966,2.7499999999999964,2.7999999999999963,2.8499999999999961,2.8999999999999959,2.9499999999999957,2.9999999999999956,3.0499999999999954,3.0999999999999952,3.149999999999995,3.1999999999999948,3.2499999999999947,3.2999999999999945,3.3499999999999943,3.3999999999999941,{"$f":"FE9+$AG$26","v":3.449999999999994},3.4999999999999938,3.5499999999999936,3.5999999999999934,3.6499999999999932,3.6999999999999931,3.7499999999999929,3.7999999999999927,3.8499999999999925,3.8999999999999924,3.9499999999999922,3.999999999999992,4.0499999999999918,4.0999999999999917,4.1499999999999915,4.1999999999999913,4.2499999999999911,4.2999999999999909,4.3499999999999908,4.3999999999999906,4.4499999999999904,4.4999999999999902,4.5499999999999901,4.5999999999999899,4.6499999999999897,4.6999999999999895,4.7499999999999893,4.7999999999999892,4.849999999999989,4.8999999999999888,4.9499999999999886,4.9999999999999885,{"$f":"GK9+$AG$26","v":5.0499999999999883},5.0999999999999881,5.1499999999999879,5.1999999999999877,5.2499999999999876,5.2999999999999874,5.3499999999999872,5.399999999999987,5.4499999999999869,5.4999999999999867,5.5499999999999865,5.5999999999999863,5.6499999999999861,5.699999999999986,5.7499999999999858,5.7999999999999856,5.8499999999999854,5.8999999999999853,5.9499999999999851,5.9999999999999849,6.0499999999999847,6.0999999999999845,6.1499999999999844,6.1999999999999842,6.249999999999984,6.2999999999999838,6.3499999999999837,6.3999999999999835,6.4499999999999833,6.4999999999999831,6.5499999999999829,6.5999999999999828,{"$f":"HQ9+$AG$26","v":6.6499999999999826},6.6999999999999824,6.7499999999999822,6.7999999999999821,6.8499999999999819,6.8999999999999817,6.9499999999999815,6.9999999999999813]
[null,null,null,null,null,null,null,1.7195799999999998E-3,null,null,null,null,null,null,null,null,null,null,null,null,1.7195799999999998E-3,null,null,null,null,null,null,null,null,null,null,"nct tail",{"$f":"IF(OR(AND($AG$18,AG12<=$F$17),AND($AG$19,AG12>=(1-$F$17))),AG11,-999999999999)","v":-999999999999},-999999999999,-999999999999,-999999999999,-999999999999,-999999999999,-999999999999,-999999999999,-999999999999,-999999999999,-999999999999,-999999999999,-999999999999,-999999999999,-999999999999,-999999999999,-999999999999,-999999999999,-999999999999,-999999999999,-999999999999,-999999999999,-999999999999,-999999999999,-999999999999,-999999999999,-999999999999,-999999999999,-999999999999,-999999999999,-999999999999,-999999999999,{"$f":"IF(OR(AND($AG$18,BM12<=$F$17),AND($AG$19,BM12>=(1-$F$17))),BM11,-999999999999)","v":-999999999999},-999999999999,-999999999999,-999999999999,-999999999999,-999999999999,-999999999999,-999999999999,-999999999999,-999999999999,-999999999999,-999999999999,-999999999999,-999999999999,-999999999999,-999999999999,-999999999999,-999999999999,-999999999999,-999999999999,-999999999999,-999999999999,-999999999999,-999999999999,-999999999999,-999999999999,-999999999999,-999999999999,-999999999999,-999999999999,-999999999999,-999999999999,{"$f":"IF(OR(AND($AG$18,CS12<=$F$17),AND($AG$19,CS12>=(1-$F$17))),CS11,-999999999999)","v":-999999999999},-999999999999,-999999999999,-999999999999,-999999999999,-999999999999,-999999999999,-999999999999,-999999999999,-999999999999,-999999999999,-999999999999,-999999999999,-999999999999,-999999999999,-999999999999,-999999999999,-999999999999,-999999999999,-999999999999,-999999999999,-999999999999,-999999999999,-999999999999,-999999999999,-999999999999,-999999999999,-999999999999,-999999999999,-999999999999,-999999999999,-999999999999,{"$f":"IF(OR(AND($AG$18,DY12<=$F$17),AND($AG$19,DY12>=(1-$F$17))),DY11,-999999999999)","v":-999999999999},-999999999999,-999999999999,-999999999999,-999999999999,-999999999999,-999999999999,-999999999999,-999999999999,-999999999999,-999999999999,-999999999999,-999999999999,-999999999999,-999999999999,-999999999999,-999999999999,-999999999999,-999999999999,-999999999999,-999999999999,-999999999999,-999999999999,-999999999999,-999999999999,-999999999999,-999999999999,-999999999999,-999999999999,-999999999999,-999999999999,-999999999999,{"$f":"IF(OR(AND($AG$18,FE12<=$F$17),AND($AG$19,FE12>=(1-$F$17))),FE11,-999999999999)","v":-999999999999},-999999999999,-999999999999,-999999999999,-999999999999,-999999999999,-999999999999,-999999999999,-999999999999,-999999999999,-999999999999,-999999999999,-999999999999,-999999999999,-999999999999,-999999999999,-999999999999,-999999999999,-999999999999,-999999999999,-999999999999,-999999999999,-999999999999,-999999999999,-999999999999,-999999999999,-999999999999,-999999999999,-999999999999,-999999999999,-999999999999,-999999999999,{"$f":"IF(OR(AND($AG$18,GK12<=$F$17),AND($AG$19,GK12>=(1-$F$17))),GK11,-999999999999)","v":-999999999999},-999999999999,-999999999999,-999999999999,-999999999999,-999999999999,-999999999999,-999999999999,-999999999999,-999999999999,-999999999999,-999999999999,-999999999999,-999999999999,-999999999999,-999999999999,-999999999999,-999999999999,-999999999999,-999999999999,-999999999999,-999999999999,-999999999999,-999999999999,-999999999999,-999999999999,-999999999999,-999999999999,-999999999999,-999999999999,-999999999999,-999999999999,{"$f":"IF(OR(AND($AG$18,HQ12<=$F$17),AND($AG$19,HQ12>=(1-$F$17))),HQ11,-999999999999)","v":-999999999999},-999999999999,-999999999999,-999999999999,-999999999999,-999999999999,-999999999999,-999999999999]
[2,"Central t distribution",null,null,null,null,null,1.7195799999999998E-3,null,null,null,null,null,null,null,null,null,null,null,null,1.7195799999999998E-3,null,null,null,null,null,null,null,null,null,null,"NonCentral t",{"$f":"(AH12-AG12)/$AG$26","v":1.6284554684728726E-5},1.7715332683424621E-5,1.9290766340545485E-5,2.1027314517350078E-5,2.2943508962061672E-5,2.5060235599187519E-5,2.7401062361779875E-5,2.9992608605233776E-5,3.2864979356236505E-5,3.605225786602126E-5,3.959307752586775E-5,4.3531274549716092E-5,4.7916646839033447E-5,5.2805833743493536E-5,5.826332139421267E-5,6.4362614823313292E-5,7.1187592034937819E-5,7.8834075816891486E-5,8.7411648485444726E-5,9.7045764012263641E-5,1.0788019711086637E-4,1.2007988228833437E-4,1.3383422494880746E-4,1.4936092848754652E-4,1.6691045923891527E-4,1.8677122823608527E-4,2.0927561157449323E-4,2.3480695045566822E-4,2.6380767882131065E-4,2.9678875846929755E-4,3.3434062772696809E-4,3.7714589162990148E-4,{"$f":"(BN12-BM12)/$AG$26","v":4.2599401250378182E-4},4.8179829839682512E-4,5.4561551101707029E-4,6.1866845755888873E-4,7.0237195550418427E-4,7.9836259879992322E-4,9.0853277286436114E-4,1.0350693861341221E-3,1.1804977903333215E-3,1.3477313474377184E-3,1.5401270638534781E-3,1.7615476429160221E-3,2.0164301948234048E-3,2.3098616814220055E-3,2.6476609481715613E-3,3.0364668980093022E-3,3.4838319792579626E-3,3.9983196847034322E-3,4.5896041836501278E-3,5.268569533644781E-3,6.0474051478390765E-3,6.9396933439861731E-3,7.9604838976955663E-3,9.1263496070243411E-3,1.0455416003154411E-2,1.1967357584859849E-2,1.3683352398329678E-2,1.5625986526955783E-2,1.7819100200866279E-2,2.0287567885542632E-2,2.3057005951408922E-2,2.6153403427051254E-2,{"$f":"(CT12-CS12)/$AG$26","v":2.9602673924408879E-2},3.3430130072945527E-2,3.7659885628563081E-2,4.2314194685120141E-2,4.7412741898817876E-2,5.2971902069212165E-2,5.9003991493724317E-2,6.5516536894667105E-2,7.2511590088019731E-2,7.9985117640868075E-2,8.7926494340200556E-2,9.6318127258191999E-2,0.10513523355275112,0.11434579001536188,0.12391066601884479,0.13378394427602414,0.14391342612091546,0.15424131033247052,0.16470502730137726,0.17523820402142898,0.18577173032320732,0.19623489321860837,0.20655654433499815,0.21666626521577526,0.22649549666745261,0.23597860116251368,0.24505383130978109,0.25366418227821597,0.26175811148133166,0.26929011447753837,0.27622115161798633,0.28251892522164479,{"$f":"(DZ12-DY12)/$AG$26","v":0.28815801177057898},0.29311985764771675,0.29739265019236072,0.30097107828677472,0.30385599831883159,0.30605402223807698,0.30757704461157442,0.30844172518826762,0.30866894260165312,0.30828323359207488,0.30731223061733259,0.30578610904343551,0.30373705335286605,0.30119875005234165,0.29820591326308654,0.29479384738365977,0.29099804976036481,0.28685385500468952,0.28239612147372473,0.27765895948001162,0.27267550001793817,0.26747770217704137,0.26209619694367747,0.25656016475821053,0.25089724397832303,0.24513346728353147,0.23929322302505884,0.23339923856426692,0.22747258273635662,0.22153268471171828,0.21559736669430452,0.20968288808290714,{"$f":"(FF12-FE12)/$AG$26","v":0.20380399892232059},0.1979740006748254,0.19220481254968114,0.18650704182732847,0.1808900568084737,0.17536206120066566,0.16993016892458135,0.16460047847973946,0.15937814615246015,0.15426745747841419,0.14927189648778594,0.14439421236411842,0.13963648323782385,0.13500017691443267,0.13048620840443448,0.1260949941807743,0.12182650313767196,0.11768030426545062,0.11365561109024647,0.10975132295340861,0.10596606322798463,0.10229821458459742,9.874595143441578E-2,9.5307269681041973E-2,9.1980013923957937E-2,8.8761902253462477E-2,8.5650548785147773E-2,8.2643484072113527E-2,7.973817353862378E-2,7.6932034072503264E-2,7.4222448905396643E-2,7.1606780913331392E-2,{"$f":"(GL12-GK12)/$AG$26","v":6.908238445496373E-2},6.6646615866949865E-2,6.4296842723707837E-2,6.2030451968575484E-2,5.9844857008355401E-2,5.77375038689798E-2,5.5705876494214213E-2,5.3747501263352593E-2,5.1859950811274924E-2,5.0040847207322159E-2,4.8287864567311267E-2,4.6598731145139904E-2,4.4971230972754572E-2,4.3403205078702545E-2,4.1892552349853673E-2,4.0437230061858287E-2,3.9035254125001639E-2,3.7684699074476136E-2,3.6383697846198437E-2,3.5130441346802321E-2,3.392317786732546E-2,3.2760212344815631E-2,3.1639905503841881E-2,3.0560672891988272E-2,2.9520983825472857E-2,2.8519360265146787E-2,2.7554375632568018E-2,2.66246535751824E-2,2.5728866700993613E-2,2.486573528219127E-2,2.4034025942631931E-2,2.3232550334066904E-2,{"$f":"(HR12-HQ12)/$AG$26","v":2.2460163808666334E-2},2.1715764092120615E-2,2.099828996445785E-2,2.0306719952034591E-2,1.9640071033402151E-2,1.8997397364344248E-2,1.8377789022556712E-2,1.7780370776214749E-2]
[null,null,null,null,null,null,null,1.7195799999999998E-3,null,null,null,null,null,null,null,null,null,null,null,null,1.7195799999999998E-3,null,null,null,null,null,null,null,null,null,null,"nct function",{"$f":"nct(AG9,$F$8,$F$6)","v":1.0980658420841274E-5},{"$f":"nct(AH9,$F$8,$F$6)","v":1.179488615507771E-5},1.2680652789248941E-5,1.3645191106276216E-5,1.469655683214372E-5,1.5843732280246803E-5,1.7096744060206179E-5,1.8466797178295173E-5,1.9966427608556862E-5,2.1609676576368687E-5,2.341228946966975E-5,2.5391943345963137E-5,2.7568507073448942E-5,2.9964339415400614E-5,3.2604631102575291E-5,3.5517797172285925E-5,3.8735927913451589E-5,4.229530751519848E-5,4.6237011306043054E-5,5.0607593730315291E-5,5.5459881930928473E-5,6.0853891786471791E-5,6.685788590088851E-5,7.3549597148328882E-5,8.1017643572706209E-5,8.9363166534651972E-5,9.8701727946456236E-5,1.091655085251809E-4,1.2090585604796431E-4,1.3409623998902984E-4,1.4893567791249472E-4,1.6565270929884312E-4,1.845100038803382E-4,2.0580970450552729E-4,2.2989961942536854E-4,2.5718039497622206E-4,2.881138178541665E-4,3.2323241562937571E-4,3.6315054556937187E-4,4.0857718421258993E-4,4.6033065351929603E-4,5.1935554303596211E-4,5.8674211040784803E-4,6.6374846360052193E-4,7.5182584574632304E-4,8.5264735548749328E-4,9.6814043955859355E-4,1.1005234869671716E-3,1.2523468318676367E-3,1.4265384308305349E-3,1.6264544150657065E-3,1.8559346242482129E-3,2.1193631009304519E-3,2.4217333583224057E-3,2.7687180255217144E-3,3.1667422204064927E-3,3.6230597007577098E-3,4.1458305009154303E-3,4.7441983801584228E-3,5.4283660000749067E-3,6.2096653264226958E-3,7.1006203364660098E-3,8.1149987307431413E-3,9.2678490283135875E-3,1.057551919966615E-2,{"$f":"nct(CT9,$F$8,$F$6)","v":1.2055652895886594E-2},1.372715939953387E-2,1.5610153680962024E-2,1.7725863415218032E-2,2.0096500510158925E-2,2.2745095613619534E-2,2.5695295188305749E-2,2.8971122033039105E-2,3.2596701537440091E-2,3.6595957419483495E-2,4.0992282136493523E-2,4.5808188499403123E-2,5.1064950177040679E-2,5.6782239677808773E-2,6.2977772978751012E-2,6.9666970192552219E-2,7.6862641498597992E-2,8.4574707015221517E-2,9.280995838029038E-2,0.10157186858136183,0.1108604550975222,0.12067219975845261,0.13100002697520252,0.14183334023599128,0.15315811506936391,0.1649570451274896,0.17720973669297865,0.18989294580688945,0.20298085138095603,0.21644535710483295,0.23025641468573227,0.24438236094681451,0.25879026153534346,0.2734462544177293,0.28831588692734733,0.30336444084168607,0.31855724075762765,0.3338599418695315,0.34923879410011022,0.3646608803595236,0.38009432748960625,0.39550848916921,0.41087410070007663,0.4261634061522484,0.44135025881989171,0.45641019632250879,0.47132049198566311,0.4860601843548461,0.50061008684286434,0.51495277959309882,0.52907258566678506,0.54295553364078564,0.55658930864168255,0.56996319375053461,0.58306800359771849,0.59589601183562901,0.60844087403454516,0.62069754739872174,0.63266220854997468,0.64433217047818803,0.65570579961500586,0.66678243385059177,0.677562302185307,0.68804644658945235,{"$f":"nct(FF9,$F$8,$F$6)","v":0.69823664653556838},0.70813534656930965,0.71774558719679371,0.72707093928816013,0.73611544212858382,0.7448835451886171,0.75338005363484617,0.76161007755883314,0.76957898486645615,0.77729235774037686,0.78475595256476616,0.79197566318297208,0.79895748734486327,0.8057074961905849,0.81223180661080663,0.81853655631984534,0.82462788147672894,0.83051189669000147,0.8361946772445138,0.84168224339218423,0.84698054655358346,0.85209545728281333,0.85703275485453412,0.86179811833858622,0.86639711903478411,0.87083521414745724,0.87511774158671463,0.8792499157903203,0.88323682446725149,0.88708342617087665,0.89079454861614649,0.89437488766181306,0.89782900688456124,0.90116133767790874,0.90437617981409413,0.9074777024125229,0.91046994526294067,0.91335682045638966,0.91614211428110037,0.918829489344268,0.92142248688483175,0.92392452924519786,0.92633892247356342,0.92866885903082041,0.93091742057945814,0.93308758083339327,0.93518220845088595,0.93720406995397887,0.93915583266022895,0.94104006761395276,0.94285925250626268,0.9446157745736028,0.94631193346696907,0.94794994408420985,0.94953193935940194,0.95105997300400136,0.952536022195275,0.95396199020853234,0.95533970899016074,0.95667094166891986,0.95795738500396954,0.95920067176807911,0.9604023730652107,0.96156400058191405,{"$f":"nct(HR9,$F$8,$F$6)","v":0.96268700877234736},0.96377279697695339,0.96482271147517629,0.96583804747277802,0.96682005102444812,0.96776992089266534,0.96868881034379317,0.96957782888260391]
[null,null,null,null,null,null,null,1.7195799999999998E-3,null,null,null,null,null,null,null,null,null,null,null,null,1.7195799999999998E-3,null,null,null,null,null,null,null,null,null,null,"for t",1700]
[null,null,null,null,null,null,null,1.7195799999999998E-3,null,null,null,null,null,null,null,null,null,null,null,null,1.7195799999999998E-3,null,null,null,null,null,null,null,null,null,null,"Show blue vertical",false]
[3,null,null,null,null,null,null,1.7195799999999998E-3,null,null,null,null,null,null,null,null,null,null,null,null,1.7195799999999998E-3,null,null,null,null,null,null,null,null,null,null,"Show red vertical",false]
[null,null,null,null,"      Size of tail",null,null,1.7195799999999998E-3,null,null,null,null,null,null,null,null,null,null,null,null,1.7195799999999998E-3,null,null,null,null,null,null,null,null,null,null,"Central t tail in front",false]
[null,null,null,null,"p",{"$f":"AG29/100","v":0.08},null,1.7195799999999998E-3,null,null,null,null,null,null,null,null,null,null,null,null,{"$f":"$H$1","v":1.7195799999999998E-3},null,null,null,null,null,null,null,null,null,null,"Show displaced t",false]
[null,null,null,null,null,null,null,1.7195799999999998E-3,null,null,null,null,null,null,null,null,null,null,null,null,1.7195799999999998E-3,null,null,null,null,null,null,null,null,null,null,"Show L tail",false]
[null,null,null,null,null,null,null,1.7195799999999998E-3,null,null,null,null,null,null,null,null,null,null,null,null,1.7195799999999998E-3,null,null,null,null,null,null,null,null,null,null,"Show R tail",false]
[5,null,null,null,null,null,null,1.7195799999999998E-3,null,null,null,null,null,null,null,null,null,null,null,null,1.7195799999999998E-3,null,null,null,null,null,null,null,null,null,null,"for Centre of X axis",70]
[null,null,null,null,null,null,null,1.7195799999999998E-3,null,null,null,null,null,null,null,null,null,null,null,null,1.7195799999999998E-3,null,null,null,null,null,null,null,null,null,null,"for Length of X axis",20]
[null,null,null,null,{"$f":"IF(AG30,\"t\",\"\")","v":"t"},{"$f":"IF(AG30,(AG13-1300)/100,\"\")","v":4},null,1.7195799999999998E-3,null,null,null,null,null,null,null,null,null,null,null,null,1.7195799999999998E-3,null,null,null,null,null,null,null,null,null,null,"Centre of X axis",{"$f":"(AG20-50)/10","v":2}]
[null,null,null,null,null,null,null,1.7195799999999998E-3,null,null,null,null,null,null,null,null,null,null,null,null,1.7195799999999998E-3,null,null,null,null,null,null,null,null,null,null,"Length of X axis",{"$f":"AG21/2","v":10}]
[null,null,null,{"$f":"IF(AG30,\"Left\",\"\")","v":"Left"},null,{"$f":"IF(AG30,\"Right\",\"\")","v":"Right"},null,1.7195799999999998E-3,null,null,null,null,null,null,null,null,null,null,null,null,1.7195799999999998E-3,null,null,null,null,null,null,null,null,null,null,"LH end",{"$f":"AG22-AG23/2","v":-3}]
[null,null,{"$f":"IF(AG30,\"NonCentral t probabilities\",\"\")","v":"NonCentral t probabilities"},{"$f":"IF(AG30,nct(F22,F8,F6),\"\")","v":0.79197566318297319},null,{"$f":"IF(AG30,1-D25,\"\")","v":0.20802433681702681},null,1.7195799999999998E-3,null,null,null,null,null,null,null,null,null,null,null,null,1.7195799999999998E-3,null,null,null,null,null,null,null,null,null,null,"N(t steps)",200]
[null,null,null,null,null,null,null,1.7195799999999998E-3,null,null,null,null,null,null,null,null,null,null,null,null,1.7195799999999998E-3,null,null,null,null,null,null,null,null,null,null,"t step size",{"$f":"AG23/AG25","v":0.05}]
[4,"    <<    Shift t axis    >>",null,"   In    Zoom t axis   Out",null,null,null,1.7195799999999998E-3,null,null,null,null,null,null,null,null,null,null,null,null,1.7195799999999998E-3,null,null,null,null,null,null,null,null,null,null,"Show cent t",true]
[null,null,null,null,null,null,null,1.7195799999999998E-3,null,null,null,null,null,null,null,null,null,null,null,null,1.7195799999999998E-3,null,null,null,null,null,null,null,null,null,null,"for NCP",1550]
[null,null,null,null,null,null,null,1.7195799999999998E-3,null,null,null,null,null,null,null,null,null,null,null,null,1.7195799999999998E-3,null,null,null,null,null,null,null,null,null,null,"forTailSize",8]
[null,null,null,null,null,null,null,1.7195799999999998E-3,null,null,null,null,null,null,null,null,null,null,null,null,1.7195799999999998E-3,null,null,null,null,null,null,null,null,null,null,"AccCalc",true]
[null,null,null,null,null,null,null,1.7195799999999998E-3,null,null,null,null,null,null,null,null,null,null,null,null,1.7195799999999998E-3]

{"sheet":"d picture","index":3,"n_rows":310,"n_cols":37,"rows_kept":310,"cut":false,"hidden":false,"merged":[]}
[null,null,"d picture",null,null,null,null,{"$f":"($F$6+$F$8+$F$11+$F$13+$F$27+dlend+drend)/1000000000","v":{"$error":"#VALUE!"}},{"$f":"$H$1","v":{"$error":"#VALUE!"}},{"$error":"#VALUE!"},{"$error":"#VALUE!"},{"$error":"#VALUE!"},{"$error":"#VALUE!"},{"$error":"#VALUE!"},{"$error":"#VALUE!"},{"$error":"#VALUE!"},{"$error":"#VALUE!"},{"$error":"#VALUE!"},{"$error":"#VALUE!"},{"$error":"#VALUE!"},{"$error":"#VALUE!"},null,null,null,null,null,null,null,null,"For cursor",{"$f":"F27","v":""},{"$f":"IF(AE8,0,NA())","v":{"$error":"#N/A"}}]
[null,null,"See population distributions for a chosen d",null,null,null,null,{"$f":"$H$1","v":{"$error":"#VALUE!"}},null,null,null,null,null,null,null,null,null,null,null,null,{"$f":"$H$1","v":{"$error":"#VALUE!"}}]
[null,null,null,null,null,null,null,{"$error":"#VALUE!"},null,null,null,null,null,null,null,null,null,null,null,null,{"$error":"#VALUE!"}]
[null,null,null,null,null,null,null,{"$error":"#VALUE!"},null,null,null,null,null,null,null,null,null,null,null,null,{"$error":"#VALUE!"},null,null,null,null,null,null,null,null,"For d label",true]
[1,"Means",null,null,null,null,null,{"$error":"#VALUE!"},null,null,null,null,null,null,null,null,null,null,null,null,{"$error":"#VALUE!"},null,null,null,null,null,null,null,null,"Disp shade?",false,"X axis L end",{"$f":"MIN(H32,U32)","v":50},{"$f":"F6","v":100},0]
["C",null,1000,null,"  MC  ",{"$f":"C6/10","v":100},null,{"$error":"#VALUE!"},null,null,null,null,null,null,null,null,null,null,null,null,{"$error":"#VALUE!"},null,null,null,null,null,null,null,null,"High E shade?",true,"X axis R end",{"$f":"MAX(H32,U32)","v":150},{"$f":"F8","v":107.5},0]
[null,null,null,null,null,null,null,{"$error":"#VALUE!"},null,null,null,null,null,null,null,null,null,null,null,null,{"$error":"#VALUE!"},null,null,null,null,null,null,null,null,"Low C shade?",false,"x inc",{"$f":"(AG6-AG5)/300","v":0.33333333333333331},{"$f":"AVERAGE(AH5:AH6)","v":103.75},{"$f":"MAX(AF10:AG310)*1.1","v":2.9255767229438397E-2},{"$f":"IF(AE4,AH7,NA())","v":103.75},{"$f":"AI7","v":2.9255767229438397E-2}]
["E",null,1075,null,"ME",{"$f":"C8/10","v":107.5},null,{"$error":"#VALUE!"},null,null,null,null,null,null,null,null,null,null,null,null,{"$error":"#VALUE!"},null,null,null,null,null,null,null,null,"Disp cursor?",false,"y max +",{"$f":"MAX(AF10:AG310)*1.07","v":2.8457882668635533E-2},null,null,{"$f":"IF(NOT(AE4),AH7,NA())","v":{"$error":"#N/A"}},{"$f":"AI7","v":2.9255767229438397E-2}]
[null,null,null,null,null,null,null,{"$error":"#VALUE!"},null,null,null,null,null,null,null,null,null,null,null,null,{"$error":"#VALUE!"},null,null,null,null,null,null,null,null,"index","x","y Control","y Experimental","o'lap shading","low C shade","high E shade"]
[2,"Standard deviations",null,null,null,null,null,{"$error":"#VALUE!"},null,null,null,null,null,null,null,null,null,null,null,null,{"$error":"#VALUE!"},null,null,null,null,null,null,null,null,1,{"$f":"AG5","v":50},{"$f":"NORMDIST(AE10,$F$6,$F$11,FALSE)","v":1.0281859975274042E-4},{"$f":"NORMDIST(AE10,$F$8,$F$13,FALSE)","v":1.7138023670820435E-5},{"$f":"IF($AE$5,MIN(AF10:AG10),NA())","v":{"$error":"#N/A"}},{"$f":"IF(AND($AE$7,$F$8>AE10),AF10,NA())","v":{"$error":"#N/A"}},{"$f":"IF(AND($AE$6,$F$6<AE10),AG10,NA())","v":{"$error":"#N/A"}}]
["C",null,150,null,"sC",{"$f":"C11/10","v":15},null,{"$error":"#VALUE!"},null,null,null,null,null,null,null,null,null,null,null,null,{"$error":"#VALUE!"},null,null,null,null,null,null,null,null,2,{"$f":"AE10+$AG$7","v":50.333333333333336},1.1069663354032387E-4,1.8657307138730943E-5,{"$error":"#N/A"},{"$error":"#N/A"},{"$error":"#N/A"}]
[null,null,null,null,null,null,null,{"$error":"#VALUE!"},null,null,null,null,null,null,null,null,null,null,null,null,{"$error":"#VALUE!"},null,null,null,null,null,null,null,null,3,50.666666666666671,1.1911944889893716E-4,2.030124709647234E-5,{"$error":"#N/A"},{"$error":"#N/A"},{"$error":"#N/A"}]
["E",null,150,null,"sE",{"$f":"C13/10","v":15},null,{"$error":"#VALUE!"},null,null,null,null,null,null,null,null,null,null,null,null,{"$error":"#VALUE!"},null,null,null,null,null,null,null,null,4,51.000000000000007,1.2811986462346747E-4,2.2079132568019547E-5,{"$error":"#N/A"},{"$error":"#N/A"},{"$error":"#N/A"}]
[null,null,null,null,null,null,null,{"$error":"#VALUE!"},null,null,null,null,null,null,null,null,null,null,null,null,{"$error":"#VALUE!"},null,null,null,null,null,null,null,null,5,51.333333333333343,1.3773230013567852E-4,2.400086148451757E-5,{"$error":"#N/A"},{"$error":"#N/A"},{"$error":"#N/A"}]
[3,"Cohen's d",null,null,null,null,null,{"$error":"#VALUE!"},null,null,null,null,null,null,null,null,null,null,null,null,{"$error":"#VALUE!"},null,null,null,null,null,null,null,null,6,51.666666666666679,1.4799282590376706E-4,2.6076973612380336E-5,{"$error":"#N/A"},{"$error":"#N/A"},{"$error":"#N/A"}]
[null,null,null,null,"d ",{"$f":"(F8-F6)/F11","v":0.5},null,{"$error":"#VALUE!"},null,null,null,null,null,null,null,null,null,null,null,null,{"$error":"#VALUE!"},null,null,null,null,null,null,null,null,7,52.000000000000014,1.5893921343099004E-4,2.8318684703383525E-5,{"$error":"#N/A"},{"$error":"#N/A"},{"$error":"#N/A"}]
[null,null,null,"            Label as d in figure",null,null,null,{"$error":"#VALUE!"},null,null,null,null,null,null,null,null,null,null,null,null,{"$f":"$H$1","v":{"$error":"#VALUE!"}},null,null,null,null,null,null,null,null,8,52.33333333333335,1.7061098462751903E-4,3.0737921867615116E-5,{"$error":"#N/A"},{"$error":"#N/A"},{"$error":"#N/A"}]
[null,null,null,null,null,null,"Shade?",{"$error":"#VALUE!"},null,null,null,null,null,null,null,null,null,null,null,null,{"$error":"#VALUE!"},null,null,null,null,null,null,null,null,9,52.666666666666686,1.8304946036800144E-4,3.3347360165815118E-5,{"$error":"#N/A"},{"$error":"#N/A"},{"$error":"#N/A"}]
[null,null,null,null,"% of E above mean of C",{"$f":"100*(1-NORMSDIST((F6-F8)/F13))","v":69.146246127401312},null,{"$error":"#VALUE!"},null,null,null,null,null,null,null,null,null,null,null,null,{"$error":"#VALUE!"},null,null,null,null,null,null,null,null,10,53.000000000000021,1.9629780802555815E-4,3.6160460412946706E-5,{"$error":"#N/A"},{"$error":"#N/A"},{"$error":"#N/A"}]
[null,null,null,null,null,null,null,{"$error":"#VALUE!"},null,null,null,null,null,null,null,null,null,null,null,null,{"$error":"#VALUE!"},null,null,null,null,null,null,null,null,11,53.333333333333357,2.1040108776120402E-4,3.9191508179780169E-5,{"$error":"#N/A"},{"$error":"#N/A"},{"$error":"#N/A"}]
[null,null,null,null,"% of C below mean of E",{"$f":"100*(NORMSDIST((F8-F6)/F11))","v":69.146246127401312},null,{"$error":"#VALUE!"},null,null,null,null,null,null,null,null,null,null,null,null,{"$error":"#VALUE!"},null,null,null,null,null,null,null,null,12,53.666666666666693,2.2540629733595608E-4,4.2455653973833223E-5,{"$error":"#N/A"},{"$error":"#N/A"},{"$error":"#N/A"}]
[null,null,null,null,null,null,null,{"$error":"#VALUE!"},null,null,null,null,null,null,null,null,null,null,null,null,{"$error":"#VALUE!"},null,null,null,null,null,null,null,null,13,54.000000000000028,2.4136241520128726E-4,4.5968954575189379E-5,{"$error":"#N/A"},{"$error":"#N/A"},{"$error":"#N/A"}]
[null,null,null,null,"Probability that E > C ",{"$f":"NORMSDIST((F8-F6)/SQRT(F13^2+F11^2))","v":0.63816319508411845},null,{"$f":"$H$1","v":{"$error":"#VALUE!"}},null,null,null,null,null,null,null,null,null,null,null,null,{"$error":"#VALUE!"},null,null,null,null,null,null,null,null,14,54.333333333333364,2.5832044161212315E-4,4.9748415496501827E-5,{"$error":"#N/A"},{"$error":"#N/A"},{"$error":"#N/A"}]
[null,null,null,null,null,null,null,{"$f":"$H$1","v":{"$error":"#VALUE!"}},null,null,null,null,null,null,null,null,null,null,null,null,{"$error":"#VALUE!"},null,null,null,null,null,null,null,null,15,54.6666666666667,2.7633343749535128E-4,5.3812034529884166E-5,{"$error":"#N/A"},{"$error":"#N/A"},{"$error":"#N/A"}]
[4,"Cursor",null,null,null,null,null,{"$error":"#VALUE!"},null,null,null,null,null,null,null,null,null,null,null,null,{"$error":"#VALUE!"},null,null,null,null,null,null,null,null,16,55.000000000000036,2.9545656079586925E-4,5.8178846336384456E-5,{"$error":"#N/A"},{"$error":"#N/A"},{"$error":"#N/A"}]
[null,null,null,null,null,null,null,{"$error":"#VALUE!"},null,null,null,null,null,null,null,null,null,null,null,null,{"$error":"#VALUE!"},null,null,null,null,null,null,null,null,17,55.333333333333371,3.1574710001161619E-4,6.2868968026337469E-5,{"$error":"#N/A"},{"$error":"#N/A"},{"$error":"#N/A"}]
[null,null,1290,null,"X",{"$f":"IF(AE8,C27/10,\"\")","v":""},null,{"$error":"#VALUE!"},null,null,null,null,null,null,null,null,null,null,null,null,{"$error":"#VALUE!"},null,null,null,null,null,null,null,null,18,55.666666666666707,3.3726450461889099E-4,6.7903645671092632E-5,{"$error":"#N/A"},{"$error":"#N/A"},{"$error":"#N/A"}]
[null,null,null,null,null,"Area to right",null,{"$error":"#VALUE!"},null,null,null,null,null,null,null,null,null,null,null,null,{"$error":"#VALUE!"},null,null,null,null,null,null,null,null,19,56.000000000000043,3.6007041207962789E-4,7.3305301678425937E-5,{"$error":"#N/A"},{"$error":"#N/A"},{"$error":"#N/A"}]
[null,null,null,null,"Under C",{"$f":"IF(AE8,1-NORMSDIST((F27-F6)/F11),\"\")","v":""},null,{"$error":"#VALUE!"},null,null,null,null,null,null,null,null,null,null,null,null,{"$error":"#VALUE!"},null,null,null,null,null,null,null,null,20,56.333333333333378,3.8422867111325917E-4,7.9097582955365816E-5,{"$error":"#N/A"},{"$error":"#N/A"},{"$error":"#N/A"}]
[null,null,null,null,"Under E",{"$f":"IF(AE8,1-NORMSDIST((F27-F8)/F13),\"\")","v":""},null,{"$error":"#VALUE!"},null,null,null,null,null,null,null,null,null,null,null,null,{"$error":"#VALUE!"},null,null,null,null,null,null,null,null,21,56.666666666666714,4.0980536090743096E-4,8.5305409773212077E-5,{"$error":"#N/A"},{"$error":"#N/A"},{"$error":"#N/A"}]
[null,null,null,null,null,null,null,{"$error":"#VALUE!"},null,null,null,null,null,null,null,null,null,null,null,null,null,null,null,null,null,null,null,null,null,22,57.00000000000005,4.3686880593423903E-4,9.1955025240201364E-5,{"$error":"#N/A"},{"$error":"#N/A"},{"$error":"#N/A"}]
[null,null,null,null,null,null,"5 ",50,null,null,null,null,null,null,null,null,null,null,null,"6 ",150,null,null,null,null,null,null,null,null,23,57.333333333333385,4.6548958603188147E-4,9.9074045277601242E-5,{"$error":"#N/A"},{"$error":"#N/A"},{"$error":"#N/A"}]
[null,null,null,null,null,null,null,null,null,null,null,null,null,null,null,null,null,null,null,null,null,null,null,null,null,null,null,null,null,24,57.666666666666721,4.9574054140581259E-4,1.0669150898500205E-4,{"$error":"#N/A"},{"$error":"#N/A"},{"$error":"#N/A"}]
[null,null,null,null,null,null,null,null,null,null,null,null,null,null,null,null,null,null,null,null,null,null,null,null,null,null,null,null,null,25,58.000000000000057,5.2769677219866983E-4,1.1483792927024673E-4,{"$error":"#N/A"},{"$error":"#N/A"},{"$error":"#N/A"}]
[null,null,null,null,null,null,null,null,null,null,null,null,null,null,null,null,null,null,null,null,null,null,null,null,null,null,null,null,null,26,58.333333333333393,5.614356322745631E-4,1.2354534360881691E-4,{"$error":"#N/A"},{"$error":"#N/A"},{"$error":"#N/A"}]
[null,null,null,null,null,null,null,null,null,null,null,null,null,null,null,null,null,null,null,null,null,null,null,null,null,null,null,null,null,27,58.666666666666728,5.9703671686082863E-4,1.3284736478660255E-4,{"$error":"#N/A"},{"$error":"#N/A"},{"$error":"#N/A"}]
[null,null,null,null,null,null,null,null,null,null,null,null,null,null,null,null,null,null,null,null,null,null,null,null,null,null,null,null,null,28,59.000000000000064,6.3458184368915321E-4,1.4277923146885322E-4,{"$error":"#N/A"},{"$error":"#N/A"},{"$error":"#N/A"}]
[null,null,null,null,null,null,null,null,null,null,null,null,null,null,null,null,null,null,null,null,null,null,null,null,null,null,null,null,null,29,59.3333333333334,6.7415502727816395E-4,1.5337785842677314E-4,{"$error":"#N/A"},{"$error":"#N/A"},{"$error":"#N/A"}]
[null,null,null,null,null,null,null,null,null,null,null,null,null,null,null,null,null,null,null,null,null,null,null,null,null,null,null,null,null,30,59.666666666666735,7.1584244600123872E-4,1.6468188624172155E-4,{"$error":"#N/A"},{"$error":"#N/A"},{"$error":"#N/A"}]
[null,null,null,null,null,null,null,null,null,null,null,null,null,null,null,null,null,null,null,null,null,null,null,null,null,null,null,null,null,31,60.000000000000071,7.5973240158650553E-4,1.7673173029534301E-4,{"$error":"#N/A"},{"$error":"#N/A"},{"$error":"#N/A"}]
[null,null,null,null,null,null,null,null,null,null,null,null,null,null,null,null,null,null,null,null,null,null,null,null,null,null,null,null,null,32,60.333333333333407,8.059152707008512E-4,1.8956962884224003E-4,{"$error":"#N/A"},{"$error":"#N/A"},{"$error":"#N/A"}]
[null,null,null,null,null,null,null,null,null,null,null,null,null,null,null,null,null,null,null,null,null,null,null,null,null,null,null,null,null,33,60.666666666666742,8.5448344827632671E-4,2.0323968995004371E-4,{"$error":"#N/A"},{"$error":"#N/A"},{"$error":"#N/A"}]
[null,null,null,null,null,null,null,null,null,null,null,null,null,null,null,null,null,null,null,null,null,null,null,null,null,null,null,null,null,34,61.000000000000078,9.0553128224571996E-4,2.1778793707999823E-4,{"$error":"#N/A"},{"$error":"#N/A"},{"$error":"#N/A"}]
[null,null,null,null,null,null,null,null,null,null,null,null,null,null,null,null,null,null,null,null,null,null,null,null,null,null,null,null,null,35,61.333333333333414,9.5915499936428288E-4,2.332623530695043E-4,{"$error":"#N/A"},{"$error":"#N/A"},{"$error":"#N/A"}]
[null,null,null,null,null,null,null,null,null,null,null,null,null,null,null,null,null,null,null,null,null,null,null,null,null,null,null,null,null,36,61.66666666666675,1.0154526218067929E-3,2.4971292226652863E-4,{"$error":"#N/A"},{"$error":"#N/A"},{"$error":"#N/A"}]
[null,null,null,null,null,null,null,null,null,null,null,null,null,null,null,null,null,null,null,null,null,null,null,null,null,null,null,null,null,37,62.000000000000085,1.0745238742432808E-3,2.6719167055442748E-4,{"$error":"#N/A"},{"$error":"#N/A"},{"$error":"#N/A"}]
[null,null,null,null,null,null,null,null,null,null,null,null,null,null,null,null,null,null,null,null,null,null,null,null,null,null,null,null,null,38,62.333333333333421,1.1364700811129932E-3,2.8575270299464135E-4,{"$error":"#N/A"},{"$error":"#N/A"},{"$error":"#N/A"}]
[null,null,null,null,null,null,null,null,null,null,null,null,null,null,null,null,null,null,null,null,null,null,null,null,null,null,null,null,null,39,62.666666666666757,1.2013940538344622E-3,3.0545223880395057E-4,{"$error":"#N/A"},{"$error":"#N/A"},{"$error":"#N/A"}]
[null,null,null,null,null,null,null,null,null,null,null,null,null,null,null,null,null,null,null,null,null,null,null,null,null,null,null,null,null,40,63.000000000000092,1.2693999677100372E-3,3.2634864337260152E-4,{"$error":"#N/A"},{"$error":"#N/A"},{"$error":"#N/A"}]
[null,null,null,null,null,null,null,null,null,null,null,null,null,null,null,null,null,null,null,null,null,null,null,null,null,null,null,null,null,41,63.333333333333428,1.3405932283058499E-3,3.4850245701972501E-4,{"$error":"#N/A"},{"$error":"#N/A"},{"$error":"#N/A"}]
[null,null,null,null,null,null,null,null,null,null,null,null,null,null,null,null,null,null,null,null,null,null,null,null,null,null,null,null,null,42,63.666666666666764,1.4150803271130114E-3,3.719764201731152E-4,{"$error":"#N/A"},{"$error":"#N/A"},{"$error":"#N/A"}]
[null,null,null,null,null,null,null,null,null,null,null,null,null,null,null,null,null,null,null,null,null,null,null,null,null,null,null,null,null,43,64.000000000000099,1.4929686863228838E-3,3.9683549465173126E-4,{"$error":"#N/A"},{"$error":"#N/A"},{"$error":"#N/A"}]
[null,null,null,null,null,null,null,null,null,null,null,null,null,null,null,null,null,null,null,null,null,null,null,null,null,null,null,null,null,44,64.333333333333428,1.5743664925784947E-3,4.2314688072128096E-4,{"$error":"#N/A"},{"$error":"#N/A"},{"$error":"#N/A"}]
[null,null,null,null,null,null,null,null,null,null,null,null,null,null,null,null,null,null,null,null,null,null,null,null,null,null,null,null,null,45,64.666666666666757,1.6593825195956211E-3,4.5098002958606767E-4,{"$error":"#N/A"},{"$error":"#N/A"},{"$error":"#N/A"}]
[null,null,null,null,null,null,null,null,null,null,null,null,null,null,null,null,null,null,null,null,null,null,null,null,null,null,null,null,null,46,65.000000000000085,1.748125939580656E-3,4.8040665097395628E-4,{"$error":"#N/A"},{"$error":"#N/A"},{"$error":"#N/A"}]
[null,null,null,null,null,null,null,null,null,null,null,null,null,null,null,null,null,null,null,null,null,null,null,null,null,null,null,null,null,47,65.333333333333414,1.8407061234081755E-3,5.1150071546601143E-4,{"$error":"#N/A"},{"$error":"#N/A"},{"$error":"#N/A"}]
[null,null,null,null,null,null,null,null,null,null,null,null,null,null,null,null,null,null,null,null,null,null,null,null,null,null,null,null,null,48,65.666666666666742,1.9372324295589465E-3,5.4433845121809425E-4,{"$error":"#N/A"},{"$error":"#N/A"},{"$error":"#N/A"}]
[null,null,null,null,null,null,null,null,null,null,null,null,null,null,null,null,null,null,null,null,null,null,null,null,null,null,null,null,null,49,66.000000000000071,2.0378139818590527E-3,5.7899833471860109E-4,{"$error":"#N/A"},{"$error":"#N/A"},{"$error":"#N/A"}]
[null,null,null,null,null,null,null,null,null,null,null,null,null,null,null,null,null,null,null,null,null,null,null,null,null,null,null,null,null,50,66.3333333333334,2.1425594361026636E-3,6.1556107522468448E-4,{"$error":"#N/A"},{"$error":"#N/A"},{"$error":"#N/A"}]
[null,null,null,null,null,null,null,null,null,null,null,null,null,null,null,null,null,null,null,null,null,null,null,null,null,null,null,null,null,51,66.666666666666728,2.2515767356847301E-3,6.5410959251878094E-4,{"$error":"#N/A"},{"$error":"#N/A"},{"$error":"#N/A"}]
[null,null,null,null,null,null,null,null,null,null,null,null,null,null,null,null,null,null,null,null,null,null,null,null,null,null,null,null,null,52,67.000000000000057,2.364972856415448E-3,6.9472898762818001E-4,{"$error":"#N/A"},{"$error":"#N/A"},{"$error":"#N/A"}]
[null,null,null,null,null,null,null,null,null,null,null,null,null,null,null,null,null,null,null,null,null,null,null,null,null,null,null,null,null,53,67.333333333333385,2.4828535407355064E-3,7.3750650615279228E-4,{"$error":"#N/A"},{"$error":"#N/A"},{"$error":"#N/A"}]
[null,null,null,null,null,null,null,null,null,null,null,null,null,null,null,null,null,null,null,null,null,null,null,null,null,null,null,null,null,54,67.666666666666714,2.6053230215998904E-3,7.8253149385030716E-4,{"$error":"#N/A"},{"$error":"#N/A"},{"$error":"#N/A"}]
[null,null,null,null,null,null,null,null,null,null,null,null,null,null,null,null,null,null,null,null,null,null,null,null,null,null,null,null,null,55,68.000000000000043,2.7324837363481625E-3,8.2989534413361991E-4,{"$error":"#N/A"},{"$error":"#N/A"},{"$error":"#N/A"}]
[null,null,null,null,null,null,null,null,null,null,null,null,null,null,null,null,null,null,null,null,null,null,null,null,null,null,null,null,null,56,68.333333333333371,2.8644360309304966E-3,8.7969143714288042E-4,{"$error":"#N/A"},{"$error":"#N/A"},{"$error":"#N/A"}]
[null,null,null,null,null,null,null,null,null,null,null,null,null,null,null,null,null,null,null,null,null,null,null,null,null,null,null,null,null,57,68.6666666666667,3.0012778549111992E-3,9.3201507006380731E-4,{"$error":"#N/A"},{"$error":"#N/A"},{"$error":"#N/A"}]
[null,null,null,null,null,null,null,null,null,null,null,null,null,null,null,null,null,null,null,null,null,null,null,null,null,null,null,null,null,58,69.000000000000028,3.1431044477247846E-3,9.8696337837509123E-4,{"$error":"#N/A"},{"$error":"#N/A"},{"$error":"#N/A"}]
[null,null,null,null,null,null,null,null,null,null,null,null,null,null,null,null,null,null,null,null,null,null,null,null,null,null,null,null,null,59,69.333333333333357,3.2900080167136171E-3,1.0446352477209134E-3,{"$error":"#N/A"},{"$error":"#N/A"},{"$error":"#N/A"}]
[null,null,null,null,null,null,null,null,null,null,null,null,null,null,null,null,null,null,null,null,null,null,null,null,null,null,null,null,null,60,69.666666666666686,3.4420774075307114E-3,1.1051312161197454E-3,{"$error":"#N/A"},{"$error":"#N/A"},{"$error":"#N/A"}]
[null,null,null,null,null,null,null,null,null,null,null,null,null,null,null,null,null,null,null,null,null,null,null,null,null,null,null,null,null,61,70.000000000000014,3.5993977675458765E-3,1.1685533662379056E-3,{"$error":"#N/A"},{"$error":"#N/A"},{"$error":"#N/A"}]
[null,null,null,null,null,null,null,null,null,null,null,null,null,null,null,null,null,null,null,null,null,null,null,null,null,null,null,null,null,62,70.333333333333343,3.7620502029482011E-3,1.2350052074756996E-3,{"$error":"#N/A"},{"$error":"#N/A"},{"$error":"#N/A"}]
[null,null,null,null,null,null,null,null,null,null,null,null,null,null,null,null,null,null,null,null,null,null,null,null,null,null,null,null,null,63,70.666666666666671,3.9301114302923105E-3,1.3045915476355503E-3,{"$error":"#N/A"},{"$error":"#N/A"},{"$error":"#N/A"}]
[null,null,null,null,null,null,null,null,null,null,null,null,null,null,null,null,null,null,null,null,null,null,null,null,null,null,null,null,null,64,71,4.1036534232898178E-3,1.3774183539652137E-3,{"$error":"#N/A"},{"$error":"#N/A"},{"$error":"#N/A"}]
[null,null,null,null,null,null,null,null,null,null,null,null,null,null,null,null,null,null,null,null,null,null,null,null,null,null,null,null,null,65,71.333333333333329,{"$f":"NORMDIST(AE74,$F$6,$F$11,FALSE)","v":4.2827430557005981E-3},{"$f":"NORMDIST(AE74,$F$8,$F$13,FALSE)","v":1.4535926033951343E-3},{"$f":"IF($AE$5,MIN(AF74:AG74),NA())","v":{"$error":"#N/A"}},{"$f":"IF(AND($AE$7,$F$8>AE74),AF74,NA())","v":{"$error":"#N/A"}},{"$f":"IF(AND($AE$6,$F$6<AE74),AG74,NA())","v":{"$error":"#N/A"}}]
[null,null,null,null,null,null,null,null,null,null,null,null,null,null,null,null,null,null,null,null,null,null,null,null,null,null,null,null,null,66,{"$f":"AE74+$AG$7","v":71.666666666666657},4.4674417412306766E-3,1.5332221218171131E-3,{"$error":"#N/A"},{"$error":"#N/A"},{"$error":"#N/A"}]
[null,null,null,null,null,null,null,null,null,null,null,null,null,null,null,null,null,null,null,null,null,null,null,null,null,null,null,null,null,67,71.999999999999986,4.6578050713943367E-3,1.6164154122818202E-3,{"$error":"#N/A"},{"$error":"#N/A"},{"$error":"#N/A"}]
[null,null,null,null,null,null,null,null,null,null,null,null,null,null,null,null,null,null,null,null,null,null,null,null,null,null,null,null,null,68,72.333333333333314,4.8538824523473231E-3,1.7032814720251885E-3,{"$error":"#N/A"},{"$error":"#N/A"},{"$error":"#N/A"}]
[null,null,null,null,null,null,null,null,null,null,null,null,null,null,null,null,null,null,null,null,null,null,null,null,null,null,null,null,null,69,72.666666666666643,5.0557167417452174E-3,1.7939295982684548E-3,{"$error":"#N/A"},{"$error":"#N/A"},{"$error":"#N/A"}]
[null,null,null,null,null,null,null,null,null,null,null,null,null,null,null,null,null,null,null,null,null,null,null,null,null,null,null,null,null,70,72.999999999999972,5.2633438867262586E-3,1.888469182773403E-3,{"$error":"#N/A"},{"$error":"#N/A"},{"$error":"#N/A"}]
[null,null,null,null,null,null,null,null,null,null,null,null,null,null,null,null,null,null,null,null,null,null,null,null,null,null,null,null,null,71,73.3333333333333,5.4767925641603663E-3,1.9870094951732801E-3,{"$error":"#N/A"},{"$error":"#N/A"},{"$error":"#N/A"}]
[null,null,null,null,null,null,null,null,null,null,null,null,null,null,null,null,null,null,null,null,null,null,null,null,null,null,null,null,null,72,73.666666666666629,5.6960838243459589E-3,2.08965945514073E-3,{"$error":"#N/A"},{"$error":"#N/A"},{"$error":"#N/A"}]
[null,null,null,null,null,null,null,null,null,null,null,null,null,null,null,null,null,null,null,null,null,null,null,null,null,null,null,null,null,73,73.999999999999957,5.9212307393727605E-3,2.1965273934969375E-3,{"$error":"#N/A"},{"$error":"#N/A"},{"$error":"#N/A"}]
[null,null,null,null,null,null,null,null,null,null,null,null,null,null,null,null,null,null,null,null,null,null,null,null,null,null,null,null,null,74,74.333333333333286,6.1522380574021091E-3,2.307720802410818E-3,{"$error":"#N/A"},{"$error":"#N/A"},{"$error":"#N/A"}]
[null,null,null,null,null,null,null,null,null,null,null,null,null,null,null,null,null,null,null,null,null,null,null,null,null,null,null,null,null,75,74.666666666666615,6.3891018641457614E-3,2.4233460748834803E-3,{"$error":"#N/A"},{"$error":"#N/A"},{"$error":"#N/A"}]
[null,null,null,null,null,null,null,null,null,null,null,null,null,null,null,null,null,null,null,null,null,null,null,null,null,null,null,null,null,76,74.999999999999943,6.6318092528498693E-3,2.543508233761177E-3,{"$error":"#N/A"},{"$error":"#N/A"},{"$error":"#N/A"}]
[null,null,null,null,null,null,null,null,null,null,null,null,null,null,null,null,null,null,null,null,null,null,null,null,null,null,null,null,null,77,75.333333333333272,6.8803380041120724E-3,2.6683106505694274E-3,{"$error":"#N/A"},{"$error":"#N/A"},{"$error":"#N/A"}]
[null,null,null,null,null,null,null,null,null,null,null,null,null,null,null,null,null,null,null,null,null,null,null,null,null,null,null,null,null,78,75.6666666666666,7.1346562768765135E-3,2.797854754511758E-3,{"$error":"#N/A"},{"$error":"#N/A"},{"$error":"#N/A"}]
[null,null,null,null,null,null,null,null,null,null,null,null,null,null,null,null,null,null,null,null,null,null,null,null,null,null,null,null,null,79,75.999999999999929,7.3947223119636479E-3,2.932239732028451E-3,{"$error":"#N/A"},{"$error":"#N/A"},{"$error":"#N/A"}]
[null,null,null,null,null,null,null,null,null,null,null,null,null,null,null,null,null,null,null,null,null,null,null,null,null,null,null,null,null,80,76.333333333333258,7.6604841494987645E-3,3.0715622173635919E-3,{"$error":"#N/A"},{"$error":"#N/A"},{"$error":"#N/A"}]
[null,null,null,null,null,null,null,null,null,null,null,null,null,null,null,null,null,null,null,null,null,null,null,null,null,null,null,null,null,81,76.666666666666586,7.9318793616050352E-3,3.2159159746424108E-3,{"$error":"#N/A"},{"$error":"#N/A"},{"$error":"#N/A"}]
[null,null,null,null,null,null,null,null,null,null,null,null,null,null,null,null,null,null,null,null,null,null,null,null,null,null,null,null,null,82,76.999999999999915,8.2088348017232329E-3,3.3653915720151394E-3,{"$error":"#N/A"},{"$error":"#N/A"},{"$error":"#N/A"}]
[null,null,null,null,null,null,null,null,null,null,null,null,null,null,null,null,null,null,null,null,null,null,null,null,null,null,null,null,null,83,77.333333333333243,8.4912663719112023E-3,3.520076048478283E-3,{"$error":"#N/A"},{"$error":"#N/A"},{"$error":"#N/A"}]
[null,null,null,null,null,null,null,null,null,null,null,null,null,null,null,null,null,null,null,null,null,null,null,null,null,null,null,null,null,84,77.666666666666572,8.7790788094611223E-3,3.6800525740388946E-3,{"$error":"#N/A"},{"$error":"#N/A"},{"$error":"#N/A"}]
[null,null,null,null,null,null,null,null,null,null,null,null,null,null,null,null,null,null,null,null,null,null,null,null,null,null,null,null,null,85,77.999999999999901,9.0721654941517803E-3,3.8454001039421363E-3,{"$error":"#N/A"},{"$error":"#N/A"},{"$error":"#N/A"}]
[null,null,null,null,null,null,null,null,null,null,null,null,null,null,null,null,null,null,null,null,null,null,null,null,null,null,null,null,null,86,78.333333333333229,9.3704082774262055E-3,4.0161930277366068E-3,{"$error":"#N/A"},{"$error":"#N/A"},{"$error":"#N/A"}]
[null,null,null,null,null,null,null,null,null,null,null,null,null,null,null,null,null,null,null,null,null,null,null,null,null,null,null,null,null,87,78.666666666666558,9.6736773347520406E-3,4.1925008140055826E-3,{"$error":"#N/A"},{"$error":"#N/A"},{"$error":"#N/A"}]
[null,null,null,null,null,null,null,null,null,null,null,null,null,null,null,null,null,null,null,null,null,null,null,null,null,null,null,null,null,88,78.999999999999886,9.981831042382882E-3,4.374387651645043E-3,{"$error":"#N/A"},{"$error":"#N/A"},{"$error":"#N/A"}]
[null,null,null,null,null,null,null,null,null,null,null,null,null,null,null,null,null,null,null,null,null,null,null,null,null,null,null,null,null,89,79.333333333333215,1.0294715879693455E-2,4.5619120886208463E-3,{"$error":"#N/A"},{"$error":"#N/A"},{"$error":"#N/A"}]
[null,null,null,null,null,null,null,null,null,null,null,null,null,null,null,null,null,null,null,null,null,null,null,null,null,null,null,null,null,90,79.666666666666544,1.0612166358209984E-2,4.7551266691875311E-3,{"$error":"#N/A"},{"$error":"#N/A"},{"$error":"#N/A"}]
[null,null,null,null,null,null,null,null,null,null,null,null,null,null,null,null,null,null,null,null,null,null,null,null,null,null,null,null,null,91,79.999999999999872,1.0934004978399449E-2,4.9540775705994612E-3,{"$error":"#N/A"},{"$error":"#N/A"},{"$error":"#N/A"}]
[null,null,null,null,null,null,null,null,null,null,null,null,null,null,null,null,null,null,null,null,null,null,null,null,null,null,null,null,null,92,80.333333333333201,1.1260042215217538E-2,5.1588042403912949E-3,{"$error":"#N/A"},{"$error":"#N/A"},{"$error":"#N/A"}]
[null,null,null,null,null,null,null,null,null,null,null,null,null,null,null,null,null,null,null,null,null,null,null,null,null,null,null,null,null,93,80.666666666666529,1.1590076533345348E-2,5.369339035348638E-3,{"$error":"#N/A"},{"$error":"#N/A"},{"$error":"#N/A"}]
[null,null,null,null,null,null,null,null,null,null,null,null,null,null,null,null,null,null,null,null,null,null,null,null,null,null,null,null,null,94,80.999999999999858,1.1923894432969224E-2,5.5857068633308896E-3,{"$error":"#N/A"},{"$error":"#N/A"},{"$error":"#N/A"}]
[null,null,null,null,null,null,null,null,null,null,null,null,null,null,null,null,null,null,null,null,null,null,null,null,null,null,null,null,null,95,81.333333333333186,1.226127052687661E-2,5.8079248291466228E-3,{"$error":"#N/A"},{"$error":"#N/A"},{"$error":"#N/A"}]
[null,null,null,null,null,null,null,null,null,null,null,null,null,null,null,null,null,null,null,null,null,null,null,null,null,null,null,null,null,96,81.666666666666515,1.2601967649553993E-2,6.0360018857167699E-3,{"$error":"#N/A"},{"$error":"#N/A"},{"$error":"#N/A"}]
[null,null,null,null,null,null,null,null,null,null,null,null,null,null,null,null,null,null,null,null,null,null,null,null,null,null,null,null,null,97,81.999999999999844,1.2945736998880701E-2,6.2699384917923508E-3,{"$error":"#N/A"},{"$error":"#N/A"},{"$error":"#N/A"}]
[null,null,null,null,null,null,null,null,null,null,null,null,null,null,null,null,null,null,null,null,null,null,null,null,null,null,null,null,null,98,82.333333333333172,1.3292318310915038E-2,6.5097262775210933E-3,{"$error":"#N/A"},{"$error":"#N/A"},{"$error":"#N/A"}]
[null,null,null,null,null,null,null,null,null,null,null,null,null,null,null,null,null,null,null,null,null,null,null,null,null,null,null,null,null,99,82.666666666666501,1.3641440068167353E-2,6.7553477191808278E-3,{"$error":"#N/A"},{"$error":"#N/A"},{"$error":"#N/A"}]
[null,null,null,null,null,null,null,null,null,null,null,null,null,null,null,null,null,null,null,null,null,null,null,null,null,null,null,null,null,100,82.999999999999829,1.3992819741648099E-2,7.0067758244165444E-3,{"$error":"#N/A"},{"$error":"#N/A"},{"$error":"#N/A"}]
[null,null,null,null,null,null,null,null,null,null,null,null,null,null,null,null,null,null,null,null,null,null,null,null,null,null,null,null,null,101,83.333333333333158,1.4346164066868552E-2,7.2639738293326685E-3,{"$error":"#N/A"},{"$error":"#N/A"},{"$error":"#N/A"}]
[null,null,null,null,null,null,null,null,null,null,null,null,null,null,null,null,null,null,null,null,null,null,null,null,null,null,null,null,null,102,83.666666666666487,1.4701169353857693E-2,7.5268949088014665E-3,{"$error":"#N/A"},{"$error":"#N/A"},{"$error":"#N/A"}]
[null,null,null,null,null,null,null,null,null,null,null,null,null,null,null,null,null,null,null,null,null,null,null,null,null,null,null,null,null,103,83.999999999999815,1.5057521831141433E-2,7.7954819013532151E-3,{"$error":"#N/A"},{"$error":"#N/A"},{"$error":"#N/A"}]
[null,null,null,null,null,null,null,null,null,null,null,null,null,null,null,null,null,null,null,null,null,null,null,null,null,null,null,null,null,104,84.333333333333144,1.5414898023509989E-2,8.0696670500127552E-3,{"$error":"#N/A"},{"$error":"#N/A"},{"$error":"#N/A"}]
[null,null,null,null,null,null,null,null,null,null,null,null,null,null,null,null,null,null,null,null,null,null,null,null,null,null,null,null,null,105,84.666666666666472,1.5772965163277024E-2,8.3493717604407464E-3,{"$error":"#N/A"},{"$error":"#N/A"},{"$error":"#N/A"}]
[null,null,null,null,null,null,null,null,null,null,null,null,null,null,null,null,null,null,null,null,null,null,null,null,null,null,null,null,null,106,84.999999999999801,1.6131381634609341E-2,8.6345063777259409E-3,{"$error":"#N/A"},{"$error":"#N/A"},{"$error":"#N/A"}]
[null,null,null,null,null,null,null,null,null,null,null,null,null,null,null,null,null,null,null,null,null,null,null,null,null,null,null,null,null,107,85.33333333333313,1.6489797450380723E-2,8.924969983156842E-3,{"$error":"#N/A"},{"$error":"#N/A"},{"$error":"#N/A"}]
[null,null,null,null,null,null,null,null,null,null,null,null,null,null,null,null,null,null,null,null,null,null,null,null,null,null,null,null,null,108,85.666666666666458,1.6847854760876475E-2,9.2206502122772621E-3,{"$error":"#N/A"},{"$error":"#N/A"},{"$error":"#N/A"}]
[null,null,null,null,null,null,null,null,null,null,null,null,null,null,null,null,null,null,null,null,null,null,null,null,null,null,null,null,null,109,85.999999999999787,1.7205188393548947E-2,9.5214230955004923E-3,{"$error":"#N/A"},{"$error":"#N/A"},{"$error":"#N/A"}]
[null,null,null,null,null,null,null,null,null,null,null,null,null,null,null,null,null,null,null,null,null,null,null,null,null,null,null,null,null,110,86.333333333333115,1.7561426422897552E-2,9.8271529225205344E-3,{"$error":"#N/A"},{"$error":"#N/A"},{"$error":"#N/A"}]
[null,null,null,null,null,null,null,null,null,null,null,null,null,null,null,null,null,null,null,null,null,null,null,null,null,null,null,null,null,111,86.666666666666444,1.7916190769421358E-2,1.0137692131716836E-2,{"$error":"#N/A"},{"$error":"#N/A"},{"$error":"#N/A"}]
[null,null,null,null,null,null,null,null,null,null,null,null,null,null,null,null,null,null,null,null,null,null,null,null,null,null,null,null,null,112,86.999999999999773,1.8269097826468319E-2,1.0452881225700353E-2,{"$error":"#N/A"},{"$error":"#N/A"},{"$error":"#N/A"}]
[null,null,null,null,null,null,null,null,null,null,null,null,null,null,null,null,null,null,null,null,null,null,null,null,null,null,null,null,null,113,87.333333333333101,1.8619759113683028E-2,1.0772548714094266E-2,{"$error":"#N/A"},{"$error":"#N/A"},{"$error":"#N/A"}]
[null,null,null,null,null,null,null,null,null,null,null,null,null,null,null,null,null,null,null,null,null,null,null,null,null,null,null,null,null,114,87.66666666666643,1.8967781955635657E-2,1.1096511084581802E-2,{"$error":"#N/A"},{"$error":"#N/A"},{"$error":"#N/A"}]
[null,null,null,null,null,null,null,null,null,null,null,null,null,null,null,null,null,null,null,null,null,null,null,null,null,null,null,null,null,115,87.999999999999758,1.9312770184098601E-2,1.1424572803186917E-2,{"$error":"#N/A"},{"$error":"#N/A"},{"$error":"#N/A"}]
[null,null,null,null,null,null,null,null,null,null,null,null,null,null,null,null,null,null,null,null,null,null,null,null,null,null,null,null,null,116,88.333333333333087,1.9654324862324889E-2,1.1756526344680726E-2,{"$error":"#N/A"},{"$error":"#N/A"},{"$error":"#N/A"}]
[null,null,null,null,null,null,null,null,null,null,null,null,null,null,null,null,null,null,null,null,null,null,null,null,null,null,null,null,null,117,88.666666666666416,1.999204502957486E-2,1.2092152253928031E-2,{"$error":"#N/A"},{"$error":"#N/A"},{"$error":"#N/A"}]
[null,null,null,null,null,null,null,null,null,null,null,null,null,null,null,null,null,null,null,null,null,null,null,null,null,null,null,null,null,118,88.999999999999744,2.032552846403422E-2,1.2431219238904121E-2,{"$error":"#N/A"},{"$error":"#N/A"},{"$error":"#N/A"}]
[null,null,null,null,null,null,null,null,null,null,null,null,null,null,null,null,null,null,null,null,null,null,null,null,null,null,null,null,null,119,89.333333333333073,2.065437246216973E-2,1.2773484296022366E-2,{"$error":"#N/A"},{"$error":"#N/A"},{"$error":"#N/A"}]
[null,null,null,null,null,null,null,null,null,null,null,null,null,null,null,null,null,null,null,null,null,null,null,null,null,null,null,null,null,120,89.666666666666401,2.097817463247692E-2,1.3118692868318406E-2,{"$error":"#N/A"},{"$error":"#N/A"},{"$error":"#N/A"}]
[null,null,null,null,null,null,null,null,null,null,null,null,null,null,null,null,null,null,null,null,null,null,null,null,null,null,null,null,null,121,89.99999999999973,2.129653370148989E-2,1.3466579036936977E-2,{"$error":"#N/A"},{"$error":"#N/A"},{"$error":"#N/A"}]
[null,null,null,null,null,null,null,null,null,null,null,null,null,null,null,null,null,null,null,null,null,null,null,null,null,null,null,null,null,122,90.333333333333059,2.1609050329845277E-2,1.3816865746263266E-2,{"$error":"#N/A"},{"$error":"#N/A"},{"$error":"#N/A"}]
[null,null,null,null,null,null,null,null,null,null,null,null,null,null,null,null,null,null,null,null,null,null,null,null,null,null,null,null,null,123,90.666666666666387,2.1915327936122445E-2,1.4169265062932168E-2,{"$error":"#N/A"},{"$error":"#N/A"},{"$error":"#N/A"}]
[null,null,null,null,null,null,null,null,null,null,null,null,null,null,null,null,null,null,null,null,null,null,null,null,null,null,null,null,null,124,90.999999999999716,2.2214973526119723E-2,1.45234784688364E-2,{"$error":"#N/A"},{"$error":"#N/A"},{"$error":"#N/A"}]
[null,null,null,null,null,null,null,null,null,null,null,null,null,null,null,null,null,null,null,null,null,null,null,null,null,null,null,null,null,125,91.333333333333044,2.2507598525172635E-2,1.4879197188138734E-2,{"$error":"#N/A"},{"$error":"#N/A"},{"$error":"#N/A"}]
[null,null,null,null,null,null,null,null,null,null,null,null,null,null,null,null,null,null,null,null,null,null,null,null,null,null,null,null,null,126,91.666666666666373,2.279281961107503E-2,1.5236102548174682E-2,{"$error":"#N/A"},{"$error":"#N/A"},{"$error":"#N/A"}]
[null,null,null,null,null,null,null,null,null,null,null,null,null,null,null,null,null,null,null,null,null,null,null,null,null,null,null,null,null,127,91.999999999999702,2.3070259545127945E-2,1.5593866374010543E-2,{"$error":"#N/A"},{"$error":"#N/A"},{"$error":"#N/A"}]
[null,null,null,null,null,null,null,null,null,null,null,null,null,null,null,null,null,null,null,null,null,null,null,null,null,null,null,null,null,128,92.33333333333303,2.333954799881427E-2,1.5952151416298292E-2,{"$error":"#N/A"},{"$error":"#N/A"},{"$error":"#N/A"}]
[null,null,null,null,null,null,null,null,null,null,null,null,null,null,null,null,null,null,null,null,null,null,null,null,null,null,null,null,null,129,92.666666666666359,{"$f":"NORMDIST(AE138,$F$6,$F$11,FALSE)","v":2.3600322373580271E-2},{"$f":"NORMDIST(AE138,$F$8,$F$13,FALSE)","v":1.6310611811943557E-2},{"$f":"IF($AE$5,MIN(AF138:AG138),NA())","v":{"$error":"#N/A"}},{"$f":"IF(AND($AE$7,$F$8>AE138),AF138,NA())","v":{"$error":"#N/A"}},{"$f":"IF(AND($AE$6,$F$6<AE138),AG138,NA())","v":{"$error":"#N/A"}}]
[null,null,null,null,null,null,null,null,null,null,null,null,null,null,null,null,null,null,null,null,null,null,null,null,null,null,null,null,null,130,{"$f":"AE138+$AG$7","v":92.999999999999687},2.3852228611197696E-2,1.666889357697689E-2,{"$error":"#N/A"},{"$error":"#N/A"},{"$error":"#N/A"}]
[null,null,null,null,null,null,null,null,null,null,null,null,null,null,null,null,null,null,null,null,null,null,null,null,null,null,null,null,null,131,93.333333333333016,2.4094921992182671E-2,1.7026635130891719E-2,{"$error":"#N/A"},{"$error":"#N/A"},{"$error":"#N/A"}]
[null,null,null,null,null,null,null,null,null,null,null,null,null,null,null,null,null,null,null,null,null,null,null,null,null,null,null,null,null,132,93.666666666666345,2.4328067919760492E-2,1.738346785158576E-2,{"$error":"#N/A"},{"$error":"#N/A"},{"$error":"#N/A"}]
[null,null,null,null,null,null,null,null,null,null,null,null,null,null,null,null,null,null,null,null,null,null,null,null,null,null,null,null,null,133,93.999999999999673,2.4551342686888005E-2,1.7739016659916642E-2,{"$error":"#N/A"},{"$error":"#N/A"},{"$error":"#N/A"}]
[null,null,null,null,null,null,null,null,null,null,null,null,null,null,null,null,null,null,null,null,null,null,null,null,null,null,null,null,null,134,94.333333333333002,2.4764434223878303E-2,1.809290063275747E-2,{"$error":"#N/A"},{"$error":"#N/A"},{"$error":"#N/A"}]
[null,null,null,null,null,null,null,null,null,null,null,null,null,null,null,null,null,null,null,null,null,null,null,null,null,null,null,null,null,135,94.66666666666633,2.4967042824215382E-2,1.8444733643315139E-2,{"$error":"#N/A"},{"$error":"#N/A"},{"$error":"#N/A"}]
[null,null,null,null,null,null,null,null,null,null,null,null,null,null,null,null,null,null,null,null,null,null,null,null,null,null,null,null,null,136,94.999999999999659,2.5158881846199351E-2,1.8794125027353146E-2,{"$error":"#N/A"},{"$error":"#N/A"},{"$error":"#N/A"}]
[null,null,null,null,null,null,null,null,null,null,null,null,null,null,null,null,null,null,null,null,null,null,null,null,null,null,null,null,null,137,95.333333333332988,2.533967838812573E-2,1.9140680273843223E-2,{"$error":"#N/A"},{"$error":"#N/A"},{"$error":"#N/A"}]
[null,null,null,null,null,null,null,null,null,null,null,null,null,null,null,null,null,null,null,null,null,null,null,null,null,null,null,null,null,138,95.666666666666316,2.5509173934774587E-2,1.948400173845543E-2,{"$error":"#N/A"},{"$error":"#N/A"},{"$error":"#N/A"}]
[null,null,null,null,null,null,null,null,null,null,null,null,null,null,null,null,null,null,null,null,null,null,null,null,null,null,null,null,null,139,95.999999999999645,2.5667124973067432E-2,1.9823689378186474E-2,{"$error":"#N/A"},{"$error":"#N/A"},{"$error":"#N/A"}]
[null,null,null,null,null,null,null,null,null,null,null,null,null,null,null,null,null,null,null,null,null,null,null,null,null,null,null,null,null,140,96.333333333332973,2.581330357484048E-2,2.015934150532037E-2,{"$error":"#N/A"},{"$error":"#N/A"},{"$error":"#N/A"}]
[null,null,null,null,null,null,null,null,null,null,null,null,null,null,null,null,null,null,null,null,null,null,null,null,null,null,null,null,null,141,96.666666666666302,2.5947497944782946E-2,2.0490555558815418E-2,{"$error":"#N/A"},{"$error":"#N/A"},{"$error":"#N/A"}]
[null,null,null,null,null,null,null,null,null,null,null,null,null,null,null,null,null,null,null,null,null,null,null,null,null,null,null,null,null,142,96.999999999999631,2.6069512931696931E-2,2.0816928891117057E-2,{"$error":"#N/A"},{"$error":"#N/A"},{"$error":"#N/A"}]
[null,null,null,null,null,null,null,null,null,null,null,null,null,null,null,null,null,null,null,null,null,null,null,null,null,null,null,null,null,143,97.333333333332959,2.6179170501351792E-2,2.1138059568307881E-2,{"$error":"#N/A"},{"$error":"#N/A"},{"$error":"#N/A"}]
[null,null,null,null,null,null,null,null,null,null,null,null,null,null,null,null,null,null,null,null,null,null,null,null,null,null,null,null,null,144,97.666666666666288,2.6276310169329464E-2,2.1453547181425087E-2,{"$error":"#N/A"},{"$error":"#N/A"},{"$error":"#N/A"}]
[null,null,null,null,null,null,null,null,null,null,null,null,null,null,null,null,null,null,null,null,null,null,null,null,null,null,null,null,null,145,97.999999999999616,2.6360789392387753E-2,2.1762993666701379E-2,{"$error":"#N/A"},{"$error":"#N/A"},{"$error":"#N/A"}]
[null,null,null,null,null,null,null,null,null,null,null,null,null,null,null,null,null,null,null,null,null,null,null,null,null,null,null,null,null,146,98.333333333332945,2.6432483917005787E-2,2.2066004132419263E-2,{"$error":"#N/A"},{"$error":"#N/A"},{"$error":"#N/A"}]
[null,null,null,null,null,null,null,null,null,null,null,null,null,null,null,null,null,null,null,null,null,null,null,null,null,null,null,null,null,147,98.666666666666273,2.6491288083918697E-2,2.2362187690010586E-2,{"$error":"#N/A"},{"$error":"#N/A"},{"$error":"#N/A"}]
[null,null,null,null,null,null,null,null,null,null,null,null,null,null,null,null,null,null,null,null,null,null,null,null,null,null,null,null,null,148,98.999999999999602,2.653711508759677E-2,2.2651158286983528E-2,{"$error":"#N/A"},{"$error":"#N/A"},{"$error":"#N/A"}]
[null,null,null,null,null,null,null,null,null,null,null,null,null,null,null,null,null,null,null,null,null,null,null,null,null,null,null,null,null,149,99.333333333332931,2.6569897189777078E-2,2.293253553921893E-2,{"$error":"#N/A"},{"$error":"#N/A"},{"$error":"#N/A"}]
[null,null,null,null,null,null,null,null,null,null,null,null,null,null,null,null,null,null,null,null,null,null,null,null,null,null,null,null,null,150,99.666666666666259,2.6589585886312422E-2,2.3205945560146064E-2,{"$error":"#N/A"},{"$error":"#N/A"},{"$error":"#N/A"}]
[null,null,null,null,null,null,null,null,null,null,null,null,null,null,null,null,null,null,null,null,null,null,null,null,null,null,null,null,null,151,99.999999999999588,2.6596152026762177E-2,2.3471021784286308E-2,{"$error":"#N/A"},{"$error":"#N/A"},{"$error":"#N/A"}]
[null,null,null,null,null,null,null,null,null,null,null,null,null,null,null,null,null,null,null,null,null,null,null,null,null,null,null,null,null,152,100.33333333333292,2.6589585886312456E-2,2.3727405782640806E-2,{"$error":"#N/A"},{"$error":"#N/A"},2.3727405782640806E-2]
[null,null,null,null,null,null,null,null,null,null,null,null,null,null,null,null,null,null,null,null,null,null,null,null,null,null,null,null,null,153,100.66666666666625,2.6569897189777144E-2,2.3974748067395885E-2,{"$error":"#N/A"},{"$error":"#N/A"},2.3974748067395885E-2]
[null,null,null,null,null,null,null,null,null,null,null,null,null,null,null,null,null,null,null,null,null,null,null,null,null,null,null,null,null,154,100.99999999999957,2.6537115087596864E-2,2.4212708883427563E-2,{"$error":"#N/A"},{"$error":"#N/A"},2.4212708883427563E-2]
[null,null,null,null,null,null,null,null,null,null,null,null,null,null,null,null,null,null,null,null,null,null,null,null,null,null,null,null,null,155,101.3333333333329,2.6491288083918822E-2,2.444095898410439E-2,{"$error":"#N/A"},{"$error":"#N/A"},2.444095898410439E-2]
[null,null,null,null,null,null,null,null,null,null,null,null,null,null,null,null,null,null,null,null,null,null,null,null,null,null,null,null,null,156,101.66666666666623,2.6432483917005947E-2,2.4659180388915406E-2,{"$error":"#N/A"},{"$error":"#N/A"},2.4659180388915406E-2]
[null,null,null,null,null,null,null,null,null,null,null,null,null,null,null,null,null,null,null,null,null,null,null,null,null,null,null,null,null,157,101.99999999999956,2.6360789392387948E-2,2.4867067120488296E-2,{"$error":"#N/A"},{"$error":"#N/A"},2.4867067120488296E-2]
[null,null,null,null,null,null,null,null,null,null,null,null,null,null,null,null,null,null,null,null,null,null,null,null,null,null,null,null,null,158,102.33333333333289,2.6276310169329693E-2,2.5064325918610568E-2,{"$error":"#N/A"},{"$error":"#N/A"},2.5064325918610568E-2]
[null,null,null,null,null,null,null,null,null,null,null,null,null,null,null,null,null,null,null,null,null,null,null,null,null,null,null,null,null,159,102.66666666666622,2.6179170501352045E-2,2.5250676928924545E-2,{"$error":"#N/A"},{"$error":"#N/A"},2.5250676928924545E-2]
[null,null,null,null,null,null,null,null,null,null,null,null,null,null,null,null,null,null,null,null,null,null,null,null,null,null,null,null,null,160,102.99999999999955,2.6069512931697212E-2,2.5425854364034703E-2,{"$error":"#N/A"},{"$error":"#N/A"},2.5425854364034703E-2]
[null,null,null,null,null,null,null,null,null,null,null,null,null,null,null,null,null,null,null,null,null,null,null,null,null,null,null,null,null,161,103.33333333333287,2.5947497944783262E-2,2.5589607134843002E-2,{"$error":"#N/A"},{"$error":"#N/A"},2.5589607134843002E-2]
[null,null,null,null,null,null,null,null,null,null,null,null,null,null,null,null,null,null,null,null,null,null,null,null,null,null,null,null,null,162,103.6666666666662,2.5813303574840823E-2,2.5741699450014314E-2,{"$error":"#N/A"},{"$error":"#N/A"},2.5741699450014314E-2]
[null,null,null,null,null,null,null,null,null,null,null,null,null,null,null,null,null,null,null,null,null,null,null,null,null,null,null,null,null,163,103.99999999999953,2.5667124973067806E-2,2.5881911381569599E-2,{"$error":"#N/A"},{"$error":"#N/A"},2.5881911381569599E-2]
[null,null,null,null,null,null,null,null,null,null,null,null,null,null,null,null,null,null,null,null,null,null,null,null,null,null,null,null,null,164,104.33333333333286,2.5509173934774993E-2,2.6010039394708299E-2,{"$error":"#N/A"},{"$error":"#N/A"},2.6010039394708299E-2]
[null,null,null,null,null,null,null,null,null,null,null,null,null,null,null,null,null,null,null,null,null,null,null,null,null,null,null,null,null,165,104.66666666666619,2.5339678388126161E-2,2.6125896840073826E-2,{"$error":"#N/A"},{"$error":"#N/A"},2.6125896840073826E-2]
[null,null,null,null,null,null,null,null,null,null,null,null,null,null,null,null,null,null,null,null,null,null,null,null,null,null,null,null,null,166,104.99999999999952,2.5158881846199809E-2,2.6229314406795851E-2,{"$error":"#N/A"},{"$error":"#N/A"},2.6229314406795851E-2]
[null,null,null,null,null,null,null,null,null,null,null,null,null,null,null,null,null,null,null,null,null,null,null,null,null,null,null,null,null,167,105.33333333333285,2.4967042824215867E-2,2.6320140534770279E-2,{"$error":"#N/A"},{"$error":"#N/A"},2.6320140534770279E-2]
[null,null,null,null,null,null,null,null,null,null,null,null,null,null,null,null,null,null,null,null,null,null,null,null,null,null,null,null,null,168,105.66666666666617,2.4764434223878817E-2,2.639824178477182E-2,{"$error":"#N/A"},{"$error":"#N/A"},2.639824178477182E-2]
[null,null,null,null,null,null,null,null,null,null,null,null,null,null,null,null,null,null,null,null,null,null,null,null,null,null,null,null,null,169,105.9999999999995,2.4551342686888546E-2,2.6463503165134024E-2,{"$error":"#N/A"},{"$error":"#N/A"},2.6463503165134024E-2]
[null,null,null,null,null,null,null,null,null,null,null,null,null,null,null,null,null,null,null,null,null,null,null,null,null,null,null,null,null,170,106.33333333333283,2.4328067919761054E-2,2.6515828413877344E-2,{"$error":"#N/A"},{"$error":"#N/A"},2.6515828413877344E-2]
[null,null,null,null,null,null,null,null,null,null,null,null,null,null,null,null,null,null,null,null,null,null,null,null,null,null,null,null,null,171,106.66666666666616,2.4094921992183261E-2,2.6555140235316309E-2,{"$error":"#N/A"},{"$error":"#N/A"},2.6555140235316309E-2]
[null,null,null,null,null,null,null,null,null,null,null,null,null,null,null,null,null,null,null,null,null,null,null,null,null,null,null,null,null,172,106.99999999999949,2.3852228611198307E-2,2.6581380490331766E-2,{"$error":"#N/A"},{"$error":"#N/A"},2.6581380490331766E-2]
[null,null,null,null,null,null,null,null,null,null,null,null,null,null,null,null,null,null,null,null,null,null,null,null,null,null,null,null,null,173,107.33333333333282,2.3600322373580906E-2,2.6594510339652617E-2,{"$error":"#N/A"},{"$error":"#N/A"},2.6594510339652617E-2]
[null,null,null,null,null,null,null,null,null,null,null,null,null,null,null,null,null,null,null,null,null,null,null,null,null,null,null,null,null,174,107.66666666666615,2.3339547998814922E-2,2.6594510339652634E-2,{"$error":"#N/A"},{"$error":"#N/A"},2.6594510339652634E-2]
[null,null,null,null,null,null,null,null,null,null,null,null,null,null,null,null,null,null,null,null,null,null,null,null,null,null,null,null,null,175,107.99999999999947,2.3070259545128622E-2,2.6581380490331829E-2,{"$error":"#N/A"},{"$error":"#N/A"},2.6581380490331829E-2]
[null,null,null,null,null,null,null,null,null,null,null,null,null,null,null,null,null,null,null,null,null,null,null,null,null,null,null,null,null,176,108.3333333333328,2.2792819611075727E-2,2.6555140235316414E-2,{"$error":"#N/A"},{"$error":"#N/A"},2.6555140235316414E-2]
[null,null,null,null,null,null,null,null,null,null,null,null,null,null,null,null,null,null,null,null,null,null,null,null,null,null,null,null,null,177,108.66666666666613,2.2507598525173349E-2,2.6515828413877493E-2,{"$error":"#N/A"},{"$error":"#N/A"},2.6515828413877493E-2]
[null,null,null,null,null,null,null,null,null,null,null,null,null,null,null,null,null,null,null,null,null,null,null,null,null,null,null,null,null,178,108.99999999999946,2.2214973526120455E-2,2.6463503165134208E-2,{"$error":"#N/A"},{"$error":"#N/A"},2.6463503165134208E-2]
[null,null,null,null,null,null,null,null,null,null,null,null,null,null,null,null,null,null,null,null,null,null,null,null,null,null,null,null,null,179,109.33333333333279,2.1915327936123195E-2,2.6398241784772042E-2,{"$error":"#N/A"},{"$error":"#N/A"},2.6398241784772042E-2]
[null,null,null,null,null,null,null,null,null,null,null,null,null,null,null,null,null,null,null,null,null,null,null,null,null,null,null,null,null,180,109.66666666666612,2.1609050329846041E-2,2.6320140534770539E-2,{"$error":"#N/A"},{"$error":"#N/A"},2.6320140534770539E-2]
[null,null,null,null,null,null,null,null,null,null,null,null,null,null,null,null,null,null,null,null,null,null,null,null,null,null,null,null,null,181,109.99999999999945,2.1296533701490671E-2,2.6229314406796149E-2,{"$error":"#N/A"},{"$error":"#N/A"},2.6229314406796149E-2]
[null,null,null,null,null,null,null,null,null,null,null,null,null,null,null,null,null,null,null,null,null,null,null,null,null,null,null,null,null,182,110.33333333333277,2.0978174632477715E-2,2.6125896840074166E-2,{"$error":"#N/A"},{"$error":"#N/A"},2.6125896840074166E-2]
[null,null,null,null,null,null,null,null,null,null,null,null,null,null,null,null,null,null,null,null,null,null,null,null,null,null,null,null,null,183,110.6666666666661,2.0654372462170539E-2,2.6010039394708674E-2,{"$error":"#N/A"},{"$error":"#N/A"},2.6010039394708674E-2]
[null,null,null,null,null,null,null,null,null,null,null,null,null,null,null,null,null,null,null,null,null,null,null,null,null,null,null,null,null,184,110.99999999999943,2.0325528464035042E-2,2.5881911381570016E-2,{"$error":"#N/A"},{"$error":"#N/A"},2.5881911381570016E-2]
[null,null,null,null,null,null,null,null,null,null,null,null,null,null,null,null,null,null,null,null,null,null,null,null,null,null,null,null,null,185,111.33333333333276,1.9992045029575686E-2,2.5741699450014768E-2,{"$error":"#N/A"},{"$error":"#N/A"},2.5741699450014768E-2]
[null,null,null,null,null,null,null,null,null,null,null,null,null,null,null,null,null,null,null,null,null,null,null,null,null,null,null,null,null,186,111.66666666666609,1.9654324862325732E-2,2.5589607134843494E-2,{"$error":"#N/A"},{"$error":"#N/A"},2.5589607134843494E-2]
[null,null,null,null,null,null,null,null,null,null,null,null,null,null,null,null,null,null,null,null,null,null,null,null,null,null,null,null,null,187,111.99999999999942,1.9312770184099447E-2,2.5425854364035234E-2,{"$error":"#N/A"},{"$error":"#N/A"},2.5425854364035234E-2]
[null,null,null,null,null,null,null,null,null,null,null,null,null,null,null,null,null,null,null,null,null,null,null,null,null,null,null,null,null,188,112.33333333333275,1.8967781955636517E-2,2.525067692892511E-2,{"$error":"#N/A"},{"$error":"#N/A"},2.525067692892511E-2]
[null,null,null,null,null,null,null,null,null,null,null,null,null,null,null,null,null,null,null,null,null,null,null,null,null,null,null,null,null,189,112.66666666666607,1.8619759113683892E-2,2.5064325918611168E-2,{"$error":"#N/A"},{"$error":"#N/A"},2.5064325918611168E-2]
[null,null,null,null,null,null,null,null,null,null,null,null,null,null,null,null,null,null,null,null,null,null,null,null,null,null,null,null,null,190,112.9999999999994,1.8269097826469193E-2,2.4867067120488928E-2,{"$error":"#N/A"},{"$error":"#N/A"},2.4867067120488928E-2]
[null,null,null,null,null,null,null,null,null,null,null,null,null,null,null,null,null,null,null,null,null,null,null,null,null,null,null,null,null,191,113.33333333333273,1.7916190769422233E-2,2.4659180388916069E-2,{"$error":"#N/A"},{"$error":"#N/A"},2.4659180388916069E-2]
[null,null,null,null,null,null,null,null,null,null,null,null,null,null,null,null,null,null,null,null,null,null,null,null,null,null,null,null,null,192,113.66666666666606,1.756142642289843E-2,2.4440958984105088E-2,{"$error":"#N/A"},{"$error":"#N/A"},2.4440958984105088E-2]
[null,null,null,null,null,null,null,null,null,null,null,null,null,null,null,null,null,null,null,null,null,null,null,null,null,null,null,null,null,193,113.99999999999939,{"$f":"NORMDIST(AE202,$F$6,$F$11,FALSE)","v":1.7205188393549831E-2},{"$f":"NORMDIST(AE202,$F$8,$F$13,FALSE)","v":2.4212708883428292E-2},{"$f":"IF($AE$5,MIN(AF202:AG202),NA())","v":{"$error":"#N/A"}},{"$f":"IF(AND($AE$7,$F$8>AE202),AF202,NA())","v":{"$error":"#N/A"}},{"$f":"IF(AND($AE$6,$F$6<AE202),AG202,NA())","v":2.4212708883428292E-2}]
[null,null,null,null,null,null,null,null,null,null,null,null,null,null,null,null,null,null,null,null,null,null,null,null,null,null,null,null,null,194,{"$f":"AE202+$AG$7","v":114.33333333333272},1.684785476087736E-2,2.3974748067396641E-2,{"$error":"#N/A"},{"$error":"#N/A"},2.3974748067396641E-2]
[null,null,null,null,null,null,null,null,null,null,null,null,null,null,null,null,null,null,null,null,null,null,null,null,null,null,null,null,null,195,114.66666666666605,1.6489797450381607E-2,2.372740578264159E-2,{"$error":"#N/A"},{"$error":"#N/A"},2.372740578264159E-2]
[null,null,null,null,null,null,null,null,null,null,null,null,null,null,null,null,null,null,null,null,null,null,null,null,null,null,null,null,null,196,114.99999999999937,1.6131381634610229E-2,2.347102178428712E-2,{"$error":"#N/A"},{"$error":"#N/A"},2.347102178428712E-2]
[null,null,null,null,null,null,null,null,null,null,null,null,null,null,null,null,null,null,null,null,null,null,null,null,null,null,null,null,null,197,115.3333333333327,1.5772965163277908E-2,2.32059455601469E-2,{"$error":"#N/A"},{"$error":"#N/A"},2.32059455601469E-2]
[null,null,null,null,null,null,null,null,null,null,null,null,null,null,null,null,null,null,null,null,null,null,null,null,null,null,null,null,null,198,115.66666666666603,1.5414898023510875E-2,2.2932535539219794E-2,{"$error":"#N/A"},{"$error":"#N/A"},2.2932535539219794E-2]
[null,null,null,null,null,null,null,null,null,null,null,null,null,null,null,null,null,null,null,null,null,null,null,null,null,null,null,null,null,199,115.99999999999936,1.5057521831142315E-2,2.2651158286984416E-2,{"$error":"#N/A"},{"$error":"#N/A"},2.2651158286984416E-2]
[null,null,null,null,null,null,null,null,null,null,null,null,null,null,null,null,null,null,null,null,null,null,null,null,null,null,null,null,null,200,116.33333333333269,1.4701169353858574E-2,2.2362187690011495E-2,{"$error":"#N/A"},{"$error":"#N/A"},2.2362187690011495E-2]
[null,null,null,null,null,null,null,null,null,null,null,null,null,null,null,null,null,null,null,null,null,null,null,null,null,null,null,null,null,201,116.66666666666602,1.4346164066869426E-2,2.20660041324202E-2,{"$error":"#N/A"},{"$error":"#N/A"},2.20660041324202E-2]
[null,null,null,null,null,null,null,null,null,null,null,null,null,null,null,null,null,null,null,null,null,null,null,null,null,null,null,null,null,202,116.99999999999935,1.3992819741648968E-2,2.1762993666702327E-2,{"$error":"#N/A"},{"$error":"#N/A"},2.1762993666702327E-2]
[null,null,null,null,null,null,null,null,null,null,null,null,null,null,null,null,null,null,null,null,null,null,null,null,null,null,null,null,null,203,117.33333333333267,1.3641440068168222E-2,2.1453547181426058E-2,{"$error":"#N/A"},{"$error":"#N/A"},2.1453547181426058E-2]
[null,null,null,null,null,null,null,null,null,null,null,null,null,null,null,null,null,null,null,null,null,null,null,null,null,null,null,null,null,204,117.666666666666,1.3292318310915898E-2,2.1138059568308869E-2,{"$error":"#N/A"},{"$error":"#N/A"},2.1138059568308869E-2]
[null,null,null,null,null,null,null,null,null,null,null,null,null,null,null,null,null,null,null,null,null,null,null,null,null,null,null,null,null,205,117.99999999999933,1.2945736998881553E-2,2.0816928891118063E-2,{"$error":"#N/A"},{"$error":"#N/A"},2.0816928891118063E-2]
[null,null,null,null,null,null,null,null,null,null,null,null,null,null,null,null,null,null,null,null,null,null,null,null,null,null,null,null,null,206,118.33333333333266,1.2601967649554839E-2,2.0490555558816445E-2,{"$error":"#N/A"},{"$error":"#N/A"},2.0490555558816445E-2]
[null,null,null,null,null,null,null,null,null,null,null,null,null,null,null,null,null,null,null,null,null,null,null,null,null,null,null,null,null,207,118.66666666666599,1.2261270526877446E-2,2.0159341505321407E-2,{"$error":"#N/A"},{"$error":"#N/A"},2.0159341505321407E-2]
[null,null,null,null,null,null,null,null,null,null,null,null,null,null,null,null,null,null,null,null,null,null,null,null,null,null,null,null,null,208,118.99999999999932,1.1923894432970053E-2,1.9823689378187528E-2,{"$error":"#N/A"},{"$error":"#N/A"},1.9823689378187528E-2]
[null,null,null,null,null,null,null,null,null,null,null,null,null,null,null,null,null,null,null,null,null,null,null,null,null,null,null,null,null,209,119.33333333333265,1.1590076533346171E-2,1.9484001738456491E-2,{"$error":"#N/A"},{"$error":"#N/A"},1.9484001738456491E-2]
[null,null,null,null,null,null,null,null,null,null,null,null,null,null,null,null,null,null,null,null,null,null,null,null,null,null,null,null,null,210,119.66666666666598,1.1260042215218348E-2,1.9140680273844298E-2,{"$error":"#N/A"},{"$error":"#N/A"},1.9140680273844298E-2]
[null,null,null,null,null,null,null,null,null,null,null,null,null,null,null,null,null,null,null,null,null,null,null,null,null,null,null,null,null,211,119.9999999999993,1.093400497840025E-2,1.8794125027354228E-2,{"$error":"#N/A"},{"$error":"#N/A"},1.8794125027354228E-2]
[null,null,null,null,null,null,null,null,null,null,null,null,null,null,null,null,null,null,null,null,null,null,null,null,null,null,null,null,null,212,120.33333333333263,1.0612166358210775E-2,1.8444733643316231E-2,{"$error":"#N/A"},{"$error":"#N/A"},1.8444733643316231E-2]
[null,null,null,null,null,null,null,null,null,null,null,null,null,null,null,null,null,null,null,null,null,null,null,null,null,null,null,null,null,213,120.66666666666596,1.0294715879694235E-2,1.809290063275857E-2,{"$error":"#N/A"},{"$error":"#N/A"},1.809290063275857E-2]
[null,null,null,null,null,null,null,null,null,null,null,null,null,null,null,null,null,null,null,null,null,null,null,null,null,null,null,null,null,214,120.99999999999929,9.9818310423836522E-3,1.7739016659917742E-2,{"$error":"#N/A"},{"$error":"#N/A"},1.7739016659917742E-2]
[null,null,null,null,null,null,null,null,null,null,null,null,null,null,null,null,null,null,null,null,null,null,null,null,null,null,null,null,null,215,121.33333333333262,9.6736773347527952E-3,1.7383467851586867E-2,{"$error":"#N/A"},{"$error":"#N/A"},1.7383467851586867E-2]
[null,null,null,null,null,null,null,null,null,null,null,null,null,null,null,null,null,null,null,null,null,null,null,null,null,null,null,null,null,216,121.66666666666595,9.3704082774269479E-3,1.702663513089283E-2,{"$error":"#N/A"},{"$error":"#N/A"},1.702663513089283E-2]
[null,null,null,null,null,null,null,null,null,null,null,null,null,null,null,null,null,null,null,null,null,null,null,null,null,null,null,null,null,217,121.99999999999928,9.0721654941525107E-3,1.6668893576978008E-2,{"$error":"#N/A"},{"$error":"#N/A"},1.6668893576978008E-2]
[null,null,null,null,null,null,null,null,null,null,null,null,null,null,null,null,null,null,null,null,null,null,null,null,null,null,null,null,null,218,122.3333333333326,8.7790788094618422E-3,1.6310611811944674E-2,{"$error":"#N/A"},{"$error":"#N/A"},1.6310611811944674E-2]
[null,null,null,null,null,null,null,null,null,null,null,null,null,null,null,null,null,null,null,null,null,null,null,null,null,null,null,null,null,219,122.66666666666593,8.4912663719119066E-3,1.5952151416299406E-2,{"$error":"#N/A"},{"$error":"#N/A"},1.5952151416299406E-2]
[null,null,null,null,null,null,null,null,null,null,null,null,null,null,null,null,null,null,null,null,null,null,null,null,null,null,null,null,null,220,122.99999999999926,8.2088348017239233E-3,1.5593866374011656E-2,{"$error":"#N/A"},{"$error":"#N/A"},1.5593866374011656E-2]
[null,null,null,null,null,null,null,null,null,null,null,null,null,null,null,null,null,null,null,null,null,null,null,null,null,null,null,null,null,221,123.33333333333259,7.9318793616057117E-3,1.5236102548175794E-2,{"$error":"#N/A"},{"$error":"#N/A"},1.5236102548175794E-2]
[null,null,null,null,null,null,null,null,null,null,null,null,null,null,null,null,null,null,null,null,null,null,null,null,null,null,null,null,null,222,123.66666666666592,7.6604841494994271E-3,1.4879197188139844E-2,{"$error":"#N/A"},{"$error":"#N/A"},1.4879197188139844E-2]
[null,null,null,null,null,null,null,null,null,null,null,null,null,null,null,null,null,null,null,null,null,null,null,null,null,null,null,null,null,223,123.99999999999925,7.3947223119642967E-3,1.4523478468837503E-2,{"$error":"#N/A"},{"$error":"#N/A"},1.4523478468837503E-2]
[null,null,null,null,null,null,null,null,null,null,null,null,null,null,null,null,null,null,null,null,null,null,null,null,null,null,null,null,null,224,124.33333333333258,7.1346562768771502E-3,1.4169265062933263E-2,{"$error":"#N/A"},{"$error":"#N/A"},1.4169265062933263E-2]
[null,null,null,null,null,null,null,null,null,null,null,null,null,null,null,null,null,null,null,null,null,null,null,null,null,null,null,null,null,225,124.6666666666659,6.880338004112696E-3,1.3816865746264359E-2,{"$error":"#N/A"},{"$error":"#N/A"},1.3816865746264359E-2]
[null,null,null,null,null,null,null,null,null,null,null,null,null,null,null,null,null,null,null,null,null,null,null,null,null,null,null,null,null,226,124.99999999999923,6.6318092528504773E-3,1.3466579036938058E-2,{"$error":"#N/A"},{"$error":"#N/A"},1.3466579036938058E-2]
[null,null,null,null,null,null,null,null,null,null,null,null,null,null,null,null,null,null,null,null,null,null,null,null,null,null,null,null,null,227,125.33333333333256,6.3891018641463546E-3,1.3118692868319484E-2,{"$error":"#N/A"},{"$error":"#N/A"},1.3118692868319484E-2]
[null,null,null,null,null,null,null,null,null,null,null,null,null,null,null,null,null,null,null,null,null,null,null,null,null,null,null,null,null,228,125.66666666666589,6.1522380574026867E-3,1.2773484296023438E-2,{"$error":"#N/A"},{"$error":"#N/A"},1.2773484296023438E-2]
[null,null,null,null,null,null,null,null,null,null,null,null,null,null,null,null,null,null,null,null,null,null,null,null,null,null,null,null,null,229,125.99999999999922,5.921230739373326E-3,1.2431219238905181E-2,{"$error":"#N/A"},{"$error":"#N/A"},1.2431219238905181E-2]
[null,null,null,null,null,null,null,null,null,null,null,null,null,null,null,null,null,null,null,null,null,null,null,null,null,null,null,null,null,230,126.33333333333255,5.6960838243465071E-3,1.2092152253929079E-2,{"$error":"#N/A"},{"$error":"#N/A"},1.2092152253929079E-2]
[null,null,null,null,null,null,null,null,null,null,null,null,null,null,null,null,null,null,null,null,null,null,null,null,null,null,null,null,null,231,126.66666666666588,5.4767925641609014E-3,1.1756526344681766E-2,{"$error":"#N/A"},{"$error":"#N/A"},1.1756526344681766E-2]
[null,null,null,null,null,null,null,null,null,null,null,null,null,null,null,null,null,null,null,null,null,null,null,null,null,null,null,null,null,232,126.9999999999992,5.2633438867267807E-3,1.1424572803187944E-2,{"$error":"#N/A"},{"$error":"#N/A"},1.1424572803187944E-2]
[null,null,null,null,null,null,null,null,null,null,null,null,null,null,null,null,null,null,null,null,null,null,null,null,null,null,null,null,null,233,127.33333333333253,5.0557167417457239E-3,1.1096511084582816E-2,{"$error":"#N/A"},{"$error":"#N/A"},1.1096511084582816E-2]
[null,null,null,null,null,null,null,null,null,null,null,null,null,null,null,null,null,null,null,null,null,null,null,null,null,null,null,null,null,234,127.66666666666586,4.8538824523478141E-3,1.0772548714095267E-2,{"$error":"#N/A"},{"$error":"#N/A"},1.0772548714095267E-2]
[null,null,null,null,null,null,null,null,null,null,null,null,null,null,null,null,null,null,null,null,null,null,null,null,null,null,null,null,null,235,127.99999999999919,4.6578050713948129E-3,1.0452881225701342E-2,{"$error":"#N/A"},{"$error":"#N/A"},1.0452881225701342E-2]
[null,null,null,null,null,null,null,null,null,null,null,null,null,null,null,null,null,null,null,null,null,null,null,null,null,null,null,null,null,236,128.33333333333252,4.4674417412311389E-3,1.0137692131717811E-2,{"$error":"#N/A"},{"$error":"#N/A"},1.0137692131717811E-2]
[null,null,null,null,null,null,null,null,null,null,null,null,null,null,null,null,null,null,null,null,null,null,null,null,null,null,null,null,null,237,128.66666666666586,4.2827430557010404E-3,9.8271529225214798E-3,{"$error":"#N/A"},{"$error":"#N/A"},9.8271529225214798E-3]
[null,null,null,null,null,null,null,null,null,null,null,null,null,null,null,null,null,null,null,null,null,null,null,null,null,null,null,null,null,238,128.9999999999992,4.1036534232902384E-3,9.5214230955014099E-3,{"$error":"#N/A"},{"$error":"#N/A"},9.5214230955014099E-3]
[null,null,null,null,null,null,null,null,null,null,null,null,null,null,null,null,null,null,null,null,null,null,null,null,null,null,null,null,null,239,129.33333333333255,3.9301114302927095E-3,9.2206502122781538E-3,{"$error":"#N/A"},{"$error":"#N/A"},9.2206502122781538E-3]
[null,null,null,null,null,null,null,null,null,null,null,null,null,null,null,null,null,null,null,null,null,null,null,null,null,null,null,null,null,240,129.66666666666589,3.762050202948581E-3,8.9249699831577007E-3,{"$error":"#N/A"},{"$error":"#N/A"},8.9249699831577007E-3]
[null,null,null,null,null,null,null,null,null,null,null,null,null,null,null,null,null,null,null,null,null,null,null,null,null,null,null,null,null,241,129.99999999999923,3.5993977675462386E-3,8.6345063777267771E-3,{"$error":"#N/A"},{"$error":"#N/A"},8.6345063777267771E-3]
[null,null,null,null,null,null,null,null,null,null,null,null,null,null,null,null,null,null,null,null,null,null,null,null,null,null,null,null,null,242,130.33333333333258,3.442077407531054E-3,8.3493717604415547E-3,{"$error":"#N/A"},{"$error":"#N/A"},8.3493717604415547E-3]
[null,null,null,null,null,null,null,null,null,null,null,null,null,null,null,null,null,null,null,null,null,null,null,null,null,null,null,null,null,243,130.66666666666592,3.2900080167139424E-3,8.0696670500135358E-3,{"$error":"#N/A"},{"$error":"#N/A"},8.0696670500135358E-3]
[null,null,null,null,null,null,null,null,null,null,null,null,null,null,null,null,null,null,null,null,null,null,null,null,null,null,null,null,null,244,130.99999999999926,3.1431044477250917E-3,7.795481901353968E-3,{"$error":"#N/A"},{"$error":"#N/A"},7.795481901353968E-3]
[null,null,null,null,null,null,null,null,null,null,null,null,null,null,null,null,null,null,null,null,null,null,null,null,null,null,null,null,null,245,131.3333333333326,3.0012778549114915E-3,7.526894908802189E-3,{"$error":"#N/A"},{"$error":"#N/A"},7.526894908802189E-3]
[null,null,null,null,null,null,null,null,null,null,null,null,null,null,null,null,null,null,null,null,null,null,null,null,null,null,null,null,null,246,131.66666666666595,2.8644360309307711E-3,7.2639738293333676E-3,{"$error":"#N/A"},{"$error":"#N/A"},7.2639738293333676E-3]
[null,null,null,null,null,null,null,null,null,null,null,null,null,null,null,null,null,null,null,null,null,null,null,null,null,null,null,null,null,247,131.99999999999929,2.7324837363484227E-3,7.0067758244172183E-3,{"$error":"#N/A"},{"$error":"#N/A"},7.0067758244172183E-3]
[null,null,null,null,null,null,null,null,null,null,null,null,null,null,null,null,null,null,null,null,null,null,null,null,null,null,null,null,null,248,132.33333333333263,2.6053230216001354E-3,6.7553477191814714E-3,{"$error":"#N/A"},{"$error":"#N/A"},6.7553477191814714E-3]
[null,null,null,null,null,null,null,null,null,null,null,null,null,null,null,null,null,null,null,null,null,null,null,null,null,null,null,null,null,249,132.66666666666598,2.482853540735738E-3,6.5097262775217152E-3,{"$error":"#N/A"},{"$error":"#N/A"},6.5097262775217152E-3]
[null,null,null,null,null,null,null,null,null,null,null,null,null,null,null,null,null,null,null,null,null,null,null,null,null,null,null,null,null,250,132.99999999999932,2.3649728564156653E-3,6.269938491792945E-3,{"$error":"#N/A"},{"$error":"#N/A"},6.269938491792945E-3]
[null,null,null,null,null,null,null,null,null,null,null,null,null,null,null,null,null,null,null,null,null,null,null,null,null,null,null,null,null,251,133.33333333333266,2.2515767356849339E-3,6.0360018857173407E-3,{"$error":"#N/A"},{"$error":"#N/A"},6.0360018857173407E-3]
[null,null,null,null,null,null,null,null,null,null,null,null,null,null,null,null,null,null,null,null,null,null,null,null,null,null,null,null,null,252,133.666666666666,2.1425594361028548E-3,5.8079248291471692E-3,{"$error":"#N/A"},{"$error":"#N/A"},5.8079248291471692E-3]
[null,null,null,null,null,null,null,null,null,null,null,null,null,null,null,null,null,null,null,null,null,null,null,null,null,null,null,null,null,253,133.99999999999935,2.0378139818592331E-3,5.5857068633314126E-3,{"$error":"#N/A"},{"$error":"#N/A"},5.5857068633314126E-3]
[null,null,null,null,null,null,null,null,null,null,null,null,null,null,null,null,null,null,null,null,null,null,null,null,null,null,null,null,null,254,134.33333333333269,1.9372324295591149E-3,5.3693390353491384E-3,{"$error":"#N/A"},{"$error":"#N/A"},5.3693390353491384E-3]
[null,null,null,null,null,null,null,null,null,null,null,null,null,null,null,null,null,null,null,null,null,null,null,null,null,null,null,null,null,255,134.66666666666603,1.8407061234083323E-3,5.1588042403917737E-3,{"$error":"#N/A"},{"$error":"#N/A"},5.1588042403917737E-3]
[null,null,null,null,null,null,null,null,null,null,null,null,null,null,null,null,null,null,null,null,null,null,null,null,null,null,null,null,null,256,134.99999999999937,1.748125939580803E-3,4.9540775705999166E-3,{"$error":"#N/A"},{"$error":"#N/A"},4.9540775705999166E-3]
[null,null,null,null,null,null,null,null,null,null,null,null,null,null,null,null,null,null,null,null,null,null,null,null,null,null,null,null,null,257,135.33333333333272,{"$f":"NORMDIST(AE266,$F$6,$F$11,FALSE)","v":1.659382519595758E-3},{"$f":"NORMDIST(AE266,$F$8,$F$13,FALSE)","v":4.7551266691879673E-3},{"$f":"IF($AE$5,MIN(AF266:AG266),NA())","v":{"$error":"#N/A"}},{"$f":"IF(AND($AE$7,$F$8>AE266),AF266,NA())","v":{"$error":"#N/A"}},{"$f":"IF(AND($AE$6,$F$6<AE266),AG266,NA())","v":4.7551266691879673E-3}]
[null,null,null,null,null,null,null,null,null,null,null,null,null,null,null,null,null,null,null,null,null,null,null,null,null,null,null,null,null,258,{"$f":"AE266+$AG$7","v":135.66666666666606},1.5743664925786222E-3,4.5619120886212609E-3,{"$error":"#N/A"},{"$error":"#N/A"},4.5619120886212609E-3]
[null,null,null,null,null,null,null,null,null,null,null,null,null,null,null,null,null,null,null,null,null,null,null,null,null,null,null,null,null,259,135.9999999999994,1.4929686863230025E-3,4.3743876516454368E-3,{"$error":"#N/A"},{"$error":"#N/A"},4.3743876516454368E-3]
[null,null,null,null,null,null,null,null,null,null,null,null,null,null,null,null,null,null,null,null,null,null,null,null,null,null,null,null,null,260,136.33333333333275,1.4150803271131232E-3,4.1925008140059573E-3,{"$error":"#N/A"},{"$error":"#N/A"},4.1925008140059573E-3]
[null,null,null,null,null,null,null,null,null,null,null,null,null,null,null,null,null,null,null,null,null,null,null,null,null,null,null,null,null,261,136.66666666666609,1.3405932283059553E-3,4.0161930277369624E-3,{"$error":"#N/A"},{"$error":"#N/A"},4.0161930277369624E-3]
[null,null,null,null,null,null,null,null,null,null,null,null,null,null,null,null,null,null,null,null,null,null,null,null,null,null,null,null,null,262,136.99999999999943,1.269399967710136E-3,3.8454001039424728E-3,{"$error":"#N/A"},{"$error":"#N/A"},3.8454001039424728E-3]
[null,null,null,null,null,null,null,null,null,null,null,null,null,null,null,null,null,null,null,null,null,null,null,null,null,null,null,null,null,263,137.33333333333277,1.2013940538345555E-3,3.6800525740392129E-3,{"$error":"#N/A"},{"$error":"#N/A"},3.6800525740392129E-3]
[null,null,null,null,null,null,null,null,null,null,null,null,null,null,null,null,null,null,null,null,null,null,null,null,null,null,null,null,null,264,137.66666666666612,1.1364700811130812E-3,3.520076048478584E-3,{"$error":"#N/A"},{"$error":"#N/A"},3.520076048478584E-3]
[null,null,null,null,null,null,null,null,null,null,null,null,null,null,null,null,null,null,null,null,null,null,null,null,null,null,null,null,null,265,137.99999999999946,1.0745238742433632E-3,3.365391572015426E-3,{"$error":"#N/A"},{"$error":"#N/A"},3.365391572015426E-3]
[null,null,null,null,null,null,null,null,null,null,null,null,null,null,null,null,null,null,null,null,null,null,null,null,null,null,null,null,null,266,138.3333333333328,1.0154526218068701E-3,3.2159159746426805E-3,{"$error":"#N/A"},{"$error":"#N/A"},3.2159159746426805E-3]
[null,null,null,null,null,null,null,null,null,null,null,null,null,null,null,null,null,null,null,null,null,null,null,null,null,null,null,null,null,267,138.66666666666615,9.5915499936435552E-4,3.071562217363846E-3,{"$error":"#N/A"},{"$error":"#N/A"},3.071562217363846E-3]
[null,null,null,null,null,null,null,null,null,null,null,null,null,null,null,null,null,null,null,null,null,null,null,null,null,null,null,null,null,268,138.99999999999949,9.0553128224578837E-4,2.9322397320286904E-3,{"$error":"#N/A"},{"$error":"#N/A"},2.9322397320286904E-3]
[null,null,null,null,null,null,null,null,null,null,null,null,null,null,null,null,null,null,null,null,null,null,null,null,null,null,null,null,null,269,139.33333333333283,8.5448344827639101E-4,2.7978547545119826E-3,{"$error":"#N/A"},{"$error":"#N/A"},2.7978547545119826E-3]
[null,null,null,null,null,null,null,null,null,null,null,null,null,null,null,null,null,null,null,null,null,null,null,null,null,null,null,null,null,270,139.66666666666617,8.0591527070091062E-4,2.6683106505696387E-3,{"$error":"#N/A"},{"$error":"#N/A"},2.6683106505696387E-3]
[null,null,null,null,null,null,null,null,null,null,null,null,null,null,null,null,null,null,null,null,null,null,null,null,null,null,null,null,null,271,139.99999999999952,7.5973240158656126E-4,2.5435082337613743E-3,{"$error":"#N/A"},{"$error":"#N/A"},2.5435082337613743E-3]
[null,null,null,null,null,null,null,null,null,null,null,null,null,null,null,null,null,null,null,null,null,null,null,null,null,null,null,null,null,272,140.33333333333286,7.1584244600129011E-4,2.4233460748836664E-3,{"$error":"#N/A"},{"$error":"#N/A"},2.4233460748836664E-3]
[null,null,null,null,null,null,null,null,null,null,null,null,null,null,null,null,null,null,null,null,null,null,null,null,null,null,null,null,null,273,140.6666666666662,6.741550272782122E-4,2.3077208024109932E-3,{"$error":"#N/A"},{"$error":"#N/A"},2.3077208024109932E-3]
[null,null,null,null,null,null,null,null,null,null,null,null,null,null,null,null,null,null,null,null,null,null,null,null,null,null,null,null,null,274,140.99999999999955,6.3458184368919853E-4,2.1965273934971001E-3,{"$error":"#N/A"},{"$error":"#N/A"},2.1965273934971001E-3]
[null,null,null,null,null,null,null,null,null,null,null,null,null,null,null,null,null,null,null,null,null,null,null,null,null,null,null,null,null,275,141.33333333333289,5.9703671686087059E-4,2.0896594551408818E-3,{"$error":"#N/A"},{"$error":"#N/A"},2.0896594551408818E-3]
[null,null,null,null,null,null,null,null,null,null,null,null,null,null,null,null,null,null,null,null,null,null,null,null,null,null,null,null,null,276,141.66666666666623,5.6143563227460224E-4,1.9870094951734219E-3,{"$error":"#N/A"},{"$error":"#N/A"},1.9870094951734219E-3]
[null,null,null,null,null,null,null,null,null,null,null,null,null,null,null,null,null,null,null,null,null,null,null,null,null,null,null,null,null,277,141.99999999999957,5.2769677219870637E-4,1.8884691827735348E-3,{"$error":"#N/A"},{"$error":"#N/A"},1.8884691827735348E-3]
[null,null,null,null,null,null,null,null,null,null,null,null,null,null,null,null,null,null,null,null,null,null,null,null,null,null,null,null,null,278,142.33333333333292,4.9574054140584653E-4,1.7939295982685765E-3,{"$error":"#N/A"},{"$error":"#N/A"},1.7939295982685765E-3]
[null,null,null,null,null,null,null,null,null,null,null,null,null,null,null,null,null,null,null,null,null,null,null,null,null,null,null,null,null,279,142.66666666666626,4.6548958603191286E-4,1.7032814720253017E-3,{"$error":"#N/A"},{"$error":"#N/A"},1.7032814720253017E-3]
[null,null,null,null,null,null,null,null,null,null,null,null,null,null,null,null,null,null,null,null,null,null,null,null,null,null,null,null,null,280,142.9999999999996,4.3686880593426776E-4,1.6164154122819251E-3,{"$error":"#N/A"},{"$error":"#N/A"},1.6164154122819251E-3]
[null,null,null,null,null,null,null,null,null,null,null,null,null,null,null,null,null,null,null,null,null,null,null,null,null,null,null,null,null,281,143.33333333333294,4.0980536090745785E-4,1.5332221218172105E-3,{"$error":"#N/A"},{"$error":"#N/A"},1.5332221218172105E-3]
[null,null,null,null,null,null,null,null,null,null,null,null,null,null,null,null,null,null,null,null,null,null,null,null,null,null,null,null,null,282,143.66666666666629,3.8422867111328411E-4,1.4535926033952236E-3,{"$error":"#N/A"},{"$error":"#N/A"},1.4535926033952236E-3]
[null,null,null,null,null,null,null,null,null,null,null,null,null,null,null,null,null,null,null,null,null,null,null,null,null,null,null,null,null,283,143.99999999999963,3.6007041207965126E-4,1.377418353965297E-3,{"$error":"#N/A"},{"$error":"#N/A"},1.377418353965297E-3]
[null,null,null,null,null,null,null,null,null,null,null,null,null,null,null,null,null,null,null,null,null,null,null,null,null,null,null,null,null,284,144.33333333333297,3.3726450461891229E-4,1.3045915476356262E-3,{"$error":"#N/A"},{"$error":"#N/A"},1.3045915476356262E-3]
[null,null,null,null,null,null,null,null,null,null,null,null,null,null,null,null,null,null,null,null,null,null,null,null,null,null,null,null,null,285,144.66666666666632,3.1574710001163587E-4,1.2350052074757685E-3,{"$error":"#N/A"},{"$error":"#N/A"},1.2350052074757685E-3]
[null,null,null,null,null,null,null,null,null,null,null,null,null,null,null,null,null,null,null,null,null,null,null,null,null,null,null,null,null,286,144.99999999999966,2.9545656079588731E-4,1.1685533662379685E-3,{"$error":"#N/A"},{"$error":"#N/A"},1.1685533662379685E-3]
[null,null,null,null,null,null,null,null,null,null,null,null,null,null,null,null,null,null,null,null,null,null,null,null,null,null,null,null,null,287,145.333333333333,2.7633343749536798E-4,1.1051312161198033E-3,{"$error":"#N/A"},{"$error":"#N/A"},1.1051312161198033E-3]
[null,null,null,null,null,null,null,null,null,null,null,null,null,null,null,null,null,null,null,null,null,null,null,null,null,null,null,null,null,288,145.66666666666634,2.5832044161213828E-4,1.0446352477209663E-3,{"$error":"#N/A"},{"$error":"#N/A"},1.0446352477209663E-3]
[null,null,null,null,null,null,null,null,null,null,null,null,null,null,null,null,null,null,null,null,null,null,null,null,null,null,null,null,null,289,145.99999999999969,2.4136241520130119E-4,9.8696337837513915E-4,{"$error":"#N/A"},{"$error":"#N/A"},9.8696337837513915E-4]
[null,null,null,null,null,null,null,null,null,null,null,null,null,null,null,null,null,null,null,null,null,null,null,null,null,null,null,null,null,290,146.33333333333303,2.2540629733596888E-4,9.3201507006385057E-4,{"$error":"#N/A"},{"$error":"#N/A"},9.3201507006385057E-4]
[null,null,null,null,null,null,null,null,null,null,null,null,null,null,null,null,null,null,null,null,null,null,null,null,null,null,null,null,null,291,146.66666666666637,2.1040108776121559E-4,8.7969143714291989E-4,{"$error":"#N/A"},{"$error":"#N/A"},8.7969143714291989E-4]
[null,null,null,null,null,null,null,null,null,null,null,null,null,null,null,null,null,null,null,null,null,null,null,null,null,null,null,null,null,292,146.99999999999972,1.9629780802556896E-4,8.2989534413365482E-4,{"$error":"#N/A"},{"$error":"#N/A"},8.2989534413365482E-4]
[null,null,null,null,null,null,null,null,null,null,null,null,null,null,null,null,null,null,null,null,null,null,null,null,null,null,null,null,null,293,147.33333333333306,1.830494603680112E-4,7.8253149385033871E-4,{"$error":"#N/A"},{"$error":"#N/A"},7.8253149385033871E-4]
[null,null,null,null,null,null,null,null,null,null,null,null,null,null,null,null,null,null,null,null,null,null,null,null,null,null,null,null,null,294,147.6666666666664,1.7061098462752813E-4,7.375065061528208E-4,{"$error":"#N/A"},{"$error":"#N/A"},7.375065061528208E-4]
[null,null,null,null,null,null,null,null,null,null,null,null,null,null,null,null,null,null,null,null,null,null,null,null,null,null,null,null,null,295,147.99999999999974,1.5893921343099822E-4,6.9472898762820505E-4,{"$error":"#N/A"},{"$error":"#N/A"},6.9472898762820505E-4]
[null,null,null,null,null,null,null,null,null,null,null,null,null,null,null,null,null,null,null,null,null,null,null,null,null,null,null,null,null,296,148.33333333333309,1.4799282590377454E-4,6.5410959251880273E-4,{"$error":"#N/A"},{"$error":"#N/A"},6.5410959251880273E-4]
[null,null,null,null,null,null,null,null,null,null,null,null,null,null,null,null,null,null,null,null,null,null,null,null,null,null,null,null,null,297,148.66666666666643,1.3773230013568524E-4,6.1556107522470324E-4,{"$error":"#N/A"},{"$error":"#N/A"},6.1556107522470324E-4]
[null,null,null,null,null,null,null,null,null,null,null,null,null,null,null,null,null,null,null,null,null,null,null,null,null,null,null,null,null,298,148.99999999999977,1.2811986462347362E-4,5.7899833471861779E-4,{"$error":"#N/A"},{"$error":"#N/A"},5.7899833471861779E-4]
[null,null,null,null,null,null,null,null,null,null,null,null,null,null,null,null,null,null,null,null,null,null,null,null,null,null,null,null,null,299,149.33333333333312,1.1911944889894277E-4,5.4433845121810878E-4,{"$error":"#N/A"},{"$error":"#N/A"},5.4433845121810878E-4]
[null,null,null,null,null,null,null,null,null,null,null,null,null,null,null,null,null,null,null,null,null,null,null,null,null,null,null,null,null,300,149.66666666666646,1.1069663354032888E-4,5.1150071546602368E-4,{"$error":"#N/A"},{"$error":"#N/A"},5.1150071546602368E-4]
[null,null,null,null,null,null,null,null,null,null,null,null,null,null,null,null,null,null,null,null,null,null,null,null,null,null,null,null,null,301,149.9999999999998,1.02818599752745E-4,4.8040665097396658E-4,{"$error":"#N/A"},{"$error":"#N/A"},4.8040665097396658E-4]

{"sheet":"d heap","index":4,"n_rows":304,"n_cols":75,"rows_kept":304,"cut":false,"hidden":false,"merged":[]}
[null,null,null,null,null,null,null,null,"     Distribution of d        ",null,null,null,null,null,null,null,null,{"$f":"($L$8+$O$12+$H$15+$O$10+$BC$23+$BC$24+$BC$27+$BC$28)/1000000","v":2.5442100000000001E-4},{"$f":"$R$1","v":2.5442100000000001E-4},2.5442100000000001E-4,2.5442100000000001E-4,2.5442100000000001E-4,2.5442100000000001E-4,2.5442100000000001E-4,2.5442100000000001E-4,2.5442100000000001E-4,2.5442100000000001E-4,2.5442100000000001E-4,2.5442100000000001E-4,2.5442100000000001E-4,2.5442100000000001E-4,null,null,null,null,null,null,null,null,null,null,null,null,null,null,null,null,null,null,"low","high","majXunit",null,null,"DispRubberRuler",true,null,"H1 sample",null,null,null,null,null,null,null,null,null,null,null,null,null,null,{"$f":"BU4","v":139.92699999999999},{"$f":"IF(AND($BD$5,$BD$4),$AX$12-$BC$27/2+BT4*$BC$27,NA())","v":-14.34925}]
["means","SDs","d or dz","calcswitch",false,null,null,null,"      Take samples, see distribution of means, and of d",null,null,null,null,null,null,null,null,{"$f":"$R$1","v":2.5442100000000001E-4},null,null,null,null,null,null,null,null,null,null,null,null,{"$f":"$R$1","v":2.5442100000000001E-4},null,null,null,null,null,null,null,null,null,null,null,null,null,null,null,null,null,"Y axis",{"$f":"AX15-AX16","v":-52},{"$f":"AX6+AX5+AX4","v":45},null,"Max no samps",300,"Show data pts",true,1,"rand no.","data point z","data point",null,"New Sample, for display","Display mean heap 1",null,{"$f":"BM4","v":125.517},{"$f":"IF(AND(NOT($BB$13),$BD$6,$BD$4,$BD$2),$AX$9-$BC$23/2+BL4*$BC$23,NA())","v":8.0812499999999989},"Display t-z heap 1",null,{"$f":"BQ4","v":126.49},{"$f":"IF(AND(NOT($BB$13),$BD$7,$BD$4,$BD$2,$BD$10),$AX$15-$BC$23/2+BP4*$BC$23,NA())","v":-42.996250000000003},"Display s pile",null,{"$f":"BU4","v":139.92699999999999},{"$f":"IF(AND(NOT($BD$12),$BD$5,$BD$4,$BD$2),$AX$12-$BC$27/2+BT4*$BC$27,NA())","v":-14.34925}]
[{"$f":"BB38","v":-0.3169006291995648},{"$f":"BC38","v":0.94732396651817885},null,null,null,null,null,null,"      See the s pile, the distribution of sample standard deviations",null,null,null,null,null,null,null,null,2.5442100000000001E-4,null,null,null,null,null,null,null,null,null,null,null,null,2.5442100000000001E-4,null,null,null,null,null,null,null,null,null,null,null,null,null,null,null,null,null,"X axis",70,170,10,"d=1, s=2",1,"Don'tClearDisp",{"$f":"($D$11=$E$11)","v":true},2,{"$f":"$D$12","v":0.55668747881522851},{"$f":"IF(AND($BD$4,$BE2<=$H$15),NORMSINV(BF3),\"\")","v":0.14257601350009624},{"$f":"IF(BG3=\"\",\"\",$O$10+$O$12*BG3)","v":132.13864020250145},{"$f":"AX8","v":25},{"$f":"IF(AND($BB$12,$BD$2,BH3<>\"\",$A$4<>\"\"),BH3,-999)","v":132.13864020250145},"xticks","yticks","x for display","y for display","xticks","yticks","x for display","y for display","xticks","yticks","x for display","y for display","y grey"]
[-0.3169006291995648,0.94732396651817885,{"$f":"IF(AND(A4<>\"\",$H$15>1),(($O$10+$O$12*A4)-$L$8)/IF($BD$12,$BB$9,$O$12*B4),\"\")","v":1.7766882611305042},null,null,null,null,null,"      See the rubber ruler, and calculate d using s or s",null,null,null,null,null,null,null,null,2.5442100000000001E-4,null,null,null,null,null,null,null,null,null,null,null,null,2.5442100000000001E-4,null,null,null,null,null,null,null,null,null,null,null,null,null,null,null,null,null,"top gap",0,null,"minXunit","Show m1",true,"Don'tClearDisp1",{"$f":"($D$11=$E$11)","v":true},3,{"$f":"MOD(BF3*10000013,1)","v":2.5089509785175323E-2},-1.9584347580939001,100.6234786285915,{"$f":"BI3","v":25},100.6234786285915,{"$f":"IF(A4=\"\",\"\",ROUND(($O$10+$O$12*A4)/$BC$24,0))","v":129},{"$f":"IF(BK4=\"\",NA(),COUNTIF(BK4:$BK$303,BK4))","v":8},{"$f":"BK4*$BC$24","v":125.517},{"$f":"IF(AND(NOT($BB$13),$BD$6,$BD$4,$BD$8),$AX$9-$BC$23/2+BL4*$BC$23,NA())","v":8.0812499999999989},{"$f":"IF(C4=\"\",\"\",ROUND(($L$8+C4*$BB$9)/$BC$24,0))","v":130},{"$f":"IF(BO4=\"\",NA(),COUNTIF(BO4:$BO$303,BO4))","v":7},{"$f":"BO4*$BC$24","v":126.49},{"$f":"IF(AND(NOT($BB$13),$BD$7,$BD$4,$BD$8,$BD$10),$AX$15-$BC$23/2+BP4*$BC$23,NA())","v":-42.996250000000003},{"$f":"IF(B4=\"\",\"\",ROUND(($O$12*B4)/$BC$28,0))","v":22},{"$f":"IF(BS4=\"\",NA(),COUNTIF(BS4:$BS$303,BS4))","v":7},{"$f":"$AX$35+BS4*$BC$28","v":139.92699999999999},{"$f":"IF(AND(NOT($BD$12),$BD$5,$BD$4,$BD$8),$AX$12-$BC$27/2+BT4*$BC$27,NA())","v":-14.34925},{"$f":"IF(AND($BD$12,$BD$5,$BD$4,$BD$8),$AX$12-$BC$27/2+BT4*$BC$27,NA())","v":{"$error":"#N/A"}}]
[-8.7956469973054785E-2,1.1362676683487154,1.6827404169702624,null,null,null,null,null,null,null,null,null,null,null,null,null,null,{"$f":"$R$1","v":2.5442100000000001E-4},null,null,null,null,null,null,null,null,null,null,null,null,2.5442100000000001E-4,null,null,null,null,null,null,null,null,null,null,null,null,null,null,null,null,null,"panel 1 height",18,null,2,"m1 true",2,"Disp s pile",true,4,0.42401538044214249,-0.19163163462494615,127.12552548062581,{"$f":"BI4","v":25},127.12552548062581,132,{"$f":"IF(BK5=\"\",NA(),COUNTIF(BK5:$BK$303,BK5))","v":4},128.43600000000001,3.7712499999999998,129,{"$f":"IF(BO5=\"\",NA(),COUNTIF(BO5:$BO$303,BO5))","v":10},125.517,-39.763750000000002,{"$f":"IF(B5=\"\",\"\",ROUND(($O$12*B5)/$BC$28,0))","v":26},{"$f":"IF(BS5=\"\",NA(),COUNTIF(BS5:$BS$303,BS5))","v":6},{"$f":"$AX$35+BS5*$BC$28","v":142.547},-15.06475,{"$error":"#N/A"}]
[0.1563010368887191,1.1966053438191797,1.80201521581585,"Copy here","Copy from",null,1,"Set up sampling",null,null,null,null,null,null,null,null,null,2.5442100000000001E-4,null,null,null,null,null,null,null,null,null,null,null,null,2.5442100000000001E-4,null,null,null,null,null,null,null,null,null,null,null,null,null,null,null,null,null,"panel 1 bottom",{"$f":"AX9+AX8+AX7","v":27},null,"stepXsize","Disp H0 Middle",true,"Disp H1 Middle",true,5,0.31662137061357498,-0.47716765544810757,122.84248516827839,25,122.84248516827839,136,{"$f":"IF(BK6=\"\",NA(),COUNTIF(BK6:$BK$303,BK6))","v":9},132.328,9.1587499999999995,131,{"$f":"IF(BO6=\"\",NA(),COUNTIF(BO6:$BO$303,BO6))","v":3},127.46299999999999,-47.306249999999999,27,{"$f":"IF(BS6=\"\",NA(),COUNTIF(BS6:$BS$303,BS6))","v":5},143.202,-15.780249999999999,{"$error":"#N/A"}]
[1.5892994826436468E-2,1.0129372152547882,1.9901460470275742,"from right","red 2, 3",null,null,null,null,null,null,"Reference value",null,null,null,null,null,2.5442100000000001E-4,null,null,null,null,null,null,null,null,null,null,null,null,2.5442100000000001E-4,null,null,null,null,null,null,null,null,null,null,null,null,null,null,null,null,null,"1 to 2 gap",2,null,0.5,"Disp H0 Lower",true,"Disp H1 Lower",true,6,0.82221356779336929,0.92383378056014065,143.8575067084021,25,143.8575067084021,134,{"$f":"IF(BK7=\"\",NA(),COUNTIF(BK7:$BK$303,BK7))","v":10},130.38200000000001,10.236249999999998,133,{"$f":"IF(BO7=\"\",NA(),COUNTIF(BO7:$BO$303,BO7))","v":7},129.40899999999999,-42.996250000000003,23,{"$f":"IF(BS7=\"\",NA(),COUNTIF(BS7:$BS$303,BS7))","v":12},140.58199999999999,-10.771749999999999,{"$error":"#N/A"}]
[-0.16552481284308329,0.81566336747215429,2.2490591833763371,40,{"$f":"L8","v":100},null,null,null,null,null,"m0",100,null,null,null,null,null,2.5442100000000001E-4,null,null,null,null,null,null,null,null,null,null,null,null,2.5442100000000001E-4,null,null,null,null,null,null,null,null,null,null,null,null,null,null,null,null,null,"panel 2 height",25,null,null,null,null,"DispMeanHeap",true,7,0.36671007424592972,-0.34057952109067202,124.89130718363992,25,124.89130718363992,131,{"$f":"IF(BK8=\"\",NA(),COUNTIF(BK8:$BK$303,BK8))","v":11},127.46299999999999,11.313749999999999,137,{"$f":"IF(BO8=\"\",NA(),COUNTIF(BO8:$BO$303,BO8))","v":7},133.30099999999999,-42.996250000000003,19,{"$f":"IF(BS8=\"\",NA(),COUNTIF(BS8:$BS$303,BS8))","v":7},137.96199999999999,-14.34925,{"$error":"#N/A"}]
[-0.26629267476213209,0.97098989093420418,1.7855050206236873,0.248975981937269,{"$f":"RAND()","v":0.26669647589040357},null,null,null,null,null,null,null,null,null,null,null,null,2.5442100000000001E-4,null,null,null,null,null,null,null,null,null,null,null,null,2.5442100000000001E-4,null,null,null,null,null,null,null,null,null,"Mean heap & d heap",null,null,null,null,null,null,null,"panel 2 bottom",0,null,null,"Population SD",{"$f":"$O$12","v":15},"DispSampDist",true,8,0.50969026237726212,"","",25,-999,130,{"$f":"IF(BK9=\"\",NA(),COUNTIF(BK9:$BK$303,BK9))","v":12},126.49,12.391249999999999,130,{"$f":"IF(BO9=\"\",NA(),COUNTIF(BO9:$BO$303,BO9))","v":6},126.49,-44.073750000000004,22,{"$f":"IF(BS9=\"\",NA(),COUNTIF(BS9:$BS$303,BS9))","v":6},139.92699999999999,-15.06475,{"$error":"#N/A"}]
[7.619177521996863E-2,0.84054120496348217,2.4700654327947782,15,{"$f":"O12","v":15},null,null,null,"     Population mean",null,null,null,null,"m ",130,null,null,2.5442100000000001E-4,null,null,null,null,null,null,null,null,null,null,null,null,2.5442100000000001E-4,null,null,null,null,null,null,null,null,null,"appearance",null,null,null,null,null,null,null,"2 to 3 gap",2,null,null,"SD of t distribution",{"$f":"BB9*SQRT(H15/(H15-2))","v":18.371173070873834},"Disp d panel",true,9,0.24974603205919266,"","",25,-999,135,{"$f":"IF(BK10=\"\",NA(),COUNTIF(BK10:$BK$303,BK10))","v":9},131.35499999999999,9.1587499999999995,141,{"$f":"IF(BO10=\"\",NA(),COUNTIF(BO10:$BO$303,BO10))","v":6},137.19299999999998,-44.073750000000004,19,{"$f":"IF(BS10=\"\",NA(),COUNTIF(BS10:$BS$303,BS10))","v":6},137.96199999999999,-15.06475,{"$error":"#N/A"}]
[-0.72079796405842866,1.5179460320147899,0.84271904861048963,6,{"$f":"H15","v":6},null,null,null,null,null,null,null,null,null,null,null,"Effect size",2.5442100000000001E-4,null,null,null,null,null,null,null,null,null,null,null,null,2.5442100000000001E-4,null,null,null,null,null,null,null,null,null,"y",null,null,null,null,null,null,null,"panel 3 height",17,null,null,"SD of nct dist",{"$f":"SQRT(($H$15-1)*(1+$T$63*$T$63)/(($H$15-1)-2)-BD11*BD11)","v":2.7773390392872059},"mean of nct dist",{"$f":"SQRT(($H$15-1)/2)*(EXP(GAMMALN(($H$15-1)/2-0.5))/EXP(GAMMALN(($H$15-1)/2)))*$T$63","v":5.826924963264748},10,0.56729034334421158,"","",25,-999,122,{"$f":"IF(BK11=\"\",NA(),COUNTIF(BK11:$BK$303,BK11))","v":1},118.706,0.53874999999999995,116,{"$f":"IF(BO11=\"\",NA(),COUNTIF(BO11:$BO$303,BO11))","v":4},112.86799999999999,-46.228749999999998,35,{"$f":"IF(BS11=\"\",NA(),COUNTIF(BS11:$BS$303,BS11))","v":1},148.44200000000001,-18.642250000000001,{"$error":"#N/A"}]
[0.213917678645831,0.90345680487931801,2.450496434017742,0.55668747881522851,{"$f":"RAND()","v":0.28436480686890997},null,null,null,"         Population SD",null,null,null,null,"s",15,"d ",{"$f":"(O10-L8)/O12","v":2},2.5442100000000001E-4,null,null,null,null,null,null,null,null,null,null,null,null,2.5442100000000001E-4,null,null,null,null,null,null,null,null,null,2155,null,null,null,null,null,null,null,"panel 3 bottom",{"$f":"AX9-AX10-AX11","v":-19},null,null,"m0 grey",{"$f":"AND(BB5=2)","v":true},"Assume s known",{"$f":"(BB3=2)","v":false},11,0.80821657925844193,"","",25,-999,137,{"$f":"IF(BK12=\"\",NA(),COUNTIF(BK12:$BK$303,BK12))","v":3},133.30099999999999,2.6937500000000001,141,{"$f":"IF(BO12=\"\",NA(),COUNTIF(BO12:$BO$303,BO12))","v":5},137.19299999999998,-45.151250000000005,21,{"$f":"IF(BS12=\"\",NA(),COUNTIF(BS12:$BS$303,BS12))","v":8},139.27199999999999,-13.633749999999999,{"$error":"#N/A"}]
[-0.80170134537631432,0.79644513962423757,1.5045589394757837,130,{"$f":"O10","v":130},null,null,null,null,null,null,null,null,null,null,null,null,2.5442100000000001E-4,null,null,null,null,null,null,null,null,null,null,null,null,2.5442100000000001E-4,null,null,null,null,null,null,null,null,null,null,null,null,null,null,null,null,null,"3 to 4 gap",7,null,null,"m1 grey",{"$f":"AND(BB5=1)","v":false},null,null,12,0.29939994961023331,"","",25,-999,121,{"$f":"IF(BK13=\"\",NA(),COUNTIF(BK13:$BK$303,BK13))","v":5},117.733,4.848749999999999,126,{"$f":"IF(BO13=\"\",NA(),COUNTIF(BO13:$BO$303,BO13))","v":5},122.598,-45.151250000000005,18,{"$f":"IF(BS13=\"\",NA(),COUNTIF(BS13:$BS$303,BS13))","v":6},137.30699999999999,-15.06475,{"$error":"#N/A"}]
[0.37817997018059307,0.36148100556345403,6.5789901366287156,null,"In order",null,2,null,null,"3  ",null,null,null,null,null,null,null,2.5442100000000001E-4,null,null,null,null,null,null,null,null,null,null,null,null,2.5442100000000001E-4,null,null,null,null,null,null,null,null,null,"x",null,null,null,null,null,null,null,"panel 4 height",24,null,null,"For top m0 line",{"$f":"IF(NOT(BB12),L8,NA())","v":{"$error":"#N/A"}},0,{"$f":"IF($BB$12,L8,NA())","v":100},13,0.38830167800188065,"","",25,-999,139,{"$f":"IF(BK14=\"\",NA(),COUNTIF(BK14:$BK$303,BK14))","v":7},135.24699999999999,7.0037499999999993,204,{"$f":"IF(BO14=\"\",NA(),COUNTIF(BO14:$BO$303,BO14))","v":1},198.49199999999999,-49.46125,8,{"$f":"IF(BS14=\"\",NA(),COUNTIF(BS14:$BS$303,BS14))","v":1},130.75700000000001,-18.642250000000001,{"$error":"#N/A"}]
[-0.16107922762829463,1.5911262238682802,1.1557353180321526,null,"from top",null,"N ",6,null,null,null,null,null,null,null,null,null,2.5442100000000001E-4,null,null,null,null,null,null,null,null,null,null,null,null,2.5442100000000001E-4,null,null,null,null,null,null,null,null,null,1946,null,null,null,null,null,null,null,"panel 4 bottom",{"$f":"AX12-AX13-AX14","v":-50},null,null,"Middle m0 line",26,{"$f":"IF(AND($BB$6,NOT($BB$12)),$L$8,NA())","v":{"$error":"#N/A"}},{"$f":"IF(AND($BB$6,$BB$12),$L$8,NA())","v":100},14,0.82794062048196793,"","",25,-999,131,{"$f":"IF(BK15=\"\",NA(),COUNTIF(BK15:$BK$303,BK15))","v":10},127.46299999999999,10.236249999999998,121,{"$f":"IF(BO15=\"\",NA(),COUNTIF(BO15:$BO$303,BO15))","v":2},117.733,-48.383749999999999,36,{"$f":"IF(BS15=\"\",NA(),COUNTIF(BS15:$BS$303,BS15))","v":2},149.09700000000001,-17.926749999999998,{"$error":"#N/A"}]
[0.44422870541852416,1.0925954643949072,2.2370847995165049,null,"H0 m0",null,null,null,null,null,null,null,null,null,null,null,null,2.5442100000000001E-4,null,null,null,null,null,null,null,null,null,null,null,null,2.5442100000000001E-4,null,null,null,null,null,null,null,null,null,null,null,null,null,null,null,null,null,"bottom gap",2,null,null,"Lower m0 line",26,{"$f":"IF(AND($BB$7,NOT($BB$12)),$L$8,NA())","v":{"$error":"#N/A"}},{"$f":"IF(AND($BB$7,$BB$12),$L$8,NA())","v":100},15,0.96804774552583694,"","",25,-999,140,{"$f":"IF(BK16=\"\",NA(),COUNTIF(BK16:$BK$303,BK16))","v":3},136.22,2.6937500000000001,137,{"$f":"IF(BO16=\"\",NA(),COUNTIF(BO16:$BO$303,BO16))","v":6},133.30099999999999,-44.073750000000004,25,{"$f":"IF(BS16=\"\",NA(),COUNTIF(BS16:$BS$303,BS16))","v":11},141.892,-11.48725,{"$error":"#N/A"}]
[9.4017598078569353E-2,1.1076932892482383,1.8904308786593116,null,"rand H0",null,"df",{"$f":"H15-1","v":5},null,null,null,null,null,null,null,null,null,2.5442100000000001E-4,null,null,null,null,null,null,null,null,null,null,null,null,2.5442100000000001E-4,null,null,null,null,null,null,null,null,null,null,null,null,null,null,null,null,"Panel 1","X axis label",{"$f":"AX3+5","v":75},{"$f":"AX6-2","v":25},null,"m0, m1 line bar",null,null,30,16,3.9879061281681061E-2,"","",25,-999,135,{"$f":"IF(BK17=\"\",NA(),COUNTIF(BK17:$BK$303,BK17))","v":8},131.35499999999999,8.0812499999999989,132,{"$f":"IF(BO17=\"\",NA(),COUNTIF(BO17:$BO$303,BO17))","v":8},128.43600000000001,-41.918750000000003,25,{"$f":"IF(BS17=\"\",NA(),COUNTIF(BS17:$BS$303,BS17))","v":10},141.892,-12.202749999999998,{"$error":"#N/A"}]
[-0.18334818258322572,0.75459014833700788,2.4074682414293043,null,"sigma",null,null,null,null,null,null,null,"         Number of samples ",{"$f":"IF($BD$4,COUNT(A4:A303),0)","v":137},null,null,null,2.5442100000000001E-4,null,null,null,null,null,null,null,null,null,null,null,null,2.5442100000000001E-4,null,null,null,null,null,null,null,null,null,"s pile",null,null,null,null,null,null,null,"Label population",{"$f":"AX3","v":70},{"$f":"AX6+AX5-5","v":40},null,"For top m1 line",{"$f":"IF(NOT(BB13),O10,NA())","v":130},0,{"$f":"IF(AND($BB$4,$BB$13),O10,NA())","v":{"$error":"#N/A"}},17,0.13124460726976395,"","",25,-999,131,{"$f":"IF(BK18=\"\",NA(),COUNTIF(BK18:$BK$303,BK18))","v":9},127.46299999999999,9.1587499999999995,140,{"$f":"IF(BO18=\"\",NA(),COUNTIF(BO18:$BO$303,BO18))","v":2},136.22,-48.383749999999999,17,{"$f":"IF(BS18=\"\",NA(),COUNTIF(BS18:$BS$303,BS18))","v":11},136.65199999999999,-11.48725,{"$error":"#N/A"}]
[-4.7110100729597724E-2,0.7888494633977593,2.4756179599322388,null,"N",null,null,null,null,null,null,null,null,null,null,null,null,2.5442100000000001E-4,null,null,null,null,null,null,null,null,null,null,null,null,2.5442100000000001E-4,null,null,null,null,null,null,null,null,null,"appearance",null,null,null,null,null,null,null,"L end X axis",{"$f":"AX3","v":70},{"$f":"AX6","v":27},null,null,null,null,{"$f":"IF(AND($BD$6,$BB$4,$BB$13),$O$10,NA())","v":{"$error":"#N/A"}},18,0.77887753397226334,"","",25,-999,133,{"$f":"IF(BK19=\"\",NA(),COUNTIF(BK19:$BK$303,BK19))","v":9},129.40899999999999,9.1587499999999995,141,{"$f":"IF(BO19=\"\",NA(),COUNTIF(BO19:$BO$303,BO19))","v":4},137.19299999999998,-46.228749999999998,18,{"$f":"IF(BS19=\"\",NA(),COUNTIF(BS19:$BS$303,BS19))","v":5},137.30699999999999,-15.780249999999999,{"$error":"#N/A"}]
[-0.31260424136696718,0.2642112171134362,6.3865409541206857,null,"rand H1",null,4,"Latest sample",null,null,null,null,null,null,null,null,null,2.5442100000000001E-4,null,null,null,null,null,null,null,null,null,null,null,null,2.5442100000000001E-4,null,null,null,null,null,null,null,null,null,"y",null,null,null,null,null,null,null,"for Y axis line",{"$f":"AX3","v":70},{"$f":"AX6","v":27},null,"Lower m1 line",26,{"$f":"IF(AND($BD$7,NOT($BB$13)),$O$10,NA())","v":130},{"$f":"IF(AND($BD$7,$BB$4,$BB$13),$O$10,NA())","v":{"$error":"#N/A"}},19,0.46513057500123978,"","",25,-999,129,{"$f":"IF(BK20=\"\",NA(),COUNTIF(BK20:$BK$303,BK20))","v":7},125.517,7.0037499999999993,201,{"$f":"IF(BO20=\"\",NA(),COUNTIF(BO20:$BO$303,BO20))","v":1},195.57300000000001,-49.46125,6,{"$f":"IF(BS20=\"\",NA(),COUNTIF(BS20:$BS$303,BS20))","v":1},129.447,-18.642250000000001,{"$error":"#N/A"}]
[0.27728842829624706,1.168918216952185,1.9482016750786948,null,"H1 m1",null,null,null,null,null,null,null,null,"Display data points",null,null,null,2.5442100000000001E-4,null,null,null,null,null,null,null,null,null,null,null,null,2.5442100000000001E-4,null,null,null,null,null,null,null,null,null,1431,null,null,null,null,null,null,null,"label val mu0",{"$f":"L8","v":100},{"$f":"AX6+8","v":35},null,"Disp nct curve?",{"$f":"OR(AND(H17>5,T63<=20),AND(H17>2,T63<=14),T63<=10)","v":true},null,null,20,0.79670987278223038,"","",25,-999,138,{"$f":"IF(BK21=\"\",NA(),COUNTIF(BK21:$BK$303,BK21))","v":10},134.274,10.236249999999998,133,{"$f":"IF(BO21=\"\",NA(),COUNTIF(BO21:$BO$303,BO21))","v":6},129.40899999999999,-44.073750000000004,27,{"$f":"IF(BS21=\"\",NA(),COUNTIF(BS21:$BS$303,BS21))","v":4},143.202,-16.495750000000001,{"$error":"#N/A"}]
[-0.20281097678782048,0.42044998004928946,4.274441927673525,null,null,null,null,null,null,"Mean,  M",{"$f":"IF(AND(BD4,BB5=2,nsampso>0),O10+O12*BB38,\"\")","v":125.24649056200653},null,null,null,"Display heaps",null,null,2.5442100000000001E-4,null,null,null,null,null,null,null,null,null,null,null,null,2.5442100000000001E-4,null,null,null,null,null,null,null,null,null,null,null,null,null,null,null,null,null,"mu0 line",{"$f":"L8","v":100},{"$f":"AX6","v":27},{"$f":"AX5","v":18},"X axis",null,"increments, means & d",null,21,8.505064994096756E-2,"","",25,-999,130,{"$f":"IF(BK22=\"\",NA(),COUNTIF(BK22:$BK$303,BK22))","v":11},126.49,11.313749999999999,169,{"$f":"IF(BO22=\"\",NA(),COUNTIF(BO22:$BO$303,BO22))","v":1},164.43699999999998,-49.46125,10,{"$f":"IF(BS22=\"\",NA(),COUNTIF(BS22:$BS$303,BS22))","v":2},132.06700000000001,-17.926749999999998,{"$error":"#N/A"}]
[-0.24960976257929768,1.2285237128948256,1.4247915763027308,null,null,null,null,null,null,"SD,  s",{"$f":"IF(AND(BD4,BB5=2,$H$15>1,nsampso>0),O12*BC38,\"\")","v":14.209859497772683},null,null,"Display distributions",null,null,null,2.5442100000000001E-4,null,null,null,null,null,null,null,null,null,null,null,null,2.5442100000000001E-4,null,null,null,null,null,null,null,null,null,"x",null,null,null,null,null,null,null,"label val mu1",{"$f":"O10-1.4","v":128.6},{"$f":"AX6+12","v":39},null,"L end",70,{"$f":"AO12/2000","v":1.0774999999999999},"y",22,0.60506812483072281,"","",25,-999,130,{"$f":"IF(BK23=\"\",NA(),COUNTIF(BK23:$BK$303,BK23))","v":10},126.49,10.236249999999998,125,{"$f":"IF(BO23=\"\",NA(),COUNTIF(BO23:$BO$303,BO23))","v":4},121.625,-46.228749999999998,28,{"$f":"IF(BS23=\"\",NA(),COUNTIF(BS23:$BS$303,BS23))","v":4},143.857,-16.495750000000001,{"$error":"#N/A"}]
[-0.17779053504443154,0.80420753040075477,2.2658448175031642,null,null,null,null,null,null,null,null,null,null,null,null,null,null,{"$f":"$R$1","v":2.5442100000000001E-4},null,null,null,null,null,null,null,null,null,null,null,null,2.5442100000000001E-4,null,null,null,null,null,null,null,null,null,1310,null,null,null,null,null,null,null,"mu1 line",{"$f":"O10","v":130},{"$f":"AX6","v":27},6,"R end",{"$f":"BB23+100","v":170},{"$f":"AO15/2000","v":0.97299999999999998},"x",23,0.11419285088777542,"","",25,-999,131,{"$f":"IF(BK24=\"\",NA(),COUNTIF(BK24:$BK$303,BK24))","v":8},127.46299999999999,8.0812499999999989,138,{"$f":"IF(BO24=\"\",NA(),COUNTIF(BO24:$BO$303,BO24))","v":2},134.274,-48.383749999999999,18,{"$f":"IF(BS24=\"\",NA(),COUNTIF(BS24:$BS$303,BS24))","v":4},137.30699999999999,-16.495750000000001,{"$error":"#N/A"}]
[0.44157684422546195,1.6691119350576493,1.4627999434568375,null,null,null,null,null,null,null,null,null,null,"        ","Display s pile",null,null,{"$f":"$R$1","v":2.5442100000000001E-4},null,null,null,null,null,null,null,null,null,null,null,null,2.5442100000000001E-4,null,null,null,null,null,null,null,null,null,null,null,null,null,null,null,null,null,"Panel 2",null,null,null,null,null,null,null,24,0.99338481575250626,"","",25,-999,140,{"$f":"IF(BK25=\"\",NA(),COUNTIF(BK25:$BK$303,BK25))","v":2},136.22,1.61625,125,{"$f":"IF(BO25=\"\",NA(),COUNTIF(BO25:$BO$303,BO25))","v":3},121.625,-47.306249999999999,38,{"$f":"IF(BS25=\"\",NA(),COUNTIF(BS25:$BS$303,BS25))","v":2},150.40699999999998,-17.926749999999998,{"$error":"#N/A"}]
[-0.2050707497683896,0.13458877071237646,13.336396793960414,null,null,null,null,null,null,null,null,null,null,null,null,null,null,{"$f":"$R$1","v":2.5442100000000001E-4},null,null,null,null,null,null,null,null,null,null,null,null,2.5442100000000001E-4,null,null,null,null,null,null,null,null,null,null,null,null,null,null,null,null,null,"Lbl Samp Means",{"$f":"AX3","v":70},15,{"$f":"AX5","v":18},null,null,"increments, s pile",null,25,7.1527667343616486E-2,"","",25,-999,130,{"$f":"IF(BK26=\"\",NA(),COUNTIF(BK26:$BK$303,BK26))","v":9},126.49,9.1587499999999995,308,{"$f":"IF(BO26=\"\",NA(),COUNTIF(BO26:$BO$303,BO26))","v":1},299.68399999999997,-49.46125,3,{"$f":"IF(BS26=\"\",NA(),COUNTIF(BS26:$BS$303,BS26))","v":1},127.482,-18.642250000000001,{"$error":"#N/A"}]
[-0.66837767777151968,0.7997726371171513,1.6650011020987499,null,null,null,5,"Calculation of d",null,null,null,null,null,null,null,null,null,2.5442100000000001E-4,null,null,null,null,null,null,null,null,null,null,null,null,2.5442100000000001E-4,null,null,null,null,null,null,null,null,null,null,null,null,null,null,null,null,null,"for Y axis line",{"$f":"AX3","v":70},{"$f":"AX9","v":0},null,null,null,{"$f":"AO21/2000","v":0.71550000000000002},"y",26,0.60329584032297134,"","",25,-999,123,{"$f":"IF(BK27=\"\",NA(),COUNTIF(BK27:$BK$303,BK27))","v":3},119.679,2.6937500000000001,128,{"$f":"IF(BO27=\"\",NA(),COUNTIF(BO27:$BO$303,BO27))","v":10},124.544,-39.763750000000002,18,{"$f":"IF(BS27=\"\",NA(),COUNTIF(BS27:$BS$303,BS27))","v":3},137.30699999999999,-17.21125,{"$error":"#N/A"}]
[-0.61172452619449524,0.66199551802011025,2.0971070589081111,null,null,null,null,null,"Display rubber ruler",null,null,null,null,null,"Noncentrality parameter D.  ",{"$f":"IF(AND(BD10,NOT(BD12)),T63,\"\")","v":4.8989794855663558},null,2.5442100000000001E-4,null,null,null,null,null,null,null,null,null,null,null,null,2.5442100000000001E-4,null,null,null,null,null,null,null,null,null,null,null,null,null,null,null,null,null,"label val mu0",{"$f":"L8","v":100},10,{"$f":"AX8","v":25},null,null,{"$f":"AO24/2000","v":0.65500000000000003},"x",27,0.24607563763856888,"","",25,-999,124,{"$f":"IF(BK28=\"\",NA(),COUNTIF(BK28:$BK$303,BK28))","v":4},120.652,3.7712499999999998,135,{"$f":"IF(BO28=\"\",NA(),COUNTIF(BO28:$BO$303,BO28))","v":3},131.35499999999999,-47.306249999999999,15,{"$f":"IF(BS28=\"\",NA(),COUNTIF(BS28:$BS$303,BS28))","v":5},135.34199999999998,-15.780249999999999,{"$error":"#N/A"}]
[0.18478756338599656,1.0408971080775686,2.0989467128226322,null,null,null,null,null,null,"       Display d heap",null,null,null,null,null,"Display noncentral t curve?",{"$f":"IF(BD10,IF(OR(NOT(BD7),BD12),\"\",IF(BB21,\"Yes\",\"No\")),\"\")","v":"Yes"},2.5442100000000001E-4,null,null,null,null,null,null,null,null,null,null,null,null,2.5442100000000001E-4,null,null,null,null,null,null,null,null,null,null,null,null,null,null,null,null,null,"mu0 line",{"$f":"L8","v":100},{"$f":"AX9","v":0},null,null,null,null,null,28,0.5753689780831337,"","",25,-999,136,{"$f":"IF(BK29=\"\",NA(),COUNTIF(BK29:$BK$303,BK29))","v":8},132.328,8.0812499999999989,135,{"$f":"IF(BO29=\"\",NA(),COUNTIF(BO29:$BO$303,BO29))","v":2},131.35499999999999,-48.383749999999999,24,{"$f":"IF(BS29=\"\",NA(),COUNTIF(BS29:$BS$303,BS29))","v":7},141.23699999999999,-14.34925,{"$error":"#N/A"}]
[0.46440572269108787,0.83613138766717543,2.9473905166589089,null,null,null,null,null,null,null,null,null,null,null,null,null,null,2.5442100000000001E-4,null,null,null,null,null,null,null,null,null,null,null,null,2.5442100000000001E-4,null,null,null,null,null,null,null,null,null,null,null,null,null,null,null,null,null,"mu1 line",{"$f":"O10","v":130},{"$f":"AX9","v":0},8,null,null,null,null,29,0.26062805205583572,"","",25,-999,141,{"$f":"IF(BK30=\"\",NA(),COUNTIF(BK30:$BK$303,BK30))","v":7},137.19299999999998,7.0037499999999993,148,{"$f":"IF(BO30=\"\",NA(),COUNTIF(BO30:$BO$303,BO30))","v":1},144.00399999999999,-49.46125,19,{"$f":"IF(BS30=\"\",NA(),COUNTIF(BS30:$BS$303,BS30))","v":5},137.96199999999999,-15.780249999999999,{"$error":"#N/A"}]
[0.21929014518009296,0.797312576243566,2.7834631125925409,null,null,null,null,null,null,null,"Use s ",null,null,null,"Mean of d ",{"$f":"IF(AND(BD10,BD9),IF(BD12,Q12,IF(H15>2,BD11/SQRT(H15),\"\")),\"\")","v":2.3788321549140412},null,{"$f":"$R$1","v":2.5442100000000001E-4},null,null,null,null,null,null,null,null,null,null,null,null,2.5442100000000001E-4,null,null,null,null,null,null,null,null,null,null,null,null,null,null,null,null,null,"highlighted point",{"$f":"AX62","v":125.517},{"$f":"AX9-BC23/2","v":-0.53874999999999995},{"$f":"AX8-1","v":24},null,null,null,null,30,0.90872303396463394,"","",25,-999,137,{"$f":"IF(BK31=\"\",NA(),COUNTIF(BK31:$BK$303,BK31))","v":2},133.30099999999999,1.61625,146,{"$f":"IF(BO31=\"\",NA(),COUNTIF(BO31:$BO$303,BO31))","v":1},142.05799999999999,-49.46125,18,{"$f":"IF(BS31=\"\",NA(),COUNTIF(BS31:$BS$303,BS31))","v":2},137.30699999999999,-17.926749999999998,{"$error":"#N/A"}]
[0.29491099762554912,0.66599754613261486,3.445825004839556,null,null,null,null,"Choose for d",null,null,null,"d ",{"$f":"IF(nsampso>0,(K22-L8)/IF(BD12,O12,K23),\"\")","v":1.7766882611305042},null,"SD of d  ",{"$f":"IF(AND(BD10,BD9),IF(BD12,1/SQRT(H15),IF(H15>3,BB11/SQRT(H15),\"\")),\"\")","v":1.1338439148275496},null,{"$f":"$R$1","v":2.5442100000000001E-4},null,null,null,null,null,null,null,null,null,null,null,null,2.5442100000000001E-4,null,null,null,null,null,null,null,null,null,null,null,null,null,null,null,null,null,"X axis label",{"$f":"AX3+17","v":87},-4,null,null,null,null,null,31,0.15304578095674515,"","",25,-999,138,{"$f":"IF(BK32=\"\",NA(),COUNTIF(BK32:$BK$303,BK32))","v":9},134.274,9.1587499999999995,156,{"$f":"IF(BO32=\"\",NA(),COUNTIF(BO32:$BO$303,BO32))","v":3},151.78799999999998,-47.306249999999999,15,{"$f":"IF(BS32=\"\",NA(),COUNTIF(BS32:$BS$303,BS32))","v":4},135.34199999999998,-16.495750000000001,{"$error":"#N/A"}]
[-0.19179599513681755,0.96851195211078123,1.8669919363642038,null,null,null,null,null,null,null,"Use s ",null,null,null,null,null,null,{"$f":"$R$1","v":2.5442100000000001E-4},null,null,null,null,null,null,null,null,null,null,null,null,2.5442100000000001E-4,null,null,null,null,null,null,null,null,null,null,null,null,null,null,null,null,null,"Panel 3",null,null,null,null,null,null,null,32,0.7991626039147377,"","",25,-999,131,{"$f":"IF(BK33=\"\",NA(),COUNTIF(BK33:$BK$303,BK33))","v":7},127.46299999999999,7.0037499999999993,132,{"$f":"IF(BO33=\"\",NA(),COUNTIF(BO33:$BO$303,BO33))","v":7},128.43600000000001,-42.996250000000003,22,{"$f":"IF(BS33=\"\",NA(),COUNTIF(BS33:$BS$303,BS33))","v":5},139.92699999999999,-15.780249999999999,{"$error":"#N/A"}]
[0.36078517950272948,0.60475617567857931,3.9036975138844356,null,null,null,null,null,null,null,null,null,null,null,null,null,null,2.5442100000000001E-4,null,null,null,null,null,null,null,null,null,null,null,null,2.5442100000000001E-4,null,null,null,null,null,null,null,null,null,null,null,null,null,null,null,null,null,"Lbl Samp SDs",{"$f":"IF(BD5,AX3,NA())","v":70},{"$f":"AX12+8","v":-11},null,null,"format","popSE","sampSE",33,0.42826122790575027,"","",25,-999,139,{"$f":"IF(BK34=\"\",NA(),COUNTIF(BK34:$BK$303,BK34))","v":6},135.24699999999999,5.9262499999999996,163,{"$f":"IF(BO34=\"\",NA(),COUNTIF(BO34:$BO$303,BO34))","v":2},158.59899999999999,-48.383749999999999,14,{"$f":"IF(BS34=\"\",NA(),COUNTIF(BS34:$BS$303,BS34))","v":2},134.68699999999998,-17.926749999999998,{"$error":"#N/A"}]
[0.14002666514737103,1.1059129109165884,1.9350770246218594,null,null,null,6,"Unbiased d",null,null,null,null,null,null,null,null,null,2.5442100000000001E-4,null,null,null,null,null,null,null,null,null,null,null,null,{"$f":"$R$1","v":2.5442100000000001E-4},null,null,null,null,null,null,null,null,null,null,null,null,null,null,null,null,null,"L end X axis",{"$f":"IF(OR(NOT(BD5),A4=\"\"),NA(),ROUND(($O$10+$O$12*A4)/$BC$24,0)*$BC$24)","v":125.517},{"$f":"AX12","v":-19},{"$f":"AX11-3","v":14},null,"red",{"$f":"IF(AND(nsampso>0,BD12),-1,99)","v":99},{"$f":"IF(AND(NOT(BD12)),99,-1)","v":99},34,0.8464534655213356,{"$f":"IF(AND($BD$4,$BE34<=$H$15),NORMSINV(BF35),\"\")","v":""},{"$f":"IF(BG35=\"\",\"\",$O$10+$O$12*BG35)","v":""},25,{"$f":"IF(AND($BB$12,$BD$2,BH35<>\"\",$A$4<>\"\"),BH35,-999)","v":-999},136,{"$f":"IF(BK35=\"\",NA(),COUNTIF(BK35:$BK$303,BK35))","v":7},132.328,7.0037499999999993,133,{"$f":"IF(BO35=\"\",NA(),COUNTIF(BO35:$BO$303,BO35))","v":5},129.40899999999999,-45.151250000000005,25,{"$f":"IF(BS35=\"\",NA(),COUNTIF(BS35:$BS$303,BS35))","v":9},141.892,-12.918249999999999,{"$error":"#N/A"}]
[1.273864773482189E-2,0.4307273348261606,4.6728834810243773,null,null,null,null,null,null,null,null,"dunb",{"$f":"IF(AND(NOT(BD12),H17>1,M32<>\"\"),M32*W62,\"\")","v":1.4937483146596398},null,null,null,null,2.5442100000000001E-4,null,null,null,null,null,null,null,null,null,null,null,null,{"$f":"$R$1","v":2.5442100000000001E-4},null,null,null,null,null,null,null,null,null,null,null,null,null,null,null,null,null,"L end X axis",{"$f":"IF(BD5,AX35,NA())","v":125.517},{"$f":"AY35","v":-19},101,null,"Samp means","SD","SE",35,{"$f":"MOD(BF35*10000013,1)","v":0.65910840779542923},"","",25,-999,134,{"$f":"IF(BK36=\"\",NA(),COUNTIF(BK36:$BK$303,BK36))","v":9},130.38200000000001,9.1587499999999995,175,{"$f":"IF(BO36=\"\",NA(),COUNTIF(BO36:$BO$303,BO36))","v":1},170.27500000000001,-49.46125,10,{"$f":"IF(BS36=\"\",NA(),COUNTIF(BS36:$BS$303,BS36))","v":1},132.06700000000001,-18.642250000000001,{"$error":"#N/A"}]
[0.20439523092252454,1.2512471051427285,1.7617585062632948,null,null,null,null,null,null,null,null,null,null,null,null,null,null,2.5442100000000001E-4,null,null,null,null,null,null,null,null,null,null,null,null,{"$f":"$R$1","v":2.5442100000000001E-4},null,null,null,null,null,null,null,null,null,null,null,null,null,null,null,null,null,"for Y axis line",{"$f":"IF(BD10,AX3,NA())","v":70},{"$f":"AX12-5","v":-24},18,null,null,null,null,36,0.64636359363794327,"","",25,-999,137,{"$f":"IF(BK37=\"\",NA(),COUNTIF(BK37:$BK$303,BK37))","v":1},133.30099999999999,0.53874999999999995,130,{"$f":"IF(BO37=\"\",NA(),COUNTIF(BO37:$BO$303,BO37))","v":5},126.49,-45.151250000000005,29,{"$f":"IF(BS37=\"\",NA(),COUNTIF(BS37:$BS$303,BS37))","v":5},144.512,-15.780249999999999,{"$error":"#N/A"}]
[2.4441910755492197E-2,1.2919218490128055,1.5670002889899466,null,null,null,null,null,null,null,null,null,null,null,null,null,null,2.5442100000000001E-4,null,null,null,null,null,null,null,null,null,null,null,null,{"$f":"$R$1","v":2.5442100000000001E-4},null,null,null,null,null,null,null,null,null,null,null,null,null,null,null,null,null,"X axis values",{"$f":"AX35","v":125.517},{"$f":"AY35+0.5","v":-18.5},null,null,{"$f":"IF($BD$4,AVERAGE(BG3:BG102),-999)","v":-0.3169006291995648},{"$f":"IF(AND($BD$4,$H$15>1),STDEV(BG3:BG102),-999)","v":0.94732396651817885},{"$f":"IF(AND($BD$4,$H$15>1,BC38>-999),BC38/SQRT($H$15),\"\")","v":0.38674338984649237},37,0.33910614997148514,"","",25,-999,134,{"$f":"IF(BK38=\"\",NA(),COUNTIF(BK38:$BK$303,BK38))","v":8},130.38200000000001,8.0812499999999989,127,{"$f":"IF(BO38=\"\",NA(),COUNTIF(BO38:$BO$303,BO38))","v":3},123.571,-47.306249999999999,30,{"$f":"IF(BS38=\"\",NA(),COUNTIF(BS38:$BS$303,BS38))","v":5},145.167,-15.780249999999999,{"$error":"#N/A"}]
[-0.49795082599836987,0.67419282458118901,2.2279222193364459,null,null,null,null,null,null,null,null,null,null,null,null,null,null,null,null,null,null,null,null,null,null,null,null,null,null,null,null,null,null,null,null,null,null,null,null,null,null,null,null,null,null,null,null,null,"X axis values",{"$f":"AX35+O12","v":140.517},{"$f":"AY38+1","v":-17.5},1.3,null,null,null,null,38,0.90809480100870132,"","",25,-999,126,{"$f":"IF(BK39=\"\",NA(),COUNTIF(BK39:$BK$303,BK39))","v":6},122.598,5.9262499999999996,137,{"$f":"IF(BO39=\"\",NA(),COUNTIF(BO39:$BO$303,BO39))","v":5},133.30099999999999,-45.151250000000005,15,{"$f":"IF(BS39=\"\",NA(),COUNTIF(BS39:$BS$303,BS39))","v":3},135.34199999999998,-17.21125,{"$error":"#N/A"}]
[0.67988802012665817,0.4884308081687681,5.4867301065101408,null,null,null,null,null,null,null,null,null,null,null,null,null,null,null,null,null,null,null,null,null,null,null,null,null,null,null,null,null,null,null,null,null,null,null,null,null,null,null,null,null,null,null,null,null,"X axis values",{"$f":"AX39","v":140.517},{"$f":"AY35","v":-19},{"$f":"AX11-2","v":15},null,null,null,null,39,0.81531942635774612,"","",25,-999,144,{"$f":"IF(BK40=\"\",NA(),COUNTIF(BK40:$BK$303,BK40))","v":2},140.11199999999999,1.61625,187,{"$f":"IF(BO40=\"\",NA(),COUNTIF(BO40:$BO$303,BO40))","v":1},181.95099999999999,-49.46125,11,{"$f":"IF(BS40=\"\",NA(),COUNTIF(BS40:$BS$303,BS40))","v":2},132.72200000000001,-17.926749999999998,{"$error":"#N/A"}]
[-0.84657323490621794,1.3054493438294792,0.88354769991323834,null,null,null,null,null,null,null,null,null,null,null,null,null,null,null,null,null,null,null,null,null,null,null,null,null,null,null,null,null,null,null,null,null,null,null,null,null,null,null,null,null,null,null,null,null,null,{"$f":"BU1","v":139.92699999999999},{"$f":"BV1","v":-14.34925},null,null,null,null,null,40,0.8627300038933754,"","",25,-999,121,{"$f":"IF(BK41=\"\",NA(),COUNTIF(BK41:$BK$303,BK41))","v":4},117.733,3.7712499999999998,116,{"$f":"IF(BO41=\"\",NA(),COUNTIF(BO41:$BO$303,BO41))","v":3},112.86799999999999,-47.306249999999999,30,{"$f":"IF(BS41=\"\",NA(),COUNTIF(BS41:$BS$303,BS41))","v":4},145.167,-16.495750000000001,{"$error":"#N/A"}]
[0.49353944788582554,1.6282022193636116,1.5314679087346006,null,null,null,null,null,null,null,null,null,null,null,null,null,null,null,null,null,null,null,null,null,null,null,null,null,null,null,null,null,null,null,null,null,null,null,null,null,null,null,null,null,null,null,null,null,"grey highlight point",{"$f":"IF(ISNA(AX41),NA(),IF(AND(BD2,$BD$12),AX41,NA()))","v":{"$error":"#N/A"}},{"$f":"IF(ISNA(AY41),NA(),IF($BD$12,AY41,NA()))","v":{"$error":"#N/A"}},null,null,null,null,null,41,0.25442380458116531,"","",25,-999,141,{"$f":"IF(BK42=\"\",NA(),COUNTIF(BK42:$BK$303,BK42))","v":6},137.19299999999998,5.9262499999999996,126,{"$f":"IF(BO42=\"\",NA(),COUNTIF(BO42:$BO$303,BO42))","v":4},122.598,-46.228749999999998,37,{"$f":"IF(BS42=\"\",NA(),COUNTIF(BS42:$BS$303,BS42))","v":1},149.75200000000001,-18.642250000000001,{"$error":"#N/A"}]
[0.15857844676026395,0.88697288324896983,2.4336464930623571,null,null,null,null,null,null,null,null,null,null,null,null,null,null,null,null,null,null,null,null,null,null,null,null,null,null,null,null,null,null,null,null,null,null,null,null,null,null,null,null,null,null,null,null,null,"s extent line",{"$f":"IF(BD12,NA(),AX35)","v":125.517},{"$f":"IF(ISNA(AY41),NA(),IF(BD12,NA(),AY41+AZ43))","v":-12.84925},1.5,null,null,null,null,42,0.35332111269235611,"","",25,-999,136,{"$f":"IF(BK43=\"\",NA(),COUNTIF(BK43:$BK$303,BK43))","v":6},132.328,5.9262499999999996,140,{"$f":"IF(BO43=\"\",NA(),COUNTIF(BO43:$BO$303,BO43))","v":1},136.22,-49.46125,20,{"$f":"IF(BS43=\"\",NA(),COUNTIF(BS43:$BS$303,BS43))","v":4},138.61699999999999,-16.495750000000001,{"$error":"#N/A"}]
[-0.28236799902795434,0.86451693432613941,1.9868112847446759,null,null,null,null,null,null,null,null,null,null,null,null,null,null,null,null,null,null,null,null,null,null,null,null,null,null,null,null,null,null,null,null,null,null,null,null,null,null,null,null,null,null,null,null,null,null,{"$f":"BU2","v":139.92699999999999},{"$f":"BV2+AZ43","v":-12.84925},1,null,null,null,null,43,0.72009802609682083,"","",25,-999,129,{"$f":"IF(BK44=\"\",NA(),COUNTIF(BK44:$BK$303,BK44))","v":6},125.517,5.9262499999999996,133,{"$f":"IF(BO44=\"\",NA(),COUNTIF(BO44:$BO$303,BO44))","v":4},129.40899999999999,-46.228749999999998,20,{"$f":"IF(BS44=\"\",NA(),COUNTIF(BS44:$BS$303,BS44))","v":3},138.61699999999999,-17.21125,{"$error":"#N/A"}]
[-0.44659087736918396,0.90577058759824813,1.7150138720554551,null,null,null,null,null,null,null,null,null,null,null,null,null,null,null,null,null,null,null,null,null,null,null,null,null,null,null,null,null,null,null,null,null,null,null,null,null,null,null,null,null,null,null,null,null,"s label",{"$f":"IF(OR(NOT(BD2),BD12),NA(),AX35+3)","v":128.517},{"$f":"IF(BD12,NA(),AY41+1.6+AZ43)","v":-11.24925},null,null,null,null,null,44,0.62224254757165909,"","",25,-999,127,{"$f":"IF(BK45=\"\",NA(),COUNTIF(BK45:$BK$303,BK45))","v":2},123.571,1.61625,129,{"$f":"IF(BO45=\"\",NA(),COUNTIF(BO45:$BO$303,BO45))","v":9},125.517,-40.841250000000002,21,{"$f":"IF(BS45=\"\",NA(),COUNTIF(BS45:$BS$303,BS45))","v":7},139.27199999999999,-14.34925,{"$error":"#N/A"}]
[9.8670741730626996E-2,1.1408241279475466,1.8396093581105606,null,null,null,null,null,null,null,null,null,null,null,null,null,null,null,null,null,null,null,null,null,null,null,null,null,null,null,null,null,null,null,null,null,null,null,null,null,null,null,null,null,null,null,null,null,"s extent line",{"$f":"IF(BD12,AX35,NA())","v":{"$error":"#N/A"}},{"$f":"IF(ISNA(AY35),NA(),IF(BD12,AY35-0.7,NA()))","v":{"$error":"#N/A"}},null,null,null,null,null,45,0.5648697093129158,"","",25,-999,135,{"$f":"IF(BK46=\"\",NA(),COUNTIF(BK46:$BK$303,BK46))","v":7},131.35499999999999,7.0037499999999993,131,{"$f":"IF(BO46=\"\",NA(),COUNTIF(BO46:$BO$303,BO46))","v":2},127.46299999999999,-48.383749999999999,26,{"$f":"IF(BS46=\"\",NA(),COUNTIF(BS46:$BS$303,BS46))","v":5},142.547,-15.780249999999999,{"$error":"#N/A"}]
[-0.49946738312472744,1.4164261547183412,1.0593793484233252,null,null,null,null,null,null,null,null,null,null,null,null,null,null,null,null,null,null,null,null,null,null,null,null,null,null,null,null,null,null,null,null,null,null,null,null,null,null,null,null,null,null,null,null,null,null,{"$f":"IF(ISNA(AX46),NA(),AX46+O12)","v":{"$error":"#N/A"}},{"$f":"AY46","v":{"$error":"#N/A"}},null,null,null,null,null,46,0.43643537908792496,"","",25,-999,126,{"$f":"IF(BK47=\"\",NA(),COUNTIF(BK47:$BK$303,BK47))","v":5},122.598,4.848749999999999,119,{"$f":"IF(BO47=\"\",NA(),COUNTIF(BO47:$BO$303,BO47))","v":1},115.78699999999999,-49.46125,32,{"$f":"IF(BS47=\"\",NA(),COUNTIF(BS47:$BS$303,BS47))","v":4},146.477,-16.495750000000001,{"$error":"#N/A"}]
[9.700898818629422E-2,0.61615441959859929,3.4033822066105017,null,null,null,null,null,null,null,null,null,null,null,null,null,null,null,null,null,null,null,null,null,null,null,null,null,null,null,null,null,null,null,null,null,null,null,null,null,null,null,null,null,null,null,null,null,null,{"$f":"IF(BD12,AX40,NA())","v":{"$error":"#N/A"}},{"$f":"IF(BD12,AY39,NA())","v":{"$error":"#N/A"}},null,null,null,null,null,47,0.46453917771577835,"","",25,-999,135,{"$f":"IF(BK48=\"\",NA(),COUNTIF(BK48:$BK$303,BK48))","v":6},131.35499999999999,5.9262499999999996,155,{"$f":"IF(BO48=\"\",NA(),COUNTIF(BO48:$BO$303,BO48))","v":1},150.815,-49.46125,14,{"$f":"IF(BS48=\"\",NA(),COUNTIF(BS48:$BS$303,BS48))","v":1},134.68699999999998,-18.642250000000001,{"$error":"#N/A"}]
[9.6151700925271991E-2,1.0187627517312328,2.057546467382303,null,null,null,null,null,null,null,null,null,null,null,null,null,null,null,null,null,null,null,null,null,null,null,null,null,null,null,null,null,null,null,null,null,null,null,null,null,null,null,null,null,null,null,null,null,"s label",{"$f":"AX35+3","v":128.517},{"$f":"IF(BD12,AY39+0.2,NA())","v":{"$error":"#N/A"}},null,null,null,null,null,48,0.81616709381341934,"","",25,-999,135,{"$f":"IF(BK49=\"\",NA(),COUNTIF(BK49:$BK$303,BK49))","v":5},131.35499999999999,4.848749999999999,134,{"$f":"IF(BO49=\"\",NA(),COUNTIF(BO49:$BO$303,BO49))","v":5},130.38200000000001,-45.151250000000005,23,{"$f":"IF(BS49=\"\",NA(),COUNTIF(BS49:$BS$303,BS49))","v":11},140.58199999999999,-11.48725,{"$error":"#N/A"}]
[-0.47788336944764914,1.3324787793993116,1.1423196031973799,null,null,null,null,null,null,null,null,null,null,null,null,null,null,null,null,null,null,null,null,null,null,null,null,null,null,null,null,null,null,null,null,null,null,null,null,null,null,null,null,null,null,null,null,null,"dotted vertical",{"$f":"AX35","v":125.517},{"$f":"BN2","v":8.0812499999999989},null,null,null,null,null,49,0.5483064129948616,"","",25,-999,126,{"$f":"IF(BK50=\"\",NA(),COUNTIF(BK50:$BK$303,BK50))","v":4},122.598,3.7712499999999998,120,{"$f":"IF(BO50=\"\",NA(),COUNTIF(BO50:$BO$303,BO50))","v":2},116.75999999999999,-48.383749999999999,31,{"$f":"IF(BS50=\"\",NA(),COUNTIF(BS50:$BS$303,BS50))","v":5},145.822,-15.780249999999999,{"$error":"#N/A"}]
[0.27916756667360493,0.96132507882867668,2.3708604059832177,null,null,null,null,null,null,null,null,null,null,null,null,null,null,null,null,null,null,null,null,null,null,null,null,null,null,null,null,null,null,null,null,null,null,null,null,null,null,null,null,null,null,null,null,null,"to latest mean",{"$f":"AX50","v":125.517},{"$f":"AY35","v":-19},null,null,null,null,null,50,0.25793198496103287,"","",25,-999,138,{"$f":"IF(BK51=\"\",NA(),COUNTIF(BK51:$BK$303,BK51))","v":8},134.274,8.0812499999999989,139,{"$f":"IF(BO51=\"\",NA(),COUNTIF(BO51:$BO$303,BO51))","v":4},135.24699999999999,-46.228749999999998,22,{"$f":"IF(BS51=\"\",NA(),COUNTIF(BS51:$BS$303,BS51))","v":4},139.92699999999999,-16.495750000000001,{"$error":"#N/A"}]
[-0.3954381950570276,0.73609051432772854,2.1798430678167593,null,null,null,null,null,null,null,null,null,null,null,null,null,null,null,null,null,null,null,null,null,null,null,null,null,null,null,null,null,null,null,null,null,null,null,null,null,null,null,null,null,null,null,null,null,"Panel 4",null,null,null,null,null,null,null,51,0.20272613316774368,"","",25,-999,128,{"$f":"IF(BK52=\"\",NA(),COUNTIF(BK52:$BK$303,BK52))","v":3},124.544,2.6937500000000001,136,{"$f":"IF(BO52=\"\",NA(),COUNTIF(BO52:$BO$303,BO52))","v":8},132.328,-41.918750000000003,17,{"$f":"IF(BS52=\"\",NA(),COUNTIF(BS52:$BS$303,BS52))","v":10},136.65199999999999,-12.202749999999998,{"$error":"#N/A"}]
[-0.35491763120425962,0.75365938048234804,2.1827929319248627,null,null,null,null,null,null,null,null,null,null,null,null,null,null,null,null,null,null,null,null,null,null,null,null,null,null,null,null,null,null,null,null,null,null,null,null,null,null,null,null,null,null,null,null,null,"Label d",{"$f":"IF(BD10,AX3,NA())","v":70},{"$f":"AX15+14","v":-36},null,null,null,null,null,52,0.96711716800928116,"","",25,-999,128,{"$f":"IF(BK53=\"\",NA(),COUNTIF(BK53:$BK$303,BK53))","v":2},124.544,1.61625,136,{"$f":"IF(BO53=\"\",NA(),COUNTIF(BO53:$BO$303,BO53))","v":7},132.328,-42.996250000000003,17,{"$f":"IF(BS53=\"\",NA(),COUNTIF(BS53:$BS$303,BS53))","v":9},136.65199999999999,-12.918249999999999,{"$error":"#N/A"}]
[-0.21115562567084281,0.53873282095058239,3.3204666668958089,null,null,null,null,null,null,null,null,null,null,null,null,null,null,null,null,null,null,null,null,null,null,null,null,null,null,null,null,null,null,null,null,null,null,null,null,null,null,null,null,null,null,null,null,null,"Label values",{"$f":"IF(BD10,AX3,NA())","v":70},{"$f":"AY53+AZ54","v":-35.9},0.1,null,null,null,null,53,0.25261599570512772,"","",25,-999,130,{"$f":"IF(BK54=\"\",NA(),COUNTIF(BK54:$BK$303,BK54))","v":8},126.49,8.0812499999999989,154,{"$f":"IF(BO54=\"\",NA(),COUNTIF(BO54:$BO$303,BO54))","v":1},149.84199999999998,-49.46125,12,{"$f":"IF(BS54=\"\",NA(),COUNTIF(BS54:$BS$303,BS54))","v":5},133.37700000000001,-15.780249999999999,{"$error":"#N/A"}]
[-0.25307760955634373,0.98401910667305903,1.7752931610748415,null,null,null,null,null,null,null,null,null,null,null,null,null,null,null,null,null,null,null,null,null,null,null,null,null,null,null,null,null,null,null,null,null,null,null,null,null,null,null,null,null,null,null,null,null,"for Y axis line",{"$f":"IF(BD10,AX3,NA())","v":70},{"$f":"AX15","v":-50},{"$f":"AX14-2","v":22},null,null,null,null,54,0.24105922132730484,"","",25,-999,130,{"$f":"IF(BK55=\"\",NA(),COUNTIF(BK55:$BK$303,BK55))","v":7},126.49,7.0037499999999993,130,{"$f":"IF(BO55=\"\",NA(),COUNTIF(BO55:$BO$303,BO55))","v":4},126.49,-46.228749999999998,23,{"$f":"IF(BS55=\"\",NA(),COUNTIF(BS55:$BS$303,BS55))","v":10},140.58199999999999,-12.202749999999998,{"$error":"#N/A"}]
[0.25815583097323191,0.90979293785908322,2.4820546928921039,null,null,null,null,null,null,null,null,null,null,null,null,null,null,null,null,null,null,null,null,null,null,null,null,null,null,null,null,null,null,null,null,null,null,null,null,null,null,null,null,null,null,null,null,null,"for d axis line",{"$f":"IF(BD10,AX3,NA())","v":70},{"$f":"AX15","v":-50},100,null,null,null,null,55,0.34704292565584183,"","",25,-999,138,{"$f":"IF(BK56=\"\",NA(),COUNTIF(BK56:$BK$303,BK56))","v":7},134.274,7.0037499999999993,141,{"$f":"IF(BO56=\"\",NA(),COUNTIF(BO56:$BO$303,BO56))","v":3},137.19299999999998,-47.306249999999999,21,{"$f":"IF(BS56=\"\",NA(),COUNTIF(BS56:$BS$303,BS56))","v":6},139.27199999999999,-15.06475,{"$error":"#N/A"}]
[-6.4416622820249361E-2,0.81923316884387543,2.3626770140560835,null,null,null,null,null,null,null,null,null,null,null,null,null,null,null,null,null,null,null,null,null,null,null,null,null,null,null,null,null,null,null,null,null,null,null,null,null,null,null,null,null,null,null,null,null,"label val mu0",{"$f":"IF(BD10,L8,NA())","v":100},{"$f":"AX15+10","v":-40},null,null,null,null,null,56,0.76811645179986954,"","",25,-999,133,{"$f":"IF(BK57=\"\",NA(),COUNTIF(BK57:$BK$303,BK57))","v":8},129.40899999999999,8.0812499999999989,139,{"$f":"IF(BO57=\"\",NA(),COUNTIF(BO57:$BO$303,BO57))","v":3},135.24699999999999,-47.306249999999999,19,{"$f":"IF(BS57=\"\",NA(),COUNTIF(BS57:$BS$303,BS57))","v":4},137.96199999999999,-16.495750000000001,{"$error":"#N/A"}]
[7.0603243745282263E-2,1.2898287879043699,1.6053318573463262,null,null,null,null,null,null,null,null,null,null,null,null,null,null,null,null,null,null,null,null,null,null,null,null,null,null,null,null,null,null,null,null,null,null,null,null,null,null,null,null,null,null,null,null,null,"mu0 line",{"$f":"IF(BD10,L8,NA())","v":100},{"$f":"AX15","v":-50},8,null,null,null,null,57,0.50351256877183914,"","",25,-999,135,{"$f":"IF(BK58=\"\",NA(),COUNTIF(BK58:$BK$303,BK58))","v":4},131.35499999999999,3.7712499999999998,128,{"$f":"IF(BO58=\"\",NA(),COUNTIF(BO58:$BO$303,BO58))","v":9},124.544,-40.841250000000002,30,{"$f":"IF(BS58=\"\",NA(),COUNTIF(BS58:$BS$303,BS58))","v":3},145.167,-17.21125,{"$error":"#N/A"}]
[-0.23112843146955364,1.2300051822322018,1.4381009072826143,null,null,null,null,null,null,null,null,null,null,null,null,null,null,null,null,null,null,null,null,null,null,null,null,null,null,null,null,null,null,null,null,null,null,null,null,null,null,null,null,null,null,null,null,null,"mu1 line",{"$f":"IF(BD10,O10,NA())","v":130},{"$f":"AX15","v":-50},{"$f":"AX14-1","v":23},null,null,null,null,58,0.23338178545236588,"","",25,-999,130,{"$f":"IF(BK59=\"\",NA(),COUNTIF(BK59:$BK$303,BK59))","v":6},126.49,5.9262499999999996,125,{"$f":"IF(BO59=\"\",NA(),COUNTIF(BO59:$BO$303,BO59))","v":2},121.625,-48.383749999999999,28,{"$f":"IF(BS59=\"\",NA(),COUNTIF(BS59:$BS$303,BS59))","v":3},143.857,-17.21125,{"$error":"#N/A"}]
[0.50056421801451145,0.72489347115703906,3.4495609596582995,null,null,null,null,null,null,null,null,null,null,null,null,null,null,null,null,null,null,null,null,null,null,null,null,null,null,null,null,null,null,null,null,null,null,null,null,null,null,null,null,null,null,null,null,null,"d axis label",{"$f":"IF(BD10,AX3+18,NA())","v":88},{"$f":"AX15-AX16","v":-52},null,null,null,null,null,59,0.88848686963319778,"","",25,-999,141,{"$f":"IF(BK60=\"\",NA(),COUNTIF(BK60:$BK$303,BK60))","v":5},137.19299999999998,4.848749999999999,156,{"$f":"IF(BO60=\"\",NA(),COUNTIF(BO60:$BO$303,BO60))","v":2},151.78799999999998,-48.383749999999999,17,{"$f":"IF(BS60=\"\",NA(),COUNTIF(BS60:$BS$303,BS60))","v":8},136.65199999999999,-13.633749999999999,{"$error":"#N/A"}]
[-0.46245152594315925,1.0279008830162024,1.4958139441860998,null,null,null,null,null,null,null,null,null,null,null,null,null,null,null,null,null,null,null,null,null,null,null,null,null,null,null,null,null,null,null,null,null,null,null,null,null,null,null,null,null,null,null,null,null,"highlighted point",{"$f":"IF(AND(NOT($BB$13),$BD$4,$BD$2,AK72,BD10),BQ2,NA())","v":126.49},{"$f":"AX15-BC23/2","v":-50.53875},null,null,null,null,null,60,0.24666128307580948,"","",25,-999,126,{"$f":"IF(BK61=\"\",NA(),COUNTIF(BK61:$BK$303,BK61))","v":3},122.598,2.6937500000000001,126,{"$f":"IF(BO61=\"\",NA(),COUNTIF(BO61:$BO$303,BO61))","v":3},122.598,-47.306249999999999,24,{"$f":"IF(BS61=\"\",NA(),COUNTIF(BS61:$BS$303,BS61))","v":6},141.23699999999999,-15.06475,{"$error":"#N/A"}]
[0.50412423929820405,0.99710029024462343,2.511406589485452,null,null,null,null,null,null,null,"For s pile curve",null,null,null,null,null,null,null,null,null,null,"To debias",{"$f":"EXP(GAMMALN(H17/2))/(SQRT(H17/2)*EXP(GAMMALN(H17/2-0.5)))","v":0.8407486824442516},null,null,"Panel 1 scale",33,null,"SampDistMult",{"$f":"COUNT(A4:A303)*$BC$23*$BC$24","v":143.63182749999999},null,null,null,null,1.4,"Label rubber ruler",null,0.2,null,null,"For slants",null,null,null,null,null,null,null,"mean on r ruler",{"$f":"IF(AND(NOT($BB$13),$BD$4,$BD$2,AK72),BM2,NA())","v":125.517},{"$f":"AX15+AX14+1","v":-25},null,null,null,null,null,61,3.735477477312088E-2,"","",25,-999,141,{"$f":"IF(BK62=\"\",NA(),COUNTIF(BK62:$BK$303,BK62))","v":4},137.19299999999998,3.7712499999999998,141,{"$f":"IF(BO62=\"\",NA(),COUNTIF(BO62:$BO$303,BO62))","v":2},137.19299999999998,-48.383749999999999,23,{"$f":"IF(BS62=\"\",NA(),COUNTIF(BS62:$BS$303,BS62))","v":9},140.58199999999999,-12.918249999999999,{"$error":"#N/A"}]
[-0.16198216355744904,0.84280653045720211,2.1808300837980821,null,null,null,null,"L end",{"$f":"ROUND(($O$10+$O$12*A4)/$BC$24,0)*$BC$24","v":125.517},null,"X","s","s2/( )","Rcum","ord","grey",null,null,"NCP",{"$f":"(O10-L8)/(BB9/SQRT(H15))","v":4.8989794855663558},null,"x","t","nct",null,"H1Pop","SampDist","SampDist","cum t","t or z",null,"Label s pile X axis",null,null,null,"Unit",{"$f":"IF(AND(AK72),AX3+AM63,NA())","v":75.5},{"$f":"AX15+AX14-$AM$64","v":-26.7},5.5,null,12,{"$f":"AL74","v":{"$error":"#N/A"}},{"$f":"$AM$74","v":-26},null,null,null,null,null,"for vert dotted line",{"$f":"BM2","v":125.517},{"$f":"BN2","v":8.0812499999999989},null,null,null,null,null,62,0.23334328085184097,"","",25,-999,131,{"$f":"IF(BK63=\"\",NA(),COUNTIF(BK63:$BK$303,BK63))","v":6},127.46299999999999,5.9262499999999996,136,{"$f":"IF(BO63=\"\",NA(),COUNTIF(BO63:$BO$303,BO63))","v":6},132.328,-44.073750000000004,19,{"$f":"IF(BS63=\"\",NA(),COUNTIF(BS63:$BS$303,BS63))","v":3},137.96199999999999,-17.21125,{"$error":"#N/A"}]
[0.47611885302000934,1.1305753873246671,2.1901404194543495,null,null,null,null,"R end",{"$f":"AY3","v":170},null,{"$f":"I63","v":125.517},{"$f":"K64-$I$63","v":0},{"$f":"L64^2/$I$66","v":0},{"$f":"CHIDIST(M64,$H$17)","v":1},null,null,null,null,"Degrees of freedom",{"$f":"$H$15-1","v":5},null,{"$f":"V65-$AZ$7","v":69.5},{"$f":"T65-$T$67","v":-4.9806291436591286},{"$f":"nct(W64,$T$63,$T$64)","v":9.5184136626406495E-12},null,null,null,null,{"$f":"X64","v":9.5184136626406495E-12},null,null,0,{"$f":"$AX$35+AF64*$AZ$3","v":125.517},{"$f":"$AY$35","v":-19},{"$f":"AH64+$AI$62","v":-17.600000000000001},"s",{"$f":"IF(AND(AK72,BD12),AX3+AM63,NA())","v":{"$error":"#N/A"}},{"$f":"AX15+AX14+AL62-$AM$64+0.1","v":-26.4},0.7,null,null,{"$f":"AX67","v":{"$error":"#N/A"}},{"$f":"$AY$67","v":-50},null,null,null,null,null,"vert line",{"$f":"IF(AK72,L8,NA())","v":100},{"$f":"AX9-AX10-3","v":-5},null,null,null,null,null,63,0.84198106080293655,"","",25,-999,141,{"$f":"IF(BK64=\"\",NA(),COUNTIF(BK64:$BK$303,BK64))","v":3},137.19299999999998,2.6937500000000001,137,{"$f":"IF(BO64=\"\",NA(),COUNTIF(BO64:$BO$303,BO64))","v":4},133.30099999999999,-46.228749999999998,26,{"$f":"IF(BS64=\"\",NA(),COUNTIF(BS64:$BS$303,BS64))","v":4},142.547,-16.495750000000001,{"$error":"#N/A"}]
[4.0591789352682449E-2,0.52908877538574328,3.8568041589333397,null,null,null,null,"inc",{"$f":"(I64-I63)/200","v":0.22241500000000003},null,{"$f":"K64+$I$65","v":125.73941499999999},{"$f":"K65-$I$63","v":0.22241499999999803},{"$f":"L65^2/$I$66","v":1.0992984938888693E-3},{"$f":"CHIDIST(M65,$H$17)","v":0.9999999978695695},{"$f":"IF(AND($B$4<>\"\",$BD$3,$BD$5,$BD$9,NOT($BD$12)),$AX$12+$I$67*(N64-N66)/(2*$I$65),NA())","v":-18.999990171588777},{"$f":"IF(AND($B$4<>\"\",$BD$3,$BD$5,$BD$9,$BD$12),$AX$12+$I$67*(N64-N66)/(2*$I$65),NA())","v":{"$error":"#N/A"}},null,null,"LH end t axis",{"$f":"(BB23-L8)/(BB9/SQRT(H15))","v":-4.8989794855663558},null,{"$f":"AX3","v":70},{"$f":"W64+$T$67","v":-4.8989794855663558},1.0314299535931383E-11,null,{"$f":"IF(NOT($BB$13),$AX$6+$AA$62*$AX$5*NORMDIST(V65,$O$10,$O$12,FALSE),-999)","v":27.00529967694029},{"$f":"IF(AND(NOT($BB$13),$BD$4,$BD$9),$AX$9+$AD$62*NORMDIST(V65,$O$10,$O$12/SQRT($H$15),FALSE),NA())","v":1.3335520976301096E-20},{"$f":"IF($BD$6,AA65,NA())","v":1.3335520976301096E-20},1.0314299535931383E-11,{"$f":"IF(AND(NOT($BB$13),$BD$7,$BD$4,$BD$9,$BB$21,$BD$10),IF($BD$12,$AX$15+AA65,$AX$15+$AD$62*(AC66-AC64)/(2*$AZ$7)),NA())","v":-49.999999999759801},{"$f":"AF65*$AZ$3","v":10},1,135.517,-19,{"$f":"AH65+$AI$62","v":-17.600000000000001},"s",{"$f":"IF(AND(AK72,NOT(BD12)),AX3+AM63,NA())","v":75.5},{"$f":"AX15+AX14+AL62-$AM$64+0.1","v":-26.4},null,null,11,{"$f":"AL75","v":{"$error":"#N/A"}},{"$f":"$AM$74","v":-26},null,null,null,null,null,"down to 0",{"$f":"AX64","v":100},{"$f":"AX12-3","v":-22},null,null,null,null,null,64,0.55378315597772598,"","",25,-999,134,{"$f":"IF(BK65=\"\",NA(),COUNTIF(BK65:$BK$303,BK65))","v":7},130.38200000000001,7.0037499999999993,162,{"$f":"IF(BO65=\"\",NA(),COUNTIF(BO65:$BO$303,BO65))","v":1},157.626,-49.46125,12,{"$f":"IF(BS65=\"\",NA(),COUNTIF(BS65:$BS$303,BS65))","v":4},133.37700000000001,-16.495750000000001,{"$error":"#N/A"}]
[0.35599508058903545,1.2284864059966629,1.9178031348890925,null,null,null,null,"s2/(N-1)",{"$f":"O12^2/H17","v":45},null,{"$f":"K65+$I$65","v":125.96182999999999},0.44482999999999606,4.3971939755554773E-3,0.99999993190646463,{"$f":"IF(AND($B$4<>\"\",$BD$3,$BD$5,$BD$9,NOT($BD$12)),$AX$12+$I$67*(N65-N67)/(2*$I$65),NA())","v":-18.999925819335104},{"$f":"IF(AND($B$4<>\"\",$BD$3,$BD$5,$BD$9,$BD$12),$AX$12+$I$67*(N65-N67)/(2*$I$65),NA())","v":{"$error":"#N/A"}},null,null,"RH end t axis",{"$f":"(BB23+100-L8)/(BB9/SQRT(H15))","v":11.430952132988162},null,{"$f":"V65+$AZ$7","v":70.5},-4.817329827473583,1.1190741764481818E-11,null,27.006052210890999,2.957998327529178E-20,{"$f":"IF($BD$6,AA66,NA())","v":2.957998327529178E-20},1.1190741764481818E-11,-49.99999999973528,{"$f":"AF66*$AZ$3","v":20},2,145.517,-19,-17.600000000000001,"highlight",{"$f":"AL86","v":100},{"$f":"AN74+AM66","v":-25.3},1.7,null,null,{"$f":"AX68","v":{"$error":"#N/A"}},{"$f":"$AY$67","v":-50},null,null,null,null,"t","For t axis","x","y",null,null,null,null,null,65,0.75895828753709793,"","",25,-999,139,{"$f":"IF(BK66=\"\",NA(),COUNTIF(BK66:$BK$303,BK66))","v":5},135.24699999999999,4.848749999999999,132,{"$f":"IF(BO66=\"\",NA(),COUNTIF(BO66:$BO$303,BO66))","v":6},128.43600000000001,-44.073750000000004,28,{"$f":"IF(BS66=\"\",NA(),COUNTIF(BS66:$BS$303,BS66))","v":2},143.857,-17.926749999999998,{"$error":"#N/A"}]
[-0.62622693162597587,0.8691192581479672,1.5806496697604409,null,null,null,null,"multiplier",{"$f":"COUNT(A4:A303)*$BC$27*$BC$28","v":64.205392500000002},null,126.18424499999999,0.66724499999999409,9.8936864449998257E-3,0.99999948392854554,-18.999696796992449,{"$error":"#N/A"},null,null,"t increment",{"$f":"(T66-T65)/200","v":8.1649658092772595E-2},null,71,-4.7356801693808102,1.2157348433404116E-11,null,27.006903926505249,6.5176429437488242E-20,6.5176429437488242E-20,1.2157348433404116E-11,-49.999999999707811,30,3,155.517,-19,-17.600000000000001,"unit",{"$f":"AL85","v":114.20985949777268},{"$f":"AL66","v":-25.3},null,null,10,{"$f":"AL76","v":{"$error":"#N/A"}},{"$f":"$AM$74","v":-26},null,null,null,null,12,{"$f":"$L$8+AV67*$BB$9","v":280},{"$f":"IF(AND($AY$3>=AW67,$AX$3<=AW67,$BD$10),AW67,NA())","v":{"$error":"#N/A"}},{"$f":"$AX$15","v":-50},null,null,null,null,null,66,0.74182871729135513,{"$f":"IF(AND($BD$4,$BE66<=$H$15),NORMSINV(BF67),\"\")","v":""},{"$f":"IF(BG67=\"\",\"\",$O$10+$O$12*BG67)","v":""},25,{"$f":"IF(AND($BB$12,$BD$2,BH67<>\"\",$A$4<>\"\"),BH67,-999)","v":-999},124,{"$f":"IF(BK67=\"\",NA(),COUNTIF(BK67:$BK$303,BK67))","v":3},120.652,2.6937500000000001,127,{"$f":"IF(BO67=\"\",NA(),COUNTIF(BO67:$BO$303,BO67))","v":2},123.571,-48.383749999999999,20,{"$f":"IF(BS67=\"\",NA(),COUNTIF(BS67:$BS$303,BS67))","v":2},138.61699999999999,-17.926749999999998,{"$error":"#N/A"}]
[6.8908085029389984E-2,1.2821251184003304,{"$f":"IF(AND(A68<>\"\",$H$15>1),(($O$10+$O$12*A68)-$L$8)/IF($BD$12,$BB$9,$O$12*B68),\"\")","v":1.613655372114311},null,null,null,null,null,null,null,126.40665999999999,0.88965999999999212,1.7588775902221909E-2,{"$f":"CHIDIST(M68,$H$17)","v":0.99999783124499997},-18.999122559221782,{"$error":"#N/A"},null,null,null,null,null,71.5,-4.6540305112880374,1.3225052023285187E-11,null,27.007866756667156,1.4265529919648505E-19,1.4265529919648505E-19,1.3225052023285187E-11,-49.999999999676973,40,4,165.517,-19,-17.600000000000001,"s",{"$f":"IF(AND(AK72,BD12),AL86+(AL85-AL86)/2,NA())","v":{"$error":"#N/A"}},{"$f":"AL66+AM68-0.1","v":-23.700000000000003},1.7,null,null,{"$f":"AX69","v":{"$error":"#N/A"}},{"$f":"$AY$67","v":-50},null,null,null,null,11,265,{"$error":"#N/A"},{"$f":"AY67","v":-50},null,null,null,null,null,67,{"$f":"MOD(BF67*10000013,1)","v":0.81668687611818314},"","",25,-999,{"$f":"IF(A68=\"\",\"\",ROUND(($O$10+$O$12*A68)/$BC$24,0))","v":135},{"$f":"IF(BK68=\"\",NA(),COUNTIF(BK68:$BK$303,BK68))","v":3},{"$f":"BK68*$BC$24","v":131.35499999999999},{"$f":"IF(AND(NOT($BB$13),$BD$6,$BD$4,$BD$8),$AX$9-$BC$23/2+BL68*$BC$23,NA())","v":2.6937500000000001},{"$f":"IF(C68=\"\",\"\",ROUND(($L$8+C68*$BB$9)/$BC$24,0))","v":128},{"$f":"IF(BO68=\"\",NA(),COUNTIF(BO68:$BO$303,BO68))","v":8},{"$f":"BO68*$BC$24","v":124.544},{"$f":"IF(AND(NOT($BB$13),$BD$7,$BD$4,$BD$8,$BD$10),$AX$15-$BC$23/2+BP68*$BC$23,NA())","v":-41.918750000000003},{"$f":"IF(B68=\"\",\"\",ROUND(($O$12*B68)/$BC$28,0))","v":29},{"$f":"IF(BS68=\"\",NA(),COUNTIF(BS68:$BS$303,BS68))","v":4},{"$f":"$AX$35+BS68*$BC$28","v":144.512},{"$f":"IF(AND(NOT($BD$12),$BD$5,$BD$4,$BD$8),$AX$12-$BC$27/2+BT68*$BC$27,NA())","v":-16.495750000000001},{"$f":"IF(AND($BD$12,$BD$5,$BD$4,$BD$8),$AX$12-$BC$27/2+BT68*$BC$27,NA())","v":{"$error":"#N/A"}}]
[-0.38517761107472875,0.75868940935735552,2.1284367081031217,null,null,null,null,null,null,null,126.62907499999999,1.1120749999999902,2.7482462347221733E-2,0.99999340481328469,-18.997954524335164,{"$error":"#N/A"},null,null,"Panel 1 y axis",null,null,72,-4.5723808531952645,1.4406317091677053E-11,null,27.008953910000788,3.1016297708934789E-19,3.1016297708934789E-19,1.4406317091677053E-11,-49.999999999642306,50,5,175.517,-19,-17.600000000000001,"s",{"$f":"IF(AND(AK72,NOT(BD12)),AL86+(AL85-AL86)/2,NA())","v":107.10492974888635},{"$f":"AL66+AM68","v":-23.6},2,null,9,{"$f":"AL77","v":{"$error":"#N/A"}},{"$f":"$AM$74","v":-26},null,null,null,null,10,250,{"$error":"#N/A"},{"$f":"AY68","v":-50},null,null,null,null,null,68,0.37811122089624405,"","",{"$f":"BI68","v":25},-999,128,{"$f":"IF(BK69=\"\",NA(),COUNTIF(BK69:$BK$303,BK69))","v":1},124.544,0.53874999999999995,136,{"$f":"IF(BO69=\"\",NA(),COUNTIF(BO69:$BO$303,BO69))","v":5},132.328,-45.151250000000005,17,{"$f":"IF(BS69=\"\",NA(),COUNTIF(BS69:$BS$303,BS69))","v":7},136.65199999999999,-14.34925,{"$error":"#N/A"}]
[-0.84950406315782867,0.68447555740508859,1.6808429817476762,null,null,null,null,null,null,null,126.85148999999998,1.3344899999999882,3.9574745779999303E-2,0.99998365971042069,-18.995880178953275,{"$error":"#N/A"},null,0,{"$f":"$AX$3+$AZ$3*R70","v":70},{"$f":"$AX$6","v":27},null,72.5,-4.4907311951024917,1.571538454152384E-11,null,27.010179986060468,6.6987953109103944E-19,6.6987953109103944E-19,1.571538454152384E-11,-49.999999999603254,60,6,185.517,-19,-17.600000000000001,"Rub ruler",{"$f":"IF(AND(AK72),AX3+AM63+AM70,NA())","v":74},{"$f":"AX15+AX14+$AM$69","v":-24},-1.5,null,null,{"$f":"AX70","v":{"$error":"#N/A"}},{"$f":"$AY$67","v":-50},null,null,null,null,9,235,{"$error":"#N/A"},-50,null,null,null,null,null,69,0.12440831214189529,"","",25,-999,121,{"$f":"IF(BK70=\"\",NA(),COUNTIF(BK70:$BK$303,BK70))","v":3},117.733,2.6937500000000001,129,{"$f":"IF(BO70=\"\",NA(),COUNTIF(BO70:$BO$303,BO70))","v":8},125.517,-41.918750000000003,16,{"$f":"IF(BS70=\"\",NA(),COUNTIF(BS70:$BS$303,BS70))","v":2},135.99699999999999,-17.926749999999998,{"$error":"#N/A"}]
[0.60010219883849902,1.3746725792322299,1.8914338134908353,null,null,null,null,null,null,null,127.07390499999998,1.5569049999999862,5.38656262005546E-2,0.99996486172796339,-18.992528246638461,{"$error":"#N/A"},null,1,80,27,null,73,-4.4090815370097189,1.71685596449625E-11,null,27.011561098261343,1.4371700633934021E-18,1.4371700633934021E-18,1.71685596449625E-11,-49.999999999559172,70,7,195.517,-19,-17.600000000000001,"Rubber ruler",null,"L end",{"$f":"AX3+10","v":80},null,8,{"$f":"AL78","v":{"$error":"#N/A"}},{"$f":"$AM$74","v":-26},null,null,null,null,8,220,{"$error":"#N/A"},-50,null,null,null,null,null,70,0.73872701078653336,"","",25,-999,143,{"$f":"IF(BK71=\"\",NA(),COUNTIF(BK71:$BK$303,BK71))","v":1},139.13900000000001,0.53874999999999995,132,{"$f":"IF(BO71=\"\",NA(),COUNTIF(BO71:$BO$303,BO71))","v":5},128.43600000000001,-45.151250000000005,31,{"$f":"IF(BS71=\"\",NA(),COUNTIF(BS71:$BS$303,BS71))","v":4},145.822,-16.495750000000001,{"$error":"#N/A"}]
[-0.26486287168897721,1.039938262021447,1.668500132823499,null,null,null,null,null,null,null,127.29631999999998,1.7793199999999842,7.0355103608887637E-2,0.99993189365279844,-18.987474841471805,{"$error":"#N/A"},null,2,90,27,null,73.5,-4.3274318789169461,1.8784552540023363E-11,null,27.013115004745405,3.0628400697644535E-18,3.0628400697644535E-18,1.8784552540023363E-11,-49.999999999509306,80,8,205.517,-19,-17.600000000000001,"Display?",{"$f":"AND(BD1,nsampso>0)","v":true},"SE",{"$f":"IF(BD12,O12,IF(K23<>\"\",K23,NA()))","v":14.209859497772683},null,null,{"$f":"AX71","v":{"$error":"#N/A"}},{"$f":"$AY$67","v":-50},null,null,null,null,7,205,{"$error":"#N/A"},-50,null,null,null,null,null,71,0.71131647378206253,"","",25,-999,130,{"$f":"IF(BK72=\"\",NA(),COUNTIF(BK72:$BK$303,BK72))","v":5},126.49,4.848749999999999,128,{"$f":"IF(BO72=\"\",NA(),COUNTIF(BO72:$BO$303,BO72))","v":7},124.544,-42.996250000000003,24,{"$f":"IF(BS72=\"\",NA(),COUNTIF(BS72:$BS$303,BS72))","v":5},141.23699999999999,-15.780249999999999,{"$error":"#N/A"}]
[0.73040006463101859,1.5612448946740207,1.7488608442822868,null,null,null,null,null,null,null,127.51873499999998,2.0017349999999823,8.9043178004998419E-2,0.9998780844955355,-18.980250512447007,{"$error":"#N/A"},null,3,100,27,null,74,-4.2457822208241733,2.0584881833472276E-11,null,27.014861247339219,6.4840324785733136E-18,6.4840324785733136E-18,2.0584881833472276E-11,-49.99999999945279,90,9,215.517,-19,-17.600000000000001,"z or t","For axis","x","y","y numbers",7,{"$f":"AL79","v":{"$error":"#N/A"}},{"$f":"$AM$74","v":-26},null,null,null,null,6,190,{"$error":"#N/A"},-50,null,null,null,null,null,72,0.98493478447198868,"","",25,-999,145,{"$f":"IF(BK73=\"\",NA(),COUNTIF(BK73:$BK$303,BK73))","v":1},141.08500000000001,0.53874999999999995,130,{"$f":"IF(BO73=\"\",NA(),COUNTIF(BO73:$BO$303,BO73))","v":3},126.49,-47.306249999999999,36,{"$f":"IF(BS73=\"\",NA(),COUNTIF(BS73:$BS$303,BS73))","v":1},149.09700000000001,-18.642250000000001,{"$error":"#N/A"}]
[2.4990341317216835E-2,0.51486828070051849,3.9330260131038939,null,null,null,null,null,null,null,127.74114999999998,2.2241499999999803,0.10992984938888693,0.9997950645765149,-18.970348071385725,{"$error":"#N/A"},null,4,110,27,null,74.5,-4.1641325627314005,2.2594354319852441E-11,null,27.016821298713811,1.3635489913399235E-17,1.3635489913399235E-17,2.2594354319852441E-11,-49.999999999388592,100,10,225.517,-19,-17.600000000000001,12,{"$f":"$L$8+AJ74*$AM$72","v":270.5183139732722},{"$f":"IF(AND($AK$72,$BB$24>=AK74,$AM$71<=AK74),AK74,NA())","v":{"$error":"#N/A"}},{"$f":"AX15+AX14","v":-26},{"$f":"AM74-1","v":-27},null,{"$f":"AX72","v":{"$error":"#N/A"}},{"$f":"$AY$67","v":-50},null,null,null,null,5,175,{"$error":"#N/A"},-50,null,null,null,null,null,73,0.64887208491563797,"","",25,-999,134,{"$f":"IF(BK74=\"\",NA(),COUNTIF(BK74:$BK$303,BK74))","v":6},130.38200000000001,5.9262499999999996,163,{"$f":"IF(BO74=\"\",NA(),COUNTIF(BO74:$BO$303,BO74))","v":1},158.59899999999999,-49.46125,12,{"$f":"IF(BS74=\"\",NA(),COUNTIF(BS74:$BS$303,BS74))","v":3},133.37700000000001,-17.21125,{"$error":"#N/A"}]
[-0.83820083007318313,1.006575357745954,1.1542098273977803,null,null,null,null,null,null,null,127.96356499999997,2.4465649999999783,0.13301511776055319,0.99967264898783281,-18.957231085438199,{"$error":"#N/A"},null,5,120,27,null,75,-4.0824829046386277,2.4841636785510674E-11,null,27.019018717804183,2.8484002471685492E-17,2.8484002471685492E-17,2.4841636785510674E-11,-49.999999999315513,110,11,235.517,-19,-17.600000000000001,11,256.3084544754995,{"$f":"IF(AND($AK$72,$BB$24>=AK75,$AM$71<=AK75),AK75,NA())","v":{"$error":"#N/A"}},{"$f":"AM74","v":-26},{"$f":"AN74","v":-27},6,{"$f":"AL80","v":{"$error":"#N/A"}},{"$f":"$AM$74","v":-26},null,null,null,null,4,160,160,-50,null,null,null,null,null,74,0.28449348360300064,"","",25,-999,121,{"$f":"IF(BK75=\"\",NA(),COUNTIF(BK75:$BK$303,BK75))","v":2},117.733,1.61625,121,{"$f":"IF(BO75=\"\",NA(),COUNTIF(BO75:$BO$303,BO75))","v":1},117.733,-49.46125,23,{"$f":"IF(BS75=\"\",NA(),COUNTIF(BS75:$BS$303,BS75))","v":8},140.58199999999999,-13.633749999999999,{"$error":"#N/A"}]
[-0.20967487948619581,1.0948637547049824,1.6352035701430425,null,null,null,null,null,null,null,128.18597999999997,2.6689799999999764,0.15829898311999721,0.99949875151738166,-18.940342905375587,{"$error":"#N/A"},null,6,130,27,null,75.5,-4.0008332465458549,2.7359939562156407E-11,null,27.02147931348529,5.9106601157936588E-17,5.9106601157936588E-17,2.7359939562156407E-11,-49.999999999232116,120,12,245.517,-19,-17.600000000000001,10,242.09859497772683,{"$error":"#N/A"},-26,{"$f":"AN75","v":-27},null,{"$f":"AX73","v":{"$error":"#N/A"}},{"$f":"$AY$67","v":-50},null,null,null,null,3,145,145,-50,null,null,null,null,null,75,0.53444529324769974,"","",25,-999,130,{"$f":"IF(BK76=\"\",NA(),COUNTIF(BK76:$BK$303,BK76))","v":4},126.49,3.7712499999999998,128,{"$f":"IF(BO76=\"\",NA(),COUNTIF(BO76:$BO$303,BO76))","v":6},124.544,-44.073750000000004,25,{"$f":"IF(BS76=\"\",NA(),COUNTIF(BS76:$BS$303,BS76))","v":8},141.892,-13.633749999999999,{"$error":"#N/A"}]
[4.0405480254379622E-2,0.91904059692043083,2.220147278685487,null,null,null,null,null,null,null,128.40839499999998,2.8913949999999886,0.18578144546722075,0.99925933066099948,-18.919116093476045,{"$error":"#N/A"},null,7,140,27,null,76,-3.9191835884530821,3.018783612717308E-11,null,27.024231316432505,1.2183600829954706E-16,1.2183600829954706E-16,3.018783612717308E-11,-49.999999999136726,null,null,null,null,null,9,227.88873547995416,{"$error":"#N/A"},-26,-27,5,{"$f":"AL81","v":{"$error":"#N/A"}},{"$f":"$AM$74","v":-26},null,null,null,null,2,130,130,-50,null,null,null,null,null,76,0.88026580959558487,"","",25,-999,134,{"$f":"IF(BK77=\"\",NA(),COUNTIF(BK77:$BK$303,BK77))","v":5},130.38200000000001,4.848749999999999,137,{"$f":"IF(BO77=\"\",NA(),COUNTIF(BO77:$BO$303,BO77))","v":3},133.30099999999999,-47.306249999999999,21,{"$f":"IF(BS77=\"\",NA(),COUNTIF(BS77:$BS$303,BS77))","v":5},139.27199999999999,-15.780249999999999,{"$error":"#N/A"}]
[0.50604546807954864,1.2538871545952626,1.9986212147523479,null,null,null,null,null,null,null,128.63081,3.1138100000000009,0.21546250480222234,0.99893836886511378,-18.89298210784419,{"$error":"#N/A"},null,8,150,27,null,76.5,-3.8375339303603093,3.3370248876095561E-11,null,27.027305559017663,2.4947098426418601E-16,2.4947098426418601E-16,3.3370248876095561E-11,-49.999999999027352,null,null,null,null,null,8,213.67887598218147,{"$error":"#N/A"},-26,-27,null,{"$f":"AX74","v":{"$error":"#N/A"}},{"$f":"$AY$67","v":-50},null,null,null,null,1,115,115,-50,null,null,null,null,null,77,0.53941137343645096,"","",25,-999,141,{"$f":"IF(BK78=\"\",NA(),COUNTIF(BK78:$BK$303,BK78))","v":2},137.19299999999998,1.61625,134,{"$f":"IF(BO78=\"\",NA(),COUNTIF(BO78:$BO$303,BO78))","v":4},130.38200000000001,-46.228749999999998,29,{"$f":"IF(BS78=\"\",NA(),COUNTIF(BS78:$BS$303,BS78))","v":3},144.512,-17.21125,{"$error":"#N/A"}]
[-0.17803492856737901,1.0188524238326908,1.7882521833523279,null,null,null,null,null,null,null,128.85322500000001,3.3362250000000131,0.24734216112500193,0.99851788563412469,-18.861381104528522,{"$error":"#N/A"},null,9,160,27,null,77,-3.7558842722675365,3.6959638552271697E-11,null,27.030735663005874,5.0742180127935572E-16,5.0742180127935572E-16,3.6959638552271697E-11,-49.999999998901622,null,null,null,null,null,7,199.46901648440877,{"$error":"#N/A"},-26,-27,4,{"$f":"AL82","v":156.83943799109073},{"$f":"$AM$74","v":-26},null,null,null,null,0,100,100,-50,null,null,null,null,null,78,0.74671236425638199,"","",25,-999,131,{"$f":"IF(BK79=\"\",NA(),COUNTIF(BK79:$BK$303,BK79))","v":5},127.46299999999999,4.848749999999999,130,{"$f":"IF(BO79=\"\",NA(),COUNTIF(BO79:$BO$303,BO79))","v":2},126.49,-48.383749999999999,23,{"$f":"IF(BS79=\"\",NA(),COUNTIF(BS79:$BS$303,BS79))","v":7},140.58199999999999,-14.34925,{"$error":"#N/A"}]
[0.55951343115065111,1.0203161722890903,2.5085493111496562,null,null,null,null,null,null,null,129.07564000000002,3.5586400000000253,0.28142041443555954,0.99797798468441468,-18.823771700106377,{"$error":"#N/A"},null,10,170,27,null,77.5,-3.6742346141747637,4.1017444147859894E-11,null,27.034558234723811,1.0252337826782055E-15,1.0252337826782055E-15,4.1017444147859894E-11,-49.999999998756692,null,null,null,null,null,6,185.2591569866361,{"$error":"#N/A"},-26,-27,null,{"$f":"AX75","v":160},{"$f":"$AY$67","v":-50},null,null,null,null,-1,85,85,-50,null,null,null,null,null,79,0.34982455521821976,"","",25,-999,142,{"$f":"IF(BK80=\"\",NA(),COUNTIF(BK80:$BK$303,BK80))","v":4},138.166,3.7712499999999998,141,{"$f":"IF(BO80=\"\",NA(),COUNTIF(BO80:$BO$303,BO80))","v":1},137.19299999999998,-49.46125,23,{"$f":"IF(BS80=\"\",NA(),COUNTIF(BS80:$BS$303,BS80))","v":6},140.58199999999999,-15.06475,{"$error":"#N/A"}]
[-0.29518493629192544,1.380205136014093,1.2351896245158354,null,null,null,null,null,null,null,129.29805500000003,3.7810550000000376,0.3176972647338952,0.9972969346892071,-18.779640558642551,{"$error":"#N/A"},null,null,null,null,null,78,-3.5925849560819909,4.5615831962815205E-11,null,27.038813067266506,2.0576968717243056E-15,2.0576968717243056E-15,4.5615831962815205E-11,-49.999999998589196,null,null,null,null,null,5,171.04929748886343,{"$error":"#N/A"},-26,-27,3,{"$f":"AL83","v":142.62957849331804},{"$f":"$AM$74","v":-26},null,null,null,null,-2,70,70,-50,null,null,null,null,null,80,9.9901415407657623E-2,"","",25,-999,129,{"$f":"IF(BK81=\"\",NA(),COUNTIF(BK81:$BK$303,BK81))","v":5},125.517,4.848749999999999,122,{"$f":"IF(BO81=\"\",NA(),COUNTIF(BO81:$BO$303,BO81))","v":2},118.706,-48.383749999999999,32,{"$f":"IF(BS81=\"\",NA(),COUNTIF(BS81:$BS$303,BS81))","v":3},146.477,-17.21125,{"$error":"#N/A"}]
[-0.19865378590798377,0.91767317250130009,1.9629496296400277,null,null,null,null,null,null,null,129.52047000000005,4.0034700000000498,0.35617271202000883,0.99645128285327123,-18.728511665527396,{"$error":"#N/A"},null,null,null,null,null,78.5,-3.5109352979892181,5.083982767930419E-11,null,27.043543349196984,4.1024622158624368E-15,4.1024622158624368E-15,5.083982767930419E-11,-49.999999998395047,null,null,null,null,null,4,156.83943799109073,156.83943799109073,-26,-27,null,{"$f":"AX76","v":145},{"$f":"$AY$67","v":-50},null,null,null,null,-3,55,{"$error":"#N/A"},-50,null,null,null,null,null,81,0.45279497653245926,"","",25,-999,131,{"$f":"IF(BK82=\"\",NA(),COUNTIF(BK82:$BK$303,BK82))","v":4},127.46299999999999,3.7712499999999998,133,{"$f":"IF(BO82=\"\",NA(),COUNTIF(BO82:$BO$303,BO82))","v":3},129.40899999999999,-47.306249999999999,21,{"$f":"IF(BS82=\"\",NA(),COUNTIF(BS82:$BS$303,BS82))","v":4},139.27199999999999,-16.495750000000001,{"$error":"#N/A"}]
[-0.1521751600886814,0.83950026916635223,2.2011009499094762,null,null,null,null,null,null,null,129.74288500000006,4.2258850000000621,0.39684675629390059,0.99541599990910357,-18.669955141922923,{"$error":"#N/A"},null,null,null,null,null,79,-3.4292856398964453,5.6789924775593804E-11,null,27.04879587907153,8.1247963821685223E-15,8.1247963821685223E-15,5.6789924775593804E-11,-49.999999998169343,null,null,null,null,null,3,142.62957849331804,142.62957849331804,-26,-27,2,{"$f":"AL84","v":128.41971899554537},{"$f":"$AM$74","v":-26},null,null,null,null,-4,40,{"$error":"#N/A"},-50,null,null,null,null,null,82,0.6516592875123024,"","",25,-999,131,{"$f":"IF(BK83=\"\",NA(),COUNTIF(BK83:$BK$303,BK83))","v":3},127.46299999999999,2.6937500000000001,137,{"$f":"IF(BO83=\"\",NA(),COUNTIF(BO83:$BO$303,BO83))","v":2},133.30099999999999,-48.383749999999999,19,{"$f":"IF(BS83=\"\",NA(),COUNTIF(BS83:$BS$303,BS83))","v":2},137.96199999999999,-17.926749999999998,{"$error":"#N/A"}]
[3.2040959407536297E-2,0.94086629208965755,2.1597552983797388,null,null,null,null,null,null,null,129.96530000000007,4.4483000000000743,0.43971939755557027,0.99416465476018034,-18.603595481656068,{"$error":"#N/A"},null,null,null,null,null,79.5,-3.3476359818036725,6.3585287690134062E-11,null,27.054621284992677,1.5983985806311175E-14,1.5983985806311175E-14,6.3585287690134062E-11,-49.999999997906166,null,null,null,null,null,2,128.41971899554537,128.41971899554537,-26,-27,null,{"$f":"AX77","v":130},{"$f":"$AY$67","v":-50},null,null,null,null,-5,25,{"$error":"#N/A"},-50,null,null,null,null,null,83,0.34669376164674759,"","",25,-999,134,{"$f":"IF(BK84=\"\",NA(),COUNTIF(BK84:$BK$303,BK84))","v":4},130.38200000000001,3.7712499999999998,136,{"$f":"IF(BO84=\"\",NA(),COUNTIF(BO84:$BO$303,BO84))","v":4},132.328,-46.228749999999998,22,{"$f":"IF(BS84=\"\",NA(),COUNTIF(BS84:$BS$303,BS84))","v":3},139.92699999999999,-17.21125,{"$error":"#N/A"}]
[0.56971732619777471,0.7382156822370225,3.4809844711111184,null,null,null,null,null,null,null,130.18771500000008,4.6707150000000865,0.48479063580501802,0.992669616544265,-18.529119089622615,{"$error":"#N/A"},null,null,null,null,null,80,-3.2659863237108997,7.1367700619499379E-11,null,27.061074248253128,3.1236501595208484E-14,3.1236501595208484E-14,7.1367700619499379E-11,-49.999999997598309,null,null,null,null,null,1,114.20985949777268,114.20985949777268,-26,-27,1,{"$f":"AL85","v":114.20985949777268},{"$f":"$AM$74","v":-26},null,null,null,null,-6,10,{"$error":"#N/A"},-50,null,null,null,null,null,84,0.12348637729883194,"","",25,-999,142,{"$f":"IF(BK85=\"\",NA(),COUNTIF(BK85:$BK$303,BK85))","v":3},138.166,2.6937500000000001,156,{"$f":"IF(BO85=\"\",NA(),COUNTIF(BO85:$BO$303,BO85))","v":1},151.78799999999998,-49.46125,17,{"$f":"IF(BS85=\"\",NA(),COUNTIF(BS85:$BS$303,BS85))","v":6},136.65199999999999,-15.06475,{"$error":"#N/A"}]
[0.27188369071406987,0.89599240353547682,2.5356059736103713,null,null,null,null,null,null,null,130.41013000000009,4.8931300000000988,0.53206047104224363,0.99090228150448889,-18.446280991156126,{"$error":"#N/A"},null,null,null,null,null,80.5,-3.1843366656181269,8.0306455060219156E-11,null,27.068213729986525,6.0637933782474433E-14,6.0637933782474433E-14,8.0306455060219156E-11,-49.999999997236998,null,null,null,null,null,0,100,100,-26,-27,null,{"$f":"AX78","v":115},{"$f":"$AY$67","v":-50},null,null,null,null,-7,-5,{"$error":"#N/A"},-50,null,null,null,null,null,85,0.37831122428178787,"","",25,-999,138,{"$f":"IF(BK86=\"\",NA(),COUNTIF(BK86:$BK$303,BK86))","v":6},134.274,5.9262499999999996,142,{"$f":"IF(BO86=\"\",NA(),COUNTIF(BO86:$BO$303,BO86))","v":2},138.166,-48.383749999999999,21,{"$f":"IF(BS86=\"\",NA(),COUNTIF(BS86:$BS$303,BS86))","v":3},139.27199999999999,-17.21125,{"$error":"#N/A"}]
[-7.932414199312908E-2,0.46834852016353645,4.100954258030356,null,null,null,null,null,null,null,130.63254500000011,5.115545000000111,0.58152890326724749,0.98883332153673864,-18.354910743515692,{"$error":"#N/A"},null,null,null,null,null,81,-3.1026870075253541,9.0604424372643894E-11,null,27.076103199586338,1.1693138782234649E-13,1.1693138782234649E-13,9.0604424372643894E-11,-49.999999996811489,null,null,null,null,null,-1,85.790140502227317,85.790140502227317,-26,-27,0,{"$f":"AL86","v":100},{"$f":"$AM$74","v":-26},null,null,null,null,-8,-20,{"$error":"#N/A"},-50,null,null,null,null,null,86,0.16086379438638687,"","",25,-999,132,{"$f":"IF(BK87=\"\",NA(),COUNTIF(BK87:$BK$303,BK87))","v":3},128.43600000000001,2.6937500000000001,166,{"$f":"IF(BO87=\"\",NA(),COUNTIF(BO87:$BO$303,BO87))","v":1},161.518,-49.46125,11,{"$f":"IF(BS87=\"\",NA(),COUNTIF(BS87:$BS$303,BS87))","v":1},132.72200000000001,-18.642250000000001,{"$error":"#N/A"}]
[-0.4402936769759655,1.1725732590728295,1.3301568247064726,null,null,null,null,null,null,null,130.85496000000012,5.3379600000001233,0.63319593248002926,0.98643295201690862,-18.254917224925244,{"$error":"#N/A"},null,null,null,null,null,81.5,-3.0210373494325813,1.0250564607125297E-10,null,27.084810863492496,2.239868475669635E-13,2.239868475669635E-13,1.0250564607125297E-10,-49.999999996308603,null,null,null,null,null,-2,71.580281004454633,{"$error":"#N/A"},-26,-27,null,{"$f":"AX79","v":100},{"$f":"$AY$67","v":-50},null,null,null,null,-9,-35,{"$error":"#N/A"},-50,null,null,null,null,null,87,3.5093195736408234E-2,"","",25,-999,127,{"$f":"IF(BK88=\"\",NA(),COUNTIF(BK88:$BK$303,BK88))","v":1},123.571,0.53874999999999995,123,{"$f":"IF(BO88=\"\",NA(),COUNTIF(BO88:$BO$303,BO88))","v":2},119.679,-48.383749999999999,27,{"$f":"IF(BS88=\"\",NA(),COUNTIF(BS88:$BS$303,BS88))","v":3},143.202,-17.21125,{"$error":"#N/A"}]
[-0.26991975985582289,1.0323067955433471,1.6759361147415111,null,null,null,null,null,null,null,131.07737500000013,5.5603750000001355,0.68706155868058905,0.98367121352787468,-18.146292431862086,{"$error":"#N/A"},null,null,null,null,null,82,-2.9393876913398085,1.1630482810452375E-10,null,27.094409892778007,4.2620509208947375E-13,4.2620509208947375E-13,1.1630482810452375E-10,-49.999999995712059,null,null,null,null,null,-3,57.37042150668195,{"$error":"#N/A"},-26,-27,-1,{"$f":"AL87","v":85.790140502227317},{"$f":"$AM$74","v":-26},null,null,null,null,-10,-50,{"$error":"#N/A"},-50,null,null,null,null,null,88,0.41357562690973282,"","",25,-999,129,{"$f":"IF(BK89=\"\",NA(),COUNTIF(BK89:$BK$303,BK89))","v":4},125.517,3.7712499999999998,129,{"$f":"IF(BO89=\"\",NA(),COUNTIF(BO89:$BO$303,BO89))","v":7},125.517,-42.996250000000003,24,{"$f":"IF(BS89=\"\",NA(),COUNTIF(BS89:$BS$303,BS89))","v":4},141.23699999999999,-16.495750000000001,{"$error":"#N/A"}]
[-0.28771871097891105,0.7572316388360959,2.2612384390765201,null,null,null,null,null,null,null,131.29979000000014,5.7827900000001478,0.74312578186892686,0.98051826599525105,-18.029114291155928,{"$error":"#N/A"},null,null,null,null,null,82.5,-2.8577380332470357,1.3235932211620143E-10,null,27.104978647795431,8.0559999396437005E-13,8.0559999396437005E-13,1.3235932211620143E-10,-49.999999995001694,null,null,null,null,null,-4,43.160562008909267,{"$error":"#N/A"},-26,-27,null,{"$f":"AX80","v":85},{"$f":"$AY$67","v":-50},null,null,null,null,-11,-65,{"$error":"#N/A"},-50,null,null,null,null,null,89,0.6455804780125618,"","",25,-999,129,{"$f":"IF(BK90=\"\",NA(),COUNTIF(BK90:$BK$303,BK90))","v":3},125.517,2.6937500000000001,138,{"$f":"IF(BO90=\"\",NA(),COUNTIF(BO90:$BO$303,BO90))","v":1},134.274,-49.46125,17,{"$f":"IF(BS90=\"\",NA(),COUNTIF(BS90:$BS$303,BS90))","v":5},136.65199999999999,-15.780249999999999,{"$error":"#N/A"}]
[-2.7078160558331333E-2,1.0241270500146005,1.9264424657209684,null,null,null,null,null,null,null,131.52220500000016,6.00520500000016,0.8013886020450427,0.97694468989724492,-17.90354821425619,{"$error":"#N/A"},null,null,null,null,null,83,-2.7760883751542629,1.5110427563704914E-10,null,27.116600897967182,1.512603071322796E-12,1.512603071322796E-12,1.5110427563704914E-10,-49.999999994152375,null,null,null,null,null,-5,28.950702511136583,{"$error":"#N/A"},-26,-27,-2,{"$f":"AL88","v":{"$error":"#N/A"}},{"$f":"$AM$74","v":-26},null,null,null,null,-12,-80,{"$error":"#N/A"},-50,null,null,null,null,null,90,0.17267183214426041,"","",25,-999,133,{"$f":"IF(BK91=\"\",NA(),COUNTIF(BK91:$BK$303,BK91))","v":7},129.40899999999999,7.0037499999999993,132,{"$f":"IF(BO91=\"\",NA(),COUNTIF(BO91:$BO$303,BO91))","v":4},128.43600000000001,-46.228749999999998,23,{"$f":"IF(BS91=\"\",NA(),COUNTIF(BS91:$BS$303,BS91))","v":5},140.58199999999999,-15.780249999999999,{"$error":"#N/A"}]
[0.3956284157207392,1.4176955425376712,1.6898045763990841,null,null,null,null,null,null,null,131.74462000000017,6.2276200000001722,0.86185001920893667,0.97292179116874145,-17.769847581995784,{"$error":"#N/A"},null,null,null,null,null,83.5,-2.6944387170614901,1.7307190164294871E-10,null,27.129366034625516,2.8212086382781446E-12,2.8212086382781446E-12,1.7307190164294871E-10,-49.999999993132697,null,null,null,null,null,-6,14.7408430133639,{"$error":"#N/A"},-26,-27,null,{"$f":"AX81","v":70},{"$f":"$AY$67","v":-50},null,null,null,null,null,null,null,null,null,null,null,null,null,91,0.56617642194032669,"","",25,-999,140,{"$f":"IF(BK92=\"\",NA(),COUNTIF(BK92:$BK$303,BK92))","v":1},136.22,0.53874999999999995,129,{"$f":"IF(BO92=\"\",NA(),COUNTIF(BO92:$BO$303,BO92))","v":6},125.517,-44.073750000000004,32,{"$f":"IF(BS92=\"\",NA(),COUNTIF(BS92:$BS$303,BS92))","v":2},146.477,-17.926749999999998,{"$error":"#N/A"}]
[3.6764884797701458E-2,1.0230255146226765,1.9909228613412679,null,null,null,null,null,null,null,131.96703500000018,6.4500350000001845,0.92451003336060844,0.96842190576971521,-17.628352985963552,{"$error":"#N/A"},null,null,null,null,null,84,-2.6127890589687173,1.9891610922633369E-10,null,27.143369274629563,5.2269715401044238E-12,5.2269715401044238E-12,1.9891610922633369E-10,-49.999999991903152,null,null,null,null,null,-7,0.53098351559121681,{"$error":"#N/A"},-26,-27,-3,{"$f":"AL89","v":{"$error":"#N/A"}},{"$f":"$AM$74","v":-26},null,null,null,null,null,null,null,null,null,null,null,null,null,92,0.57969675213098526,"","",25,-999,134,{"$f":"IF(BK93=\"\",NA(),COUNTIF(BK93:$BK$303,BK93))","v":3},130.38200000000001,2.6937500000000001,133,{"$f":"IF(BO93=\"\",NA(),COUNTIF(BO93:$BO$303,BO93))","v":2},129.40899999999999,-48.383749999999999,23,{"$f":"IF(BS93=\"\",NA(),COUNTIF(BS93:$BS$303,BS93))","v":4},140.58199999999999,-16.495750000000001,{"$error":"#N/A"}]
[0.68782881781038363,0.9725013019620663,2.763830559802404,null,null,null,null,null,null,null,132.18945000000019,6.6724500000001967,0.98936864450005824,0.96341869933336588,-17.479490759763234,{"$error":"#N/A"},null,null,null,null,null,84.5,-2.5311394008759445,2.2944415307615417E-10,null,27.158711852309327,9.6198825429461897E-12,9.6198825429461897E-12,2.2944415307615417E-10,-49.999999990413812,null,null,null,null,null,-8,-13.678875982181466,{"$error":"#N/A"},-26,-27,null,{"$f":"AX82","v":{"$error":"#N/A"}},{"$f":"$AY$67","v":-50},null,null,null,null,null,null,null,null,null,null,null,null,null,93,5.7367630302906036E-2,"","",25,-999,144,{"$f":"IF(BK94=\"\",NA(),COUNTIF(BK94:$BK$303,BK94))","v":1},140.11199999999999,0.53874999999999995,145,{"$f":"IF(BO94=\"\",NA(),COUNTIF(BO94:$BO$303,BO94))","v":1},141.08500000000001,-49.46125,22,{"$f":"IF(BS94=\"\",NA(),COUNTIF(BS94:$BS$303,BS94))","v":2},139.92699999999999,-17.926749999999998,{"$error":"#N/A"}]
[5.7587345273257817E-2,1.0875562543727499,1.8919364740906894,null,null,null,null,null,null,null,132.4118650000002,6.894865000000209,1.0564258526272863,0.95788746155874771,-17.323769810077248,{"$error":"#N/A"},null,null,null,null,null,85,-2.4494897427831717,2.6565752404028885E-10,null,27.175501197112744,1.7587094891076783E-11,1.7587094891076783E-11,2.6565752404028885E-10,-49.999999988601246,null,null,null,null,null,-9,-27.88873547995415,{"$error":"#N/A"},-26,-27,-4,{"$f":"AL90","v":{"$error":"#N/A"}},{"$f":"$AM$74","v":-26},null,null,null,null,null,null,null,null,null,null,null,null,null,94,4.8808254301548004E-2,"","",25,-999,134,{"$f":"IF(BK95=\"\",NA(),COUNTIF(BK95:$BK$303,BK95))","v":2},130.38200000000001,1.61625,132,{"$f":"IF(BO95=\"\",NA(),COUNTIF(BO95:$BO$303,BO95))","v":3},128.43600000000001,-47.306249999999999,25,{"$f":"IF(BS95=\"\",NA(),COUNTIF(BS95:$BS$303,BS95))","v":7},141.892,-14.34925,{"$error":"#N/A"}]
[-0.17636929723357286,1.1114333454816894,1.6407917849325235,null,null,null,null,null,null,null,{"$f":"K95+$I$65","v":132.63428000000022},7.1172800000002212,1.1256816577422923,0.95180538390377267,-17.161777640173067,{"$error":"#N/A"},null,null,null,null,null,85.5,-2.3678400846903989,3.0880507865335089E-10,null,27.193851094163321,3.193913482557351E-11,3.193913482557351E-11,3.0880507865335089E-10,-49.999999986384431,null,null,null,null,null,-10,-42.098594977726833,{"$error":"#N/A"},-26,-27,null,{"$f":"AX83","v":{"$error":"#N/A"}},{"$f":"$AY$67","v":-50},null,null,null,null,null,null,null,null,null,null,null,null,null,95,0.17752278596162796,"","",25,-999,131,{"$f":"IF(BK96=\"\",NA(),COUNTIF(BK96:$BK$303,BK96))","v":2},127.46299999999999,1.61625,128,{"$f":"IF(BO96=\"\",NA(),COUNTIF(BO96:$BO$303,BO96))","v":5},124.544,-45.151250000000005,25,{"$f":"IF(BS96=\"\",NA(),COUNTIF(BS96:$BS$303,BS96))","v":6},141.892,-15.06475,{"$error":"#N/A"}]
[-0.22714874768406432,1.0624707751723965,1.6686117809012422,null,null,null,null,null,null,null,132.85669500000023,7.3396950000002334,1.1971360598450762,0.94515182642776063,-16.994175824591078,{"$error":"#N/A"},null,null,null,null,null,86,-2.2861904265976261,3.6045246845754967E-10,null,27.213881824775296,5.7617829223164855E-11,5.7617829223164855E-11,3.6045246845754967E-10,-49.999999983659244,null,null,null,null,null,-11,-56.308454475499502,{"$error":"#N/A"},-26,-27,-5,{"$f":"AL91","v":{"$error":"#N/A"}},{"$f":"$AM$74","v":-26},null,null,null,null,null,null,null,null,null,null,null,null,null,96,0.16741249710321426,"","",25,-999,130,{"$f":"IF(BK97=\"\",NA(),COUNTIF(BK97:$BK$303,BK97))","v":3},126.49,2.6937500000000001,128,{"$f":"IF(BO97=\"\",NA(),COUNTIF(BO97:$BO$303,BO97))","v":4},124.544,-46.228749999999998,24,{"$f":"IF(BS97=\"\",NA(),COUNTIF(BS97:$BS$303,BS97))","v":3},141.23699999999999,-17.21125,{"$error":"#N/A"}]
[0.1523916963004758,1.2891885109698051,1.6695709572227855,null,null,null,null,null,null,null,133.07911000000024,7.5621100000002457,1.2707890589356381,0.93790856413201984,-16.821694001326634,{"$error":"#N/A"},null,null,null,null,null,86.5,-2.2045407685048533,4.2257343937719027E-10,null,27.235720283823124,1.0325125515823285E-10,1.0325125515823285E-10,4.2257343937719027E-10,-49.999999980291108,null,null,null,null,null,-12,-70.5183139732722,{"$error":"#N/A"},-26,-27,null,{"$f":"AX84","v":{"$error":"#N/A"}},{"$f":"$AY$67","v":-50},null,null,null,null,null,null,null,null,null,null,null,null,null,97,0.14739460498094559,"","",25,-999,136,{"$f":"IF(BK98=\"\",NA(),COUNTIF(BK98:$BK$303,BK98))","v":5},132.328,4.848749999999999,129,{"$f":"IF(BO98=\"\",NA(),COUNTIF(BO98:$BO$303,BO98))","v":5},125.517,-45.151250000000005,30,{"$f":"IF(BS98=\"\",NA(),COUNTIF(BS98:$BS$303,BS98))","v":2},145.167,-17.926749999999998,{"$error":"#N/A"}]
[8.1827199622509436E-2,0.82297481913824777,2.5296365711437323,null,null,null,null,null,null,null,133.30152500000025,7.7845250000002579,1.3466406550139782,0.93006001217882706,-16.645123338062106,{"$error":"#N/A"},null,null,null,null,null,87,-2.1228911104120805,4.9767061063741951E-10,null,27.259500070724936,1.8379703073655316E-10,1.8379703073655316E-10,4.9767061063741951E-10,-49.999999976104995,null,null,null,null,null,null,null,null,null,null,-6,{"$f":"AL92","v":{"$error":"#N/A"}},{"$f":"$AM$74","v":-26},null,null,null,null,null,null,null,null,null,null,null,null,null,98,0.96593932062387466,{"$f":"IF(AND($BD$4,$BE98<=$H$15),NORMSINV(BF99),\"\")","v":""},{"$f":"IF(BG99=\"\",\"\",$O$10+$O$12*BG99)","v":""},25,-999,135,{"$f":"IF(BK99=\"\",NA(),COUNTIF(BK99:$BK$303,BK99))","v":2},131.35499999999999,1.61625,142,{"$f":"IF(BO99=\"\",NA(),COUNTIF(BO99:$BO$303,BO99))","v":1},138.166,-49.46125,19,{"$f":"IF(BS99=\"\",NA(),COUNTIF(BS99:$BS$303,BS99))","v":1},137.96199999999999,-18.642250000000001,{"$error":"#N/A"}]
[0.54193240168064172,1.3977987653848039,1.8185252874943456,null,null,null,null,null,null,null,133.52394000000027,8.0069400000002702,1.4246908480800959,0.92159342696453295,-16.465308939443268,{"$error":"#N/A"},null,null,null,null,null,87.5,-2.0412414523193076,5.8893630891922777E-10,null,27.285361550678527,3.2500223360280048E-10,3.2500223360280048E-10,5.8893630891922777E-10,-49.999999970871812,null,null,null,null,null,null,null,null,null,null,null,{"$f":"AX85","v":{"$error":"#N/A"}},{"$f":"$AY$67","v":-50},null,null,null,null,null,null,null,null,null,null,null,null,null,99,0.76344991475343704,{"$f":"IF(AND($BD$4,$BE99<=$H$15),NORMSINV(BF100),\"\")","v":""},{"$f":"IF(BG100=\"\",\"\",$O$10+$O$12*BG100)","v":""},25,-999,142,{"$f":"IF(BK100=\"\",NA(),COUNTIF(BK100:$BK$303,BK100))","v":2},138.166,1.61625,131,{"$f":"IF(BO100=\"\",NA(),COUNTIF(BO100:$BO$303,BO100))","v":1},127.46299999999999,-49.46125,32,{"$f":"IF(BS100=\"\",NA(),COUNTIF(BS100:$BS$303,BS100))","v":1},146.477,-18.642250000000001,{"$error":"#N/A"}]
[-0.26901716243792712,1.0125792425547699,1.7094788879878153,null,null,null,null,null,null,null,133.74635500000028,8.2293550000002824,1.5049396381339923,0.91249907873437452,-16.283142886674359,{"$error":"#N/A"},null,null,null,null,null,88,-1.9595917942265351,7.0046818711324519E-10,null,27.313451882686007,5.7087221228619656E-10,5.7087221228619656E-10,7.0046818711324519E-10,-49.999999964289692,null,null,null,null,null,null,null,null,null,null,-7,{"$f":"AL93","v":{"$error":"#N/A"}},{"$f":"$AM$74","v":-26},null,null,null,null,null,null,null,null,null,null,null,null,null,100,7.238326221704483E-2,{"$f":"IF(AND($BD$4,$BE100<=$H$15),NORMSINV(BF101),\"\")","v":""},{"$f":"IF(BG101=\"\",\"\",$O$10+$O$12*BG101)","v":""},25,-999,129,{"$f":"IF(BK101=\"\",NA(),COUNTIF(BK101:$BK$303,BK101))","v":2},125.517,1.61625,129,{"$f":"IF(BO101=\"\",NA(),COUNTIF(BO101:$BO$303,BO101))","v":4},125.517,-46.228749999999998,23,{"$f":"IF(BS101=\"\",NA(),COUNTIF(BS101:$BS$303,BS101))","v":3},140.58199999999999,-17.21125,{"$error":"#N/A"}]
[0.33227313708113249,1.0907250014071901,2.1382778739573856,null,null,null,null,null,null,null,133.96877000000029,8.4517700000002947,1.5873870251756661,0.90277040443226442,-16.099554840400593,{"$error":"#N/A"},null,null,null,null,null,88.5,-1.8779421361337625,8.3756024114012732E-10,null,27.343925010822844,9.9608446173715823E-10,9.9608446173715823E-10,8.3756024114012732E-10,-49.999999955958131,null,null,null,null,null,null,null,null,null,null,null,{"$f":"AX86","v":{"$error":"#N/A"}},{"$f":"$AY$67","v":-50},null,null,null,null,null,null,null,null,null,null,null,null,null,null,0.56315285712480545,{"$f":"IF(AND($BD$4,$BE101<=$H$15),NORMSINV(BF102),\"\")","v":""},{"$f":"IF(BG102=\"\",\"\",$O$10+$O$12*BG102)","v":""},25,-999,139,{"$f":"IF(BK102=\"\",NA(),COUNTIF(BK102:$BK$303,BK102))","v":4},135.24699999999999,3.7712499999999998,136,{"$f":"IF(BO102=\"\",NA(),COUNTIF(BO102:$BO$303,BO102))","v":3},132.328,-47.306249999999999,25,{"$f":"IF(BS102=\"\",NA(),COUNTIF(BS102:$BS$303,BS102))","v":5},141.892,-15.780249999999999,{"$error":"#N/A"}]
[-0.20719938544712557,0.87270305335157594,2.0543077140244961,null,null,null,null,null,null,null,134.1911850000003,8.6741850000003069,1.6720330092051183,0.89240411521017204,-15.915503011499551,{"$error":"#N/A"},null,null,null,null,null,89,-1.7962924780409899,1.0070984554480314E-9,null,27.376941615151352,1.7264663993567449E-9,1.7264663993567449E-9,1.0070984554480314E-9,-49.999999945342005,null,null,null,null,null,null,null,null,null,null,-8,{"$f":"AL94","v":{"$error":"#N/A"}},{"$f":"$AM$74","v":-26},null,null,null,null,null,null,null,null,null,null,null,null,null,null,null,null,null,null,null,130,{"$f":"IF(BK103=\"\",NA(),COUNTIF(BK103:$BK$303,BK103))","v":2},126.49,1.61625,134,{"$f":"IF(BO103=\"\",NA(),COUNTIF(BO103:$BO$303,BO103))","v":3},130.38200000000001,-47.306249999999999,20,{"$f":"IF(BS103=\"\",NA(),COUNTIF(BS103:$BS$303,BS103))","v":1},138.61699999999999,-18.642250000000001,{"$error":"#N/A"}]
[-0.49387865531028985,1.8678180980780201,0.80635333078713889,null,null,null,null,null,null,null,134.41360000000032,8.8966000000003191,1.7588775902223486,0.88140028672144044,-15.731966162231203,{"$error":"#N/A"},null,null,null,null,null,89.5,-1.7146428199482173,1.2181025867081391E-9,null,27.412669018651133,2.9725200932717543E-9,2.9725200932717543E-9,1.2181025867081391E-9,-49.999999931720986,null,null,null,null,null,null,null,null,null,null,null,{"$f":"AX87","v":{"$error":"#N/A"}},{"$f":"$AY$67","v":-50},null,null,null,null,null,null,null,null,null,null,null,null,null,null,null,null,null,null,null,126,{"$f":"IF(BK104=\"\",NA(),COUNTIF(BK104:$BK$303,BK104))","v":2},122.598,1.61625,115,{"$f":"IF(BO104=\"\",NA(),COUNTIF(BO104:$BO$303,BO104))","v":1},111.895,-49.46125,43,{"$f":"IF(BS104=\"\",NA(),COUNTIF(BS104:$BS$303,BS104))","v":1},153.68199999999999,-18.642250000000001,{"$error":"#N/A"}]
[-0.15742310991421657,1.1348082717053753,1.6236900417695952,null,null,null,null,null,null,null,134.63601500000033,9.1190150000003314,1.8479207682273564,0.86976241121226106,-15.549933616097961,{"$error":"#N/A"},null,null,null,null,null,90,-1.6329931618554447,1.4824737129019516E-9,null,27.451281046542377,5.0838903017875398E-9,5.0838903017875398E-9,1.4824737129019516E-9,-49.999999914118064,null,null,null,null,null,null,null,null,null,null,-9,{"$f":"AL95","v":{"$error":"#N/A"}},{"$f":"$AM$74","v":-26},null,null,null,null,null,null,null,null,null,null,null,null,null,null,null,null,null,null,null,131,{"$f":"IF(BK105=\"\",NA(),COUNTIF(BK105:$BK$303,BK105))","v":1},127.46299999999999,0.53874999999999995,128,{"$f":"IF(BO105=\"\",NA(),COUNTIF(BO105:$BO$303,BO105))","v":3},124.544,-47.306249999999999,26,{"$f":"IF(BS105=\"\",NA(),COUNTIF(BS105:$BS$303,BS105))","v":3},142.547,-17.21125,{"$error":"#N/A"}]
[0.32422526777427729,0.76708854082970568,3.0299308933233777,null,null,null,null,null,null,null,134.85843000000034,9.3414300000003436,1.9391625432201427,0.85749741860096063,-15.370396147318294,{"$error":"#N/A"},null,null,null,null,null,90.5,-1.5513435037626722,1.8160337017527646E-9,null,27.492957834415368,8.6371854871793451E-9,8.6371854871793451E-9,1.8160337017527646E-9,-49.999999891197689,null,null,null,null,null,null,null,null,null,null,null,{"$f":"AX88","v":{"$error":"#N/A"}},{"$f":"$AY$67","v":-50},null,null,null,null,null,null,null,null,null,null,null,null,null,null,null,null,null,null,null,139,{"$f":"IF(BK106=\"\",NA(),COUNTIF(BK106:$BK$303,BK106))","v":3},135.24699999999999,2.6937500000000001,149,{"$f":"IF(BO106=\"\",NA(),COUNTIF(BO106:$BO$303,BO106))","v":1},144.977,-49.46125,18,{"$f":"IF(BS106=\"\",NA(),COUNTIF(BS106:$BS$303,BS106))","v":1},137.30699999999999,-18.642250000000001,{"$error":"#N/A"}]
[0.17722493661197536,1.0759768073137019,2.0234868649703186,null,null,null,null,null,null,null,135.08084500000035,9.5638450000003559,2.032602915200707,0.84461566544961497,-15.194336036154123,{"$error":"#N/A"},null,null,null,null,null,91,-1.4696938456698996,2.2399820980966105E-9,null,27.537885581653949,1.4576492221810712E-8,1.4576492221810712E-8,2.2399820980966105E-9,-49.99999986111937,null,null,null,null,null,null,null,null,null,null,-10,{"$f":"AL96","v":{"$error":"#N/A"}},{"$f":"$AM$74","v":-26},null,null,null,null,null,null,null,null,null,null,null,null,null,null,null,null,null,null,null,136,{"$f":"IF(BK107=\"\",NA(),COUNTIF(BK107:$BK$303,BK107))","v":4},132.328,3.7712499999999998,134,{"$f":"IF(BO107=\"\",NA(),COUNTIF(BO107:$BO$303,BO107))","v":2},130.38200000000001,-48.383749999999999,25,{"$f":"IF(BS107=\"\",NA(),COUNTIF(BS107:$BS$303,BS107))","v":4},141.892,-16.495750000000001,{"$error":"#N/A"}]
[-0.59838091188320763,0.90153785569996381,1.5546979855089502,null,null,null,null,null,null,null,135.30326000000036,9.7862600000003681,2.1282418841690491,0.83113088714431449,-15.022720588929056,{"$error":"#N/A"},null,null,null,null,null,91.5,-1.388044187577127,2.7829547099992157E-9,null,27.5862562467548,2.443647213643823E-8,2.443647213643823E-8,2.7829547099992157E-9,-49.99999982132568,null,null,null,null,null,null,null,null,null,null,null,{"$f":"AX89","v":{"$error":"#N/A"}},{"$f":"$AY$67","v":-50},null,null,null,null,null,null,null,null,null,null,null,null,null,null,null,null,null,null,null,124,{"$f":"IF(BK108=\"\",NA(),COUNTIF(BK108:$BK$303,BK108))","v":2},120.652,1.61625,127,{"$f":"IF(BO108=\"\",NA(),COUNTIF(BO108:$BO$303,BO108))","v":1},123.571,-49.46125,21,{"$f":"IF(BS108=\"\",NA(),COUNTIF(BS108:$BS$303,BS108))","v":2},139.27199999999999,-17.926749999999998,{"$error":"#N/A"}]
[0.51858939305723883,0.51027538702928432,4.9357453976370209,null,null,null,null,null,null,null,135.52567500000038,10.00867500000038,2.2260794501251691,0.81706014197194621,-14.856490794316342,{"$error":"#N/A"},null,null,null,null,null,92,-1.3063945294843544,3.4839565162243414E-9,null,27.638267181300499,4.0693841884350995E-8,4.0693841884350995E-8,3.4839565162243414E-9,-49.999999768232684,null,null,null,null,null,null,null,null,null,null,-11,{"$f":"AL97","v":{"$error":"#N/A"}},{"$f":"$AM$74","v":-26},null,null,null,null,null,null,null,null,null,null,null,null,null,null,null,null,null,null,null,142,{"$f":"IF(BK109=\"\",NA(),COUNTIF(BK109:$BK$303,BK109))","v":1},138.166,0.53874999999999995,179,{"$f":"IF(BO109=\"\",NA(),COUNTIF(BO109:$BO$303,BO109))","v":1},174.167,-49.46125,12,{"$f":"IF(BS109=\"\",NA(),COUNTIF(BS109:$BS$303,BS109))","v":2},133.37700000000001,-17.926749999999998,{"$error":"#N/A"}]
[1.0423982767205517,1.2771790212156098,2.3821235912760437,null,null,null,null,null,null,null,135.74809000000039,10.231090000000393,2.3261156130690677,0.80242368470856484,-14.696552479613768,{"$error":"#N/A"},null,null,null,null,null,92.5,-1.2247448713915818,4.396575569649175E-9,null,27.694120699545316,6.731681852919934E-8,6.731681852919934E-8,4.396575569649175E-9,-49.999999696774175,null,null,null,null,null,null,null,null,null,null,null,{"$f":"AX90","v":{"$error":"#N/A"}},{"$f":"$AY$67","v":-50},null,null,null,null,null,null,null,null,null,null,null,null,null,null,null,null,null,null,null,150,{"$f":"IF(BK110=\"\",NA(),COUNTIF(BK110:$BK$303,BK110))","v":1},145.94999999999999,0.53874999999999995,139,{"$f":"IF(BO110=\"\",NA(),COUNTIF(BO110:$BO$303,BO110))","v":2},135.24699999999999,-48.383749999999999,29,{"$f":"IF(BS110=\"\",NA(),COUNTIF(BS110:$BS$303,BS110))","v":2},144.512,-17.926749999999998,{"$error":"#N/A"}]
[-1.8771922137430213E-2,1.310483721902951,1.5118295975364211,null,null,null,null,null,null,null,135.9705050000004,10.453505000000405,2.4283503730007436,0.78724484942477568,-14.543771374599626,{"$error":"#N/A"},null,null,null,null,null,93,-1.1430952132988093,5.5950890526647707E-9,null,27.754023580819752,1.1061733092441688E-7,1.1061733092441688E-7,5.5950890526647707E-9,-49.99999959972515,null,null,null,null,null,null,null,null,null,null,-12,{"$f":"AL98","v":{"$error":"#N/A"}},{"$f":"$AM$74","v":-26},null,null,null,null,null,null,null,null,null,null,null,null,null,null,null,null,null,null,null,133,{"$f":"IF(BK111=\"\",NA(),COUNTIF(BK111:$BK$303,BK111))","v":6},129.40899999999999,5.9262499999999996,126,{"$f":"IF(BO111=\"\",NA(),COUNTIF(BO111:$BO$303,BO111))","v":2},122.598,-48.383749999999999,30,{"$f":"IF(BS111=\"\",NA(),COUNTIF(BS111:$BS$303,BS111))","v":1},145.167,-18.642250000000001,{"$error":"#N/A"}]
[4.3574629263574881E-2,0.64885995821375453,3.149484882515063,null,null,null,null,null,null,null,136.19292000000041,10.675920000000417,2.5327837299201978,0.77154988887534337,-14.398963819181548,{"$error":"#N/A"},null,null,null,null,null,93.5,-1.0614455552060367,7.1833872193785446E-9,null,27.818186502255337,1.805624634760978E-7,1.805624634760978E-7,7.1833872193785446E-9,-49.999999466689445,null,null,null,null,null,null,null,null,null,null,null,{"$f":"AX91","v":{"$error":"#N/A"}},{"$f":"$AY$67","v":-50},null,null,null,null,null,null,null,null,null,null,null,null,null,null,null,null,null,null,null,134,{"$f":"IF(BK112=\"\",NA(),COUNTIF(BK112:$BK$303,BK112))","v":1},130.38200000000001,0.53874999999999995,151,{"$f":"IF(BO112=\"\",NA(),COUNTIF(BO112:$BO$303,BO112))","v":2},146.923,-48.383749999999999,15,{"$f":"IF(BS112=\"\",NA(),COUNTIF(BS112:$BS$303,BS112))","v":2},135.34199999999998,-17.926749999999998,{"$error":"#N/A"}]
[-0.10565845606025374,0.95624180932862224,1.9810277332150583,null,null,null,null,null,null,null,136.41533500000043,10.898335000000429,2.6394156838274299,0.75536779292498912,-14.262890588131647,{"$error":"#N/A"},null,null,null,null,null,94,-0.97979589711326409,9.3081278815979205E-9,null,27.88682339967578,2.9277667273173689E-7,2.9277667273173689E-7,9.3081278815979205E-9,-49.999999282572595,null,null,null,null,null,null,null,null,null,null,null,null,null,null,null,null,null,null,null,null,null,null,null,null,null,null,null,null,null,null,null,null,132,{"$f":"IF(BK113=\"\",NA(),COUNTIF(BK113:$BK$303,BK113))","v":2},128.43600000000001,1.61625,133,{"$f":"IF(BO113=\"\",NA(),COUNTIF(BO113:$BO$303,BO113))","v":1},129.40899999999999,-49.46125,22,{"$f":"IF(BS113=\"\",NA(),COUNTIF(BS113:$BS$303,BS113))","v":1},139.92699999999999,-18.642250000000001,{"$error":"#N/A"}]
[-3.169035489883467E-2,0.55037063899246375,3.5763347563461094,null,null,null,null,null,null,null,136.63775000000044,11.120750000000442,2.7482462347224401,0.73873008515431793,-14.136249195920435,{"$error":"#N/A"},null,null,null,null,null,94.5,-0.89814623902049151,1.2178292724707143E-8,null,27.960150754895402,4.7157434909311389E-7,4.7157434909311389E-7,1.2178292724707143E-8,-49.999999025260138,null,null,null,null,null,null,null,null,null,null,null,null,null,null,null,null,null,null,null,null,null,null,null,null,null,null,null,null,null,null,null,null,133,{"$f":"IF(BK114=\"\",NA(),COUNTIF(BK114:$BK$303,BK114))","v":5},129.40899999999999,4.848749999999999,158,{"$f":"IF(BO114=\"\",NA(),COUNTIF(BO114:$BO$303,BO114))","v":2},153.73400000000001,-48.383749999999999,13,{"$f":"IF(BS114=\"\",NA(),COUNTIF(BS114:$BS$303,BS114))","v":2},134.03199999999998,-17.926749999999998,{"$error":"#N/A"}]
[-1.1845950580656301,0.71856903046134257,1.1347621555730785,null,null,null,null,null,null,null,136.86016500000045,11.343165000000454,2.8592753826052286,0.72167058797170247,-14.01967481352867,{"$error":"#N/A"},null,null,null,null,null,95,-0.81649658092771893,1.6094505815061524E-8,null,28.038386808110896,7.5451622021924041E-7,7.5451622021924041E-7,1.6094505815061524E-8,-49.999998662061692,null,null,null,null,null,null,null,null,null,null,null,null,null,null,null,null,null,null,null,null,null,null,null,null,null,null,null,null,null,null,null,null,115,{"$f":"IF(BK115=\"\",NA(),COUNTIF(BK115:$BK$303,BK115))","v":1},111.895,0.53874999999999995,120,{"$f":"IF(BO115=\"\",NA(),COUNTIF(BO115:$BO$303,BO115))","v":1},116.75999999999999,-49.46125,16,{"$f":"IF(BS115=\"\",NA(),COUNTIF(BS115:$BS$303,BS115))","v":1},135.99699999999999,-18.642250000000001,{"$error":"#N/A"}]
[0.28006427151053509,1.3511037438748903,1.687556771156179,null,null,null,null,null,null,null,137.08258000000046,11.565580000000466,2.9725031274757954,0.70422522557109768,-13.913729438875865,{"$error":"#N/A"},null,null,null,null,null,95.5,-0.73484692283494635,2.1493347279074249E-8,null,28.121750694567407,1.199200194861536E-6,1.199200194861536E-6,2.1493347279074249E-8,-49.999998144226055,null,null,null,null,null,null,null,null,null,null,null,null,null,null,null,null,null,null,null,null,null,null,null,null,null,null,null,null,null,null,null,null,138,{"$f":"IF(BK116=\"\",NA(),COUNTIF(BK116:$BK$303,BK116))","v":5},134.274,4.848749999999999,129,{"$f":"IF(BO116=\"\",NA(),COUNTIF(BO116:$BO$303,BO116))","v":3},125.517,-47.306249999999999,31,{"$f":"IF(BS116=\"\",NA(),COUNTIF(BS116:$BS$303,BS116))","v":3},145.822,-17.21125,{"$error":"#N/A"}]
[-0.70645104429418792,0.75315239619274732,1.7175128994408277,null,null,null,null,null,null,null,137.30499500000047,11.787995000000478,3.0879294693341395,0.68643171401411629,-13.818897156170433,{"$error":"#N/A"},null,null,null,null,null,96,-0.65319726474217377,2.9014859022720402E-8,null,28.210461505224263,1.8933003004471957E-6,1.8933003004471957E-6,2.9014859022720402E-8,-49.999997398425798,null,null,null,null,null,null,null,null,null,null,null,null,null,null,null,null,null,null,null,null,null,null,null,null,null,null,null,null,null,null,null,null,123,{"$f":"IF(BK117=\"\",NA(),COUNTIF(BK117:$BK$303,BK117))","v":2},119.679,1.61625,129,{"$f":"IF(BO117=\"\",NA(),COUNTIF(BO117:$BO$303,BO117))","v":2},125.517,-48.383749999999999,17,{"$f":"IF(BS117=\"\",NA(),COUNTIF(BS117:$BS$303,BS117))","v":4},136.65199999999999,-16.495750000000001,{"$error":"#N/A"}]
[0.28656568729027304,1.0561573401533255,2.1649858409906293,null,null,null,null,null,null,null,137.52741000000049,12.010410000000491,3.2055544081802618,0.66832933134351069,-13.735588439552668,{"$error":"#N/A"},null,null,null,null,null,96.5,-0.57154760664940119,3.9606144762541017E-8,null,28.304737271737189,2.9692859319835319E-6,2.9692859319835319E-6,3.9606144762541017E-8,-49.99999631346035,null,null,null,null,null,null,null,null,null,null,null,null,null,null,null,null,null,null,null,null,null,null,null,null,null,null,null,null,null,null,null,null,138,{"$f":"IF(BK118=\"\",NA(),COUNTIF(BK118:$BK$303,BK118))","v":4},134.274,3.7712499999999998,136,{"$f":"IF(BO118=\"\",NA(),COUNTIF(BO118:$BO$303,BO118))","v":2},132.328,-48.383749999999999,24,{"$f":"IF(BS118=\"\",NA(),COUNTIF(BS118:$BS$303,BS118))","v":2},141.23699999999999,-17.926749999999998,{"$error":"#N/A"}]
[0.17469301302143311,1.0845352971477571,2.0051841731114748,null,null,null,null,null,null,null,137.7498250000005,12.232825000000503,3.325377944014162,0.64995863748189531,-13.664133295177129,{"$error":"#N/A"},null,null,null,null,null,97,-0.4898979485566286,5.4681451944822352E-8,null,28.404793876710766,4.6258254480756746E-6,4.6258254480756746E-6,5.4681451944822352E-8,-49.999994719389747,null,null,null,null,null,null,null,null,null,null,null,null,null,null,null,null,null,null,null,null,null,null,null,null,null,null,null,null,null,null,null,null,136,{"$f":"IF(BK119=\"\",NA(),COUNTIF(BK119:$BK$303,BK119))","v":3},132.328,2.6937500000000001,134,{"$f":"IF(BO119=\"\",NA(),COUNTIF(BO119:$BO$303,BO119))","v":1},130.38200000000001,-49.46125,25,{"$f":"IF(BS119=\"\",NA(),COUNTIF(BS119:$BS$303,BS119))","v":3},141.892,-17.21125,{"$error":"#N/A"}]
[0.14798701197995529,1.1403571460613167,1.8836090249435409,null,null,null,null,null,null,null,137.97224000000051,12.455240000000515,3.4474000768358408,0.63136119683196856,-13.604778689737632,{"$error":"#N/A"},null,null,null,null,null,97.5,-0.40824829046385602,7.6371048097646995E-8,null,28.510843890854151,7.1586505816878551E-6,7.1586505816878551E-6,7.6371048097646995E-8,-49.999992354661295,null,null,null,null,null,null,null,null,null,null,null,null,null,null,null,null,null,null,null,null,null,null,null,null,null,null,null,null,null,null,null,null,136,{"$f":"IF(BK120=\"\",NA(),COUNTIF(BK120:$BK$303,BK120))","v":2},132.328,1.61625,132,{"$f":"IF(BO120=\"\",NA(),COUNTIF(BO120:$BO$303,BO120))","v":2},128.43600000000001,-48.383749999999999,26,{"$f":"IF(BS120=\"\",NA(),COUNTIF(BS120:$BS$303,BS120))","v":2},142.547,-17.926749999999998,{"$error":"#N/A"}]
[0.31020495801478926,1.2325867979737701,1.8742736510016973,null,null,null,null,null,null,null,138.19465500000052,12.677655000000527,3.571620806645297,0.61257928035945408,-13.557697498455397,{"$error":"#N/A"},null,null,null,null,null,98,-0.32659863237108344,1.0791017455517824E-7,null,28.623095339390797,1.1004689465152932E-5,1.1004689465152932E-5,1.0791017455517824E-7,-49.999988814180917,null,null,null,null,null,null,null,null,null,null,null,null,null,null,null,null,null,null,null,null,null,null,null,null,null,null,null,null,null,null,null,null,138,{"$f":"IF(BK121=\"\",NA(),COUNTIF(BK121:$BK$303,BK121))","v":3},134.274,2.6937500000000001,132,{"$f":"IF(BO121=\"\",NA(),COUNTIF(BO121:$BO$303,BO121))","v":1},128.43600000000001,-49.46125,28,{"$f":"IF(BS121=\"\",NA(),COUNTIF(BS121:$BS$303,BS121))","v":1},143.857,-18.642250000000001,{"$error":"#N/A"}]
[0.1570607239267601,1.0103075722486541,2.1350535056624032,null,null,null,null,null,null,null,138.41707000000054,12.900070000000539,3.6980401334425319,0.59365565018708066,-13.52297923593628,{"$error":"#N/A"},null,null,null,null,null,98.5,-0.24494897427831086,1.5424946319645373E-7,null,28.741750400824916,1.6804636497028539E-5,1.6804636497028539E-5,1.5424946319645373E-7,-49.999983467177536,null,null,null,null,null,null,null,null,null,null,null,null,null,null,null,null,null,null,null,null,null,null,null,null,null,null,null,null,null,null,null,null,136,{"$f":"IF(BK122=\"\",NA(),COUNTIF(BK122:$BK$303,BK122))","v":1},132.328,0.53874999999999995,136,{"$f":"IF(BO122=\"\",NA(),COUNTIF(BO122:$BO$303,BO122))","v":1},132.328,-49.46125,23,{"$f":"IF(BS122=\"\",NA(),COUNTIF(BS122:$BS$303,BS122))","v":2},140.58199999999999,-17.926749999999998,{"$error":"#N/A"}]
[0.27224288435576982,1.2688957325490451,1.7907246640282506,null,null,null,null,null,null,null,138.63948500000055,13.122485000000552,3.8266580572275442,0.57463319745873098,-13.500629673214203,{"$error":"#N/A"},null,null,null,null,null,99,-0.16329931618553828,2.2301573823398527E-7,null,28.867004041948515,2.5490899266811029E-5,2.5490899266811029E-5,2.2301573823398527E-7,-49.999975327311233,null,null,null,null,null,null,null,null,null,null,null,null,null,null,null,null,null,null,null,null,null,null,null,null,null,null,null,null,null,null,null,null,138,{"$f":"IF(BK123=\"\",NA(),COUNTIF(BK123:$BK$303,BK123))","v":2},134.274,1.61625,130,{"$f":"IF(BO123=\"\",NA(),COUNTIF(BO123:$BO$303,BO123))","v":1},126.49,-49.46125,29,{"$f":"IF(BS123=\"\",NA(),COUNTIF(BS123:$BS$303,BS123))","v":1},144.512,-18.642250000000001,{"$error":"#N/A"}]
[-4.8039187361667159E-2,1.198868670409118,1.6281690070124362,null,null,null,null,null,null,null,138.86190000000056,13.344900000000564,3.9574745780003346,0.5555547242802088,-13.490583525998519,{"$error":"#N/A"},null,null,null,null,null,99.5,-8.1649658092765684E-2,3.2602677184602032E-7,null,28.999042593777016,3.8410140373751061E-5,3.8410140373751061E-5,3.2602677184602032E-7,-49.999962847787572,null,null,null,null,null,null,null,null,null,null,null,null,null,null,null,null,null,null,null,null,null,null,null,null,null,null,null,null,null,null,null,null,133,{"$f":"IF(BK124=\"\",NA(),COUNTIF(BK124:$BK$303,BK124))","v":4},129.40899999999999,3.7712499999999998,128,{"$f":"IF(BO124=\"\",NA(),COUNTIF(BO124:$BO$303,BO124))","v":2},124.544,-48.383749999999999,27,{"$f":"IF(BS124=\"\",NA(),COUNTIF(BS124:$BS$303,BS124))","v":2},143.202,-17.926749999999998,{"$error":"#N/A"}]
[0.27427819390728447,1.1043877348953099,2.0593113469544959,null,null,null,null,null,null,null,{"$f":"K124+$I$65","v":139.08431500000057},13.567315000000576,4.0904896957609029,0.53646266949053767,-13.492699577705363,{"$error":"#N/A"},null,null,null,null,null,100,6.9111383282915995E-15,4.8167855049301711E-7,null,29.138042273922245,5.7492518730245401E-5,5.7492518730245401E-5,4.8167855049301711E-7,-49.999943599324027,null,null,null,null,null,null,null,null,null,null,null,null,null,null,null,null,null,null,null,null,null,null,null,null,null,null,null,null,null,null,null,null,138,{"$f":"IF(BK125=\"\",NA(),COUNTIF(BK125:$BK$303,BK125))","v":1},134.274,0.53874999999999995,135,{"$f":"IF(BO125=\"\",NA(),COUNTIF(BO125:$BO$303,BO125))","v":1},131.35499999999999,-49.46125,25,{"$f":"IF(BS125=\"\",NA(),COUNTIF(BS125:$BS$303,BS125))","v":2},141.892,-17.926749999999998,{"$error":"#N/A"}]
[-0.59688420452381097,1.6484686575029761,0.85116316230213551,null,null,null,null,null,null,null,139.30673000000058,13.789730000000588,4.225703410509249,0.51739885681394693,-13.506761721476259,{"$error":"#N/A"},null,null,null,null,null,100.5,8.1649658092779506E-2,7.1870210677917493E-7,null,29.284167661741659,8.5483339470923846E-5,8.5483339470923846E-5,7.1870210677917493E-7,-49.999913767475903,null,null,null,null,null,null,null,null,null,null,null,null,null,null,null,null,null,null,null,null,null,null,null,null,null,null,null,null,null,null,null,null,124,{"$f":"IF(BK126=\"\",NA(),COUNTIF(BK126:$BK$303,BK126))","v":1},120.652,0.53874999999999995,116,{"$f":"IF(BO126=\"\",NA(),COUNTIF(BO126:$BO$303,BO126))","v":2},112.86799999999999,-48.383749999999999,38,{"$f":"IF(BS126=\"\",NA(),COUNTIF(BS126:$BS$303,BS126))","v":1},150.40699999999998,-18.642250000000001,{"$error":"#N/A"}]
[-0.27661681039936309,1.1929561015176708,1.4446325287310746,null,null,null,null,null,null,null,139.5291450000006,14.012145000000601,4.3631157222453743,0.49840422785051941,-13.53249681000587,{"$error":"#N/A"},null,null,null,null,null,101,0.1632993161855521,1.0820505265479243E-6,null,29.43757013343415,1.2625725059550461E-4,1.2625725059550461E-4,1.0820505265479243E-6,-49.999867374778852,null,null,null,null,null,null,null,null,null,null,null,null,null,null,null,null,null,null,null,null,null,null,null,null,null,null,null,null,null,null,null,null,129,{"$f":"IF(BK127=\"\",NA(),COUNTIF(BK127:$BK$303,BK127))","v":1},125.517,0.53874999999999995,125,{"$f":"IF(BO127=\"\",NA(),COUNTIF(BO127:$BO$303,BO127))","v":1},121.625,-49.46125,27,{"$f":"IF(BS127=\"\",NA(),COUNTIF(BS127:$BS$303,BS127))","v":1},143.202,-18.642250000000001,{"$error":"#N/A"}]
[-0.47129061211108092,0.92198146517717083,1.6580695443754472,null,null,null,null,null,null,null,139.75156000000061,14.234560000000613,4.5027266309692768,0.47951871389596556,-13.569563920170555,{"$error":"#N/A"},null,null,null,null,null,101.5,0.24494897427832468,{"$f":"nct(W128,$T$63,$T$64)","v":1.6420714146565805E-6},null,29.598386265077192,1.8524047211931257E-4,1.8524047211931257E-4,{"$f":"X128","v":1.6420714146565805E-6},-49.999795090708055,null,null,null,null,null,null,null,null,null,null,null,null,null,null,null,null,null,null,null,null,null,null,null,null,null,null,null,null,null,null,null,null,126,{"$f":"IF(BK128=\"\",NA(),COUNTIF(BK128:$BK$303,BK128))","v":1},122.598,0.53874999999999995,128,{"$f":"IF(BO128=\"\",NA(),COUNTIF(BO128:$BO$303,BO128))","v":1},124.544,-49.46125,21,{"$f":"IF(BS128=\"\",NA(),COUNTIF(BS128:$BS$303,BS128))","v":1},139.27199999999999,-18.642250000000001,{"$error":"#N/A"}]
[-6.4777681911414087E-2,1.134598946593333,1.7056443811261663,null,null,null,null,null,null,null,139.97397500000062,{"$f":"K129-$I$63","v":14.456975000000625},{"$f":"L129^2/$I$66","v":4.6445361366809577},{"$f":"CHIDIST(M129,$H$17)","v":0.46078089455510296},-13.617556647245458,{"$error":"#N/A"},null,null,null,null,null,102,{"$f":"W128+$T$67","v":0.32659863237109726},2.5086792585591766E-6,null,{"$f":"IF(NOT($BB$13),$AX$6+$AA$62*$AX$5*NORMDIST(V129,$O$10,$O$12,FALSE),-999)","v":29.76673621240824},{"$f":"IF(AND(NOT($BB$13),$BD$4,$BD$9),$AX$9+$AD$62*NORMDIST(V129,$O$10,$O$12/SQRT($H$15),FALSE),NA())","v":2.6997287661367525E-4},2.6997287661367525E-4,2.5086792585591766E-6,{"$f":"IF(AND(NOT($BB$13),$BD$7,$BD$4,$BD$9,$BB$21,$BD$10),IF($BD$12,$AX$15+AA129,$AX$15+$AD$62*(AC130-AC128)/(2*$AZ$7)),NA())","v":-49.999682437125621},null,null,null,null,null,null,null,null,null,null,null,null,null,null,null,null,null,null,null,null,null,null,null,null,null,null,null,null,null,null,null,null,133,{"$f":"IF(BK129=\"\",NA(),COUNTIF(BK129:$BK$303,BK129))","v":3},129.40899999999999,2.6937500000000001,129,{"$f":"IF(BO129=\"\",NA(),COUNTIF(BO129:$BO$303,BO129))","v":1},125.517,-49.46125,26,{"$f":"IF(BS129=\"\",NA(),COUNTIF(BS129:$BS$303,BS129))","v":1},142.547,-18.642250000000001,{"$error":"#N/A"}]
[0.44981473576359465,0.64757136949647653,3.7830806783018587,null,null,null,null,null,null,null,{"$f":"K129+$I$65","v":140.19639000000063},14.679390000000637,4.7885442393804158,0.44222788545650382,{"$f":"IF(AND($B$4<>\"\",$BD$3,$BD$5,$BD$9,NOT($BD$12)),$AX$12+$I$67*(N129-N131)/(2*$I$65),NA())","v":-13.676024520940388},{"$f":"IF(AND($B$4<>\"\",$BD$3,$BD$5,$BD$9,$BD$12),$AX$12+$I$67*(N129-N131)/(2*$I$65),NA())","v":{"$error":"#N/A"}},null,null,null,null,null,{"$f":"V129+$AZ$7","v":102.5},0.40824829046386985,3.8530220090333103E-6,null,29.942722076936125,3.9084907849384811E-4,{"$f":"IF($BD$6,AA130,NA())","v":3.9084907849384811E-4},3.8530220090333103E-6,-49.999507128081348,null,null,null,null,null,null,null,null,null,null,null,null,null,null,null,null,null,null,null,null,null,null,null,null,null,null,null,null,null,null,null,null,141,{"$f":"IF(BK130=\"\",NA(),COUNTIF(BK130:$BK$303,BK130))","v":1},137.19299999999998,0.53874999999999995,161,{"$f":"IF(BO130=\"\",NA(),COUNTIF(BO130:$BO$303,BO130))","v":1},156.65299999999999,-49.46125,15,{"$f":"IF(BS130=\"\",NA(),COUNTIF(BS130:$BS$303,BS130))","v":1},135.34199999999998,-18.642250000000001,{"$error":"#N/A"}]
[-1.3614895047964426E-2,1.3372018675141353,1.4854788594071697,null,null,null,null,null,null,null,140.41880500000065,14.90180500000065,4.9347509390676532,0.42389514524128813,-13.74446745714523,{"$error":"#N/A"},null,null,null,null,null,103,0.48989794855664243,5.9401744029918303E-6,null,30.126426268715409,5.6208598156446354E-4,5.6208598156446354E-4,5.9401744029918303E-6,-49.999235206248116,null,null,null,null,null,null,null,null,null,null,null,null,null,null,null,null,null,null,null,null,null,null,null,null,null,null,null,null,null,null,null,null,133,{"$f":"IF(BK131=\"\",NA(),COUNTIF(BK131:$BK$303,BK131))","v":2},129.40899999999999,1.61625,126,{"$f":"IF(BO131=\"\",NA(),COUNTIF(BO131:$BO$303,BO131))","v":1},122.598,-49.46125,31,{"$f":"IF(BS131=\"\",NA(),COUNTIF(BS131:$BS$303,BS131))","v":2},145.822,-17.926749999999998,{"$error":"#N/A"}]
[-0.81203448736100958,1.3535785234061621,{"$f":"IF(AND(A132<>\"\",$H$15>1),(($O$10+$O$12*A132)-$L$8)/IF($BD$12,$BB$9,$O$12*B132),\"\")","v":0.87764802122419849},null,null,null,null,null,null,null,140.64122000000066,15.124220000000662,5.083156235742667,0.40581632483816343,-13.822337636950227,{"$error":"#N/A"},null,null,null,null,null,103.5,0.57154760664941506,9.1777036286796172E-6,null,30.317909876818604,8.029733272073218E-4,8.029733272073218E-4,9.1777036286796172E-6,-49.998815563269595,null,null,null,null,null,null,null,null,null,null,null,null,null,null,null,null,null,null,null,null,null,null,null,null,null,null,null,null,null,null,null,null,{"$f":"IF(A132=\"\",\"\",ROUND(($O$10+$O$12*A132)/$BC$24,0))","v":121},{"$f":"IF(BK132=\"\",NA(),COUNTIF(BK132:$BK$303,BK132))","v":1},{"$f":"BK132*$BC$24","v":117.733},{"$f":"IF(AND(NOT($BB$13),$BD$6,$BD$4,$BD$8),$AX$9-$BC$23/2+BL132*$BC$23,NA())","v":0.53874999999999995},{"$f":"IF(C132=\"\",\"\",ROUND(($L$8+C132*$BB$9)/$BC$24,0))","v":116},{"$f":"IF(BO132=\"\",NA(),COUNTIF(BO132:$BO$303,BO132))","v":1},{"$f":"BO132*$BC$24","v":112.86799999999999},{"$f":"IF(AND(NOT($BB$13),$BD$7,$BD$4,$BD$8,$BD$10),$AX$15-$BC$23/2+BP132*$BC$23,NA())","v":-49.46125},{"$f":"IF(B132=\"\",\"\",ROUND(($O$12*B132)/$BC$28,0))","v":31},{"$f":"IF(BS132=\"\",NA(),COUNTIF(BS132:$BS$303,BS132))","v":1},{"$f":"$AX$35+BS132*$BC$28","v":145.822},{"$f":"IF(AND(NOT($BD$12),$BD$5,$BD$4,$BD$8),$AX$12-$BC$27/2+BT132*$BC$27,NA())","v":-18.642250000000001},{"$f":"IF(AND($BD$12,$BD$5,$BD$4,$BD$8),$AX$12-$BC$27/2+BT132*$BC$27,NA())","v":{"$error":"#N/A"}}]
[-0.25011208056829548,0.75491620329569908,2.3179896149960864,null,null,null,null,null,null,null,140.86363500000067,15.346635000000674,5.2337601294054599,0.38802308747051084,-13.90905887584168,{"$error":"#N/A"},null,null,null,null,null,104,0.65319726474218764,1.4186513330934698E-5,null,30.517211059187439,1.1394733910258651E-3,1.1394733910258651E-3,1.4186513330934698E-5,-49.998172377473558,null,null,null,null,null,null,null,null,null,null,null,null,null,null,null,null,null,null,null,null,null,null,null,null,null,null,null,null,null,null,null,null,130,{"$f":"IF(BK133=\"\",NA(),COUNTIF(BK133:$BK$303,BK133))","v":1},126.49,0.53874999999999995,139,{"$f":"IF(BO133=\"\",NA(),COUNTIF(BO133:$BO$303,BO133))","v":1},135.24699999999999,-49.46125,17,{"$f":"IF(BS133=\"\",NA(),COUNTIF(BS133:$BS$303,BS133))","v":3},136.65199999999999,-17.21125,{"$error":"#N/A"}]
[-2.975018293251926E-2,0.7365189575343174,2.6750836443686219,null,null,null,null,null,null,null,141.08605000000068,15.569050000000686,5.386562620056031,0.37054509212574999,-14.004026016567121,{"$error":"#N/A"},null,null,null,null,null,104.5,0.73484692283496023,2.1902059770697253E-5,null,30.724343464124722,1.606245633665321E-3,1.606245633665321E-3,2.1902059770697253E-5,-49.997194998783527,null,null,null,null,null,null,null,null,null,null,null,null,null,null,null,null,null,null,null,null,null,null,null,null,null,null,null,null,null,null,null,null,133,{"$f":"IF(BK134=\"\",NA(),COUNTIF(BK134:$BK$303,BK134))","v":1},129.40899999999999,0.53874999999999995,144,{"$f":"IF(BO134=\"\",NA(),COUNTIF(BO134:$BO$303,BO134))","v":1},140.11199999999999,-49.46125,17,{"$f":"IF(BS134=\"\",NA(),COUNTIF(BS134:$BS$303,BS134))","v":2},136.65199999999999,-17.926749999999998,{"$error":"#N/A"}]
[-7.3012893263014647E-2,0.53162515023608725,3.6247102039496024,null,null,null,null,null,null,null,141.30846500000069,15.791465000000699,5.5415637076943796,0.35340980935605265,-14.106600394761839,{"$error":"#N/A"},null,null,null,null,null,105,0.81649658092773281,3.3715619555487417E-5,null,30.939294696192849,2.2491811530150722E-3,2.2491811530150722E-3,3.3715619555487417E-5,-49.995724894114467,null,null,null,null,null,null,null,null,null,null,null,null,null,null,null,null,null,null,null,null,null,null,null,null,null,null,null,null,null,null,null,null,132,{"$f":"IF(BK135=\"\",NA(),COUNTIF(BK135:$BK$303,BK135))","v":1},128.43600000000001,0.53874999999999995,159,{"$f":"IF(BO135=\"\",NA(),COUNTIF(BO135:$BO$303,BO135))","v":1},154.70699999999999,-49.46125,12,{"$f":"IF(BS135=\"\",NA(),COUNTIF(BS135:$BS$303,BS135))","v":1},133.37700000000001,-18.642250000000001,{"$error":"#N/A"}]
[6.7262537456437718E-2,0.57821441984028676,3.5752524781852615,null,null,null,null,null,null,null,141.53088000000071,16.013880000000711,5.6987633923205054,0.33664247333250624,-14.216128319874741,{"$error":"#N/A"},null,null,null,null,null,105.5,0.89814623902050539,5.1666395154750585E-5,null,31.162024839703506,3.1285392989853825E-3,3.1285392989853825E-3,5.1666395154750585E-5,-49.993539477438546,null,null,null,null,null,null,null,null,null,null,null,null,null,null,null,null,null,null,null,null,null,null,null,null,null,null,null,null,null,null,null,null,135,{"$f":"IF(BK136=\"\",NA(),COUNTIF(BK136:$BK$303,BK136))","v":1},131.35499999999999,0.53874999999999995,158,{"$f":"IF(BO136=\"\",NA(),COUNTIF(BO136:$BO$303,BO136))","v":1},153.73400000000001,-49.46125,13,{"$f":"IF(BS136=\"\",NA(),COUNTIF(BS136:$BS$303,BS136))","v":1},134.03199999999998,-18.642250000000001,{"$error":"#N/A"}]
[-0.70480674645720143,0.98918914610394926,1.3093484280979892,null,null,null,null,null,null,null,141.75329500000072,16.236295000000723,5.8581616739344113,0.32026602568601092,-14.331945466711861,{"$error":"#N/A"},null,null,null,null,null,106,0.97979589711327797,7.8695361677438627E-5,null,31.392465053306438,4.3227836203805934E-3,4.3227836203805934E-3,7.8695361677438627E-5,-49.990333019279028,null,null,null,null,null,null,null,null,null,null,null,null,null,null,null,null,null,null,null,null,null,null,null,null,null,null,null,null,null,null,null,null,123,{"$f":"IF(BK137=\"\",NA(),COUNTIF(BK137:$BK$303,BK137))","v":1},119.679,0.53874999999999995,123,{"$f":"IF(BO137=\"\",NA(),COUNTIF(BO137:$BO$303,BO137))","v":1},119.679,-49.46125,23,{"$f":"IF(BS137=\"\",NA(),COUNTIF(BS137:$BS$303,BS137))","v":1},140.58199999999999,-18.642250000000001,{"$error":"#N/A"}]
[0.36002701199169646,1.057659479661228,2.2313675217543745,null,null,null,null,null,null,null,141.97571000000073,16.458710000000735,6.0197585525360937,0.30430109798708549,-14.453370554901726,{"$error":"#N/A"},null,null,null,null,null,106.5,1.0614455552060507,1.1897028517155292E-4,null,31.6305162494039,5.9332149606798976E-3,5.9332149606798976E-3,1.1897028517155292E-4,-49.98569537078972,null,null,null,null,null,null,null,null,null,null,null,null,null,null,null,null,null,null,null,null,null,null,null,null,null,null,null,null,null,null,null,null,139,{"$f":"IF(BK138=\"\",NA(),COUNTIF(BK138:$BK$303,BK138))","v":2},135.24699999999999,1.61625,137,{"$f":"IF(BO138=\"\",NA(),COUNTIF(BO138:$BO$303,BO138))","v":1},133.30099999999999,-49.46125,24,{"$f":"IF(BS138=\"\",NA(),COUNTIF(BS138:$BS$303,BS138))","v":1},141.23699999999999,-18.642250000000001,{"$error":"#N/A"}]
[-0.58129519896127213,1.1126814965488945,1.2750322580531792,null,null,null,null,null,null,null,142.19812500000074,16.681125000000748,6.1835540281255543,0.2887659117966197,-14.579726597507683,{"$error":"#N/A"},null,null,null,null,null,107,1.1430952132988232,1.7828769757724451E-4,null,31.876047872223644,8.0894942849357304E-3,8.0894942849357304E-3,1.7828769757724451E-4,-49.979089919791548,null,null,null,null,null,null,null,null,null,null,null,null,null,null,null,null,null,null,null,null,null,null,null,null,null,null,null,null,null,null,null,null,125,{"$f":"IF(BK139=\"\",NA(),COUNTIF(BK139:$BK$303,BK139))","v":1},121.625,0.53874999999999995,122,{"$f":"IF(BO139=\"\",NA(),COUNTIF(BO139:$BO$303,BO139))","v":1},118.706,-49.46125,25,{"$f":"IF(BS139=\"\",NA(),COUNTIF(BS139:$BS$303,BS139))","v":1},141.892,-18.642250000000001,{"$error":"#N/A"}]
[0.3233666039396958,0.73590579987230087,3.1571521848895072,null,null,null,null,null,null,null,142.42054000000076,16.90354000000076,6.3495481007027932,0.27367640836104423,-14.710344357350181,{"$error":"#N/A"},null,null,null,null,null,107.5,1.2247448713915958,2.6455139050457613E-4,null,32.12889678836931,1.0956134758710748E-2,1.0956134758710748E-2,2.6455139050457613E-4,-49.969832943155097,null,null,null,null,null,null,null,null,null,null,null,null,null,null,null,null,null,null,null,null,null,null,null,null,null,null,null,null,null,null,null,null,139,{"$f":"IF(BK140=\"\",NA(),COUNTIF(BK140:$BK$303,BK140))","v":1},135.24699999999999,0.53874999999999995,151,{"$f":"IF(BO140=\"\",NA(),COUNTIF(BO140:$BO$303,BO140))","v":1},146.923,-49.46125,17,{"$f":"IF(BS140=\"\",NA(),COUNTIF(BS140:$BS$303,BS140))","v":1},136.65199999999999,-18.642250000000001,{"$error":"#N/A"}]
[null,null,"",null,null,null,null,null,null,null,142.64295500000077,17.125955000000772,6.5177407702678103,0.25904617260929336,-14.844551900798042,{"$error":"#N/A"},null,null,null,null,null,108,1.3063945294843684,3.8831814396212154E-4,null,32.388866303526207,1.4740019622232968E-2,1.4740019622232968E-2,3.8831814396212154E-4,-49.95707720538492,null,null,null,null,null,null,null,null,null,null,null,null,null,null,null,null,null,null,null,null,null,null,null,null,null,null,null,null,null,null,null,null,"",{"$f":"IF(BK141=\"\",NA(),COUNTIF(BK141:$BK$303,BK141))","v":{"$error":"#N/A"}},{"$error":"#VALUE!"},{"$error":"#N/A"},"",{"$f":"IF(BO141=\"\",NA(),COUNTIF(BO141:$BO$303,BO141))","v":{"$error":"#N/A"}},{"$error":"#VALUE!"},{"$error":"#N/A"},"",{"$f":"IF(BS141=\"\",NA(),COUNTIF(BS141:$BS$303,BS141))","v":{"$error":"#N/A"}},{"$error":"#VALUE!"},{"$error":"#N/A"},{"$error":"#N/A"}]
[null,null,"",null,null,null,null,null,null,null,142.86537000000078,17.348370000000784,6.6881320368206048,0.24488649047419372,-14.981692367177832,{"$error":"#N/A"},null,null,null,null,null,108.5,1.388044187577141,5.6339041081212779E-4,null,32.655725318727406,1.9698967397186972E-2,1.9698967397186972E-2,5.6339041081212779E-4,-49.939803116785924,null,null,null,null,null,null,null,null,null,null,null,null,null,null,null,null,null,null,null,null,null,null,null,null,null,null,null,null,null,null,null,null,"",{"$f":"IF(BK142=\"\",NA(),COUNTIF(BK142:$BK$303,BK142))","v":{"$error":"#N/A"}},{"$error":"#VALUE!"},{"$error":"#N/A"},"",{"$f":"IF(BO142=\"\",NA(),COUNTIF(BO142:$BO$303,BO142))","v":{"$error":"#N/A"}},{"$error":"#VALUE!"},{"$error":"#N/A"},"",{"$f":"IF(BS142=\"\",NA(),COUNTIF(BS142:$BS$303,BS142))","v":{"$error":"#N/A"}},{"$error":"#VALUE!"},{"$error":"#N/A"},{"$error":"#N/A"}]
[null,null,"",null,null,null,null,null,null,null,143.08778500000079,17.570785000000797,6.8607219003611783,0.23120639600005785,-15.121124440131961,{"$error":"#N/A"},null,null,null,null,null,109,1.4696938456699136,8.0742360451247234E-4,null,32.929207639175495,2.6151316968241269E-2,2.6151316968241269E-2,8.0742360451247234E-4,-49.916820843051504,null,null,null,null,null,null,null,null,null,null,null,null,null,null,null,null,null,null,null,null,null,null,null,null,null,null,null,null,null,null,null,null,"",{"$f":"IF(BK143=\"\",NA(),COUNTIF(BK143:$BK$303,BK143))","v":{"$error":"#N/A"}},{"$error":"#VALUE!"},{"$error":"#N/A"},"",{"$f":"IF(BO143=\"\",NA(),COUNTIF(BO143:$BO$303,BO143))","v":{"$error":"#N/A"}},{"$error":"#VALUE!"},{"$error":"#N/A"},"",{"$f":"IF(BS143=\"\",NA(),COUNTIF(BS143:$BS$303,BS143))","v":{"$error":"#N/A"}},{"$error":"#VALUE!"},{"$error":"#N/A"},{"$error":"#N/A"}]
[null,null,"",null,null,null,null,null,null,null,143.3102000000008,17.793200000000809,7.0355103608895284,0.21801273192975215,-15.262226052068367,{"$error":"#N/A"},null,null,null,null,null,109.5,1.5513435037626861,1.1425040961023599E-3,null,33.209011448066136,3.4486440506484688E-2,3.4486440506484688E-2,1.1425040961023599E-3,-49.886786327155598,null,null,null,null,null,null,null,null,null,null,null,null,null,null,null,null,null,null,null,null,null,null,null,null,null,null,null,null,null,null,null,null,"",{"$f":"IF(BK144=\"\",NA(),COUNTIF(BK144:$BK$303,BK144))","v":{"$error":"#N/A"}},{"$error":"#VALUE!"},{"$error":"#N/A"},"",{"$f":"IF(BO144=\"\",NA(),COUNTIF(BO144:$BO$303,BO144))","v":{"$error":"#N/A"}},{"$error":"#VALUE!"},{"$error":"#N/A"},"",{"$f":"IF(BS144=\"\",NA(),COUNTIF(BS144:$BS$303,BS144))","v":{"$error":"#N/A"}},{"$error":"#VALUE!"},{"$error":"#N/A"},{"$error":"#N/A"}]
[null,null,"",null,null,null,null,null,null,null,143.53261500000082,18.015615000000821,7.2124974184056576,0.20531022247758576,-15.404397709093036,{"$error":"#N/A"},null,null,null,null,null,110,1.6329931618554587,1.5956449536031132E-3,null,33.494798957169344,4.517601109582204E-2,4.517601109582204E-2,1.5956449536031132E-3,-49.848233198947405,null,null,null,null,null,null,null,null,null,null,null,null,null,null,null,null,null,null,null,null,null,null,null,null,null,null,null,null,null,null,null,null,"",{"$f":"IF(BK145=\"\",NA(),COUNTIF(BK145:$BK$303,BK145))","v":{"$error":"#N/A"}},{"$error":"#VALUE!"},{"$error":"#N/A"},"",{"$f":"IF(BO145=\"\",NA(),COUNTIF(BO145:$BO$303,BO145))","v":{"$error":"#N/A"}},{"$error":"#VALUE!"},{"$error":"#N/A"},"",{"$f":"IF(BS145=\"\",NA(),COUNTIF(BS145:$BS$303,BS145))","v":{"$error":"#N/A"}},{"$error":"#VALUE!"},{"$error":"#N/A"},{"$error":"#N/A"}]
[null,null,"",null,null,null,null,null,null,null,143.75503000000083,18.238030000000833,7.3916830729095651,0.19310155695228987,-15.547066776549432,{"$error":"#N/A"},null,null,null,null,null,110.5,1.7146428199482313,2.1991417765816084E-3,null,33.786196245093173,5.8785754275017449E-2,5.8785754275017449E-2,2.1991417765816084E-3,-49.799621068945626,null,null,null,null,null,null,null,null,null,null,null,null,null,null,null,null,null,null,null,null,null,null,null,null,null,null,null,null,null,null,null,null,"",{"$f":"IF(BK146=\"\",NA(),COUNTIF(BK146:$BK$303,BK146))","v":{"$error":"#N/A"}},{"$error":"#VALUE!"},{"$error":"#N/A"},"",{"$f":"IF(BO146=\"\",NA(),COUNTIF(BO146:$BO$303,BO146))","v":{"$error":"#N/A"}},{"$error":"#VALUE!"},{"$error":"#N/A"},"",{"$f":"IF(BS146=\"\",NA(),COUNTIF(BS146:$BS$303,BS146))","v":{"$error":"#N/A"}},{"$error":"#VALUE!"},{"$error":"#N/A"},{"$error":"#N/A"}]
[null,null,"",null,null,null,null,null,null,null,143.97744500000084,18.460445000000846,7.573067324401249,0.18138749222112768,-15.689684333724514,{"$error":"#N/A"},null,null,null,null,null,111,1.7962924780410039,2.9907322023145864E-3,null,34.082793293183805,7.5987299766276328E-2,7.5987299766276328E-2,2.9907322023145864E-3,-49.739398900186018,null,null,null,null,null,null,null,null,null,null,null,null,null,null,null,null,null,null,null,null,null,null,null,null,null,null,null,null,null,null,null,null,"",{"$f":"IF(BK147=\"\",NA(),COUNTIF(BK147:$BK$303,BK147))","v":{"$error":"#N/A"}},{"$error":"#VALUE!"},{"$error":"#N/A"},"",{"$f":"IF(BO147=\"\",NA(),COUNTIF(BO147:$BO$303,BO147))","v":{"$error":"#N/A"}},{"$error":"#VALUE!"},{"$error":"#N/A"},"",{"$f":"IF(BS147=\"\",NA(),COUNTIF(BS147:$BS$303,BS147))","v":{"$error":"#N/A"}},{"$error":"#VALUE!"},{"$error":"#N/A"},{"$error":"#N/A"}]
[null,null,"",null,null,null,null,null,null,null,144.19986000000085,18.682860000000858,7.756650172880712,0.17016691454154026,-15.831734998496174,{"$error":"#N/A"},null,null,null,null,null,111.5,1.8779421361337765,4.0135105300111414E-3,null,34.384144227909204,9.7569624245369302E-2,9.7569624245369302E-2,4.0135105300111414E-3,-49.666080278565744,null,null,null,null,null,null,null,null,null,null,null,null,null,null,null,null,null,null,null,null,null,null,null,null,null,null,null,null,null,null,null,null,"",{"$f":"IF(BK148=\"\",NA(),COUNTIF(BK148:$BK$303,BK148))","v":{"$error":"#N/A"}},{"$error":"#VALUE!"},{"$error":"#N/A"},"",{"$f":"IF(BO148=\"\",NA(),COUNTIF(BO148:$BO$303,BO148))","v":{"$error":"#N/A"}},{"$error":"#VALUE!"},{"$error":"#N/A"},"",{"$f":"IF(BS148=\"\",NA(),COUNTIF(BS148:$BS$303,BS148))","v":{"$error":"#N/A"}},{"$error":"#VALUE!"},{"$error":"#N/A"},{"$error":"#N/A"}]
[null,null,"",null,null,null,null,null,null,null,144.42227500000087,18.90527500000087,7.9424316183479533,0.15943701009271538,-15.97273797408266,{"$error":"#N/A"},null,null,null,null,null,112,1.9595917942265491,5.3155631763844042E-3,null,34.689767777335234,0.12444944277680056,0.12444944277680056,5.3155631763844042E-3,-49.578325746253007,null,null,null,null,null,null,null,null,null,null,null,null,null,null,null,null,null,null,null,null,null,null,null,null,null,null,null,null,null,null,null,null,"",{"$f":"IF(BK149=\"\",NA(),COUNTIF(BK149:$BK$303,BK149))","v":{"$error":"#N/A"}},{"$error":"#VALUE!"},{"$error":"#N/A"},"",{"$f":"IF(BO149=\"\",NA(),COUNTIF(BO149:$BO$303,BO149))","v":{"$error":"#N/A"}},{"$error":"#VALUE!"},{"$error":"#N/A"},"",{"$f":"IF(BS149=\"\",NA(),COUNTIF(BS149:$BS$303,BS149))","v":{"$error":"#N/A"}},{"$error":"#VALUE!"},{"$error":"#N/A"},{"$error":"#N/A"}]
[null,null,"",null,null,null,null,null,null,null,144.64469000000088,19.127690000000882,8.130411660802972,0.14919333405935864,-16.11224111837334,{"$error":"#N/A"},null,null,null,null,null,112.5,2.0412414523193219,6.9493100744888068E-3,null,34.999147947940727,0.15767977217452048,0.15767977217452048,6.9493100744888068E-3,-49.4750261896436,null,null,null,null,null,null,null,null,null,null,null,null,null,null,null,null,null,null,null,null,null,null,null,null,null,null,null,null,null,null,null,null,"",{"$f":"IF(BK150=\"\",NA(),COUNTIF(BK150:$BK$303,BK150))","v":{"$error":"#N/A"}},{"$error":"#VALUE!"},{"$error":"#N/A"},"",{"$f":"IF(BO150=\"\",NA(),COUNTIF(BO150:$BO$303,BO150))","v":{"$error":"#N/A"}},{"$error":"#VALUE!"},{"$error":"#N/A"},"",{"$f":"IF(BS150=\"\",NA(),COUNTIF(BS150:$BS$303,BS150))","v":{"$error":"#N/A"}},{"$error":"#VALUE!"},{"$error":"#N/A"},{"$error":"#N/A"}]
[null,null,"",null,null,null,null,null,null,null,144.86710500000089,19.350105000000895,8.3205903002457688,0.13942994007419648,-16.249828355384864,{"$error":"#N/A"},null,null,null,null,null,113,2.1228911104120947,8.9705595618923238E-3,null,35.311734926539074,0.19845576282452917,0.19845576282452917,8.9705595618923238E-3,-49.355380771862379,null,null,null,null,null,null,null,null,null,null,null,null,null,null,null,null,null,null,null,null,null,null,null,null,null,null,null,null,null,null,null,null,"",{"$f":"IF(BK151=\"\",NA(),COUNTIF(BK151:$BK$303,BK151))","v":{"$error":"#N/A"}},{"$error":"#VALUE!"},{"$error":"#N/A"},"",{"$f":"IF(BO151=\"\",NA(),COUNTIF(BO151:$BO$303,BO151))","v":{"$error":"#N/A"}},{"$error":"#VALUE!"},{"$error":"#N/A"},"",{"$f":"IF(BS151=\"\",NA(),COUNTIF(BS151:$BS$303,BS151))","v":{"$error":"#N/A"}},{"$error":"#VALUE!"},{"$error":"#N/A"},{"$error":"#N/A"}]
[null,null,"",null,null,null,null,null,null,null,145.0895200000009,19.572520000000907,8.512967536676344,0.13013950065005192,-16.385118618250424,{"$error":"#N/A"},null,null,null,null,null,113.5,2.2045407685048675,1.1437307194330662E-2,null,35.626946210489002,0.24811678716755342,0.24811678716755342,1.1437307194330662E-2,-49.218963147050268,null,null,null,null,null,null,null,null,null,null,null,null,null,null,null,null,null,null,null,null,null,null,null,null,null,null,null,null,null,null,null,null,"",{"$f":"IF(BK152=\"\",NA(),COUNTIF(BK152:$BK$303,BK152))","v":{"$error":"#N/A"}},{"$error":"#VALUE!"},{"$error":"#N/A"},"",{"$f":"IF(BO152=\"\",NA(),COUNTIF(BO152:$BO$303,BO152))","v":{"$error":"#N/A"}},{"$error":"#VALUE!"},{"$error":"#N/A"},"",{"$f":"IF(BS152=\"\",NA(),COUNTIF(BS152:$BS$303,BS152))","v":{"$error":"#N/A"}},{"$error":"#VALUE!"},{"$error":"#N/A"},{"$error":"#N/A"}]
[null,null,"",null,null,null,null,null,null,null,145.31193500000091,19.794935000000919,8.7075433700946974,0.12131342929912935,-16.517766173957654,{"$error":"#N/A"},null,null,null,null,null,114,2.2861904265976403,1.4408329633777882E-2,null,35.944167967698128,0.30814369549282006,0.30814369549282006,1.4408329633777882E-2,-49.065770645566964,null,null,null,null,null,null,null,null,null,null,null,null,null,null,null,null,null,null,null,null,null,null,null,null,null,null,null,null,null,null,null,null,"",{"$f":"IF(BK153=\"\",NA(),COUNTIF(BK153:$BK$303,BK153))","v":{"$error":"#N/A"}},{"$error":"#VALUE!"},{"$error":"#N/A"},"",{"$f":"IF(BO153=\"\",NA(),COUNTIF(BO153:$BO$303,BO153))","v":{"$error":"#N/A"}},{"$error":"#VALUE!"},{"$error":"#N/A"},"",{"$f":"IF(BS153=\"\",NA(),COUNTIF(BS153:$BS$303,BS153))","v":{"$error":"#N/A"}},{"$error":"#VALUE!"},{"$error":"#N/A"},{"$error":"#N/A"}]
[null,null,"",null,null,null,null,null,null,null,145.53435000000093,20.017350000000931,8.904317800500829,0.11294200321495071,-16.647460634297641,{"$error":"#N/A"},null,null,null,null,null,114.5,2.3678400846904131,1.7941641022660177E-2,null,36.262756626162457,0.38015011644348373,0.38015011644348373,1.7941641022660177E-2,-48.896252626396823,null,null,null,null,null,null,null,null,null,null,null,null,null,null,null,null,null,null,null,null,null,null,null,null,null,null,null,null,null,null,null,null,"",{"$f":"IF(BK154=\"\",NA(),COUNTIF(BK154:$BK$303,BK154))","v":{"$error":"#N/A"}},{"$error":"#VALUE!"},{"$error":"#N/A"},"",{"$f":"IF(BO154=\"\",NA(),COUNTIF(BO154:$BO$303,BO154))","v":{"$error":"#N/A"}},{"$error":"#VALUE!"},{"$error":"#N/A"},"",{"$f":"IF(BS154=\"\",NA(),COUNTIF(BS154:$BS$303,BS154))","v":{"$error":"#N/A"}},{"$error":"#VALUE!"},{"$error":"#N/A"},{"$error":"#N/A"}]
[null,null,"",null,null,null,null,null,null,null,145.75676500000094,20.239765000000943,9.1032908278947371,0.10501448546749745,-16.773926675559593,{"$error":"#N/A"},null,null,null,null,null,115,2.4494897427831859,2.2092889475524489E-2,null,36.582040690958074,0.46586670447887762,0.46586670447887762,2.2092889475524489E-2,-48.711316035764078,null,null,null,null,null,null,null,null,null,null,null,null,null,null,null,null,null,null,null,null,null,null,null,null,null,null,null,null,null,null,null,null,"",{"$f":"IF(BK155=\"\",NA(),COUNTIF(BK155:$BK$303,BK155))","v":{"$error":"#N/A"}},{"$error":"#VALUE!"},{"$error":"#N/A"},"",{"$f":"IF(BO155=\"\",NA(),COUNTIF(BO155:$BO$303,BO155))","v":{"$error":"#N/A"}},{"$error":"#VALUE!"},{"$error":"#N/A"},"",{"$f":"IF(BS155=\"\",NA(),COUNTIF(BS155:$BS$303,BS155))","v":{"$error":"#N/A"}},{"$error":"#VALUE!"},{"$error":"#N/A"},{"$error":"#N/A"}]
[null,null,"",null,null,null,null,null,null,null,145.97918000000095,20.462180000000956,9.3044624522764252,9.7519245743125801E-2,-16.896923491000681,{"$error":"#N/A"},null,null,null,null,null,115.5,2.5311394008759587,2.6913774752810794E-2,null,36.901322784724471,0.56711733252159369,0.56711733252159369,2.6913774752810794E-2,-48.512308143050426,null,null,null,null,null,null,null,null,null,null,null,null,null,null,null,null,null,null,null,null,null,null,null,null,null,null,null,null,null,null,null,null,"",{"$f":"IF(BK156=\"\",NA(),COUNTIF(BK156:$BK$303,BK156))","v":{"$error":"#N/A"}},{"$error":"#VALUE!"},{"$error":"#N/A"},"",{"$f":"IF(BO156=\"\",NA(),COUNTIF(BO156:$BO$303,BO156))","v":{"$error":"#N/A"}},{"$error":"#VALUE!"},{"$error":"#N/A"},"",{"$f":"IF(BS156=\"\",NA(),COUNTIF(BS156:$BS$303,BS156))","v":{"$error":"#N/A"}},{"$error":"#VALUE!"},{"$error":"#N/A"},{"$error":"#N/A"}]
[null,null,"",null,null,null,null,null,null,null,146.20159500000096,20.684595000000968,9.5078326736458898,9.0443878746291478E-2,-17.016244001205234,{"$error":"#N/A"},null,null,null,null,null,116,2.6127890589687315,3.2450564949294908E-2,null,37.219881905768212,0.68578640617619091,0.68578640617619091,3.2450564949294908E-2,-48.30097821607329,null,null,null,null,null,null,null,null,null,null,null,null,null,null,null,null,null,null,null,null,null,null,null,null,null,null,null,null,null,null,null,null,"",{"$f":"IF(BK157=\"\",NA(),COUNTIF(BK157:$BK$303,BK157))","v":{"$error":"#N/A"}},{"$error":"#VALUE!"},{"$error":"#N/A"},"",{"$f":"IF(BO157=\"\",NA(),COUNTIF(BO157:$BO$303,BO157))","v":{"$error":"#N/A"}},{"$error":"#VALUE!"},{"$error":"#N/A"},"",{"$f":"IF(BS157=\"\",NA(),COUNTIF(BS157:$BS$303,BS157))","v":{"$error":"#N/A"}},{"$error":"#VALUE!"},{"$error":"#N/A"},{"$error":"#N/A"}]
[null,null,"",null,null,null,null,null,null,null,146.42401000000098,20.90701000000098,9.7134014920031326,8.3775319468648524E-2,-17.131713848141914,{"$error":"#N/A"},null,null,null,null,null,116.5,2.6944387170615043,3.8742780993970743E-2,null,37.536975895990693,0.82377674389001609,0.82377674389001609,3.8742780993970743E-2,-48.079421365454067,null,null,null,null,null,null,null,null,null,null,null,null,null,null,null,null,null,null,null,null,null,null,null,null,null,null,null,null,null,null,null,null,"",{"$f":"IF(BK158=\"\",NA(),COUNTIF(BK158:$BK$303,BK158))","v":{"$error":"#N/A"}},{"$error":"#VALUE!"},{"$error":"#N/A"},"",{"$f":"IF(BO158=\"\",NA(),COUNTIF(BO158:$BO$303,BO158))","v":{"$error":"#N/A"}},{"$error":"#VALUE!"},{"$error":"#N/A"},"",{"$f":"IF(BS158=\"\",NA(),COUNTIF(BS158:$BS$303,BS158))","v":{"$error":"#N/A"}},{"$error":"#VALUE!"},{"$error":"#N/A"},{"$error":"#N/A"}]
[null,null,"",null,null,null,null,null,null,null,146.64642500000099,21.129425000000992,9.9211689073481537,7.7499954621366426E-2,-17.243190199050126,{"$error":"#N/A"},null,null,null,null,null,117,2.7760883751542771,4.5822104307769826E-2,null,37.851844108922322,0.98295782807795917,0.98295782807795917,4.5822104307769826E-2,-47.850008816878706,null,null,null,null,null,null,null,null,null,null,null,null,null,null,null,null,null,null,null,null,null,null,null,null,null,null,null,null,null,null,null,null,"",{"$f":"IF(BK159=\"\",NA(),COUNTIF(BK159:$BK$303,BK159))","v":{"$error":"#N/A"}},{"$error":"#VALUE!"},{"$error":"#N/A"},"",{"$f":"IF(BO159=\"\",NA(),COUNTIF(BO159:$BO$303,BO159))","v":{"$error":"#N/A"}},{"$error":"#VALUE!"},{"$error":"#N/A"},"",{"$f":"IF(BS159=\"\",NA(),COUNTIF(BS159:$BS$303,BS159))","v":{"$error":"#N/A"}},{"$error":"#VALUE!"},{"$error":"#N/A"},{"$error":"#N/A"}]
[null,null,"",null,null,null,null,null,null,null,146.868840000001,21.351840000001005,10.131134919680953,7.1603729617273779E-2,-17.350560703597687,{"$error":"#N/A"},null,null,null,null,null,117.5,2.8577380332470499,5.3711546765062082E-2,null,38.163710266247975,1.1651046822641349,1.1651046822641349,5.3711546765062082E-2,-47.615309416311128,null,null,null,null,null,null,null,null,null,null,null,null,null,null,null,null,null,null,null,null,null,null,null,null,null,null,null,null,null,null,null,null,"",{"$f":"IF(BK160=\"\",NA(),COUNTIF(BK160:$BK$303,BK160))","v":{"$error":"#N/A"}},{"$error":"#VALUE!"},{"$error":"#N/A"},"",{"$f":"IF(BO160=\"\",NA(),COUNTIF(BO160:$BO$303,BO160))","v":{"$error":"#N/A"}},{"$error":"#VALUE!"},{"$error":"#N/A"},"",{"$f":"IF(BS160=\"\",NA(),COUNTIF(BS160:$BS$303,BS160))","v":{"$error":"#N/A"}},{"$error":"#VALUE!"},{"$error":"#N/A"},{"$error":"#N/A"}]
[null,null,"",null,null,null,null,null,null,null,147.09125500000101,21.574255000001017,10.343299529001531,6.6072252778119511E-2,-17.453740660994576,{"$error":"#N/A"},null,null,null,null,null,118,2.9393876913398227,6.2424904851325368E-2,null,38.471785489354716,1.3718281582012359,1.3718281582012359,6.2424904851325368E-2,-47.378007255870777,null,null,null,null,null,null,null,null,null,null,null,null,null,null,null,null,null,null,null,null,null,null,null,null,null,null,null,null,null,null,null,null,"",{"$f":"IF(BK161=\"\",NA(),COUNTIF(BK161:$BK$303,BK161))","v":{"$error":"#N/A"}},{"$error":"#VALUE!"},{"$error":"#N/A"},"",{"$f":"IF(BO161=\"\",NA(),COUNTIF(BO161:$BO$303,BO161))","v":{"$error":"#N/A"}},{"$error":"#VALUE!"},{"$error":"#N/A"},"",{"$f":"IF(BS161=\"\",NA(),COUNTIF(BS161:$BS$303,BS161))","v":{"$error":"#N/A"}},{"$error":"#VALUE!"},{"$error":"#N/A"},{"$error":"#N/A"}]
[null,null,"",null,null,null,null,null,null,null,147.31367000000103,21.796670000001029,10.557662735309886,6.0890882689816975E-2,-17.552673203652379,{"$error":"#N/A"},null,null,null,null,null,118.5,3.0210373494325955,7.1966503133484155E-2,null,38.775271490642979,1.6044980063037637,1.6044980063037637,7.1966503133484155E-2,-47.140819994353819,null,null,null,null,null,null,null,null,null,null,null,null,null,null,null,null,null,null,null,null,null,null,null,null,null,null,null,null,null,null,null,null,"",{"$f":"IF(BK162=\"\",NA(),COUNTIF(BK162:$BK$303,BK162))","v":{"$error":"#N/A"}},{"$error":"#VALUE!"},{"$error":"#N/A"},"",{"$f":"IF(BO162=\"\",NA(),COUNTIF(BO162:$BO$303,BO162))","v":{"$error":"#N/A"}},{"$error":"#VALUE!"},{"$error":"#N/A"},"",{"$f":"IF(BS162=\"\",NA(),COUNTIF(BS162:$BS$303,BS162))","v":{"$error":"#N/A"}},{"$error":"#VALUE!"},{"$error":"#N/A"},{"$error":"#N/A"}]
[null,null,"",null,null,null,null,null,null,null,147.53608500000104,22.019085000001041,10.774224538606019,5.6044833682140735E-2,-17.647327437380785,{"$error":"#N/A"},null,null,null,null,null,119,3.1026870075253683,8.2331217090137368E-2,null,39.073363907636477,1.8641607261129733,1.8641607261129733,8.2331217090137368E-2,-46.906421832880199,null,null,null,null,null,null,null,null,null,null,null,null,null,null,null,null,null,null,null,null,null,null,null,null,null,null,null,null,null,null,null,null,"",{"$f":"IF(BK163=\"\",NA(),COUNTIF(BK163:$BK$303,BK163))","v":{"$error":"#N/A"}},{"$error":"#VALUE!"},{"$error":"#N/A"},"",{"$f":"IF(BO163=\"\",NA(),COUNTIF(BO163:$BO$303,BO163))","v":{"$error":"#N/A"}},{"$error":"#VALUE!"},{"$error":"#N/A"},"",{"$f":"IF(BS163=\"\",NA(),COUNTIF(BS163:$BS$303,BS163))","v":{"$error":"#N/A"}},{"$error":"#VALUE!"},{"$error":"#N/A"},{"$error":"#N/A"}]
[null,null,"",null,null,null,null,null,null,null,147.75850000000105,22.241500000001054,10.992984938889931,5.1519250298816398E-2,-17.737694961698075,{"$error":"#N/A"},null,null,null,null,null,119.5,3.1843366656181411,9.3504752844327674E-2,null,39.365255761323745,2.1514548169055336,2.1514548169055336,9.3504752844327674E-2,-46.677374300728481,null,null,null,null,null,null,null,null,null,null,null,null,null,null,null,null,null,null,null,null,null,null,null,null,null,null,null,null,null,null,null,null,"",{"$f":"IF(BK164=\"\",NA(),COUNTIF(BK164:$BK$303,BK164))","v":{"$error":"#N/A"}},{"$error":"#VALUE!"},{"$error":"#N/A"},"",{"$f":"IF(BO164=\"\",NA(),COUNTIF(BO164:$BO$303,BO164))","v":{"$error":"#N/A"}},{"$error":"#VALUE!"},{"$error":"#N/A"},"",{"$f":"IF(BS164=\"\",NA(),COUNTIF(BS164:$BS$303,BS164))","v":{"$error":"#N/A"}},{"$error":"#VALUE!"},{"$error":"#N/A"},{"$error":"#N/A"}]
[null,null,"",null,null,null,null,null,null,null,147.98091500000106,22.463915000001066,11.21394393616162,4.7299288669113294E-2,-17.823789553842218,{"$error":"#N/A"},null,null,null,null,null,120,3.2659863237109139,0.10546415187975787,null,39.650141018685147,2.4665266317086783,2.4665266317086783,0.10546415187975787,-46.456067113114429,null,null,null,null,null,null,null,null,null,null,null,null,null,null,null,null,null,null,null,null,null,null,null,null,null,null,null,null,null,null,null,null,"",{"$f":"IF(BK165=\"\",NA(),COUNTIF(BK165:$BK$303,BK165))","v":{"$error":"#N/A"}},{"$error":"#VALUE!"},{"$error":"#N/A"},"",{"$f":"IF(BO165=\"\",NA(),COUNTIF(BO165:$BO$303,BO165))","v":{"$error":"#N/A"}},{"$error":"#VALUE!"},{"$error":"#N/A"},"",{"$f":"IF(BS165=\"\",NA(),COUNTIF(BS165:$BS$303,BS165))","v":{"$error":"#N/A"}},{"$error":"#VALUE!"},{"$error":"#N/A"},{"$error":"#N/A"}]
[null,null,"",null,null,null,null,null,null,null,148.20333000000107,22.686330000001078,11.437101530421087,4.3370188788689097E-2,-17.905644936898121,{"$error":"#N/A"},null,null,null,null,null,120.5,3.3476359818036867,0.11817848253620651,null,39.927218238020828,2.8089505364159186,2.8089505364159186,0.11817848253620651,-46.244670471087588,null,null,null,null,null,null,null,null,null,null,null,null,null,null,null,null,null,null,null,null,null,null,null,null,null,null,null,null,null,null,null,null,"",{"$f":"IF(BK166=\"\",NA(),COUNTIF(BK166:$BK$303,BK166))","v":{"$error":"#N/A"}},{"$error":"#VALUE!"},{"$error":"#N/A"},"",{"$f":"IF(BO166=\"\",NA(),COUNTIF(BO166:$BO$303,BO166))","v":{"$error":"#N/A"}},{"$error":"#VALUE!"},{"$error":"#N/A"},"",{"$f":"IF(BS166=\"\",NA(),COUNTIF(BS166:$BS$303,BS166))","v":{"$error":"#N/A"}},{"$error":"#VALUE!"},{"$error":"#N/A"},{"$error":"#N/A"}]
[null,null,"",null,null,null,null,null,null,null,148.42574500000109,22.90874500000109,11.662457721668332,3.9717340428245367E-2,-17.983312942756971,{"$error":"#N/A"},null,null,null,null,null,121,3.4292856398964595,0.13160967682556007,null,40.195694274515262,3.1776574434757698,3.1776574434757698,0.13160967682556007,-46.04509935304209,null,null,null,null,null,null,null,null,null,null,null,null,null,null,null,null,null,null,null,null,null,null,null,null,null,null,null,null,null,null,null,null,"",{"$f":"IF(BK167=\"\",NA(),COUNTIF(BK167:$BK$303,BK167))","v":{"$error":"#N/A"}},{"$error":"#VALUE!"},{"$error":"#N/A"},"",{"$f":"IF(BO167=\"\",NA(),COUNTIF(BO167:$BO$303,BO167))","v":{"$error":"#N/A"}},{"$error":"#VALUE!"},{"$error":"#N/A"},"",{"$f":"IF(BS167=\"\",NA(),COUNTIF(BS167:$BS$303,BS167))","v":{"$error":"#N/A"}},{"$error":"#VALUE!"},{"$error":"#N/A"},{"$error":"#N/A"}]
[null,null,"",null,null,null,null,null,null,null,148.6481600000011,23.131160000001103,11.890012509903356,3.6326342686924092E-2,-18.05686168822243,{"$error":"#N/A"},null,null,null,null,null,121.5,3.5109352979892323,0.14571347053848552,null,40.454788022468421,3.570875982713591,3.570875982713591,0.14571347053848552,-45.858989644392587,null,null,null,null,null,null,null,null,null,null,null,null,null,null,null,null,null,null,null,null,null,null,null,null,null,null,null,null,null,null,null,null,"",{"$f":"IF(BK168=\"\",NA(),COUNTIF(BK168:$BK$303,BK168))","v":{"$error":"#N/A"}},{"$error":"#VALUE!"},{"$error":"#N/A"},"",{"$f":"IF(BO168=\"\",NA(),COUNTIF(BO168:$BO$303,BO168))","v":{"$error":"#N/A"}},{"$error":"#VALUE!"},{"$error":"#N/A"},"",{"$f":"IF(BS168=\"\",NA(),COUNTIF(BS168:$BS$303,BS168))","v":{"$error":"#N/A"}},{"$error":"#VALUE!"},{"$error":"#N/A"},{"$error":"#N/A"}]
[null,null,"",null,null,null,null,null,null,null,148.87057500000111,23.353575000001115,12.119765895126157,3.3183057264599615E-2,-18.126373779928748,{"$error":"#N/A"},null,null,null,null,null,122,3.5925849560820051,0.1604404062515114,null,40.703734169806147,3.9860905518314529,3.9860905518314529,0.1604404062515114,-45.687685392381333,null,null,null,null,null,null,null,null,null,null,null,null,null,null,null,null,null,null,null,null,null,null,null,null,null,null,null,null,null,null,null,null,"",{"$f":"IF(BK169=\"\",NA(),COUNTIF(BK169:$BK$303,BK169))","v":{"$error":"#N/A"}},{"$error":"#VALUE!"},{"$error":"#N/A"},"",{"$f":"IF(BO169=\"\",NA(),COUNTIF(BO169:$BO$303,BO169))","v":{"$error":"#N/A"}},{"$error":"#VALUE!"},{"$error":"#N/A"},"",{"$f":"IF(BS169=\"\",NA(),COUNTIF(BS169:$BS$303,BS169))","v":{"$error":"#N/A"}},{"$error":"#VALUE!"},{"$error":"#N/A"},{"$error":"#N/A"}]
[null,null,"",null,null,null,null,null,null,null,149.09299000000112,23.575990000001127,12.351717877336736,3.0273655578527466E-2,-18.191944562018712,{"$error":"#N/A"},null,null,null,null,null,122.5,3.6742346141747779,0.17573686216885842,null,40.941786939866262,4.4200202270504922,4.4200202270504922,0.17573686216885842,-45.532236064369734,null,null,null,null,null,null,null,null,null,null,null,null,null,null,null,null,null,null,null,null,null,null,null,null,null,null,null,null,null,null,null,null,"",{"$f":"IF(BK170=\"\",NA(),COUNTIF(BK170:$BK$303,BK170))","v":{"$error":"#N/A"}},{"$error":"#VALUE!"},{"$error":"#N/A"},"",{"$f":"IF(BO170=\"\",NA(),COUNTIF(BO170:$BO$303,BO170))","v":{"$error":"#N/A"}},{"$error":"#VALUE!"},{"$error":"#N/A"},"",{"$f":"IF(BS170=\"\",NA(),COUNTIF(BS170:$BS$303,BS170))","v":{"$error":"#N/A"}},{"$error":"#VALUE!"},{"$error":"#N/A"},{"$error":"#N/A"}]
[null,null,"",null,null,null,null,null,null,null,149.31540500000114,23.798405000001139,12.585868456535094,2.7584659895138534E-2,-18.253680418807132,{"$error":"#N/A"},null,null,null,null,null,123,3.7558842722675507,0.19154607421796727,null,41.168223795051567,4.8686219942831297,4.8686219942831297,0.19154607421796727,-45.393402424053683,null,null,null,null,null,null,null,null,null,null,null,null,null,null,null,null,null,null,null,null,null,null,null,null,null,null,null,null,null,null,null,null,"",{"$f":"IF(BK171=\"\",NA(),COUNTIF(BK171:$BK$303,BK171))","v":{"$error":"#N/A"}},{"$error":"#VALUE!"},{"$error":"#N/A"},"",{"$f":"IF(BO171=\"\",NA(),COUNTIF(BO171:$BO$303,BO171))","v":{"$error":"#N/A"}},{"$error":"#VALUE!"},{"$error":"#N/A"},"",{"$f":"IF(BS171=\"\",NA(),COUNTIF(BS171:$BS$303,BS171))","v":{"$error":"#N/A"}},{"$error":"#VALUE!"},{"$error":"#N/A"},{"$error":"#N/A"}]
[null,null,"",null,null,null,null,null,null,null,149.53782000000115,24.020820000001152,12.822217632721228,2.5102978687142941E-2,-18.311697142950809,{"$error":"#N/A"},null,null,null,null,null,123.5,3.8375339303603235,0.20780912397967688,null,41.382349076756149,5.3271209832261768,5.3271209832261768,0.20780912397967688,-45.271669505041061,null,null,null,null,null,null,null,null,null,null,null,null,null,null,null,null,null,null,null,null,null,null,null,null,null,null,null,null,null,null,null,null,"",{"$f":"IF(BK172=\"\",NA(),COUNTIF(BK172:$BK$303,BK172))","v":{"$error":"#N/A"}},{"$error":"#VALUE!"},{"$error":"#N/A"},"",{"$f":"IF(BO172=\"\",NA(),COUNTIF(BO172:$BO$303,BO172))","v":{"$error":"#N/A"}},{"$error":"#VALUE!"},{"$error":"#N/A"},"",{"$f":"IF(BS172=\"\",NA(),COUNTIF(BS172:$BS$303,BS172))","v":{"$error":"#N/A"}},{"$error":"#VALUE!"},{"$error":"#N/A"},{"$error":"#N/A"}]
[null,null,"",null,null,null,null,null,null,null,149.76023500000116,24.243235000001164,13.060765405895143,2.2815936459623504E-2,-18.36611837797906,{"$error":"#N/A"},null,null,null,null,null,124,3.9191835884530963,0.22446587045852501,null,41.583497556011601,5.7900693689580418,5.7900693689580418,0.22446587045852501,-45.167265133826788,null,null,null,null,null,null,null,null,null,null,null,null,null,null,null,null,null,null,null,null,null,null,null,null,null,null,null,null,null,null,null,null,"",{"$f":"IF(BK173=\"\",NA(),COUNTIF(BK173:$BK$303,BK173))","v":{"$error":"#N/A"}},{"$error":"#VALUE!"},{"$error":"#N/A"},"",{"$f":"IF(BO173=\"\",NA(),COUNTIF(BO173:$BO$303,BO173))","v":{"$error":"#N/A"}},{"$error":"#VALUE!"},{"$error":"#N/A"},"",{"$f":"IF(BS173=\"\",NA(),COUNTIF(BS173:$BS$303,BS173))","v":{"$error":"#N/A"}},{"$error":"#VALUE!"},{"$error":"#N/A"},{"$error":"#N/A"}]
[null,null,"",null,null,null,null,null,null,null,149.98265000000117,24.465650000001176,13.301511776056834,2.0711298316626166E-2,-18.417074142427783,{"$error":"#N/A"},null,null,null,null,null,124.5,4.0008332465458691,0.24145580905143238,null,41.771037869570208,6.2514343849044982,6.2514343849044982,0.24145580905143238,-45.080182510872461,null,null,null,null,null,null,null,null,null,null,null,null,null,null,null,null,null,null,null,null,null,null,null,null,null,null,null,null,null,null,null,null,"",{"$f":"IF(BK174=\"\",NA(),COUNTIF(BK174:$BK$303,BK174))","v":{"$error":"#N/A"}},{"$error":"#VALUE!"},{"$error":"#N/A"},"",{"$f":"IF(BO174=\"\",NA(),COUNTIF(BO174:$BO$303,BO174))","v":{"$error":"#N/A"}},{"$error":"#VALUE!"},{"$error":"#N/A"},"",{"$f":"IF(BS174=\"\",NA(),COUNTIF(BS174:$BS$303,BS174))","v":{"$error":"#N/A"}},{"$error":"#VALUE!"},{"$error":"#N/A"},{"$error":"#N/A"}]
[null,null,"",null,null,null,null,null,null,null,150.20506500000118,24.688065000001188,13.544456743206304,1.8777289562108626E-2,-18.464699441280118,{"$error":"#N/A"},null,null,null,null,null,125,4.0824829046386419,0.25871884610299029,null,41.944375816642527,6.7047145223839948,6.7047145223839948,0.25871884610299029,-45.010205476030222,null,null,null,null,null,null,null,null,null,null,null,null,null,null,null,null,null,null,null,null,null,null,null,null,null,null,null,null,null,null,null,null,"",{"$f":"IF(BK175=\"\",NA(),COUNTIF(BK175:$BK$303,BK175))","v":{"$error":"#N/A"}},{"$error":"#VALUE!"},{"$error":"#N/A"},"",{"$f":"IF(BO175=\"\",NA(),COUNTIF(BO175:$BO$303,BO175))","v":{"$error":"#N/A"}},{"$error":"#VALUE!"},{"$error":"#N/A"},"",{"$f":"IF(BS175=\"\",NA(),COUNTIF(BS175:$BS$303,BS175))","v":{"$error":"#N/A"}},{"$error":"#VALUE!"},{"$error":"#N/A"},{"$error":"#N/A"}]
[null,null,"",null,null,null,null,null,null,null,150.4274800000012,24.910480000001201,13.789600307343552,1.7002610646266309E-2,-18.509132968961197,{"$error":"#N/A"},null,null,null,null,null,125.5,4.1641325627314147,0.27619598197006895,null,42.102957492236754,7.1430815461111203,7.1430815461111203,0.27619598197006895,-44.956935241747736,null,null,null,null,null,null,null,null,null,null,null,null,null,null,null,null,null,null,null,null,null,null,null,null,null,null,null,null,null,null,null,null,"",{"$f":"IF(BK176=\"\",NA(),COUNTIF(BK176:$BK$303,BK176))","v":{"$error":"#N/A"}},{"$error":"#VALUE!"},{"$error":"#N/A"},"",{"$f":"IF(BO176=\"\",NA(),COUNTIF(BO176:$BO$303,BO176))","v":{"$error":"#N/A"}},{"$error":"#VALUE!"},{"$error":"#N/A"},"",{"$f":"IF(BS176=\"\",NA(),COUNTIF(BS176:$BS$303,BS176))","v":{"$error":"#N/A"}},{"$error":"#VALUE!"},{"$error":"#N/A"},{"$error":"#N/A"}]
[null,null,"",null,null,null,null,null,null,null,150.64989500000121,25.132895000001213,14.036942468468576,1.5376447780524768E-2,-18.550515906772997,{"$error":"#N/A"},null,null,null,null,null,126,4.2457822208241875,0.29382989945397731,null,42.246272234002156,7.559544514726471,7.559544514726471,0.29382989945397731,-44.919817556191646,null,null,null,null,null,null,null,null,null,null,null,null,null,null,null,null,null,null,null,null,null,null,null,null,null,null,null,null,null,null,null,null,"",{"$f":"IF(BK177=\"\",NA(),COUNTIF(BK177:$BK$303,BK177))","v":{"$error":"#N/A"}},{"$error":"#VALUE!"},{"$error":"#N/A"},"",{"$f":"IF(BO177=\"\",NA(),COUNTIF(BO177:$BO$303,BO177))","v":{"$error":"#N/A"}},{"$error":"#VALUE!"},{"$error":"#N/A"},"",{"$f":"IF(BS177=\"\",NA(),COUNTIF(BS177:$BS$303,BS177))","v":{"$error":"#N/A"}},{"$error":"#VALUE!"},{"$error":"#N/A"},{"$error":"#N/A"}]
[null,null,"",null,null,null,null,null,null,null,150.87231000000122,25.355310000001225,14.28648322658138,1.3888479552212679E-2,-18.58899081639639,{"$error":"#N/A"},null,null,null,null,null,126.5,4.3274318789169604,0.31156545774874589,null,42.373855360652456,7.9471306500998571,7.9471306500998571,0.31156545774874589,-44.898169443953819,null,null,null,null,null,null,null,null,null,null,null,null,null,null,null,null,null,null,null,null,null,null,null,null,null,null,null,null,null,null,null,null,"",{"$f":"IF(BK178=\"\",NA(),COUNTIF(BK178:$BK$303,BK178))","v":{"$error":"#N/A"}},{"$error":"#VALUE!"},{"$error":"#N/A"},"",{"$f":"IF(BO178=\"\",NA(),COUNTIF(BO178:$BO$303,BO178))","v":{"$error":"#N/A"}},{"$error":"#VALUE!"},{"$error":"#N/A"},"",{"$f":"IF(BS178=\"\",NA(),COUNTIF(BS178:$BS$303,BS178))","v":{"$error":"#N/A"}},{"$error":"#VALUE!"},{"$error":"#N/A"},{"$error":"#N/A"}]
[null,null,"",null,null,null,null,null,null,null,151.09472500000123,25.577725000001237,14.538222581681962,1.2528879873477171E-2,-18.624700629936665,{"$error":"#N/A"},null,null,null,null,null,127,4.4090815370097332,0.32935009469793314,null,42.485290681428054,8.2990767388723867,8.2990767388723867,0.32935009469793314,-44.891204853178941,null,null,null,null,null,null,null,null,null,null,null,null,null,null,null,null,null,null,null,null,null,null,null,null,null,null,null,null,null,null,null,null,"",{"$f":"IF(BK179=\"\",NA(),COUNTIF(BK179:$BK$303,BK179))","v":{"$error":"#N/A"}},{"$error":"#VALUE!"},{"$error":"#N/A"},"",{"$f":"IF(BO179=\"\",NA(),COUNTIF(BO179:$BO$303,BO179))","v":{"$error":"#N/A"}},{"$error":"#VALUE!"},{"$error":"#N/A"},"",{"$f":"IF(BS179=\"\",NA(),COUNTIF(BS179:$BS$303,BS179))","v":{"$error":"#N/A"}},{"$error":"#VALUE!"},{"$error":"#N/A"},{"$error":"#N/A"}]
[null,null,"",null,null,null,null,null,null,null,151.31714000000125,25.80014000000125,14.792160533770321,1.1288317598755685E-2,-18.657787735949785,{"$error":"#N/A"},null,null,null,null,null,127.5,4.490731195102506,0.3471341421813175,null,42.580212757636815,8.6090238583764602,8.6090238583764602,0.3471341421813175,-44.89805870684755,null,null,null,null,null,null,null,null,null,null,null,null,null,null,null,null,null,null,null,null,null,null,null,null,null,null,null,null,null,null,null,null,"",{"$f":"IF(BK180=\"\",NA(),COUNTIF(BK180:$BK$303,BK180))","v":{"$error":"#N/A"}},{"$error":"#VALUE!"},{"$error":"#N/A"},"",{"$f":"IF(BO180=\"\",NA(),COUNTIF(BO180:$BO$303,BO180))","v":{"$error":"#N/A"}},{"$error":"#VALUE!"},{"$error":"#N/A"},"",{"$f":"IF(BS180=\"\",NA(),COUNTIF(BS180:$BS$303,BS180))","v":{"$error":"#N/A"}},{"$error":"#VALUE!"},{"$error":"#N/A"},{"$error":"#N/A"}]
[null,null,"",null,null,null,null,null,null,null,151.53955500000126,26.022555000001262,15.048297082846458,1.0157953141466973E-2,-18.688393159960778,{"$error":"#N/A"},null,null,null,null,null,128,4.5723808531952788,0.36487106092077431,null,42.658308899078378,8.8712076677780232,8.8712076677780232,0.36487106092077431,-44.917809007468819,null,null,null,null,null,null,null,null,null,null,null,null,null,null,null,null,null,null,null,null,null,null,null,null,null,null,null,null,null,null,null,null,"",{"$f":"IF(BK181=\"\",NA(),COUNTIF(BK181:$BK$303,BK181))","v":{"$error":"#N/A"}},{"$error":"#VALUE!"},{"$error":"#N/A"},"",{"$f":"IF(BO181=\"\",NA(),COUNTIF(BO181:$BO$303,BO181))","v":{"$error":"#N/A"}},{"$error":"#VALUE!"},{"$error":"#N/A"},"",{"$f":"IF(BS181=\"\",NA(),COUNTIF(BS181:$BS$303,BS181))","v":{"$error":"#N/A"}},{"$error":"#VALUE!"},{"$error":"#N/A"},{"$error":"#N/A"}]
[null,null,"",null,null,null,null,null,null,null,151.76197000000127,26.244970000001274,15.306632228910376,9.1294324139225419E-3,-18.716655837173448,{"$error":"#N/A"},null,null,null,null,null,128.5,4.6540305112880516,0.38251760196867685,null,42.719320880089661,9.0806363461702659,9.0806363461702659,0.38251760196867685,-44.949496775802722,null,null,null,null,null,null,null,null,null,null,null,null,null,null,null,null,null,null,null,null,null,null,null,null,null,null,null,null,null,null,null,null,"",{"$f":"IF(BK182=\"\",NA(),COUNTIF(BK182:$BK$303,BK182))","v":{"$error":"#N/A"}},{"$error":"#VALUE!"},{"$error":"#N/A"},"",{"$f":"IF(BO182=\"\",NA(),COUNTIF(BO182:$BO$303,BO182))","v":{"$error":"#N/A"}},{"$error":"#VALUE!"},{"$error":"#N/A"},"",{"$f":"IF(BS182=\"\",NA(),COUNTIF(BS182:$BS$303,BS182))","v":{"$error":"#N/A"}},{"$error":"#VALUE!"},{"$error":"#N/A"},{"$error":"#N/A"}]
[null,null,"",null,null,null,null,null,null,null,151.98438500000128,26.467385000001286,15.567165971962069,8.1948784051800727E-3,-18.742711974369669,{"$error":"#N/A"},null,null,null,null,null,129,4.7356801693808244,0.4000339026955006,null,42.763046362032505,9.233248520721494,9.233248520721494,0.4000339026955006,-44.992143714497622,null,null,null,null,null,null,null,null,null,null,null,null,null,null,null,null,null,null,null,null,null,null,null,null,null,null,null,null,null,null,null,null,"",{"$f":"IF(BK183=\"\",NA(),COUNTIF(BK183:$BK$303,BK183))","v":{"$error":"#N/A"}},{"$error":"#VALUE!"},{"$error":"#N/A"},"",{"$f":"IF(BO183=\"\",NA(),COUNTIF(BO183:$BO$303,BO183))","v":{"$error":"#N/A"}},{"$error":"#VALUE!"},{"$error":"#N/A"},"",{"$f":"IF(BS183=\"\",NA(),COUNTIF(BS183:$BS$303,BS183))","v":{"$error":"#N/A"}},{"$error":"#VALUE!"},{"$error":"#N/A"},{"$error":"#N/A"}]
[null,null,"",null,null,null,null,null,null,null,152.20680000000129,26.689800000001298,15.829898312001541,7.3468807000436898E-3,-18.766694497404515,{"$error":"#N/A"},null,null,null,null,null,129.5,4.8173298274735972,0.41738352529964873,null,42.789340011257089,9.3260442110843922,9.3260442110843922,0.41738352529964873,-45.044767577082752,null,null,null,null,null,null,null,null,null,null,null,null,null,null,null,null,null,null,null,null,null,null,null,null,null,null,null,null,null,null,null,null,"",{"$f":"IF(BK184=\"\",NA(),COUNTIF(BK184:$BK$303,BK184))","v":{"$error":"#N/A"}},{"$error":"#VALUE!"},{"$error":"#N/A"},"",{"$f":"IF(BO184=\"\",NA(),COUNTIF(BO184:$BO$303,BO184))","v":{"$error":"#N/A"}},{"$error":"#VALUE!"},{"$error":"#N/A"},"",{"$f":"IF(BS184=\"\",NA(),COUNTIF(BS184:$BS$303,BS184))","v":{"$error":"#N/A"}},{"$error":"#VALUE!"},{"$error":"#N/A"},{"$error":"#N/A"}]
[null,null,"",null,null,null,null,null,null,null,152.42921500000131,26.912215000001311,16.094829249028788,6.5784832290342529E-3,-18.788732592328845,{"$error":"#N/A"},null,null,null,null,null,130,4.89897948556637,0.43453344579236225,null,42.798114303896732,9.357182894094251,9.357182894094251,0.43453344579236225,-45.106395292924027,null,null,null,null,null,null,null,null,null,null,null,null,null,null,null,null,null,null,null,null,null,null,null,null,null,null,null,null,null,null,null,null,"",{"$f":"IF(BK185=\"\",NA(),COUNTIF(BK185:$BK$303,BK185))","v":{"$error":"#N/A"}},{"$error":"#VALUE!"},{"$error":"#N/A"},"",{"$f":"IF(BO185=\"\",NA(),COUNTIF(BO185:$BO$303,BO185))","v":{"$error":"#N/A"}},{"$error":"#VALUE!"},{"$error":"#N/A"},"",{"$f":"IF(BS185=\"\",NA(),COUNTIF(BS185:$BS$303,BS185))","v":{"$error":"#N/A"}},{"$error":"#VALUE!"},{"$error":"#N/A"},{"$error":"#N/A"}]
[null,null,"",null,null,null,null,null,null,null,152.65163000000132,27.134630000001323,16.361958783043818,5.883170608179362E-3,-18.80895126054136,{"$error":"#N/A"},null,null,null,null,null,130.5,4.9806291436591428,0.45145400112838502,null,42.789340011257089,9.3260442110843922,9.3260442110843922,0.45145400112838502,-45.176073951445872,null,null,null,null,null,null,null,null,null,null,null,null,null,null,null,null,null,null,null,null,null,null,null,null,null,null,null,null,null,null,null,null,"",{"$f":"IF(BK186=\"\",NA(),COUNTIF(BK186:$BK$303,BK186))","v":{"$error":"#N/A"}},{"$error":"#VALUE!"},{"$error":"#N/A"},"",{"$f":"IF(BO186=\"\",NA(),COUNTIF(BO186:$BO$303,BO186))","v":{"$error":"#N/A"}},{"$error":"#VALUE!"},{"$error":"#N/A"},"",{"$f":"IF(BS186=\"\",NA(),COUNTIF(BS186:$BS$303,BS186))","v":{"$error":"#N/A"}},{"$error":"#VALUE!"},{"$error":"#N/A"},{"$error":"#N/A"}]
[null,null,"",null,null,null,null,null,null,null,152.87404500000133,27.357045000001335,16.631286914046623,5.254852806972939E-3,-18.82747106552306,{"$error":"#N/A"},null,null,null,null,null,131,5.0622788017519156,0.46811880171602849,null,42.763046362032505,9.233248520721494,9.233248520721494,0.46811880171602849,-45.252879786351357,null,null,null,null,null,null,null,null,null,null,null,null,null,null,null,null,null,null,null,null,null,null,null,null,null,null,null,null,null,null,null,null,"",{"$f":"IF(BK187=\"\",NA(),COUNTIF(BK187:$BK$303,BK187))","v":{"$error":"#N/A"}},{"$error":"#VALUE!"},{"$error":"#N/A"},"",{"$f":"IF(BO187=\"\",NA(),COUNTIF(BO187:$BO$303,BO187))","v":{"$error":"#N/A"}},{"$error":"#VALUE!"},{"$error":"#N/A"},"",{"$f":"IF(BS187=\"\",NA(),COUNTIF(BS187:$BS$303,BS187))","v":{"$error":"#N/A"}},{"$error":"#VALUE!"},{"$error":"#N/A"},{"$error":"#N/A"}]
[null,null,"",null,null,null,null,null,null,null,153.09646000000134,27.579460000001347,16.902813642037206,4.6878497334821561E-3,-18.844407872499541,{"$error":"#N/A"},null,null,null,null,null,131.5,5.1439284598446884,0.48450461599749295,null,42.719320880089661,9.0806363461702659,9.0806363461702659,0.48450461599749295,-45.33592532506308,null,null,null,null,null,null,null,null,null,null,null,null,null,null,null,null,null,null,null,null,null,null,null,null,null,null,null,null,null,null,null,null,"",{"$f":"IF(BK188=\"\",NA(),COUNTIF(BK188:$BK$303,BK188))","v":{"$error":"#N/A"}},{"$error":"#VALUE!"},{"$error":"#N/A"},"",{"$f":"IF(BO188=\"\",NA(),COUNTIF(BO188:$BO$303,BO188))","v":{"$error":"#N/A"}},{"$error":"#VALUE!"},{"$error":"#N/A"},"",{"$f":"IF(BS188=\"\",NA(),COUNTIF(BS188:$BS$303,BS188))","v":{"$error":"#N/A"}},{"$error":"#VALUE!"},{"$error":"#N/A"},{"$error":"#N/A"}]
[null,null,"",null,null,null,null,null,null,null,153.31887500000136,27.80187500000136,17.176538967015567,4.1768740986264435E-3,-18.859872590931204,{"$error":"#N/A"},null,null,null,null,null,132,5.2255781179374612,0.50059123318277232,null,42.658308899078378,8.8712076677780232,8.8712076677780232,0.50059123318277232,-45.424364882427071,null,null,null,null,null,null,null,null,null,null,null,null,null,null,null,null,null,null,null,null,null,null,null,null,null,null,null,null,null,null,null,null,"",{"$f":"IF(BK189=\"\",NA(),COUNTIF(BK189:$BK$303,BK189))","v":{"$error":"#N/A"}},{"$error":"#VALUE!"},{"$error":"#N/A"},"",{"$f":"IF(BO189=\"\",NA(),COUNTIF(BO189:$BO$303,BO189))","v":{"$error":"#N/A"}},{"$error":"#VALUE!"},{"$error":"#N/A"},"",{"$f":"IF(BS189=\"\",NA(),COUNTIF(BS189:$BS$303,BS189))","v":{"$error":"#N/A"}},{"$error":"#VALUE!"},{"$error":"#N/A"},{"$error":"#N/A"}]
[null,null,"",null,null,null,null,null,null,null,153.54129000000137,28.024290000001372,17.45246288898171,3.7170142171963193E-3,-18.87397109626361,{"$error":"#N/A"},null,null,null,null,null,132.5,5.307227776030234,0.51636130958146154,null,42.580212757636815,8.6090238583764602,8.6090238583764602,0.51636130958146154,-45.517398582991106,null,null,null,null,null,null,null,null,null,null,null,null,null,null,null,null,null,null,null,null,null,null,null,null,null,null,null,null,null,null,null,null,"",{"$f":"IF(BK190=\"\",NA(),COUNTIF(BK190:$BK$303,BK190))","v":{"$error":"#N/A"}},{"$error":"#VALUE!"},{"$error":"#N/A"},"",{"$f":"IF(BO190=\"\",NA(),COUNTIF(BO190:$BO$303,BO190))","v":{"$error":"#N/A"}},{"$error":"#VALUE!"},{"$error":"#N/A"},"",{"$f":"IF(BS190=\"\",NA(),COUNTIF(BS190:$BS$303,BS190))","v":{"$error":"#N/A"}},{"$error":"#VALUE!"},{"$error":"#N/A"},{"$error":"#N/A"}]
[null,null,"",null,null,null,null,null,null,null,153.76370500000138,28.246705000001384,17.730585407935628,3.3037163300004171E-3,-18.886804131522148,{"$error":"#N/A"},null,null,null,null,null,133,5.3888774341230068,0.5318002033325735,null,42.485290681428054,8.2990767388723867,8.2990767388723867,0.5318002033325735,-45.614275094801116,null,null,null,null,null,null,null,null,null,null,null,null,null,null,null,null,null,null,null,null,null,null,null,null,null,null,null,null,null,null,null,null,"",{"$f":"IF(BK191=\"\",NA(),COUNTIF(BK191:$BK$303,BK191))","v":{"$error":"#N/A"}},{"$error":"#VALUE!"},{"$error":"#N/A"},"",{"$f":"IF(BO191=\"\",NA(),COUNTIF(BO191:$BO$303,BO191))","v":{"$error":"#N/A"}},{"$error":"#VALUE!"},{"$error":"#N/A"},"",{"$f":"IF(BS191=\"\",NA(),COUNTIF(BS191:$BS$303,BS191))","v":{"$error":"#N/A"}},{"$error":"#VALUE!"},{"$error":"#N/A"},{"$error":"#N/A"}]
[null,null,"",null,null,null,null,null,null,null,153.98612000000139,28.469120000001396,18.010906523877324,2.9327667231092325E-3,-18.898467270878019,{"$error":"#N/A"},null,null,null,null,null,133.5,5.4705270922157796,{"$f":"nct(W192,$T$63,$T$64)","v":0.5468958017029858},null,42.373855360652456,7.9471306500998571,7.9471306500998571,{"$f":"X192","v":0.5468958017029858},-45.714293251330545,null,null,null,null,null,null,null,null,null,null,null,null,null,null,null,null,null,null,null,null,null,null,null,null,null,null,null,null,null,null,null,null,"",{"$f":"IF(BK192=\"\",NA(),COUNTIF(BK192:$BK$303,BK192))","v":{"$error":"#N/A"}},{"$error":"#VALUE!"},{"$error":"#N/A"},"",{"$f":"IF(BO192=\"\",NA(),COUNTIF(BO192:$BO$303,BO192))","v":{"$error":"#N/A"}},{"$error":"#VALUE!"},{"$error":"#N/A"},"",{"$f":"IF(BS192=\"\",NA(),COUNTIF(BS192:$BS$303,BS192))","v":{"$error":"#N/A"}},{"$error":"#VALUE!"},{"$error":"#N/A"},{"$error":"#N/A"}]
[null,null,"",null,null,null,null,null,null,null,154.2085350000014,{"$f":"K193-$I$63","v":28.691535000001409},{"$f":"L193^2/$I$66","v":18.293426236806798},{"$f":"CHIDIST(M193,$H$17)","v":2.6002737975786799E-3},-18.90905092503931,{"$error":"#N/A"},null,null,null,null,null,134,{"$f":"W192+$T$67","v":5.5521767503085524},0.56163834452498751,null,{"$f":"IF(NOT($BB$13),$AX$6+$AA$62*$AX$5*NORMDIST(V193,$O$10,$O$12,FALSE),-999)","v":42.246272234002156},{"$f":"IF(AND(NOT($BB$13),$BD$4,$BD$9),$AX$9+$AD$62*NORMDIST(V193,$O$10,$O$12/SQRT($H$15),FALSE),NA())","v":7.559544514726471},7.559544514726471,0.56163834452498751,{"$f":"IF(AND(NOT($BB$13),$BD$7,$BD$4,$BD$9,$BB$21,$BD$10),IF($BD$12,$AX$15+AA193,$AX$15+$AD$62*(AC194-AC192)/(2*$AZ$7)),NA())","v":-45.816802728293482},null,null,null,null,null,null,null,null,null,null,null,null,null,null,null,null,null,null,null,null,null,null,null,null,null,null,null,null,null,null,null,null,"",{"$f":"IF(BK193=\"\",NA(),COUNTIF(BK193:$BK$303,BK193))","v":{"$error":"#N/A"}},{"$error":"#VALUE!"},{"$error":"#N/A"},"",{"$f":"IF(BO193=\"\",NA(),COUNTIF(BO193:$BO$303,BO193))","v":{"$error":"#N/A"}},{"$error":"#VALUE!"},{"$error":"#N/A"},"",{"$f":"IF(BS193=\"\",NA(),COUNTIF(BS193:$BS$303,BS193))","v":{"$error":"#N/A"}},{"$error":"#VALUE!"},{"$error":"#N/A"},{"$error":"#N/A"}]
[null,null,"",null,null,null,null,null,null,null,{"$f":"K193+$I$65","v":154.43095000000142},28.913950000001421,18.578144546724047,2.3026502260445345E-3,{"$f":"IF(AND($B$4<>\"\",$BD$3,$BD$5,$BD$9,NOT($BD$12)),$AX$12+$I$67*(N193-N195)/(2*$I$65),NA())","v":-18.918640383650324},{"$f":"IF(AND($B$4<>\"\",$BD$3,$BD$5,$BD$9,$BD$12),$AX$12+$I$67*(N193-N195)/(2*$I$65),NA())","v":{"$error":"#N/A"}},null,null,null,null,null,{"$f":"V193+$AZ$7","v":134.5},5.6338264084013252,0.57602024678258712,null,42.102957492236754,7.1430815461111203,{"$f":"IF($BD$6,AA194,NA())","v":7.1430815461111203},0.57602024678258712,-45.921203929869179,null,null,null,null,null,null,null,null,null,null,null,null,null,null,null,null,null,null,null,null,null,null,null,null,null,null,null,null,null,null,null,null,"",{"$f":"IF(BK194=\"\",NA(),COUNTIF(BK194:$BK$303,BK194))","v":{"$error":"#N/A"}},{"$error":"#VALUE!"},{"$error":"#N/A"},"",{"$f":"IF(BO194=\"\",NA(),COUNTIF(BO194:$BO$303,BO194))","v":{"$error":"#N/A"}},{"$error":"#VALUE!"},{"$error":"#N/A"},"",{"$f":"IF(BS194=\"\",NA(),COUNTIF(BS194:$BS$303,BS194))","v":{"$error":"#N/A"}},{"$error":"#VALUE!"},{"$error":"#N/A"},{"$error":"#N/A"}]
[null,null,"",null,null,null,null,null,null,null,154.65336500000143,29.136365000001433,18.865061453629078,2.0365953161983639E-3,-18.927315890074716,{"$error":"#N/A"},null,null,null,null,null,135,5.715476066494098,0.590035922841192,null,41.944375816642527,6.7047145223839948,6.7047145223839948,0.590035922841192,-46.026947225253785,null,null,null,null,null,null,null,null,null,null,null,null,null,null,null,null,null,null,null,null,null,null,null,null,null,null,null,null,null,null,null,null,"",{"$f":"IF(BK195=\"\",NA(),COUNTIF(BK195:$BK$303,BK195))","v":{"$error":"#N/A"}},{"$error":"#VALUE!"},{"$error":"#N/A"},"",{"$f":"IF(BO195=\"\",NA(),COUNTIF(BO195:$BO$303,BO195))","v":{"$error":"#N/A"}},{"$error":"#VALUE!"},{"$error":"#N/A"},"",{"$f":"IF(BS195=\"\",NA(),COUNTIF(BS195:$BS$303,BS195))","v":{"$error":"#N/A"}},{"$error":"#VALUE!"},{"$error":"#N/A"},{"$error":"#N/A"}]
[null,null,{"$f":"IF(AND(A196<>\"\",$H$15>1),(($O$10+$O$12*A196)-$L$8)/IF($BD$12,$BB$9,$O$12*B196),\"\")","v":""},null,null,null,null,null,null,null,154.87578000000144,29.358780000001445,19.154176957521884,1.7990776854971907E-3,-18.935152744159417,{"$error":"#N/A"},null,null,null,null,null,135.5,5.7971257245868708,0.60368161434923051,null,41.771037869570208,6.2514343849044982,6.2514343849044982,0.60368161434923051,-46.133531662209606,null,null,null,null,null,null,null,null,null,null,null,null,null,null,null,null,null,null,null,null,null,null,null,null,null,null,null,null,null,null,null,null,{"$f":"IF(A196=\"\",\"\",ROUND(($O$10+$O$12*A196)/$BC$24,0))","v":""},{"$f":"IF(BK196=\"\",NA(),COUNTIF(BK196:$BK$303,BK196))","v":{"$error":"#N/A"}},{"$f":"BK196*$BC$24","v":{"$error":"#VALUE!"}},{"$f":"IF(AND(NOT($BB$13),$BD$6,$BD$4,$BD$8),$AX$9-$BC$23/2+BL196*$BC$23,NA())","v":{"$error":"#N/A"}},{"$f":"IF(C196=\"\",\"\",ROUND(($L$8+C196*$BB$9)/$BC$24,0))","v":""},{"$f":"IF(BO196=\"\",NA(),COUNTIF(BO196:$BO$303,BO196))","v":{"$error":"#N/A"}},{"$f":"BO196*$BC$24","v":{"$error":"#VALUE!"}},{"$f":"IF(AND(NOT($BB$13),$BD$7,$BD$4,$BD$8,$BD$10),$AX$15-$BC$23/2+BP196*$BC$23,NA())","v":{"$error":"#N/A"}},{"$f":"IF(B196=\"\",\"\",ROUND(($O$12*B196)/$BC$28,0))","v":""},{"$f":"IF(BS196=\"\",NA(),COUNTIF(BS196:$BS$303,BS196))","v":{"$error":"#N/A"}},{"$f":"$AX$35+BS196*$BC$28","v":{"$error":"#VALUE!"}},{"$f":"IF(AND(NOT($BD$12),$BD$5,$BD$4,$BD$8),$AX$12-$BC$27/2+BT196*$BC$27,NA())","v":{"$error":"#N/A"}},{"$f":"IF(AND($BD$12,$BD$5,$BD$4,$BD$8),$AX$12-$BC$27/2+BT196*$BC$27,NA())","v":{"$error":"#N/A"}}]
[null,null,"",null,null,null,null,null,null,null,155.09819500000145,29.581195000001458,19.445491058402471,1.5873183366118613E-3,-18.942221428820289,{"$error":"#N/A"},null,null,null,null,null,136,5.8787753826796436,0.61695522342441678,null,41.583497556011601,5.7900693689580418,5.7900693689580418,0.61695522342441678,-46.240503269977403,null,null,null,null,null,null,null,null,null,null,null,null,null,null,null,null,null,null,null,null,null,null,null,null,null,null,null,null,null,null,null,null,"",{"$f":"IF(BK197=\"\",NA(),COUNTIF(BK197:$BK$303,BK197))","v":{"$error":"#N/A"}},{"$error":"#VALUE!"},{"$error":"#N/A"},"",{"$f":"IF(BO197=\"\",NA(),COUNTIF(BO197:$BO$303,BO197))","v":{"$error":"#N/A"}},{"$error":"#VALUE!"},{"$error":"#N/A"},"",{"$f":"IF(BS197=\"\",NA(),COUNTIF(BS197:$BS$303,BS197))","v":{"$error":"#N/A"}},{"$error":"#VALUE!"},{"$error":"#N/A"},{"$error":"#N/A"}]
[null,null,"",null,null,null,null,null,null,null,155.32061000000147,29.80361000000147,19.739003756270836,1.3987742091517844E-3,-18.948587756551522,{"$error":"#N/A"},null,null,null,null,null,136.5,5.9604250407724164,0.62985615237091375,null,41.382349076756149,5.3271209832261768,5.3271209832261768,0.62985615237091375,-46.347453049998094,null,null,null,null,null,null,null,null,null,null,null,null,null,null,null,null,null,null,null,null,null,null,null,null,null,null,null,null,null,null,null,null,"",{"$f":"IF(BK198=\"\",NA(),COUNTIF(BK198:$BK$303,BK198))","v":{"$error":"#N/A"}},{"$error":"#VALUE!"},{"$error":"#N/A"},"",{"$f":"IF(BO198=\"\",NA(),COUNTIF(BO198:$BO$303,BO198))","v":{"$error":"#N/A"}},{"$error":"#VALUE!"},{"$error":"#N/A"},"",{"$f":"IF(BS198=\"\",NA(),COUNTIF(BS198:$BS$303,BS198))","v":{"$error":"#N/A"}},{"$error":"#VALUE!"},{"$error":"#N/A"},{"$error":"#N/A"}]
[null,null,"",null,null,null,null,null,null,null,155.54302500000148,30.026025000001482,20.034715051126977,1.2311222701648532E-3,-18.954313032233504,{"$error":"#N/A"},null,null,null,null,null,137,6.0420746988651892,0.64238515085468573,null,41.168223795051567,4.8686219942831297,4.8686219942831297,0.64238515085468573,-46.454014739655214,null,null,null,null,null,null,null,null,null,null,null,null,null,null,null,null,null,null,null,null,null,null,null,null,null,null,null,null,null,null,null,null,"",{"$f":"IF(BK199=\"\",NA(),COUNTIF(BK199:$BK$303,BK199))","v":{"$error":"#N/A"}},{"$error":"#VALUE!"},{"$error":"#N/A"},"",{"$f":"IF(BO199=\"\",NA(),COUNTIF(BO199:$BO$303,BO199))","v":{"$error":"#N/A"}},{"$error":"#VALUE!"},{"$error":"#N/A"},"",{"$f":"IF(BS199=\"\",NA(),COUNTIF(BS199:$BS$303,BS199))","v":{"$error":"#N/A"}},{"$error":"#VALUE!"},{"$error":"#N/A"},{"$error":"#N/A"}]
[null,null,"",null,null,null,null,null,null,null,155.76544000000149,30.248440000001494,20.332624942970899,1.082244193833039E-3,-18.959454228893303,{"$error":"#N/A"},null,null,null,null,null,137.5,6.123724356957962,0.65454417119003505,null,40.941786939866262,4.4200202270504922,4.4200202270504922,0.65454417119003505,-46.559862421908456,null,null,null,null,null,null,null,null,null,null,null,null,null,null,null,null,null,null,null,null,null,null,null,null,null,null,null,null,null,null,null,null,"",{"$f":"IF(BK200=\"\",NA(),COUNTIF(BK200:$BK$303,BK200))","v":{"$error":"#N/A"}},{"$error":"#VALUE!"},{"$error":"#N/A"},"",{"$f":"IF(BO200=\"\",NA(),COUNTIF(BO200:$BO$303,BO200))","v":{"$error":"#N/A"}},{"$error":"#VALUE!"},{"$error":"#N/A"},"",{"$f":"IF(BS200=\"\",NA(),COUNTIF(BS200:$BS$303,BS200))","v":{"$error":"#N/A"}},{"$error":"#VALUE!"},{"$error":"#N/A"},{"$error":"#N/A"}]
[null,null,"",null,null,null,null,null,null,null,155.9878550000015,30.470855000001507,20.632733431802595,9.5021166968231856E-4,-18.964064173354249,{"$error":"#N/A"},null,null,null,null,null,138,6.2053740150507348,0.666336232157272,null,40.703734169806147,3.9860905518314529,3.9860905518314529,0.666336232157272,-46.664708042361475,null,null,null,null,null,null,null,null,null,null,null,null,null,null,null,null,null,null,null,null,null,null,null,null,null,null,null,null,null,null,null,null,"",{"$f":"IF(BK201=\"\",NA(),COUNTIF(BK201:$BK$303,BK201))","v":{"$error":"#N/A"}},{"$error":"#VALUE!"},{"$error":"#N/A"},"",{"$f":"IF(BO201=\"\",NA(),COUNTIF(BO201:$BO$303,BO201))","v":{"$error":"#N/A"}},{"$error":"#VALUE!"},{"$error":"#N/A"},"",{"$f":"IF(BS201=\"\",NA(),COUNTIF(BS201:$BS$303,BS201))","v":{"$error":"#N/A"}},{"$error":"#VALUE!"},{"$error":"#N/A"},{"$error":"#N/A"}]
[null,null,"",null,null,null,null,null,null,null,156.21027000000151,30.693270000001519,20.935040517622074,8.332723685018636E-4,-18.96819173899182,{"$error":"#N/A"},null,null,null,null,null,138.5,6.2870236731435076,0.67776529157603393,null,40.454788022468421,3.570875982713591,3.570875982713591,0.67776529157603393,-46.76829888505145,null,null,null,null,null,null,null,null,null,null,null,null,null,null,null,null,null,null,null,null,null,null,null,null,null,null,null,null,null,null,null,null,"",{"$f":"IF(BK202=\"\",NA(),COUNTIF(BK202:$BK$303,BK202))","v":{"$error":"#N/A"}},{"$error":"#VALUE!"},{"$error":"#N/A"},"",{"$f":"IF(BO202=\"\",NA(),COUNTIF(BO202:$BO$303,BO202))","v":{"$error":"#N/A"}},{"$error":"#VALUE!"},{"$error":"#N/A"},"",{"$f":"IF(BS202=\"\",NA(),COUNTIF(BS202:$BS$303,BS202))","v":{"$error":"#N/A"}},{"$error":"#VALUE!"},{"$error":"#N/A"},{"$error":"#N/A"}]
[null,null,"",null,null,null,null,null,null,null,156.43268500000153,30.915685000001531,21.239546200429324,7.2983658601207674E-4,-18.971882043089714,{"$error":"#N/A"},null,null,null,null,null,139,6.3686733312362804,0.68883612769712754,null,40.195694274515262,3.1776574434757698,3.1776574434757698,0.68883612769712754,-46.870415049101311,null,null,null,null,null,null,null,null,null,null,null,null,null,null,null,null,null,null,null,null,null,null,null,null,null,null,null,null,null,null,null,null,"",{"$f":"IF(BK203=\"\",NA(),COUNTIF(BK203:$BK$303,BK203))","v":{"$error":"#N/A"}},{"$error":"#VALUE!"},{"$error":"#N/A"},"",{"$f":"IF(BO203=\"\",NA(),COUNTIF(BO203:$BO$303,BO203))","v":{"$error":"#N/A"}},{"$error":"#VALUE!"},{"$error":"#N/A"},"",{"$f":"IF(BS203=\"\",NA(),COUNTIF(BS203:$BS$303,BS203))","v":{"$error":"#N/A"}},{"$error":"#VALUE!"},{"$error":"#N/A"},{"$error":"#N/A"}]
[null,null,"",null,null,null,null,null,null,null,156.65510000000154,31.138100000001543,21.546250480224359,6.3846457611274404E-4,-18.975176646558968,{"$error":"#N/A"},null,null,null,null,null,139.5,6.4503229893290532,0.69955422934401357,null,39.927218238020828,2.8089505364159186,2.8089505364159186,0.69955422934401357,-46.970866960263862,null,null,null,null,null,null,null,null,null,null,null,null,null,null,null,null,null,null,null,null,null,null,null,null,null,null,null,null,null,null,null,null,"",{"$f":"IF(BK204=\"\",NA(),COUNTIF(BK204:$BK$303,BK204))","v":{"$error":"#N/A"}},{"$error":"#VALUE!"},{"$error":"#N/A"},"",{"$f":"IF(BO204=\"\",NA(),COUNTIF(BO204:$BO$303,BO204))","v":{"$error":"#N/A"}},{"$error":"#VALUE!"},{"$error":"#N/A"},"",{"$f":"IF(BS204=\"\",NA(),COUNTIF(BS204:$BS$303,BS204))","v":{"$error":"#N/A"}},{"$error":"#VALUE!"},{"$error":"#N/A"},{"$error":"#N/A"}]
[null,null,"",null,null,null,null,null,null,null,156.87751500000155,31.360515000001556,21.855153357007168,5.5785457825199575E-4,-18.978113754042617,{"$error":"#N/A"},null,null,null,null,null,140,6.531972647421826,0.7099256946298893,null,39.650141018685147,2.4665266317086783,2.4665266317086783,0.7099256946298893,-47.069492944321645,null,null,null,null,null,null,null,null,null,null,null,null,null,null,null,null,null,null,null,null,null,null,null,null,null,null,null,null,null,null,null,null,"",{"$f":"IF(BK205=\"\",NA(),COUNTIF(BK205:$BK$303,BK205))","v":{"$error":"#N/A"}},{"$error":"#VALUE!"},{"$error":"#N/A"},"",{"$f":"IF(BO205=\"\",NA(),COUNTIF(BO205:$BO$303,BO205))","v":{"$error":"#N/A"}},{"$error":"#VALUE!"},{"$error":"#N/A"},"",{"$f":"IF(BS205=\"\",NA(),COUNTIF(BS205:$BS$303,BS205))","v":{"$error":"#N/A"}},{"$error":"#VALUE!"},{"$error":"#N/A"},{"$error":"#N/A"}]
[null,null,"",null,null,null,null,null,null,null,157.09993000000156,31.582930000001568,22.166254830777756,4.8683153704640503E-4,-18.980728412676275,{"$error":"#N/A"},null,null,null,null,null,140.5,6.6136223055145988,0.71995713799375805,null,39.365255761323745,2.1514548169055336,2.1514548169055336,0.71995713799375805,-47.166156883173137,null,null,null,null,null,null,null,null,null,null,null,null,null,null,null,null,null,null,null,null,null,null,null,null,null,null,null,null,null,null,null,null,"",{"$f":"IF(BK206=\"\",NA(),COUNTIF(BK206:$BK$303,BK206))","v":{"$error":"#N/A"}},{"$error":"#VALUE!"},{"$error":"#N/A"},"",{"$f":"IF(BO206=\"\",NA(),COUNTIF(BO206:$BO$303,BO206))","v":{"$error":"#N/A"}},{"$error":"#VALUE!"},{"$error":"#N/A"},"",{"$f":"IF(BS206=\"\",NA(),COUNTIF(BS206:$BS$303,BS206))","v":{"$error":"#N/A"}},{"$error":"#VALUE!"},{"$error":"#N/A"},{"$error":"#N/A"}]
[null,null,"",null,null,null,null,null,null,null,157.32234500000158,31.80534500000158,22.479554901536122,4.2433650670974999E-4,-18.983052708009854,{"$error":"#N/A"},null,null,null,null,null,141,6.6952719636073716,0.7296556052364146,null,39.073363907636477,1.8641607261129733,1.8641607261129733,0.7296556052364146,-47.26074596918027,null,null,null,null,null,null,null,null,null,null,null,null,null,null,null,null,null,null,null,null,null,null,null,null,null,null,null,null,null,null,null,null,"",{"$f":"IF(BK207=\"\",NA(),COUNTIF(BK207:$BK$303,BK207))","v":{"$error":"#N/A"}},{"$error":"#VALUE!"},{"$error":"#N/A"},"",{"$f":"IF(BO207=\"\",NA(),COUNTIF(BO207:$BO$303,BO207))","v":{"$error":"#N/A"}},{"$error":"#VALUE!"},{"$error":"#N/A"},"",{"$f":"IF(BS207=\"\",NA(),COUNTIF(BS207:$BS$303,BS207))","v":{"$error":"#N/A"}},{"$error":"#VALUE!"},{"$error":"#N/A"},{"$error":"#N/A"}]
[null,null,"",null,null,null,null,null,null,null,157.54476000000159,32.027760000001592,22.795053569282263,3.6941672806478881E-4,-18.985115955816344,{"$error":"#N/A"},null,null,null,null,null,141.5,6.7769216217001444,0.73902849619129773,null,38.775271490642979,1.6044980063037637,1.6044980063037637,0.73902849619129773,-47.353168568928481,null,null,null,null,null,null,null,null,null,null,null,null,null,null,null,null,null,null,null,null,null,null,null,null,null,null,null,null,null,null,null,null,"",{"$f":"IF(BK208=\"\",NA(),COUNTIF(BK208:$BK$303,BK208))","v":{"$error":"#N/A"}},{"$error":"#VALUE!"},{"$error":"#N/A"},"",{"$f":"IF(BO208=\"\",NA(),COUNTIF(BO208:$BO$303,BO208))","v":{"$error":"#N/A"}},{"$error":"#VALUE!"},{"$error":"#N/A"},"",{"$f":"IF(BS208=\"\",NA(),COUNTIF(BS208:$BS$303,BS208))","v":{"$error":"#N/A"}},{"$error":"#VALUE!"},{"$error":"#N/A"},{"$error":"#N/A"}]
[null,null,"",null,null,null,null,null,null,null,157.7671750000016,32.250175000001605,23.112750834016186,3.2121636186808431E-4,-18.98694488871908,{"$error":"#N/A"},null,null,null,null,null,142,6.8585712797929173,0.74808349463350188,null,38.471785489354716,1.3718281582012359,1.3718281582012359,0.74808349463350188,-47.443352203783562,null,null,null,null,null,null,null,null,null,null,null,null,null,null,null,null,null,null,null,null,null,null,null,null,null,null,null,null,null,null,null,null,"",{"$f":"IF(BK209=\"\",NA(),COUNTIF(BK209:$BK$303,BK209))","v":{"$error":"#N/A"}},{"$error":"#VALUE!"},{"$error":"#N/A"},"",{"$f":"IF(BO209=\"\",NA(),COUNTIF(BO209:$BO$303,BO209))","v":{"$error":"#N/A"}},{"$error":"#VALUE!"},{"$error":"#N/A"},"",{"$f":"IF(BS209=\"\",NA(),COUNTIF(BS209:$BS$303,BS209))","v":{"$error":"#N/A"}},{"$error":"#VALUE!"},{"$error":"#N/A"},{"$error":"#N/A"}]
[null,null,"",null,null,null,null,null,null,null,157.98959000000161,32.472590000001617,23.432646695737887,2.789678588192473E-4,-18.988563836759081,{"$error":"#N/A"},null,null,null,null,null,142.5,6.9402209378856901,0.75682850501048815,null,38.163710266247975,1.1651046822641349,1.1651046822641349,0.75682850501048815,-47.531241651532532,null,null,null,null,null,null,null,null,null,null,null,null,null,null,null,null,null,null,null,null,null,null,null,null,null,null,null,null,null,null,null,null,"",{"$f":"IF(BK210=\"\",NA(),COUNTIF(BK210:$BK$303,BK210))","v":{"$error":"#N/A"}},{"$error":"#VALUE!"},{"$error":"#N/A"},"",{"$f":"IF(BO210=\"\",NA(),COUNTIF(BO210:$BO$303,BO210))","v":{"$error":"#N/A"}},{"$error":"#VALUE!"},{"$error":"#N/A"},"",{"$f":"IF(BS210=\"\",NA(),COUNTIF(BS210:$BS$303,BS210))","v":{"$error":"#N/A"}},{"$error":"#VALUE!"},{"$error":"#N/A"},{"$error":"#N/A"}]
[null,null,"",null,null,null,null,null,null,null,158.21200500000162,32.695005000001629,23.754741154447366,2.4198394389854551E-4,-18.989994901198315,{"$error":"#N/A"},null,null,null,null,null,143,7.0218705959784629,0.76527159556793767,null,37.851844108922322,0.98295782807795917,0.98295782807795917,0.76527159556793767,-47.616797170878776,null,null,null,null,null,null,null,null,null,null,null,null,null,null,null,null,null,null,null,null,null,null,null,null,null,null,null,null,null,null,null,null,"",{"$f":"IF(BK211=\"\",NA(),COUNTIF(BK211:$BK$303,BK211))","v":{"$error":"#N/A"}},{"$error":"#VALUE!"},{"$error":"#N/A"},"",{"$f":"IF(BO211=\"\",NA(),COUNTIF(BO211:$BO$303,BO211))","v":{"$error":"#N/A"}},{"$error":"#VALUE!"},{"$error":"#N/A"},"",{"$f":"IF(BS211=\"\",NA(),COUNTIF(BS211:$BS$303,BS211))","v":{"$error":"#N/A"}},{"$error":"#VALUE!"},{"$error":"#N/A"},{"$error":"#N/A"}]
[null,null,"",null,null,null,null,null,null,null,158.43442000000164,32.917420000001641,24.079034210144624,2.0965019052599274E-4,-18.991258121013445,{"$error":"#N/A"},null,null,null,null,null,143.5,7.1035202540712357,0.77342094744196266,null,37.536975895990693,0.82377674389001609,0.82377674389001609,0.77342094744196266,-47.699992848483511,null,null,null,null,null,null,null,null,null,null,null,null,null,null,null,null,null,null,null,null,null,null,null,null,null,null,null,null,null,null,null,null,"",{"$f":"IF(BK212=\"\",NA(),COUNTIF(BK212:$BK$303,BK212))","v":{"$error":"#N/A"}},{"$error":"#VALUE!"},{"$error":"#N/A"},"",{"$f":"IF(BO212=\"\",NA(),COUNTIF(BO212:$BO$303,BO212))","v":{"$error":"#N/A"}},{"$error":"#VALUE!"},{"$error":"#N/A"},"",{"$f":"IF(BS212=\"\",NA(),COUNTIF(BS212:$BS$303,BS212))","v":{"$error":"#N/A"}},{"$error":"#VALUE!"},{"$error":"#N/A"},{"$error":"#N/A"}]
[null,null,"",null,null,null,null,null,null,null,158.65683500000165,33.139835000001653,24.405525862829659,1.8141815840648056E-4,-18.992371631677578,{"$error":"#N/A"},null,null,null,null,null,144,7.1851699121640085,0.78128480929326249,null,37.219881905768212,0.68578640617619091,0.68578640617619091,0.78128480929326249,-47.780815066610543,null,null,null,null,null,null,null,null,null,null,null,null,null,null,null,null,null,null,null,null,null,null,null,null,null,null,null,null,null,null,null,null,"",{"$f":"IF(BK213=\"\",NA(),COUNTIF(BK213:$BK$303,BK213))","v":{"$error":"#N/A"}},{"$error":"#VALUE!"},{"$error":"#N/A"},"",{"$f":"IF(BO213=\"\",NA(),COUNTIF(BO213:$BO$303,BO213))","v":{"$error":"#N/A"}},{"$error":"#VALUE!"},{"$error":"#N/A"},"",{"$f":"IF(BS213=\"\",NA(),COUNTIF(BS213:$BS$303,BS213))","v":{"$error":"#N/A"}},{"$error":"#VALUE!"},{"$error":"#N/A"},{"$error":"#N/A"}]
[null,null,"",null,null,null,null,null,null,null,158.87925000000166,33.362250000001666,24.73421611250247,1.567990677661165E-4,-18.993351815955652,{"$error":"#N/A"},null,null,null,null,null,144.5,7.2668195702567813,0.7888714570679678,null,36.901322784724471,0.56711733252159369,0.56711733252159369,0.7888714570679678,-47.859261088186081,null,null,null,null,null,null,null,null,null,null,null,null,null,null,null,null,null,null,null,null,null,null,null,null,null,null,null,null,null,null,null,null,"",{"$f":"IF(BK214=\"\",NA(),COUNTIF(BK214:$BK$303,BK214))","v":{"$error":"#N/A"}},{"$error":"#VALUE!"},{"$error":"#N/A"},"",{"$f":"IF(BO214=\"\",NA(),COUNTIF(BO214:$BO$303,BO214))","v":{"$error":"#N/A"}},{"$error":"#VALUE!"},{"$error":"#N/A"},"",{"$f":"IF(BS214=\"\",NA(),COUNTIF(BS214:$BS$303,BS214))","v":{"$error":"#N/A"}},{"$error":"#VALUE!"},{"$error":"#N/A"},{"$error":"#N/A"}]
[null,null,"",null,null,null,null,null,null,null,159.10166500000167,33.584665000001678,25.065104959163062,1.3535798194315844E-4,-18.9942134465525,{"$error":"#N/A"},null,null,null,null,null,145,7.3484692283495541,0.79618915848295668,null,36.582040690958074,0.46586670447887762,0.46586670447887762,0.79618915848295668,-47.935337755076347,null,null,null,null,null,null,null,null,null,null,null,null,null,null,null,null,null,null,null,null,null,null,null,null,null,null,null,null,null,null,null,null,"",{"$f":"IF(BK215=\"\",NA(),COUNTIF(BK215:$BK$303,BK215))","v":{"$error":"#N/A"}},{"$error":"#VALUE!"},{"$error":"#N/A"},"",{"$f":"IF(BO215=\"\",NA(),COUNTIF(BO215:$BO$303,BO215))","v":{"$error":"#N/A"}},{"$error":"#VALUE!"},{"$error":"#N/A"},"",{"$f":"IF(BS215=\"\",NA(),COUNTIF(BS215:$BS$303,BS215))","v":{"$error":"#N/A"}},{"$error":"#VALUE!"},{"$error":"#N/A"},{"$error":"#N/A"}]
[null,null,"",null,null,null,null,null,null,null,159.32408000000169,33.80708000000169,25.398192402811425,1.1670846992338865E-4,-18.99496982055204,{"$error":"#N/A"},null,null,null,null,null,145.5,7.4301188864423269,0.80324614184960963,null,36.262756626162457,0.38015011644348373,0.38015011644348373,0.80324614184960963,-48.009060294728393,null,null,null,null,null,null,null,null,null,null,null,null,null,null,null,null,null,null,null,null,null,null,null,null,null,null,null,null,null,null,null,null,"",{"$f":"IF(BK216=\"\",NA(),COUNTIF(BK216:$BK$303,BK216))","v":{"$error":"#N/A"}},{"$error":"#VALUE!"},{"$error":"#N/A"},"",{"$f":"IF(BO216=\"\",NA(),COUNTIF(BO216:$BO$303,BO216))","v":{"$error":"#N/A"}},{"$error":"#VALUE!"},{"$error":"#N/A"},"",{"$f":"IF(BS216=\"\",NA(),COUNTIF(BS216:$BS$303,BS216))","v":{"$error":"#N/A"}},{"$error":"#VALUE!"},{"$error":"#N/A"},{"$error":"#N/A"}]
[null,null,"",null,null,null,null,null,null,null,159.5464950000017,34.029495000001702,25.733478443447574,1.0050772035746878E-4,-18.995632885672595,{"$error":"#N/A"},null,null,null,null,null,146,7.5117685445350997,0.81005056886758475,null,35.944167967698128,0.30814369549282006,0.30814369549282006,0.81005056886758475,-48.080451229782085,null,null,null,null,null,null,null,null,null,null,null,null,null,null,null,null,null,null,null,null,null,null,null,null,null,null,null,null,null,null,null,null,"",{"$f":"IF(BK217=\"\",NA(),COUNTIF(BK217:$BK$303,BK217))","v":{"$error":"#N/A"}},{"$error":"#VALUE!"},{"$error":"#N/A"},"",{"$f":"IF(BO217=\"\",NA(),COUNTIF(BO217:$BO$303,BO217))","v":{"$error":"#N/A"}},{"$error":"#VALUE!"},{"$error":"#N/A"},"",{"$f":"IF(BS217=\"\",NA(),COUNTIF(BS217:$BS$303,BS217))","v":{"$error":"#N/A"}},{"$error":"#VALUE!"},{"$error":"#N/A"},{"$error":"#N/A"}]
[null,null,"",null,null,null,null,null,null,null,159.76891000000171,34.251910000001715,26.070963081071497,8.6452078822603939E-5,-18.996213358437185,{"$error":"#N/A"},null,null,null,null,null,146.5,7.5934182026278725,0.8166105110401215,null,35.626946210489002,0.24811678716755342,0.24811678716755342,0.8166105110401215,-48.149539384971391,null,null,null,null,null,null,null,null,null,null,null,null,null,null,null,null,null,null,null,null,null,null,null,null,null,null,null,null,null,null,null,null,"",{"$f":"IF(BK218=\"\",NA(),COUNTIF(BK218:$BK$303,BK218))","v":{"$error":"#N/A"}},{"$error":"#VALUE!"},{"$error":"#N/A"},"",{"$f":"IF(BO218=\"\",NA(),COUNTIF(BO218:$BO$303,BO218))","v":{"$error":"#N/A"}},{"$error":"#VALUE!"},{"$error":"#N/A"},"",{"$f":"IF(BS218=\"\",NA(),COUNTIF(BS218:$BS$303,BS218))","v":{"$error":"#N/A"}},{"$error":"#VALUE!"},{"$error":"#N/A"},{"$error":"#N/A"}]
[null,null,"",null,null,null,null,null,null,null,159.99132500000172,34.474325000001727,26.410646315683202,7.4272980551341955E-5,-18.996720834420227,{"$error":"#N/A"},null,null,null,null,null,147,7.6750678607206453,0.8229339293820126,null,35.311734926539074,0.19845576282452917,0.19845576282452917,0.8229339293820126,-48.21635898546517,null,null,null,null,null,null,null,null,null,null,null,null,null,null,null,null,null,null,null,null,null,null,null,null,null,null,null,null,null,null,null,null,"",{"$f":"IF(BK219=\"\",NA(),COUNTIF(BK219:$BK$303,BK219))","v":{"$error":"#N/A"}},{"$error":"#VALUE!"},{"$error":"#N/A"},"",{"$f":"IF(BO219=\"\",NA(),COUNTIF(BO219:$BO$303,BO219))","v":{"$error":"#N/A"}},{"$error":"#VALUE!"},{"$error":"#N/A"},"",{"$f":"IF(BS219=\"\",NA(),COUNTIF(BS219:$BS$303,BS219))","v":{"$error":"#N/A"}},{"$error":"#VALUE!"},{"$error":"#N/A"},{"$error":"#N/A"}]
[null,null,"",null,null,null,null,null,null,null,160.21374000000174,34.696740000001739,26.752528147282682,6.3733251508374614E-5,-18.997163890784126,{"$error":"#N/A"},null,null,null,null,null,147.5,7.7567175188134181,0.82902865711248019,null,34.999147947940727,0.15767977217452048,0.15767977217452048,0.82902865711248019,-48.280948840725863,null,null,null,null,null,null,null,null,null,null,null,null,null,null,null,null,null,null,null,null,null,null,null,null,null,null,null,null,null,null,null,null,"",{"$f":"IF(BK220=\"\",NA(),COUNTIF(BK220:$BK$303,BK220))","v":{"$error":"#N/A"}},{"$error":"#VALUE!"},{"$error":"#N/A"},"",{"$f":"IF(BO220=\"\",NA(),COUNTIF(BO220:$BO$303,BO220))","v":{"$error":"#N/A"}},{"$error":"#VALUE!"},{"$error":"#N/A"},"",{"$f":"IF(BS220=\"\",NA(),COUNTIF(BS220:$BS$303,BS220))","v":{"$error":"#N/A"}},{"$error":"#VALUE!"},{"$error":"#N/A"},{"$error":"#N/A"}]
[null,null,"",null,null,null,null,null,null,null,160.43615500000175,34.919155000001751,27.09660857586994,5.4623751516616829E-5,-18.99755018136128,{"$error":"#N/A"},null,null,null,null,null,148,7.8383671769061909,0.83490238504532399,null,34.689767777335234,0.12444944277680056,0.12444944277680056,0.83490238504532399,-48.343351608042937,null,null,null,null,null,null,null,null,null,null,null,null,null,null,null,null,null,null,null,null,null,null,null,null,null,null,null,null,null,null,null,null,"",{"$f":"IF(BK221=\"\",NA(),COUNTIF(BK221:$BK$303,BK221))","v":{"$error":"#N/A"}},{"$error":"#VALUE!"},{"$error":"#N/A"},"",{"$f":"IF(BO221=\"\",NA(),COUNTIF(BO221:$BO$303,BO221))","v":{"$error":"#N/A"}},{"$error":"#VALUE!"},{"$error":"#N/A"},"",{"$f":"IF(BS221=\"\",NA(),COUNTIF(BS221:$BS$303,BS221))","v":{"$error":"#N/A"}},{"$error":"#VALUE!"},{"$error":"#N/A"},{"$error":"#N/A"}]
[null,null,"",null,null,null,null,null,null,null,160.65857000000176,35.141570000001764,27.442887601444973,4.6760334084620733E-5,-18.997886524570717,{"$error":"#N/A"},null,null,null,null,null,148.5,7.9200168349989637,0.84056264940925762,null,34.384144227909204,9.7569624245369302E-2,9.7569624245369302E-2,0.84056264940925762,-48.403613129976947,null,null,null,null,null,null,null,null,null,null,null,null,null,null,null,null,null,null,null,null,null,null,null,null,null,null,null,null,null,null,null,null,"",{"$f":"IF(BK222=\"\",NA(),COUNTIF(BK222:$BK$303,BK222))","v":{"$error":"#N/A"}},{"$error":"#VALUE!"},{"$error":"#N/A"},"",{"$f":"IF(BO222=\"\",NA(),COUNTIF(BO222:$BO$303,BO222))","v":{"$error":"#N/A"}},{"$error":"#VALUE!"},{"$error":"#N/A"},"",{"$f":"IF(BS222=\"\",NA(),COUNTIF(BS222:$BS$303,BS222))","v":{"$error":"#N/A"}},{"$error":"#VALUE!"},{"$error":"#N/A"},{"$error":"#N/A"}]
[null,null,"",null,null,null,null,null,null,null,160.88098500000177,35.363985000001776,27.791365224007794,3.9981098639630402E-5,-18.998178984483975,{"$error":"#N/A"},null,null,null,null,null,149,8.0016664930917365,0.84601682185093419,null,34.082793293183805,7.5987299766276328E-2,7.5987299766276328E-2,0.84601682185093419,-48.46178184014552,null,null,null,null,null,null,null,null,null,null,null,null,null,null,null,null,null,null,null,null,null,null,null,null,null,null,null,null,null,null,null,null,"",{"$f":"IF(BK223=\"\",NA(),COUNTIF(BK223:$BK$303,BK223))","v":{"$error":"#N/A"}},{"$error":"#VALUE!"},{"$error":"#N/A"},"",{"$f":"IF(BO223=\"\",NA(),COUNTIF(BO223:$BO$303,BO223))","v":{"$error":"#N/A"}},{"$error":"#VALUE!"},{"$error":"#N/A"},"",{"$f":"IF(BS223=\"\",NA(),COUNTIF(BS223:$BS$303,BS223))","v":{"$error":"#N/A"}},{"$error":"#VALUE!"},{"$error":"#N/A"},{"$error":"#N/A"}]
[null,null,"",null,null,null,null,null,null,null,161.10340000000178,35.586400000001788,28.142041443558387,3.414391199837473E-5,-18.998432945373377,{"$error":"#N/A"},null,null,null,null,null,149.5,8.0833161511845084,0.85127210139234599,null,33.786196245093173,5.8785754275017449E-2,5.8785754275017449E-2,0.85127210139234599,-48.517908231984862,null,null,null,null,null,null,null,null,null,null,null,null,null,null,null,null,null,null,null,null,null,null,null,null,null,null,null,null,null,null,null,null,"",{"$f":"IF(BK224=\"\",NA(),COUNTIF(BK224:$BK$303,BK224))","v":{"$error":"#N/A"}},{"$error":"#VALUE!"},{"$error":"#N/A"},"",{"$f":"IF(BO224=\"\",NA(),COUNTIF(BO224:$BO$303,BO224))","v":{"$error":"#N/A"}},{"$error":"#VALUE!"},{"$error":"#N/A"},"",{"$f":"IF(BS224=\"\",NA(),COUNTIF(BS224:$BS$303,BS224))","v":{"$error":"#N/A"}},{"$error":"#VALUE!"},{"$error":"#N/A"},{"$error":"#N/A"}]
[null,null,"",null,null,null,null,null,null,null,161.3258150000018,35.8088150000018,28.494916260096755,2.9124177088045455E-5,-18.998653180088098,{"$error":"#N/A"},null,null,null,null,null,150,8.1649658092772803,0.85633550813246284,null,33.494798957169344,4.517601109582204E-2,4.517601109582204E-2,0.85633550813246284,-48.572044385386171,null,null,null,null,null,null,null,null,null,null,null,null,null,null,null,null,null,null,null,null,null,null,null,null,null,null,null,null,null,null,null,null,"",{"$f":"IF(BK225=\"\",NA(),COUNTIF(BK225:$BK$303,BK225))","v":{"$error":"#N/A"}},{"$error":"#VALUE!"},{"$error":"#N/A"},"",{"$f":"IF(BO225=\"\",NA(),COUNTIF(BO225:$BO$303,BO225))","v":{"$error":"#N/A"}},{"$error":"#VALUE!"},{"$error":"#N/A"},"",{"$f":"IF(BS225=\"\",NA(),COUNTIF(BS225:$BS$303,BS225))","v":{"$error":"#N/A"}},{"$error":"#VALUE!"},{"$error":"#N/A"},{"$error":"#N/A"}]
[null,null,"",null,null,null,null,null,null,null,161.54823000000181,36.031230000001813,28.849989673622904,2.481282814259467E-5,-18.998843912610273,{"$error":"#N/A"},null,null,null,null,null,150.5,8.2466154673700522,0.86121387850030506,null,33.209011448066136,3.4486440506484688E-2,3.4486440506484688E-2,0.86121387850030506,-48.624243546314233,null,null,null,null,null,null,null,null,null,null,null,null,null,null,null,null,null,null,null,null,null,null,null,null,null,null,null,null,null,null,null,null,"",{"$f":"IF(BK226=\"\",NA(),COUNTIF(BK226:$BK$303,BK226))","v":{"$error":"#N/A"}},{"$error":"#VALUE!"},{"$error":"#N/A"},"",{"$f":"IF(BO226=\"\",NA(),COUNTIF(BO226:$BO$303,BO226))","v":{"$error":"#N/A"}},{"$error":"#VALUE!"},{"$error":"#N/A"},"",{"$f":"IF(BS226=\"\",NA(),COUNTIF(BS226:$BS$303,BS226))","v":{"$error":"#N/A"}},{"$error":"#VALUE!"},{"$error":"#N/A"},{"$error":"#N/A"}]
[null,null,"",null,null,null,null,null,null,null,161.77064500000182,36.253645000001825,29.207261684136828,2.1114532826901082E-5,-18.999008875145318,{"$error":"#N/A"},null,null,null,null,null,151,8.3282651254628242,0.86591386188338038,null,32.929207639175495,2.6151316968241269E-2,2.6151316968241269E-2,0.86591386188338038,-48.674559754895483,null,null,null,null,null,null,null,null,null,null,null,null,null,null,null,null,null,null,null,null,null,null,null,null,null,null,null,null,null,null,null,null,"",{"$f":"IF(BK227=\"\",NA(),COUNTIF(BK227:$BK$303,BK227))","v":{"$error":"#N/A"}},{"$error":"#VALUE!"},{"$error":"#N/A"},"",{"$f":"IF(BO227=\"\",NA(),COUNTIF(BO227:$BO$303,BO227))","v":{"$error":"#N/A"}},{"$error":"#VALUE!"},{"$error":"#N/A"},"",{"$f":"IF(BS227=\"\",NA(),COUNTIF(BS227:$BS$303,BS227))","v":{"$error":"#N/A"}},{"$error":"#VALUE!"},{"$error":"#N/A"},{"$error":"#N/A"}]
[null,null,"",null,null,null,null,null,null,null,161.99306000000183,36.476060000001837,29.566732291638534,1.794608296836806E-5,-18.99915136009885,{"$error":"#N/A"},null,null,null,null,null,151.5,8.4099147835555961,0.87044191847009877,null,32.655725318727406,1.9698967397186972E-2,1.9698967397186972E-2,0.87044191847009877,-48.723047517612372,null,null,null,null,null,null,null,null,null,null,null,null,null,null,null,null,null,null,null,null,null,null,null,null,null,null,null,null,null,null,null,null,"",{"$f":"IF(BK228=\"\",NA(),COUNTIF(BK228:$BK$303,BK228))","v":{"$error":"#N/A"}},{"$error":"#VALUE!"},{"$error":"#N/A"},"",{"$f":"IF(BO228=\"\",NA(),COUNTIF(BO228:$BO$303,BO228))","v":{"$error":"#N/A"}},{"$error":"#VALUE!"},{"$error":"#N/A"},"",{"$f":"IF(BS228=\"\",NA(),COUNTIF(BS228:$BS$303,BS228))","v":{"$error":"#N/A"}},{"$error":"#VALUE!"},{"$error":"#N/A"},{"$error":"#N/A"}]
[null,null,"",null,null,null,null,null,null,null,162.21547500000185,36.698475000001849,29.928401496128018,1.5234956789273854E-5,-18.99927426728706,{"$error":"#N/A"},null,null,null,null,null,152,8.491564441648368,0.87480431816047277,null,32.388866303526207,1.4740019622232968E-2,1.4740019622232968E-2,0.87480431816047277,-48.769761519605396,null,null,null,null,null,null,null,null,null,null,null,null,null,null,null,null,null,null,null,null,null,null,null,null,null,null,null,null,null,null,null,null,"",{"$f":"IF(BK229=\"\",NA(),COUNTIF(BK229:$BK$303,BK229))","v":{"$error":"#N/A"}},{"$error":"#VALUE!"},{"$error":"#N/A"},"",{"$f":"IF(BO229=\"\",NA(),COUNTIF(BO229:$BO$303,BO229))","v":{"$error":"#N/A"}},{"$error":"#VALUE!"},{"$error":"#N/A"},"",{"$f":"IF(BS229=\"\",NA(),COUNTIF(BS229:$BS$303,BS229))","v":{"$error":"#N/A"}},{"$error":"#VALUE!"},{"$error":"#N/A"},{"$error":"#N/A"}]
[null,null,"",null,null,null,null,null,null,null,162.43789000000186,36.920890000001862,30.29226929760528,1.2918036722930438E-5,-18.999380146719286,{"$error":"#N/A"},null,null,null,null,null,152.5,8.5732140997411399,0.87900714041155603,null,32.12889678836931,1.0956134758710748E-2,1.0956134758710748E-2,0.87900714041155603,-48.814756373396712,null,null,null,null,null,null,null,null,null,null,null,null,null,null,null,null,null,null,null,null,null,null,null,null,null,null,null,null,null,null,null,null,"",{"$f":"IF(BK230=\"\",NA(),COUNTIF(BK230:$BK$303,BK230))","v":{"$error":"#N/A"}},{"$error":"#VALUE!"},{"$error":"#N/A"},"",{"$f":"IF(BO230=\"\",NA(),COUNTIF(BO230:$BO$303,BO230))","v":{"$error":"#N/A"}},{"$error":"#VALUE!"},{"$error":"#N/A"},"",{"$f":"IF(BS230=\"\",NA(),COUNTIF(BS230:$BS$303,BS230))","v":{"$error":"#N/A"}},{"$error":"#VALUE!"},{"$error":"#N/A"},{"$error":"#N/A"}]
[null,null,"",null,null,null,null,null,null,null,162.66030500000187,37.143305000001874,30.658335696070314,1.0940468053605165E-5,-18.999471237280915,{"$error":"#N/A"},null,null,null,null,null,153,8.6548637578339118,0.88305627489759142,null,31.876047872223644,8.0894942849357304E-3,8.0894942849357304E-3,0.88305627489759142,-48.858086400490791,null,null,null,null,null,null,null,null,null,null,null,null,null,null,null,null,null,null,null,null,null,null,null,null,null,null,null,null,null,null,null,null,"",{"$f":"IF(BK231=\"\",NA(),COUNTIF(BK231:$BK$303,BK231))","v":{"$error":"#N/A"}},{"$error":"#VALUE!"},{"$error":"#N/A"},"",{"$f":"IF(BO231=\"\",NA(),COUNTIF(BO231:$BO$303,BO231))","v":{"$error":"#N/A"}},{"$error":"#VALUE!"},{"$error":"#N/A"},"",{"$f":"IF(BS231=\"\",NA(),COUNTIF(BS231:$BS$303,BS231))","v":{"$error":"#N/A"}},{"$error":"#VALUE!"},{"$error":"#N/A"},{"$error":"#N/A"}]
[null,null,"",null,null,null,null,null,null,null,162.88272000000188,37.365720000001886,31.026600691523132,9.2546447371097613E-6,-18.999549501632593,{"$error":"#N/A"},null,null,null,null,null,153.5,8.7365134159266837,0.88695742287599943,null,31.6305162494039,5.9332149606798976E-3,5.9332149606798976E-3,0.88695742287599943,-48.899805442698003,null,null,null,null,null,null,null,null,null,null,null,null,null,null,null,null,null,null,null,null,null,null,null,null,null,null,null,null,null,null,null,null,"",{"$f":"IF(BK232=\"\",NA(),COUNTIF(BK232:$BK$303,BK232))","v":{"$error":"#N/A"}},{"$error":"#VALUE!"},{"$error":"#N/A"},"",{"$f":"IF(BO232=\"\",NA(),COUNTIF(BO232:$BO$303,BO232))","v":{"$error":"#N/A"}},{"$error":"#VALUE!"},{"$error":"#N/A"},"",{"$f":"IF(BS232=\"\",NA(),COUNTIF(BS232:$BS$303,BS232))","v":{"$error":"#N/A"}},{"$error":"#VALUE!"},{"$error":"#N/A"},{"$error":"#N/A"}]
[null,null,"",null,null,null,null,null,null,null,163.10513500000189,37.588135000001898,31.397064283963726,7.8193098304401523E-6,-18.999616657627801,{"$error":"#N/A"},null,null,null,null,null,154,8.8181630740194556,0.8907160991611377,null,31.392465053306438,4.3227836203805934E-3,4.3227836203805934E-3,0.8907160991611377,-48.9399667001965,null,null,null,null,null,null,null,null,null,null,null,null,null,null,null,null,null,null,null,null,null,null,null,null,null,null,null,null,null,null,null,null,"",{"$f":"IF(BK233=\"\",NA(),COUNTIF(BK233:$BK$303,BK233))","v":{"$error":"#N/A"}},{"$error":"#VALUE!"},{"$error":"#N/A"},"",{"$f":"IF(BO233=\"\",NA(),COUNTIF(BO233:$BO$303,BO233))","v":{"$error":"#N/A"}},{"$error":"#VALUE!"},{"$error":"#N/A"},"",{"$f":"IF(BS233=\"\",NA(),COUNTIF(BS233:$BS$303,BS233))","v":{"$error":"#N/A"}},{"$error":"#VALUE!"},{"$error":"#N/A"},{"$error":"#N/A"}]
[null,null,"",null,null,null,null,null,null,null,163.32755000000191,37.810550000001911,31.769726473392101,6.5987589807081755E-6,-18.999674206536213,{"$error":"#N/A"},null,null,null,null,null,154.5,8.8998127321122276,0.89433763461774241,null,31.162024839703506,3.1285392989853825E-3,3.1285392989853825E-3,0.89433763461774241,-48.978622593657903,null,null,null,null,null,null,null,null,null,null,null,null,null,null,null,null,null,null,null,null,null,null,null,null,null,null,null,null,null,null,null,null,"",{"$f":"IF(BK234=\"\",NA(),COUNTIF(BK234:$BK$303,BK234))","v":{"$error":"#N/A"}},{"$error":"#VALUE!"},{"$error":"#N/A"},"",{"$f":"IF(BO234=\"\",NA(),COUNTIF(BO234:$BO$303,BO234))","v":{"$error":"#N/A"}},{"$error":"#VALUE!"},{"$error":"#N/A"},"",{"$f":"IF(BS234=\"\",NA(),COUNTIF(BS234:$BS$303,BS234))","v":{"$error":"#N/A"}},{"$error":"#VALUE!"},{"$error":"#N/A"},{"$error":"#N/A"}]
[null,null,"",null,null,null,null,null,null,null,163.54996500000192,38.032965000001923,32.144587259808247,5.5621363929244089E-6,-18.999723458344842,{"$error":"#N/A"},null,null,null,null,null,155,8.9814623902049995,0.8978271790946023,null,30.939294696192849,2.2491811530150722E-3,2.2491811530150722E-3,0.8978271790946023,-49.015824647876734,null,null,null,null,null,null,null,null,null,null,null,null,null,null,null,null,null,null,null,null,null,null,null,null,null,null,null,null,null,null,null,null,"",{"$f":"IF(BK235=\"\",NA(),COUNTIF(BK235:$BK$303,BK235))","v":{"$error":"#N/A"}},{"$error":"#VALUE!"},{"$error":"#N/A"},"",{"$f":"IF(BO235=\"\",NA(),COUNTIF(BO235:$BO$303,BO235))","v":{"$error":"#N/A"}},{"$error":"#VALUE!"},{"$error":"#N/A"},"",{"$f":"IF(BS235=\"\",NA(),COUNTIF(BS235:$BS$303,BS235))","v":{"$error":"#N/A"}},{"$error":"#VALUE!"},{"$error":"#N/A"},{"$error":"#N/A"}]
[null,null,"",null,null,null,null,null,null,null,163.77238000000193,38.255380000001935,32.521646643212179,4.682813611119257E-6,-18.999765554393075,{"$error":"#N/A"},null,null,null,null,null,155.5,9.0631120482977714,0.90118970472820081,null,30.724343464124722,1.606245633665321E-3,1.606245633665321E-3,0.90118970472820081,-49.051623394672909,null,null,null,null,null,null,null,null,null,null,null,null,null,null,null,null,null,null,null,null,null,null,null,null,null,null,null,null,null,null,null,null,"",{"$f":"IF(BK236=\"\",NA(),COUNTIF(BK236:$BK$303,BK236))","v":{"$error":"#N/A"}},{"$error":"#VALUE!"},{"$error":"#N/A"},"",{"$f":"IF(BO236=\"\",NA(),COUNTIF(BO236:$BO$303,BO236))","v":{"$error":"#N/A"}},{"$error":"#VALUE!"},{"$error":"#N/A"},"",{"$f":"IF(BS236=\"\",NA(),COUNTIF(BS236:$BS$303,BS236))","v":{"$error":"#N/A"}},{"$error":"#VALUE!"},{"$error":"#N/A"},{"$error":"#N/A"}]
[null,null,"",null,null,null,null,null,null,null,163.99479500000194,38.477795000001947,32.900904623603886,3.9378423068976988E-6,-18.99980148758171,{"$error":"#N/A"},null,null,null,null,null,156,9.1447617063905433,0.9044300095524066,null,30.517211059187439,1.1394733910258651E-3,1.1394733910258651E-3,0.9044300095524066,-49.08606829300119,null,null,null,null,null,null,null,null,null,null,null,null,null,null,null,null,null,null,null,null,null,null,null,null,null,null,null,null,null,null,null,null,"",{"$f":"IF(BK237=\"\",NA(),COUNTIF(BK237:$BK$303,BK237))","v":{"$error":"#N/A"}},{"$error":"#VALUE!"},{"$error":"#N/A"},"",{"$f":"IF(BO237=\"\",NA(),COUNTIF(BO237:$BO$303,BO237))","v":{"$error":"#N/A"}},{"$error":"#VALUE!"},{"$error":"#N/A"},"",{"$f":"IF(BS237=\"\",NA(),COUNTIF(BS237:$BS$303,BS237))","v":{"$error":"#N/A"}},{"$error":"#VALUE!"},{"$error":"#N/A"},{"$error":"#N/A"}]
[null,null,"",null,null,null,null,null,null,null,164.21721000000196,38.70021000000196,33.282361200983367,3.3074730736743608E-6,-18.99983212038029,{"$error":"#N/A"},null,null,null,null,null,156.5,9.2264113644833152,0.9075527213583332,null,30.317909876818604,8.029733272073218E-4,8.029733272073218E-4,0.9075527213583332,-49.119207664301818,null,null,null,null,null,null,null,null,null,null,null,null,null,null,null,null,null,null,null,null,null,null,null,null,null,null,null,null,null,null,null,null,"",{"$f":"IF(BK238=\"\",NA(),COUNTIF(BK238:$BK$303,BK238))","v":{"$error":"#N/A"}},{"$error":"#VALUE!"},{"$error":"#N/A"},"",{"$f":"IF(BO238=\"\",NA(),COUNTIF(BO238:$BO$303,BO238))","v":{"$error":"#N/A"}},{"$error":"#VALUE!"},{"$error":"#N/A"},"",{"$f":"IF(BS238=\"\",NA(),COUNTIF(BS238:$BS$303,BS238))","v":{"$error":"#N/A"}},{"$error":"#VALUE!"},{"$error":"#N/A"},{"$error":"#N/A"}]
[null,null,"",null,null,null,null,null,null,null,164.43962500000197,38.922625000001972,33.66601637535063,2.7747329740526734E-6,-18.999858200841135,{"$error":"#N/A"},null,null,null,null,null,157,9.3080610225760871,0.91056230175413455,null,30.126426268715409,5.6208598156446354E-4,5.6208598156446354E-4,0.91056230175413455,-49.15108864143788,null,null,null,null,null,null,null,null,null,null,null,null,null,null,null,null,null,null,null,null,null,null,null,null,null,null,null,null,null,null,null,null,"",{"$f":"IF(BK239=\"\",NA(),COUNTIF(BK239:$BK$303,BK239))","v":{"$error":"#N/A"}},{"$error":"#VALUE!"},{"$error":"#N/A"},"",{"$f":"IF(BO239=\"\",NA(),COUNTIF(BO239:$BO$303,BO239))","v":{"$error":"#N/A"}},{"$error":"#VALUE!"},{"$error":"#N/A"},"",{"$f":"IF(BS239=\"\",NA(),COUNTIF(BS239:$BS$303,BS239))","v":{"$error":"#N/A"}},{"$error":"#VALUE!"},{"$error":"#N/A"},{"$error":"#N/A"}]
[null,null,"",null,null,null,null,null,null,null,164.66204000000198,39.145040000001984,34.051870146705674,2.3250552831683148E-6,-18.999880376813326,{"$error":"#N/A"},null,null,null,null,null,157.5,9.3897106806688591,0.91346305038037479,null,29.942722076936125,3.9084907849384811E-4,3.9084907849384811E-4,0.91346305038037479,-49.181757129618923,null,null,null,null,null,null,null,null,null,null,null,null,null,null,null,null,null,null,null,null,null,null,null,null,null,null,null,null,null,null,null,null,"",{"$f":"IF(BK240=\"\",NA(),COUNTIF(BK240:$BK$303,BK240))","v":{"$error":"#N/A"}},{"$error":"#VALUE!"},{"$error":"#N/A"},"",{"$f":"IF(BO240=\"\",NA(),COUNTIF(BO240:$BO$303,BO240))","v":{"$error":"#N/A"}},{"$error":"#VALUE!"},{"$error":"#N/A"},"",{"$f":"IF(BS240=\"\",NA(),COUNTIF(BS240:$BS$303,BS240))","v":{"$error":"#N/A"}},{"$error":"#VALUE!"},{"$error":"#N/A"},{"$error":"#N/A"}]
[null,null,"",null,null,null,null,null,null,null,164.88445500000199,39.367455000001996,34.439922515048494,1.9459555138340902E-6,-18.999899208534949,{"$error":"#N/A"},null,null,null,null,null,158,9.471360338761631,0.91625910924188358,null,29.76673621240824,2.6997287661367525E-4,2.6997287661367525E-4,0.91625910924188358,-49.211257777899199,null,null,null,null,null,null,null,null,null,null,null,null,null,null,null,null,null,null,null,null,null,null,null,null,null,null,null,null,null,null,null,null,"",{"$f":"IF(BK241=\"\",NA(),COUNTIF(BK241:$BK$303,BK241))","v":{"$error":"#N/A"}},{"$error":"#VALUE!"},{"$error":"#N/A"},"",{"$f":"IF(BO241=\"\",NA(),COUNTIF(BO241:$BO$303,BO241))","v":{"$error":"#N/A"}},{"$error":"#VALUE!"},{"$error":"#N/A"},"",{"$f":"IF(BS241=\"\",NA(),COUNTIF(BS241:$BS$303,BS241))","v":{"$error":"#N/A"}},{"$error":"#VALUE!"},{"$error":"#N/A"},{"$error":"#N/A"}]
[null,null,"",null,null,null,null,null,null,null,165.106870000002,39.589870000002009,34.830173480379088,1.626748401876941E-6,-18.999915179767676,{"$error":"#N/A"},null,null,null,null,null,158.5,9.5530099968544029,0.91895446712156192,null,29.598386265077192,1.8524047211931257E-4,1.8524047211931257E-4,0.91895446712156192,-49.23963395998922,null,null,null,null,null,null,null,null,null,null,null,null,null,null,null,null,null,null,null,null,null,null,null,null,null,null,null,null,null,null,null,null,"",{"$f":"IF(BK242=\"\",NA(),COUNTIF(BK242:$BK$303,BK242))","v":{"$error":"#N/A"}},{"$error":"#VALUE!"},{"$error":"#N/A"},"",{"$f":"IF(BO242=\"\",NA(),COUNTIF(BO242:$BO$303,BO242))","v":{"$error":"#N/A"}},{"$error":"#VALUE!"},{"$error":"#N/A"},"",{"$f":"IF(BS242=\"\",NA(),COUNTIF(BS242:$BS$303,BS242))","v":{"$error":"#N/A"}},{"$error":"#VALUE!"},{"$error":"#N/A"},{"$error":"#N/A"}]
[null,null,"",null,null,null,null,null,null,null,165.32928500000202,39.812285000002021,35.222623042697464,1.3583010742946144E-6,-18.999928707624598,{"$error":"#N/A"},null,null,null,null,null,159,9.6346596549471748,0.92155296404583209,null,29.43757013343415,1.2625725059550461E-4,1.2625725059550461E-4,0.92155296404583209,-49.266927763187113,null,null,null,null,null,null,null,null,null,null,null,null,null,null,null,null,null,null,null,null,null,null,null,null,null,null,null,null,null,null,null,null,"",{"$f":"IF(BK243=\"\",NA(),COUNTIF(BK243:$BK$303,BK243))","v":{"$error":"#N/A"}},{"$error":"#VALUE!"},{"$error":"#N/A"},"",{"$f":"IF(BO243=\"\",NA(),COUNTIF(BO243:$BO$303,BO243))","v":{"$error":"#N/A"}},{"$error":"#VALUE!"},{"$error":"#N/A"},"",{"$f":"IF(BS243=\"\",NA(),COUNTIF(BS243:$BS$303,BS243))","v":{"$error":"#N/A"}},{"$error":"#VALUE!"},{"$error":"#N/A"},{"$error":"#N/A"}]
[null,null,"",null,null,null,null,null,null,null,165.55170000000203,40.034700000002033,35.617271202003614,1.1328181241400208E-6,-18.999940151226181,{"$error":"#N/A"},null,null,null,null,null,159.5,9.7163093130399467,0.92405829577550624,null,29.284167661741659,8.5483339470923846E-5,8.5483339470923846E-5,0.92405829577550624,-49.293179984415261,null,null,null,null,null,null,null,null,null,null,null,null,null,null,null,null,null,null,null,null,null,null,null,null,null,null,null,null,null,null,null,null,"",{"$f":"IF(BK244=\"\",NA(),COUNTIF(BK244:$BK$303,BK244))","v":{"$error":"#N/A"}},{"$error":"#VALUE!"},{"$error":"#N/A"},"",{"$f":"IF(BO244=\"\",NA(),COUNTIF(BO244:$BO$303,BO244))","v":{"$error":"#N/A"}},{"$error":"#VALUE!"},{"$error":"#N/A"},"",{"$f":"IF(BS244=\"\",NA(),COUNTIF(BS244:$BS$303,BS244))","v":{"$error":"#N/A"}},{"$error":"#VALUE!"},{"$error":"#N/A"},{"$error":"#N/A"}]
[null,null,"",null,null,null,null,null,null,null,165.77411500000204,40.257115000002045,36.014117958297547,9.4365474909299271E-7,-18.999949819316271,{"$error":"#N/A"},null,null,null,null,null,160,9.7979589711327186,0.92647401829883003,null,29.138042273922245,5.7492518730245401E-5,5.7492518730245401E-5,0.92647401829883003,-49.318430132440504,null,null,null,null,null,null,null,null,null,null,null,null,null,null,null,null,null,null,null,null,null,null,null,null,null,null,null,null,null,null,null,null,"",{"$f":"IF(BK245=\"\",NA(),COUNTIF(BK245:$BK$303,BK245))","v":{"$error":"#N/A"}},{"$error":"#VALUE!"},{"$error":"#N/A"},"",{"$f":"IF(BO245=\"\",NA(),COUNTIF(BO245:$BO$303,BO245))","v":{"$error":"#N/A"}},{"$error":"#VALUE!"},{"$error":"#N/A"},"",{"$f":"IF(BS245=\"\",NA(),COUNTIF(BS245:$BS$303,BS245))","v":{"$error":"#N/A"}},{"$error":"#VALUE!"},{"$error":"#N/A"},{"$error":"#N/A"}]
[null,null,"",null,null,null,null,null,null,null,165.99653000000205,40.479530000002057,36.413163311579261,7.8515459193463346E-7,-18.999957976945119,{"$error":"#N/A"},null,null,null,null,null,160.5,9.8796086292254905,0.92880355230689371,null,28.999042593777016,3.8410140373751061E-5,3.8410140373751061E-5,0.92880355230689371,-49.342716435403055,null,null,null,null,null,null,null,null,null,null,null,null,null,null,null,null,null,null,null,null,null,null,null,null,null,null,null,null,null,null,null,null,"",{"$f":"IF(BK246=\"\",NA(),COUNTIF(BK246:$BK$303,BK246))","v":{"$error":"#N/A"}},{"$error":"#VALUE!"},{"$error":"#N/A"},"",{"$f":"IF(BO246=\"\",NA(),COUNTIF(BO246:$BO$303,BO246))","v":{"$error":"#N/A"}},{"$error":"#VALUE!"},{"$error":"#N/A"},"",{"$f":"IF(BS246=\"\",NA(),COUNTIF(BS246:$BS$303,BS246))","v":{"$error":"#N/A"}},{"$error":"#VALUE!"},{"$error":"#N/A"},{"$error":"#N/A"}]
[null,null,"",null,null,null,null,null,null,null,166.21894500000207,40.70194500000207,36.814407261848743,6.5250918054168895E-7,-18.99996485132322,{"$error":"#N/A"},null,null,null,null,null,161,9.9612582873182625,0.93105018763425773,null,28.867004041948515,2.5490899266811029E-5,2.5490899266811029E-5,0.93105018763425773,-49.3660758529155,null,null,null,null,null,null,null,null,null,null,null,null,null,null,null,null,null,null,null,null,null,null,null,null,null,null,null,null,null,null,null,null,"",{"$f":"IF(BK247=\"\",NA(),COUNTIF(BK247:$BK$303,BK247))","v":{"$error":"#N/A"}},{"$error":"#VALUE!"},{"$error":"#N/A"},"",{"$f":"IF(BO247=\"\",NA(),COUNTIF(BO247:$BO$303,BO247))","v":{"$error":"#N/A"}},{"$error":"#VALUE!"},{"$error":"#N/A"},"",{"$f":"IF(BS247=\"\",NA(),COUNTIF(BS247:$BS$303,BS247))","v":{"$error":"#N/A"}},{"$error":"#VALUE!"},{"$error":"#N/A"},{"$error":"#N/A"}]
[null,null,"",null,null,null,null,null,null,null,166.44136000000208,40.924360000002082,37.217849809106006,5.4163632526737175E-7,-18.999970636945932,{"$error":"#N/A"},null,null,null,null,null,161.5,10.042907945411034,0.93321708765012745,null,28.741750400824916,1.6804636497028539E-5,1.6804636497028539E-5,0.93321708765012745,-49.388544092071655,null,null,null,null,null,null,null,null,null,null,null,null,null,null,null,null,null,null,null,null,null,null,null,null,null,null,null,null,null,null,null,null,"",{"$f":"IF(BK248=\"\",NA(),COUNTIF(BK248:$BK$303,BK248))","v":{"$error":"#N/A"}},{"$error":"#VALUE!"},{"$error":"#N/A"},"",{"$f":"IF(BO248=\"\",NA(),COUNTIF(BO248:$BO$303,BO248))","v":{"$error":"#N/A"}},{"$error":"#VALUE!"},{"$error":"#N/A"},"",{"$f":"IF(BS248=\"\",NA(),COUNTIF(BS248:$BS$303,BS248))","v":{"$error":"#N/A"}},{"$error":"#VALUE!"},{"$error":"#N/A"},{"$error":"#N/A"}]
[null,null,"",null,null,null,null,null,null,null,166.66377500000209,41.146775000002094,37.623490953351052,4.4907506335930156E-7,-18.999975500065858,{"$error":"#N/A"},null,null,null,null,null,162,10.124557603503806,0.93530729358752107,null,28.623095339390797,1.1004689465152932E-5,1.1004689465152932E-5,0.93530729358752107,-49.410155626748363,null,null,null,null,null,null,null,null,null,null,null,null,null,null,null,null,null,null,null,null,null,null,null,null,null,null,null,null,null,null,null,null,"",{"$f":"IF(BK249=\"\",NA(),COUNTIF(BK249:$BK$303,BK249))","v":{"$error":"#N/A"}},{"$error":"#VALUE!"},{"$error":"#N/A"},"",{"$f":"IF(BO249=\"\",NA(),COUNTIF(BO249:$BO$303,BO249))","v":{"$error":"#N/A"}},{"$error":"#VALUE!"},{"$error":"#N/A"},"",{"$f":"IF(BS249=\"\",NA(),COUNTIF(BS249:$BS$303,BS249))","v":{"$error":"#N/A"}},{"$error":"#VALUE!"},{"$error":"#N/A"},{"$error":"#N/A"}]
[null,null,"",null,null,null,null,null,null,null,166.8861900000021,41.369190000002106,38.031330694583872,3.7189504217918998E-7,-18.999979582591898,{"$error":"#N/A"},null,null,null,null,null,162.5,10.206207261596578,0.93732372880006087,null,28.510843890854151,7.1586505816878551E-6,7.1586505816878551E-6,0.93732372880006087,-49.430943719664889,null,null,null,null,null,null,null,null,null,null,null,null,null,null,null,null,null,null,null,null,null,null,null,null,null,null,null,null,null,null,null,null,"",{"$f":"IF(BK250=\"\",NA(),COUNTIF(BK250:$BK$303,BK250))","v":{"$error":"#N/A"}},{"$error":"#VALUE!"},{"$error":"#N/A"},"",{"$f":"IF(BO250=\"\",NA(),COUNTIF(BO250:$BO$303,BO250))","v":{"$error":"#N/A"}},{"$error":"#VALUE!"},{"$error":"#N/A"},"",{"$f":"IF(BS250=\"\",NA(),COUNTIF(BS250:$BS$303,BS250))","v":{"$error":"#N/A"}},{"$error":"#VALUE!"},{"$error":"#N/A"},{"$error":"#N/A"}]
[null,null,"",null,null,null,null,null,null,null,167.10860500000211,41.591605000002119,38.441369032804467,3.0761847705381585E-7,-18.999983005482189,{"$error":"#N/A"},null,null,null,null,null,163,10.28785691968935,0.93926920293755778,null,28.404793876710766,4.6258254480756746E-6,4.6258254480756746E-6,0.93926920293755778,-49.450940446751531,null,null,null,null,null,null,null,null,null,null,null,null,null,null,null,null,null,null,null,null,null,null,null,null,null,null,null,null,null,null,null,null,"",{"$f":"IF(BK251=\"\",NA(),COUNTIF(BK251:$BK$303,BK251))","v":{"$error":"#N/A"}},{"$error":"#VALUE!"},{"$error":"#N/A"},"",{"$f":"IF(BO251=\"\",NA(),COUNTIF(BO251:$BO$303,BO251))","v":{"$error":"#N/A"}},{"$error":"#VALUE!"},{"$error":"#N/A"},"",{"$f":"IF(BS251=\"\",NA(),COUNTIF(BS251:$BS$303,BS251))","v":{"$error":"#N/A"}},{"$error":"#VALUE!"},{"$error":"#N/A"},{"$error":"#N/A"}]
[null,null,"",null,null,null,null,null,null,null,167.33102000000213,41.814020000002131,38.85360596801285,2.5415304165774517E-7,-18.999985871691671,{"$error":"#N/A"},null,null,null,null,null,163.5,10.369506577782122,0.94114641603314275,null,28.304737271737189,2.9692859319835319E-6,2.9692859319835319E-6,0.94114641603314275,-49.470176723363124,null,null,null,null,null,null,null,null,null,null,null,null,null,null,null,null,null,null,null,null,null,null,null,null,null,null,null,null,null,null,null,null,"",{"$f":"IF(BK252=\"\",NA(),COUNTIF(BK252:$BK$303,BK252))","v":{"$error":"#N/A"}},{"$error":"#VALUE!"},{"$error":"#N/A"},"",{"$f":"IF(BO252=\"\",NA(),COUNTIF(BO252:$BO$303,BO252))","v":{"$error":"#N/A"}},{"$error":"#VALUE!"},{"$error":"#N/A"},"",{"$f":"IF(BS252=\"\",NA(),COUNTIF(BS252:$BS$303,BS252))","v":{"$error":"#N/A"}},{"$error":"#VALUE!"},{"$error":"#N/A"},{"$error":"#N/A"}]
[null,null,"",null,null,null,null,null,null,null,167.55343500000214,42.036435000002143,39.268041500209002,2.0973424725475272E-7,-18.999988268728423,{"$error":"#N/A"},null,null,null,null,null,164,10.451156235874894,0.94295796249634622,null,28.210461505224263,1.8933003004471957E-6,1.8933003004471957E-6,0.94295796249634622,-49.488682331994212,null,null,null,null,null,null,null,null,null,null,null,null,null,null,null,null,null,null,null,null,null,null,null,null,null,null,null,null,null,null,null,null,"",{"$f":"IF(BK253=\"\",NA(),COUNTIF(BK253:$BK$303,BK253))","v":{"$error":"#N/A"}},{"$error":"#VALUE!"},{"$error":"#N/A"},"",{"$f":"IF(BO253=\"\",NA(),COUNTIF(BO253:$BO$303,BO253))","v":{"$error":"#N/A"}},{"$error":"#VALUE!"},{"$error":"#N/A"},"",{"$f":"IF(BS253=\"\",NA(),COUNTIF(BS253:$BS$303,BS253))","v":{"$error":"#N/A"}},{"$error":"#VALUE!"},{"$error":"#N/A"},{"$error":"#N/A"}]
[null,null,"",null,null,null,null,null,null,null,167.77585000000215,42.258850000002155,39.684675629392935,1.7287604400667734E-7,-18.999990270867027,{"$error":"#N/A"},null,null,null,null,null,164.5,10.532805893967666,0.94470633500726975,null,28.121750694567407,1.199200194861536E-6,1.199200194861536E-6,0.94470633500726975,-49.506485951166887,null,null,null,null,null,null,null,null,null,null,null,null,null,null,null,null,null,null,null,null,null,null,null,null,null,null,null,null,null,null,null,null,"",{"$f":"IF(BK254=\"\",NA(),COUNTIF(BK254:$BK$303,BK254))","v":{"$error":"#N/A"}},{"$error":"#VALUE!"},{"$error":"#N/A"},"",{"$f":"IF(BO254=\"\",NA(),COUNTIF(BO254:$BO$303,BO254))","v":{"$error":"#N/A"}},{"$error":"#VALUE!"},{"$error":"#N/A"},"",{"$f":"IF(BS254=\"\",NA(),COUNTIF(BS254:$BS$303,BS254))","v":{"$error":"#N/A"}},{"$error":"#VALUE!"},{"$error":"#N/A"},{"$error":"#N/A"}]
[null,null,"",null,null,null,null,null,null,null,167.99826500000216,42.481265000002168,40.103508355564649,1.4232853487199952E-7,-18.99999194106179,{"$error":"#N/A"},null,null,null,null,null,165,10.614455552060438,0.94639392830854141,null,28.038386808110896,7.5451622021924041E-7,7.5451622021924041E-7,0.94639392830854141,-49.523615185181185,null,null,null,null,null,null,null,null,null,null,null,null,null,null,null,null,null,null,null,null,null,null,null,null,null,null,null,null,null,null,null,null,"",{"$f":"IF(BK255=\"\",NA(),COUNTIF(BK255:$BK$303,BK255))","v":{"$error":"#N/A"}},{"$error":"#VALUE!"},{"$error":"#N/A"},"",{"$f":"IF(BO255=\"\",NA(),COUNTIF(BO255:$BO$303,BO255))","v":{"$error":"#N/A"}},{"$error":"#VALUE!"},{"$error":"#N/A"},"",{"$f":"IF(BS255=\"\",NA(),COUNTIF(BS255:$BS$303,BS255))","v":{"$error":"#N/A"}},{"$error":"#VALUE!"},{"$error":"#N/A"},{"$error":"#N/A"}]
[null,null,"",null,null,null,null,null,null,null,168.22068000000218,42.70368000000218,40.524539678724139,1.1704183221057556E-7,-18.999993332597843,{"$error":"#N/A"},null,null,null,null,null,165.5,10.69610521015321,{"$f":"nct(W256,$T$63,$T$64)","v":0.9480230428923575},null,27.960150754895402,4.7157434909311389E-7,4.7157434909311389E-7,{"$f":"X256","v":0.9480230428923575},-49.540096594495395,null,null,null,null,null,null,null,null,null,null,null,null,null,null,null,null,null,null,null,null,null,null,null,null,null,null,null,null,null,null,null,null,"",{"$f":"IF(BK256=\"\",NA(),COUNTIF(BK256:$BK$303,BK256))","v":{"$error":"#N/A"}},{"$error":"#VALUE!"},{"$error":"#N/A"},"",{"$f":"IF(BO256=\"\",NA(),COUNTIF(BO256:$BO$303,BO256))","v":{"$error":"#N/A"}},{"$error":"#VALUE!"},{"$error":"#N/A"},"",{"$f":"IF(BS256=\"\",NA(),COUNTIF(BS256:$BS$303,BS256))","v":{"$error":"#N/A"}},{"$error":"#VALUE!"},{"$error":"#N/A"},{"$error":"#N/A"}]
[null,null,"",null,null,null,null,null,null,null,168.44309500000219,{"$f":"K257-$I$63","v":42.926095000002192},{"$f":"L257^2/$I$66","v":40.947769598871403},{"$f":"CHIDIST(M257,$H$17)","v":9.6135210807710198E-8},-18.999994490513664,{"$error":"#N/A"},null,null,null,null,null,166,{"$f":"W256+$T$67","v":10.777754868245982},0.94959588858092325,null,{"$f":"IF(NOT($BB$13),$AX$6+$AA$62*$AX$5*NORMDIST(V257,$O$10,$O$12,FALSE),-999)","v":27.88682339967578},{"$f":"IF(AND(NOT($BB$13),$BD$4,$BD$9),$AX$9+$AD$62*NORMDIST(V257,$O$10,$O$12/SQRT($H$15),FALSE),NA())","v":2.9277667273173689E-7},2.9277667273173689E-7,0.94959588858092325,{"$f":"IF(AND(NOT($BB$13),$BD$7,$BD$4,$BD$9,$BB$21,$BD$10),IF($BD$12,$AX$15+AA257,$AX$15+$AD$62*(AC258-AC256)/(2*$AZ$7)),NA())","v":-49.555955726507221},null,null,null,null,null,null,null,null,null,null,null,null,null,null,null,null,null,null,null,null,null,null,null,null,null,null,null,null,null,null,null,null,"",{"$f":"IF(BK257=\"\",NA(),COUNTIF(BK257:$BK$303,BK257))","v":{"$error":"#N/A"}},{"$error":"#VALUE!"},{"$error":"#N/A"},"",{"$f":"IF(BO257=\"\",NA(),COUNTIF(BO257:$BO$303,BO257))","v":{"$error":"#N/A"}},{"$error":"#VALUE!"},{"$error":"#N/A"},"",{"$f":"IF(BS257=\"\",NA(),COUNTIF(BS257:$BS$303,BS257))","v":{"$error":"#N/A"}},{"$error":"#VALUE!"},{"$error":"#N/A"},{"$error":"#N/A"}]
[null,null,"",null,null,null,null,null,null,null,{"$f":"K257+$I$65","v":168.6655100000022},43.148510000002204,41.373198116006449,7.887082022575952E-8,{"$f":"IF(AND($B$4<>\"\",$BD$3,$BD$5,$BD$9,NOT($BD$12)),$AX$12+$I$67*(N257-N259)/(2*$I$65),NA())","v":-18.999995452824781},{"$f":"IF(AND($B$4<>\"\",$BD$3,$BD$5,$BD$9,$BD$12),$AX$12+$I$67*(N257-N259)/(2*$I$65),NA())","v":{"$error":"#N/A"}},null,null,null,null,null,{"$f":"V257+$AZ$7","v":166.5},10.859404526338754,0.95111458799918824,null,27.818186502255337,1.805624634760978E-7,{"$f":"IF($BD$6,AA258,NA())","v":1.805624634760978E-7},0.95111458799918824,-49.571217146535119,null,null,null,null,null,null,null,null,null,null,null,null,null,null,null,null,null,null,null,null,null,null,null,null,null,null,null,null,null,null,null,null,"",{"$f":"IF(BK258=\"\",NA(),COUNTIF(BK258:$BK$303,BK258))","v":{"$error":"#N/A"}},{"$error":"#VALUE!"},{"$error":"#N/A"},"",{"$f":"IF(BO258=\"\",NA(),COUNTIF(BO258:$BO$303,BO258))","v":{"$error":"#N/A"}},{"$error":"#VALUE!"},{"$error":"#N/A"},"",{"$f":"IF(BS258=\"\",NA(),COUNTIF(BS258:$BS$303,BS258))","v":{"$error":"#N/A"}},{"$error":"#VALUE!"},{"$error":"#N/A"},{"$error":"#N/A"}]
[null,null,"",null,null,null,null,null,null,null,168.88792500000221,43.370925000002217,41.800825230129277,6.4631315656997872E-8,-18.999996251574629,{"$error":"#N/A"},null,null,null,null,null,167,10.941054184431525,0.95258117993958735,null,27.754023580819752,1.1061733092441688E-7,1.1061733092441688E-7,0.95258117993958735,-49.585904468829277,null,null,null,null,null,null,null,null,null,null,null,null,null,null,null,null,null,null,null,null,null,null,null,null,null,null,null,null,null,null,null,null,"",{"$f":"IF(BK259=\"\",NA(),COUNTIF(BK259:$BK$303,BK259))","v":{"$error":"#N/A"}},{"$error":"#VALUE!"},{"$error":"#N/A"},"",{"$f":"IF(BO259=\"\",NA(),COUNTIF(BO259:$BO$303,BO259))","v":{"$error":"#N/A"}},{"$error":"#VALUE!"},{"$error":"#N/A"},"",{"$f":"IF(BS259=\"\",NA(),COUNTIF(BS259:$BS$303,BS259))","v":{"$error":"#N/A"}},{"$error":"#VALUE!"},{"$error":"#N/A"},{"$error":"#N/A"}]
[null,null,{"$f":"IF(AND(A260<>\"\",$H$15>1),(($O$10+$O$12*A260)-$L$8)/IF($BD$12,$BB$9,$O$12*B260),\"\")","v":""},null,null,null,null,null,null,null,169.11034000000222,43.593340000002229,42.230650941239873,5.2900851140609528E-8,-18.999996913735664,{"$error":"#N/A"},null,null,null,null,null,167.5,11.022703842524297,0.95399762261887044,null,27.694120699545316,6.731681852919934E-8,6.731681852919934E-8,0.95399762261887044,-49.600040387496001,null,null,null,null,null,null,null,null,null,null,null,null,null,null,null,null,null,null,null,null,null,null,null,null,null,null,null,null,null,null,null,null,{"$f":"IF(A260=\"\",\"\",ROUND(($O$10+$O$12*A260)/$BC$24,0))","v":""},{"$f":"IF(BK260=\"\",NA(),COUNTIF(BK260:$BK$303,BK260))","v":{"$error":"#N/A"}},{"$f":"BK260*$BC$24","v":{"$error":"#VALUE!"}},{"$f":"IF(AND(NOT($BB$13),$BD$6,$BD$4,$BD$8),$AX$9-$BC$23/2+BL260*$BC$23,NA())","v":{"$error":"#N/A"}},{"$f":"IF(C260=\"\",\"\",ROUND(($L$8+C260*$BB$9)/$BC$24,0))","v":""},{"$f":"IF(BO260=\"\",NA(),COUNTIF(BO260:$BO$303,BO260))","v":{"$error":"#N/A"}},{"$f":"BO260*$BC$24","v":{"$error":"#VALUE!"}},{"$f":"IF(AND(NOT($BB$13),$BD$7,$BD$4,$BD$8,$BD$10),$AX$15-$BC$23/2+BP260*$BC$23,NA())","v":{"$error":"#N/A"}},{"$f":"IF(B260=\"\",\"\",ROUND(($O$12*B260)/$BC$28,0))","v":""},{"$f":"IF(BS260=\"\",NA(),COUNTIF(BS260:$BS$303,BS260))","v":{"$error":"#N/A"}},{"$f":"$AX$35+BS260*$BC$28","v":{"$error":"#VALUE!"}},{"$f":"IF(AND(NOT($BD$12),$BD$5,$BD$4,$BD$8),$AX$12-$BC$27/2+BT260*$BC$27,NA())","v":{"$error":"#N/A"}},{"$f":"IF(AND($BD$12,$BD$5,$BD$4,$BD$8),$AX$12-$BC$27/2+BT260*$BC$27,NA())","v":{"$error":"#N/A"}}]
[null,null,"",null,null,null,null,null,null,null,169.33275500000224,43.815755000002241,42.66267524933825,4.3248953357749627E-8,-18.999997461980769,{"$error":"#N/A"},null,null,null,null,null,168,11.104353500617069,0.95536579682753997,null,27.638267181300499,4.0693841884350995E-8,4.0693841884350995E-8,0.95536579682753997,-49.613646707180841,null,null,null,null,null,null,null,null,null,null,null,null,null,null,null,null,null,null,null,null,null,null,null,null,null,null,null,null,null,null,null,null,"",{"$f":"IF(BK261=\"\",NA(),COUNTIF(BK261:$BK$303,BK261))","v":{"$error":"#N/A"}},{"$error":"#VALUE!"},{"$error":"#N/A"},"",{"$f":"IF(BO261=\"\",NA(),COUNTIF(BO261:$BO$303,BO261))","v":{"$error":"#N/A"}},{"$error":"#VALUE!"},{"$error":"#N/A"},"",{"$f":"IF(BS261=\"\",NA(),COUNTIF(BS261:$BS$303,BS261))","v":{"$error":"#N/A"}},{"$error":"#VALUE!"},{"$error":"#N/A"},{"$error":"#N/A"}]
[null,null,"",null,null,null,null,null,null,null,169.55517000000225,44.038170000002253,43.096898154424409,3.5316859361030717E-8,-18.999997915342604,{"$error":"#N/A"},null,null,null,null,null,168.5,11.186003158709841,0.95668750897305721,null,27.5862562467548,2.443647213643823E-8,2.443647213643823E-8,0.95668750897305721,-49.626744373405529,null,null,null,null,null,null,null,null,null,null,null,null,null,null,null,null,null,null,null,null,null,null,null,null,null,null,null,null,null,null,null,null,"",{"$f":"IF(BK262=\"\",NA(),COUNTIF(BK262:$BK$303,BK262))","v":{"$error":"#N/A"}},{"$error":"#VALUE!"},{"$error":"#N/A"},"",{"$f":"IF(BO262=\"\",NA(),COUNTIF(BO262:$BO$303,BO262))","v":{"$error":"#N/A"}},{"$error":"#VALUE!"},{"$error":"#N/A"},"",{"$f":"IF(BS262=\"\",NA(),COUNTIF(BS262:$BS$303,BS262))","v":{"$error":"#N/A"}},{"$error":"#VALUE!"},{"$error":"#N/A"},{"$error":"#N/A"}]
[null,null,"",null,null,null,null,null,null,null,169.77758500000226,44.260585000002266,43.533319656498342,2.8805958554822499E-8,-18.999998289776304,{"$error":"#N/A"},null,null,null,null,null,169,11.267652816802613,0.95796449401806671,null,27.537885581653949,1.4576492221810712E-8,1.4576492221810712E-8,0.95796449401806671,-49.639353502493215,null,null,null,null,null,null,null,null,null,null,null,null,null,null,null,null,null,null,null,null,null,null,null,null,null,null,null,null,null,null,null,null,"",{"$f":"IF(BK263=\"\",NA(),COUNTIF(BK263:$BK$303,BK263))","v":{"$error":"#N/A"}},{"$error":"#VALUE!"},{"$error":"#N/A"},"",{"$f":"IF(BO263=\"\",NA(),COUNTIF(BO263:$BO$303,BO263))","v":{"$error":"#N/A"}},{"$error":"#VALUE!"},{"$error":"#N/A"},"",{"$f":"IF(BS263=\"\",NA(),COUNTIF(BS263:$BS$303,BS263))","v":{"$error":"#N/A"}},{"$error":"#VALUE!"},{"$error":"#N/A"},{"$error":"#N/A"}]
[null,null,"",null,null,null,null,null,null,null,170.00000000000227,44.483000000002278,43.971939755560058,2.3468028949905596E-8,-18.999998598638964,{"$error":"#N/A"},null,null,null,null,null,169.5,11.349302474895385,0.95919841831525565,null,27.492957834415368,8.6371854871793451E-9,8.6371854871793451E-9,0.95919841831525565,-49.651493410969969,null,null,null,null,null,null,null,null,null,null,null,null,null,null,null,null,null,null,null,null,null,null,null,null,null,null,null,null,null,null,null,null,"",{"$f":"IF(BK264=\"\",NA(),COUNTIF(BK264:$BK$303,BK264))","v":{"$error":"#N/A"}},{"$error":"#VALUE!"},{"$error":"#N/A"},"",{"$f":"IF(BO264=\"\",NA(),COUNTIF(BO264:$BO$303,BO264))","v":{"$error":"#N/A"}},{"$error":"#VALUE!"},{"$error":"#N/A"},"",{"$f":"IF(BS264=\"\",NA(),COUNTIF(BS264:$BS$303,BS264))","v":{"$error":"#N/A"}},{"$error":"#VALUE!"},{"$error":"#N/A"},{"$error":"#N/A"}]
[null,null,"",null,null,null,null,null,null,null,170.22241500000229,44.70541500000229,44.412758451609548,1.909700100938121E-8,-18.999998853097541,{"$error":"#N/A"},null,null,null,null,null,170,11.430952132988157,0.96039088234087788,null,27.451281046542377,5.0838903017875398E-9,5.0838903017875398E-9,0.96039088234087788,-49.663182644424808,null,null,null,null,null,null,null,null,null,null,null,null,null,null,null,null,null,null,null,null,null,null,null,null,null,null,null,null,null,null,null,null,"",{"$f":"IF(BK265=\"\",NA(),COUNTIF(BK265:$BK$303,BK265))","v":{"$error":"#N/A"}},{"$error":"#VALUE!"},{"$error":"#N/A"},"",{"$f":"IF(BO265=\"\",NA(),COUNTIF(BO265:$BO$303,BO265))","v":{"$error":"#N/A"}},{"$error":"#VALUE!"},{"$error":"#N/A"},"",{"$f":"IF(BS265=\"\",NA(),COUNTIF(BS265:$BS$303,BS265))","v":{"$error":"#N/A"}},{"$error":"#VALUE!"},{"$error":"#N/A"},{"$error":"#N/A"}]
[null,null,"",null,null,null,null,null,null,null,170.4448300000023,44.927830000002302,44.85577574464682,1.5522020037441816E-8,-18.999997243597676,{"$error":"#N/A"},null,null,null,null,null,170.5,11.512601791080929,0.9615434233286827,null,null,null,null,0.9615434233286827,null,null,null,null,null,null,null,null,null,null,null,null,null,null,null,null,null,null,null,null,null,null,null,null,null,null,null,null,null,null,null,null,null,"",{"$f":"IF(BK266=\"\",NA(),COUNTIF(BK266:$BK$303,BK266))","v":{"$error":"#N/A"}},{"$error":"#VALUE!"},{"$error":"#N/A"},"",{"$f":"IF(BO266=\"\",NA(),COUNTIF(BO266:$BO$303,BO266))","v":{"$error":"#N/A"}},{"$error":"#VALUE!"},{"$error":"#N/A"},"",{"$f":"IF(BS266=\"\",NA(),COUNTIF(BS266:$BS$303,BS266))","v":{"$error":"#N/A"}},{"$error":"#VALUE!"},{"$error":"#N/A"},{"$error":"#N/A"}]
[null,null,"",null,null,null,null,null,null,null,null,null,null,null,null,null,null,null,null,null,null,null,null,null,null,null,null,null,null,null,null,null,null,null,null,null,null,null,null,null,null,null,null,null,null,null,null,null,null,null,null,null,null,null,null,null,null,null,null,null,null,null,"",{"$f":"IF(BK267=\"\",NA(),COUNTIF(BK267:$BK$303,BK267))","v":{"$error":"#N/A"}},{"$error":"#VALUE!"},{"$error":"#N/A"},"",{"$f":"IF(BO267=\"\",NA(),COUNTIF(BO267:$BO$303,BO267))","v":{"$error":"#N/A"}},{"$error":"#VALUE!"},{"$error":"#N/A"},"",{"$f":"IF(BS267=\"\",NA(),COUNTIF(BS267:$BS$303,BS267))","v":{"$error":"#N/A"}},{"$error":"#VALUE!"},{"$error":"#N/A"},{"$error":"#N/A"}]
[null,null,"",null,null,null,null,null,null,null,null,null,null,null,null,null,null,null,null,null,null,null,null,null,null,null,null,null,null,null,null,null,null,null,null,null,null,null,null,null,null,null,null,null,null,null,null,null,null,null,null,null,null,null,null,null,null,null,null,null,null,null,"",{"$f":"IF(BK268=\"\",NA(),COUNTIF(BK268:$BK$303,BK268))","v":{"$error":"#N/A"}},{"$error":"#VALUE!"},{"$error":"#N/A"},"",{"$f":"IF(BO268=\"\",NA(),COUNTIF(BO268:$BO$303,BO268))","v":{"$error":"#N/A"}},{"$error":"#VALUE!"},{"$error":"#N/A"},"",{"$f":"IF(BS268=\"\",NA(),COUNTIF(BS268:$BS$303,BS268))","v":{"$error":"#N/A"}},{"$error":"#VALUE!"},{"$error":"#N/A"},{"$error":"#N/A"}]
[null,null,"",null,null,null,null,null,null,null,null,null,null,null,null,null,null,null,null,null,null,null,null,null,null,null,null,null,null,null,null,null,null,null,null,null,null,null,null,null,null,null,null,null,null,null,null,null,null,null,null,null,null,null,null,null,null,null,null,null,null,null,"",{"$f":"IF(BK269=\"\",NA(),COUNTIF(BK269:$BK$303,BK269))","v":{"$error":"#N/A"}},{"$error":"#VALUE!"},{"$error":"#N/A"},"",{"$f":"IF(BO269=\"\",NA(),COUNTIF(BO269:$BO$303,BO269))","v":{"$error":"#N/A"}},{"$error":"#VALUE!"},{"$error":"#N/A"},"",{"$f":"IF(BS269=\"\",NA(),COUNTIF(BS269:$BS$303,BS269))","v":{"$error":"#N/A"}},{"$error":"#VALUE!"},{"$error":"#N/A"},{"$error":"#N/A"}]
[null,null,"",null,null,null,null,null,null,null,null,null,null,null,null,null,null,null,null,null,null,null,null,null,null,null,null,null,null,null,null,null,null,null,null,null,null,null,null,null,null,null,null,null,null,null,null,null,null,null,null,null,null,null,null,null,null,null,null,null,null,null,"",{"$f":"IF(BK270=\"\",NA(),COUNTIF(BK270:$BK$303,BK270))","v":{"$error":"#N/A"}},{"$error":"#VALUE!"},{"$error":"#N/A"},"",{"$f":"IF(BO270=\"\",NA(),COUNTIF(BO270:$BO$303,BO270))","v":{"$error":"#N/A"}},{"$error":"#VALUE!"},{"$error":"#N/A"},"",{"$f":"IF(BS270=\"\",NA(),COUNTIF(BS270:$BS$303,BS270))","v":{"$error":"#N/A"}},{"$error":"#VALUE!"},{"$error":"#N/A"},{"$error":"#N/A"}]
[null,null,"",null,null,null,null,null,null,null,null,null,null,null,null,null,null,null,null,null,null,null,null,null,null,null,null,null,null,null,null,null,null,null,null,null,null,null,null,null,null,null,null,null,null,null,null,null,null,null,null,null,null,null,null,null,null,null,null,null,null,null,"",{"$f":"IF(BK271=\"\",NA(),COUNTIF(BK271:$BK$303,BK271))","v":{"$error":"#N/A"}},{"$error":"#VALUE!"},{"$error":"#N/A"},"",{"$f":"IF(BO271=\"\",NA(),COUNTIF(BO271:$BO$303,BO271))","v":{"$error":"#N/A"}},{"$error":"#VALUE!"},{"$error":"#N/A"},"",{"$f":"IF(BS271=\"\",NA(),COUNTIF(BS271:$BS$303,BS271))","v":{"$error":"#N/A"}},{"$error":"#VALUE!"},{"$error":"#N/A"},{"$error":"#N/A"}]
[null,null,"",null,null,null,null,null,null,null,null,null,null,null,null,null,null,null,null,null,null,null,null,null,null,null,null,null,null,null,null,null,null,null,null,null,null,null,null,null,null,null,null,null,null,null,null,null,null,null,null,null,null,null,null,null,null,null,null,null,null,null,"",{"$f":"IF(BK272=\"\",NA(),COUNTIF(BK272:$BK$303,BK272))","v":{"$error":"#N/A"}},{"$error":"#VALUE!"},{"$error":"#N/A"},"",{"$f":"IF(BO272=\"\",NA(),COUNTIF(BO272:$BO$303,BO272))","v":{"$error":"#N/A"}},{"$error":"#VALUE!"},{"$error":"#N/A"},"",{"$f":"IF(BS272=\"\",NA(),COUNTIF(BS272:$BS$303,BS272))","v":{"$error":"#N/A"}},{"$error":"#VALUE!"},{"$error":"#N/A"},{"$error":"#N/A"}]
[null,null,"",null,null,null,null,null,null,null,null,null,null,null,null,null,null,null,null,null,null,null,null,null,null,null,null,null,null,null,null,null,null,null,null,null,null,null,null,null,null,null,null,null,null,null,null,null,null,null,null,null,null,null,null,null,null,null,null,null,null,null,"",{"$f":"IF(BK273=\"\",NA(),COUNTIF(BK273:$BK$303,BK273))","v":{"$error":"#N/A"}},{"$error":"#VALUE!"},{"$error":"#N/A"},"",{"$f":"IF(BO273=\"\",NA(),COUNTIF(BO273:$BO$303,BO273))","v":{"$error":"#N/A"}},{"$error":"#VALUE!"},{"$error":"#N/A"},"",{"$f":"IF(BS273=\"\",NA(),COUNTIF(BS273:$BS$303,BS273))","v":{"$error":"#N/A"}},{"$error":"#VALUE!"},{"$error":"#N/A"},{"$error":"#N/A"}]
[null,null,"",null,null,null,null,null,null,null,null,null,null,null,null,null,null,null,null,null,null,null,null,null,null,null,null,null,null,null,null,null,null,null,null,null,null,null,null,null,null,null,null,null,null,null,null,null,null,null,null,null,null,null,null,null,null,null,null,null,null,null,"",{"$f":"IF(BK274=\"\",NA(),COUNTIF(BK274:$BK$303,BK274))","v":{"$error":"#N/A"}},{"$error":"#VALUE!"},{"$error":"#N/A"},"",{"$f":"IF(BO274=\"\",NA(),COUNTIF(BO274:$BO$303,BO274))","v":{"$error":"#N/A"}},{"$error":"#VALUE!"},{"$error":"#N/A"},"",{"$f":"IF(BS274=\"\",NA(),COUNTIF(BS274:$BS$303,BS274))","v":{"$error":"#N/A"}},{"$error":"#VALUE!"},{"$error":"#N/A"},{"$error":"#N/A"}]
[null,null,"",null,null,null,null,null,null,null,null,null,null,null,null,null,null,null,null,null,null,null,null,null,null,null,null,null,null,null,null,null,null,null,null,null,null,null,null,null,null,null,null,null,null,null,null,null,null,null,null,null,null,null,null,null,null,null,null,null,null,null,"",{"$f":"IF(BK275=\"\",NA(),COUNTIF(BK275:$BK$303,BK275))","v":{"$error":"#N/A"}},{"$error":"#VALUE!"},{"$error":"#N/A"},"",{"$f":"IF(BO275=\"\",NA(),COUNTIF(BO275:$BO$303,BO275))","v":{"$error":"#N/A"}},{"$error":"#VALUE!"},{"$error":"#N/A"},"",{"$f":"IF(BS275=\"\",NA(),COUNTIF(BS275:$BS$303,BS275))","v":{"$error":"#N/A"}},{"$error":"#VALUE!"},{"$error":"#N/A"},{"$error":"#N/A"}]
[null,null,"",null,null,null,null,null,null,null,null,null,null,null,null,null,null,null,null,null,null,null,null,null,null,null,null,null,null,null,null,null,null,null,null,null,null,null,null,null,null,null,null,null,null,null,null,null,null,null,null,null,null,null,null,null,null,null,null,null,null,null,"",{"$f":"IF(BK276=\"\",NA(),COUNTIF(BK276:$BK$303,BK276))","v":{"$error":"#N/A"}},{"$error":"#VALUE!"},{"$error":"#N/A"},"",{"$f":"IF(BO276=\"\",NA(),COUNTIF(BO276:$BO$303,BO276))","v":{"$error":"#N/A"}},{"$error":"#VALUE!"},{"$error":"#N/A"},"",{"$f":"IF(BS276=\"\",NA(),COUNTIF(BS276:$BS$303,BS276))","v":{"$error":"#N/A"}},{"$error":"#VALUE!"},{"$error":"#N/A"},{"$error":"#N/A"}]
[null,null,"",null,null,null,null,null,null,null,null,null,null,null,null,null,null,null,null,null,null,null,null,null,null,null,null,null,null,null,null,null,null,null,null,null,null,null,null,null,null,null,null,null,null,null,null,null,null,null,null,null,null,null,null,null,null,null,null,null,null,null,"",{"$f":"IF(BK277=\"\",NA(),COUNTIF(BK277:$BK$303,BK277))","v":{"$error":"#N/A"}},{"$error":"#VALUE!"},{"$error":"#N/A"},"",{"$f":"IF(BO277=\"\",NA(),COUNTIF(BO277:$BO$303,BO277))","v":{"$error":"#N/A"}},{"$error":"#VALUE!"},{"$error":"#N/A"},"",{"$f":"IF(BS277=\"\",NA(),COUNTIF(BS277:$BS$303,BS277))","v":{"$error":"#N/A"}},{"$error":"#VALUE!"},{"$error":"#N/A"},{"$error":"#N/A"}]
[null,null,"",null,null,null,null,null,null,null,null,null,null,null,null,null,null,null,null,null,null,null,null,null,null,null,null,null,null,null,null,null,null,null,null,null,null,null,null,null,null,null,null,null,null,null,null,null,null,null,null,null,null,null,null,null,null,null,null,null,null,null,"",{"$f":"IF(BK278=\"\",NA(),COUNTIF(BK278:$BK$303,BK278))","v":{"$error":"#N/A"}},{"$error":"#VALUE!"},{"$error":"#N/A"},"",{"$f":"IF(BO278=\"\",NA(),COUNTIF(BO278:$BO$303,BO278))","v":{"$error":"#N/A"}},{"$error":"#VALUE!"},{"$error":"#N/A"},"",{"$f":"IF(BS278=\"\",NA(),COUNTIF(BS278:$BS$303,BS278))","v":{"$error":"#N/A"}},{"$error":"#VALUE!"},{"$error":"#N/A"},{"$error":"#N/A"}]
[null,null,"",null,null,null,null,null,null,null,null,null,null,null,null,null,null,null,null,null,null,null,null,null,null,null,null,null,null,null,null,null,null,null,null,null,null,null,null,null,null,null,null,null,null,null,null,null,null,null,null,null,null,null,null,null,null,null,null,null,null,null,"",{"$f":"IF(BK279=\"\",NA(),COUNTIF(BK279:$BK$303,BK279))","v":{"$error":"#N/A"}},{"$error":"#VALUE!"},{"$error":"#N/A"},"",{"$f":"IF(BO279=\"\",NA(),COUNTIF(BO279:$BO$303,BO279))","v":{"$error":"#N/A"}},{"$error":"#VALUE!"},{"$error":"#N/A"},"",{"$f":"IF(BS279=\"\",NA(),COUNTIF(BS279:$BS$303,BS279))","v":{"$error":"#N/A"}},{"$error":"#VALUE!"},{"$error":"#N/A"},{"$error":"#N/A"}]
[null,null,"",null,null,null,null,null,null,null,null,null,null,null,null,null,null,null,null,null,null,null,null,null,null,null,null,null,null,null,null,null,null,null,null,null,null,null,null,null,null,null,null,null,null,null,null,null,null,null,null,null,null,null,null,null,null,null,null,null,null,null,"",{"$f":"IF(BK280=\"\",NA(),COUNTIF(BK280:$BK$303,BK280))","v":{"$error":"#N/A"}},{"$error":"#VALUE!"},{"$error":"#N/A"},"",{"$f":"IF(BO280=\"\",NA(),COUNTIF(BO280:$BO$303,BO280))","v":{"$error":"#N/A"}},{"$error":"#VALUE!"},{"$error":"#N/A"},"",{"$f":"IF(BS280=\"\",NA(),COUNTIF(BS280:$BS$303,BS280))","v":{"$error":"#N/A"}},{"$error":"#VALUE!"},{"$error":"#N/A"},{"$error":"#N/A"}]
[null,null,"",null,null,null,null,null,null,null,null,null,null,null,null,null,null,null,null,null,null,null,null,null,null,null,null,null,null,null,null,null,null,null,null,null,null,null,null,null,null,null,null,null,null,null,null,null,null,null,null,null,null,null,null,null,null,null,null,null,null,null,"",{"$f":"IF(BK281=\"\",NA(),COUNTIF(BK281:$BK$303,BK281))","v":{"$error":"#N/A"}},{"$error":"#VALUE!"},{"$error":"#N/A"},"",{"$f":"IF(BO281=\"\",NA(),COUNTIF(BO281:$BO$303,BO281))","v":{"$error":"#N/A"}},{"$error":"#VALUE!"},{"$error":"#N/A"},"",{"$f":"IF(BS281=\"\",NA(),COUNTIF(BS281:$BS$303,BS281))","v":{"$error":"#N/A"}},{"$error":"#VALUE!"},{"$error":"#N/A"},{"$error":"#N/A"}]
[null,null,"",null,null,null,null,null,null,null,null,null,null,null,null,null,null,null,null,null,null,null,null,null,null,null,null,null,null,null,null,null,null,null,null,null,null,null,null,null,null,null,null,null,null,null,null,null,null,null,null,null,null,null,null,null,null,null,null,null,null,null,"",{"$f":"IF(BK282=\"\",NA(),COUNTIF(BK282:$BK$303,BK282))","v":{"$error":"#N/A"}},{"$error":"#VALUE!"},{"$error":"#N/A"},"",{"$f":"IF(BO282=\"\",NA(),COUNTIF(BO282:$BO$303,BO282))","v":{"$error":"#N/A"}},{"$error":"#VALUE!"},{"$error":"#N/A"},"",{"$f":"IF(BS282=\"\",NA(),COUNTIF(BS282:$BS$303,BS282))","v":{"$error":"#N/A"}},{"$error":"#VALUE!"},{"$error":"#N/A"},{"$error":"#N/A"}]
[null,null,"",null,null,null,null,null,null,null,null,null,null,null,null,null,null,null,null,null,null,null,null,null,null,null,null,null,null,null,null,null,null,null,null,null,null,null,null,null,null,null,null,null,null,null,null,null,null,null,null,null,null,null,null,null,null,null,null,null,null,null,"",{"$f":"IF(BK283=\"\",NA(),COUNTIF(BK283:$BK$303,BK283))","v":{"$error":"#N/A"}},{"$error":"#VALUE!"},{"$error":"#N/A"},"",{"$f":"IF(BO283=\"\",NA(),COUNTIF(BO283:$BO$303,BO283))","v":{"$error":"#N/A"}},{"$error":"#VALUE!"},{"$error":"#N/A"},"",{"$f":"IF(BS283=\"\",NA(),COUNTIF(BS283:$BS$303,BS283))","v":{"$error":"#N/A"}},{"$error":"#VALUE!"},{"$error":"#N/A"},{"$error":"#N/A"}]
[null,null,"",null,null,null,null,null,null,null,null,null,null,null,null,null,null,null,null,null,null,null,null,null,null,null,null,null,null,null,null,null,null,null,null,null,null,null,null,null,null,null,null,null,null,null,null,null,null,null,null,null,null,null,null,null,null,null,null,null,null,null,"",{"$f":"IF(BK284=\"\",NA(),COUNTIF(BK284:$BK$303,BK284))","v":{"$error":"#N/A"}},{"$error":"#VALUE!"},{"$error":"#N/A"},"",{"$f":"IF(BO284=\"\",NA(),COUNTIF(BO284:$BO$303,BO284))","v":{"$error":"#N/A"}},{"$error":"#VALUE!"},{"$error":"#N/A"},"",{"$f":"IF(BS284=\"\",NA(),COUNTIF(BS284:$BS$303,BS284))","v":{"$error":"#N/A"}},{"$error":"#VALUE!"},{"$error":"#N/A"},{"$error":"#N/A"}]
[null,null,"",null,null,null,null,null,null,null,null,null,null,null,null,null,null,null,null,null,null,null,null,null,null,null,null,null,null,null,null,null,null,null,null,null,null,null,null,null,null,null,null,null,null,null,null,null,null,null,null,null,null,null,null,null,null,null,null,null,null,null,"",{"$f":"IF(BK285=\"\",NA(),COUNTIF(BK285:$BK$303,BK285))","v":{"$error":"#N/A"}},{"$error":"#VALUE!"},{"$error":"#N/A"},"",{"$f":"IF(BO285=\"\",NA(),COUNTIF(BO285:$BO$303,BO285))","v":{"$error":"#N/A"}},{"$error":"#VALUE!"},{"$error":"#N/A"},"",{"$f":"IF(BS285=\"\",NA(),COUNTIF(BS285:$BS$303,BS285))","v":{"$error":"#N/A"}},{"$error":"#VALUE!"},{"$error":"#N/A"},{"$error":"#N/A"}]
[null,null,"",null,null,null,null,null,null,null,null,null,null,null,null,null,null,null,null,null,null,null,null,null,null,null,null,null,null,null,null,null,null,null,null,null,null,null,null,null,null,null,null,null,null,null,null,null,null,null,null,null,null,null,null,null,null,null,null,null,null,null,"",{"$f":"IF(BK286=\"\",NA(),COUNTIF(BK286:$BK$303,BK286))","v":{"$error":"#N/A"}},{"$error":"#VALUE!"},{"$error":"#N/A"},"",{"$f":"IF(BO286=\"\",NA(),COUNTIF(BO286:$BO$303,BO286))","v":{"$error":"#N/A"}},{"$error":"#VALUE!"},{"$error":"#N/A"},"",{"$f":"IF(BS286=\"\",NA(),COUNTIF(BS286:$BS$303,BS286))","v":{"$error":"#N/A"}},{"$error":"#VALUE!"},{"$error":"#N/A"},{"$error":"#N/A"}]
[null,null,"",null,null,null,null,null,null,null,null,null,null,null,null,null,null,null,null,null,null,null,null,null,null,null,null,null,null,null,null,null,null,null,null,null,null,null,null,null,null,null,null,null,null,null,null,null,null,null,null,null,null,null,null,null,null,null,null,null,null,null,"",{"$f":"IF(BK287=\"\",NA(),COUNTIF(BK287:$BK$303,BK287))","v":{"$error":"#N/A"}},{"$error":"#VALUE!"},{"$error":"#N/A"},"",{"$f":"IF(BO287=\"\",NA(),COUNTIF(BO287:$BO$303,BO287))","v":{"$error":"#N/A"}},{"$error":"#VALUE!"},{"$error":"#N/A"},"",{"$f":"IF(BS287=\"\",NA(),COUNTIF(BS287:$BS$303,BS287))","v":{"$error":"#N/A"}},{"$error":"#VALUE!"},{"$error":"#N/A"},{"$error":"#N/A"}]
[null,null,"",null,null,null,null,null,null,null,null,null,null,null,null,null,null,null,null,null,null,null,null,null,null,null,null,null,null,null,null,null,null,null,null,null,null,null,null,null,null,null,null,null,null,null,null,null,null,null,null,null,null,null,null,null,null,null,null,null,null,null,"",{"$f":"IF(BK288=\"\",NA(),COUNTIF(BK288:$BK$303,BK288))","v":{"$error":"#N/A"}},{"$error":"#VALUE!"},{"$error":"#N/A"},"",{"$f":"IF(BO288=\"\",NA(),COUNTIF(BO288:$BO$303,BO288))","v":{"$error":"#N/A"}},{"$error":"#VALUE!"},{"$error":"#N/A"},"",{"$f":"IF(BS288=\"\",NA(),COUNTIF(BS288:$BS$303,BS288))","v":{"$error":"#N/A"}},{"$error":"#VALUE!"},{"$error":"#N/A"},{"$error":"#N/A"}]
[null,null,"",null,null,null,null,null,null,null,null,null,null,null,null,null,null,null,null,null,null,null,null,null,null,null,null,null,null,null,null,null,null,null,null,null,null,null,null,null,null,null,null,null,null,null,null,null,null,null,null,null,null,null,null,null,null,null,null,null,null,null,"",{"$f":"IF(BK289=\"\",NA(),COUNTIF(BK289:$BK$303,BK289))","v":{"$error":"#N/A"}},{"$error":"#VALUE!"},{"$error":"#N/A"},"",{"$f":"IF(BO289=\"\",NA(),COUNTIF(BO289:$BO$303,BO289))","v":{"$error":"#N/A"}},{"$error":"#VALUE!"},{"$error":"#N/A"},"",{"$f":"IF(BS289=\"\",NA(),COUNTIF(BS289:$BS$303,BS289))","v":{"$error":"#N/A"}},{"$error":"#VALUE!"},{"$error":"#N/A"},{"$error":"#N/A"}]
[null,null,"",null,null,null,null,null,null,null,null,null,null,null,null,null,null,null,null,null,null,null,null,null,null,null,null,null,null,null,null,null,null,null,null,null,null,null,null,null,null,null,null,null,null,null,null,null,null,null,null,null,null,null,null,null,null,null,null,null,null,null,"",{"$f":"IF(BK290=\"\",NA(),COUNTIF(BK290:$BK$303,BK290))","v":{"$error":"#N/A"}},{"$error":"#VALUE!"},{"$error":"#N/A"},"",{"$f":"IF(BO290=\"\",NA(),COUNTIF(BO290:$BO$303,BO290))","v":{"$error":"#N/A"}},{"$error":"#VALUE!"},{"$error":"#N/A"},"",{"$f":"IF(BS290=\"\",NA(),COUNTIF(BS290:$BS$303,BS290))","v":{"$error":"#N/A"}},{"$error":"#VALUE!"},{"$error":"#N/A"},{"$error":"#N/A"}]
[null,null,"",null,null,null,null,null,null,null,null,null,null,null,null,null,null,null,null,null,null,null,null,null,null,null,null,null,null,null,null,null,null,null,null,null,null,null,null,null,null,null,null,null,null,null,null,null,null,null,null,null,null,null,null,null,null,null,null,null,null,null,"",{"$f":"IF(BK291=\"\",NA(),COUNTIF(BK291:$BK$303,BK291))","v":{"$error":"#N/A"}},{"$error":"#VALUE!"},{"$error":"#N/A"},"",{"$f":"IF(BO291=\"\",NA(),COUNTIF(BO291:$BO$303,BO291))","v":{"$error":"#N/A"}},{"$error":"#VALUE!"},{"$error":"#N/A"},"",{"$f":"IF(BS291=\"\",NA(),COUNTIF(BS291:$BS$303,BS291))","v":{"$error":"#N/A"}},{"$error":"#VALUE!"},{"$error":"#N/A"},{"$error":"#N/A"}]
[null,null,"",null,null,null,null,null,null,null,null,null,null,null,null,null,null,null,null,null,null,null,null,null,null,null,null,null,null,null,null,null,null,null,null,null,null,null,null,null,null,null,null,null,null,null,null,null,null,null,null,null,null,null,null,null,null,null,null,null,null,null,"",{"$f":"IF(BK292=\"\",NA(),COUNTIF(BK292:$BK$303,BK292))","v":{"$error":"#N/A"}},{"$error":"#VALUE!"},{"$error":"#N/A"},"",{"$f":"IF(BO292=\"\",NA(),COUNTIF(BO292:$BO$303,BO292))","v":{"$error":"#N/A"}},{"$error":"#VALUE!"},{"$error":"#N/A"},"",{"$f":"IF(BS292=\"\",NA(),COUNTIF(BS292:$BS$303,BS292))","v":{"$error":"#N/A"}},{"$error":"#VALUE!"},{"$error":"#N/A"},{"$error":"#N/A"}]
[null,null,"",null,null,null,null,null,null,null,null,null,null,null,null,null,null,null,null,null,null,null,null,null,null,null,null,null,null,null,null,null,null,null,null,null,null,null,null,null,null,null,null,null,null,null,null,null,null,null,null,null,null,null,null,null,null,null,null,null,null,null,"",{"$f":"IF(BK293=\"\",NA(),COUNTIF(BK293:$BK$303,BK293))","v":{"$error":"#N/A"}},{"$error":"#VALUE!"},{"$error":"#N/A"},"",{"$f":"IF(BO293=\"\",NA(),COUNTIF(BO293:$BO$303,BO293))","v":{"$error":"#N/A"}},{"$error":"#VALUE!"},{"$error":"#N/A"},"",{"$f":"IF(BS293=\"\",NA(),COUNTIF(BS293:$BS$303,BS293))","v":{"$error":"#N/A"}},{"$error":"#VALUE!"},{"$error":"#N/A"},{"$error":"#N/A"}]
[null,null,"",null,null,null,null,null,null,null,null,null,null,null,null,null,null,null,null,null,null,null,null,null,null,null,null,null,null,null,null,null,null,null,null,null,null,null,null,null,null,null,null,null,null,null,null,null,null,null,null,null,null,null,null,null,null,null,null,null,null,null,"",{"$f":"IF(BK294=\"\",NA(),COUNTIF(BK294:$BK$303,BK294))","v":{"$error":"#N/A"}},{"$error":"#VALUE!"},{"$error":"#N/A"},"",{"$f":"IF(BO294=\"\",NA(),COUNTIF(BO294:$BO$303,BO294))","v":{"$error":"#N/A"}},{"$error":"#VALUE!"},{"$error":"#N/A"},"",{"$f":"IF(BS294=\"\",NA(),COUNTIF(BS294:$BS$303,BS294))","v":{"$error":"#N/A"}},{"$error":"#VALUE!"},{"$error":"#N/A"},{"$error":"#N/A"}]
[null,null,"",null,null,null,null,null,null,null,null,null,null,null,null,null,null,null,null,null,null,null,null,null,null,null,null,null,null,null,null,null,null,null,null,null,null,null,null,null,null,null,null,null,null,null,null,null,null,null,null,null,null,null,null,null,null,null,null,null,null,null,"",{"$f":"IF(BK295=\"\",NA(),COUNTIF(BK295:$BK$303,BK295))","v":{"$error":"#N/A"}},{"$error":"#VALUE!"},{"$error":"#N/A"},"",{"$f":"IF(BO295=\"\",NA(),COUNTIF(BO295:$BO$303,BO295))","v":{"$error":"#N/A"}},{"$error":"#VALUE!"},{"$error":"#N/A"},"",{"$f":"IF(BS295=\"\",NA(),COUNTIF(BS295:$BS$303,BS295))","v":{"$error":"#N/A"}},{"$error":"#VALUE!"},{"$error":"#N/A"},{"$error":"#N/A"}]
[null,null,"",null,null,null,null,null,null,null,null,null,null,null,null,null,null,null,null,null,null,null,null,null,null,null,null,null,null,null,null,null,null,null,null,null,null,null,null,null,null,null,null,null,null,null,null,null,null,null,null,null,null,null,null,null,null,null,null,null,null,null,"",{"$f":"IF(BK296=\"\",NA(),COUNTIF(BK296:$BK$303,BK296))","v":{"$error":"#N/A"}},{"$error":"#VALUE!"},{"$error":"#N/A"},"",{"$f":"IF(BO296=\"\",NA(),COUNTIF(BO296:$BO$303,BO296))","v":{"$error":"#N/A"}},{"$error":"#VALUE!"},{"$error":"#N/A"},"",{"$f":"IF(BS296=\"\",NA(),COUNTIF(BS296:$BS$303,BS296))","v":{"$error":"#N/A"}},{"$error":"#VALUE!"},{"$error":"#N/A"},{"$error":"#N/A"}]
[null,null,"",null,null,null,null,null,null,null,null,null,null,null,null,null,null,null,null,null,null,null,null,null,null,null,null,null,null,null,null,null,null,null,null,null,null,null,null,null,null,null,null,null,null,null,null,null,null,null,null,null,null,null,null,null,null,null,null,null,null,null,"",{"$f":"IF(BK297=\"\",NA(),COUNTIF(BK297:$BK$303,BK297))","v":{"$error":"#N/A"}},{"$error":"#VALUE!"},{"$error":"#N/A"},"",{"$f":"IF(BO297=\"\",NA(),COUNTIF(BO297:$BO$303,BO297))","v":{"$error":"#N/A"}},{"$error":"#VALUE!"},{"$error":"#N/A"},"",{"$f":"IF(BS297=\"\",NA(),COUNTIF(BS297:$BS$303,BS297))","v":{"$error":"#N/A"}},{"$error":"#VALUE!"},{"$error":"#N/A"},{"$error":"#N/A"}]
[null,null,"",null,null,null,null,null,null,null,null,null,null,null,null,null,null,null,null,null,null,null,null,null,null,null,null,null,null,null,null,null,null,null,null,null,null,null,null,null,null,null,null,null,null,null,null,null,null,null,null,null,null,null,null,null,null,null,null,null,null,null,"",{"$f":"IF(BK298=\"\",NA(),COUNTIF(BK298:$BK$303,BK298))","v":{"$error":"#N/A"}},{"$error":"#VALUE!"},{"$error":"#N/A"},"",{"$f":"IF(BO298=\"\",NA(),COUNTIF(BO298:$BO$303,BO298))","v":{"$error":"#N/A"}},{"$error":"#VALUE!"},{"$error":"#N/A"},"",{"$f":"IF(BS298=\"\",NA(),COUNTIF(BS298:$BS$303,BS298))","v":{"$error":"#N/A"}},{"$error":"#VALUE!"},{"$error":"#N/A"},{"$error":"#N/A"}]
[null,null,"",null,null,null,null,null,null,null,null,null,null,null,null,null,null,null,null,null,null,null,null,null,null,null,null,null,null,null,null,null,null,null,null,null,null,null,null,null,null,null,null,null,null,null,null,null,null,null,null,null,null,null,null,null,null,null,null,null,null,null,"",{"$f":"IF(BK299=\"\",NA(),COUNTIF(BK299:$BK$303,BK299))","v":{"$error":"#N/A"}},{"$error":"#VALUE!"},{"$error":"#N/A"},"",{"$f":"IF(BO299=\"\",NA(),COUNTIF(BO299:$BO$303,BO299))","v":{"$error":"#N/A"}},{"$error":"#VALUE!"},{"$error":"#N/A"},"",{"$f":"IF(BS299=\"\",NA(),COUNTIF(BS299:$BS$303,BS299))","v":{"$error":"#N/A"}},{"$error":"#VALUE!"},{"$error":"#N/A"},{"$error":"#N/A"}]
[null,null,"",null,null,null,null,null,null,null,null,null,null,null,null,null,null,null,null,null,null,null,null,null,null,null,null,null,null,null,null,null,null,null,null,null,null,null,null,null,null,null,null,null,null,null,null,null,null,null,null,null,null,null,null,null,null,null,null,null,null,null,"",{"$f":"IF(BK300=\"\",NA(),COUNTIF(BK300:$BK$303,BK300))","v":{"$error":"#N/A"}},{"$error":"#VALUE!"},{"$error":"#N/A"},"",{"$f":"IF(BO300=\"\",NA(),COUNTIF(BO300:$BO$303,BO300))","v":{"$error":"#N/A"}},{"$error":"#VALUE!"},{"$error":"#N/A"},"",{"$f":"IF(BS300=\"\",NA(),COUNTIF(BS300:$BS$303,BS300))","v":{"$error":"#N/A"}},{"$error":"#VALUE!"},{"$error":"#N/A"},{"$error":"#N/A"}]
[null,null,"",null,null,null,null,null,null,null,null,null,null,null,null,null,null,null,null,null,null,null,null,null,null,null,null,null,null,null,null,null,null,null,null,null,null,null,null,null,null,null,null,null,null,null,null,null,null,null,null,null,null,null,null,null,null,null,null,null,null,null,"",{"$f":"IF(BK301=\"\",NA(),COUNTIF(BK301:$BK$303,BK301))","v":{"$error":"#N/A"}},{"$error":"#VALUE!"},{"$error":"#N/A"},"",{"$f":"IF(BO301=\"\",NA(),COUNTIF(BO301:$BO$303,BO301))","v":{"$error":"#N/A"}},{"$error":"#VALUE!"},{"$error":"#N/A"},"",{"$f":"IF(BS301=\"\",NA(),COUNTIF(BS301:$BS$303,BS301))","v":{"$error":"#N/A"}},{"$error":"#VALUE!"},{"$error":"#N/A"},{"$error":"#N/A"}]
[null,null,"",null,null,null,null,null,null,null,null,null,null,null,null,null,null,null,null,null,null,null,null,null,null,null,null,null,null,null,null,null,null,null,null,null,null,null,null,null,null,null,null,null,null,null,null,null,null,null,null,null,null,null,null,null,null,null,null,null,null,null,"",{"$f":"IF(BK302=\"\",NA(),COUNTIF(BK302:$BK$303,BK302))","v":{"$error":"#N/A"}},{"$error":"#VALUE!"},{"$error":"#N/A"},"",{"$f":"IF(BO302=\"\",NA(),COUNTIF(BO302:$BO$303,BO302))","v":{"$error":"#N/A"}},{"$error":"#VALUE!"},{"$error":"#N/A"},"",{"$f":"IF(BS302=\"\",NA(),COUNTIF(BS302:$BS$303,BS302))","v":{"$error":"#N/A"}},{"$error":"#VALUE!"},{"$error":"#N/A"},{"$error":"#N/A"}]
[null,null,"",null,null,null,null,null,null,null,null,null,null,null,null,null,null,null,null,null,null,null,null,null,null,null,null,null,null,null,null,null,null,null,null,null,null,null,null,null,null,null,null,null,null,null,null,null,null,null,null,null,null,null,null,null,null,null,null,null,null,null,"",{"$f":"IF(BK303=\"\",NA(),COUNTIF(BK303:$BK$303,BK303))","v":{"$error":"#N/A"}},{"$error":"#VALUE!"},{"$error":"#N/A"},"",{"$f":"IF(BO303=\"\",NA(),COUNTIF(BO303:$BO$303,BO303))","v":{"$error":"#N/A"}},{"$error":"#VALUE!"},{"$error":"#N/A"},"",{"$f":"IF(BS303=\"\",NA(),COUNTIF(BS303:$BS$303,BS303))","v":{"$error":"#N/A"}},{"$error":"#VALUE!"},{"$error":"#N/A"},{"$error":"#N/A"}]
[null,null,""]

{"sheet":"CI for d","index":5,"n_rows":313,"n_cols":47,"rows_kept":313,"cut":false,"hidden":false,"merged":[]}
[null,null,"Confidence interval for d",null,null,null,null,null,null,{"$f":"($G$10+$D$18+$D$21+$D$24+$P$31+$V$31+dlend+drend)/1000000000","v":1.1659443140729147E-7},{"$f":"$J$1","v":1.1659443140729147E-7},1.1659443140729147E-7,1.1659443140729147E-7,1.1659443140729147E-7,1.1659443140729147E-7,1.1659443140729147E-7,null,null,null,null,null,1.1659443140729147E-7,1.1659443140729147E-7,1.1659443140729147E-7,1.1659443140729147E-7,1.1659443140729147E-7,1.1659443140729147E-7,1.1659443140729147E-7,null,null,null,null,null,null,null,null,null,null,null,"d axis L end",{"$f":"MIN(K28,AA28)","v":-2},"Vert at Lncp",{"$f":"P30*AO10","v":0.11634402147074797},0,"black CI?",{"$f":"IF(AND(ABS(P29-P28)<AT2,ABS(V29-V28)<AT2),TRUE,FALSE)","v":true}]
[null,null,"Find the CI on d, the difference",null,null,null,null,null,null,{"$f":"$J$1","v":1.1659443140729147E-7},null,null,null,null,null,null,null,null,null,null,null,null,null,null,null,null,null,{"$f":"$J$1","v":1.1659443140729147E-7},null,null,null,null,null,null,null,null,null,null,null,"d axis R end",{"$f":"MAX(K28,AA28)","v":4},"Vert at d",{"$f":"G10","v":1.21},0,null,5.0000000000000001E-4]
[null,null,null,"between the means of two",null,null,null,null,null,1.1659443140729147E-7,null,null,null,null,null,null,null,null,null,null,null,null,null,null,null,null,null,1.1659443140729147E-7,null,null,null,null,null,null,null,null,null,null,null,"x inc",{"$f":"(AO2-AO1)/300","v":0.02},"Vert at Uncp",{"$f":"V30*AO10","v":2.2680873858207051},0,"Vert at d",{"$f":"IF(AT1,G10,NA())","v":1.21},{"$f":"AR4","v":0.42}]
[null,null,null,"independent groups.",null,null,null,null,null,1.1659443140729147E-7,null,null,null,null,null,null,null,null,null,null,null,null,null,null,null,null,null,1.1659443140729147E-7,null,null,null,null,null,null,null,null,null,null,"labels",{"$f":"P31","v":0.11634402147074797},0.45700000000000002,"main d",{"$f":"G10","v":1.21},0.42]
[null,"This is the CI for d, the population value of Cohen's d.",null,null,null,null,null,null,null,1.1659443140729147E-7,null,null,null,null,null,null,null,null,null,null,null,null,null,null,null,null,null,1.1659443140729147E-7,null,null,null,null,null,null,null,null,null,null,null,{"$f":"G10","v":1.21},{"$f":"AO4","v":0.45700000000000002},"L bar",{"$f":"G10-P31","v":1.0936559785292519},"tbzlld",{"$f":"1000000*(P29-P28)","v":-2.805108159642522E-4}]
[null,"Uses noncentral t.",null,null,null,null,null,null,null,1.1659443140729147E-7,null,null,null,null,null,null,null,null,null,null,null,null,null,null,null,null,null,1.1659443140729147E-7,null,null,null,null,null,null,null,null,null,null,null,{"$f":"V31","v":2.2680873858207051},{"$f":"AO4","v":0.45700000000000002},"U bar",{"$f":"V31-G10","v":1.0580873858207052},"tbzuld",{"$f":"1000000*(V29-V28)","v":-1.6331539245961757E-4}]
[null,null,null,null,null,null,null,null,null,1.1659443140729147E-7,null,null,null,null,null,null,null,null,null,null,null,null,null,null,null,null,null,1.1659443140729147E-7,null,null,null,null,null,null,null,null,null,null,null,{"$f":"P31","v":0.11634402147074797},0.49,null,"approx moe for d",{"$f":"AO10*TINV((100-D24)/100,G20)","v":1.0723933406410424},"for slider"]
[1,"Cohen's d",null,null,null,null,null,null,null,1.1659443140729147E-7,null,null,null,null,null,null,null,null,null,null,null,null,null,null,null,null,null,1.1659443140729147E-7,null,null,null,null,null,null,null,null,null,null,null,{"$f":"G10","v":1.21},{"$f":"AO7","v":0.49},null,"approx LL for d",{"$f":"G10-AR7","v":0.13760665935895755},{"$f":"10000+1000*AR8","v":10137.606659358957}]
[null,null,null,null,null,null,null,null,null,1.1659443140729147E-7,null,null,null,null,null,null,null,null,null,null,null,null,null,null,null,null,null,1.1659443140729147E-7,null,null,null,null,null,null,null,null,null,null,null,{"$f":"V31","v":2.2680873858207051},{"$f":"AO7","v":0.49},null,"approx UL for d",{"$f":"G10+AR7","v":2.2823933406410424},{"$f":"10000+1000*AR9","v":12282.393340641043},"To debias",{"$f":"EXP(GAMMALN(G20/2))/(SQRT(G20/2)*EXP(GAMMALN(G20/2-0.5)))","v":0.94528772930208371}]
[null,null,11210,null,null,"  d ",{"$f":"(C10-10000)/1000","v":1.21},null,null,1.1659443140729147E-7,null,null,null,null,null,null,null,null,null,null,null,null,null,null,null,null,null,1.1659443140729147E-7,null,null,null,null,null,null,null,null,null,null,null,"sqrt(1/N1+1/N2)",{"$f":"SQRT(1/D18+1/D21)","v":0.5},null,"scale factor",{"$f":"$AO$3/$AO$10","v":0.04},null,"delta",2E-3]
[null,null,null,null,null,null,null,null,null,1.1659443140729147E-7,2,null,null,null,null,null,null,null,null,null,null,null,null,null,null,null,null,1.1659443140729147E-7,null,null,null,null,null,null,null,null,null,null,"index","d","t","nct L","nct L ord","nct R","nct R ord","high L shade","low U shade"]
[null,null,null,null,null,"Unbiased d:   dunb",{"$f":"G10*$AU$9","v":1.1437981524555212},null,null,1.1659443140729147E-7,null,null,null,null,null,null,null,null,null,null,null,null,null,null,null,null,null,1.1659443140729147E-7,null,null,null,null,null,null,null,null,null,null,1,{"$f":"AO1","v":-2},{"$f":"AN12/$AO$10","v":-4},{"$f":"nct(AO12,$P$30,$G$20)","v":3.2712958457812772E-4},{"$f":"(AP13-AP12)/$AR$10","v":6.903228408991751E-4},{"$f":"nct(AO12,$V$30,$G$20)","v":5.2271017749297525E-13},{"$f":"(AR13-AR12)/$AR$10","v":1.5612918747277422E-12},{"$f":"IF(AN12>=$G$10,MAX(0,AQ12-$AU$10),NA())","v":{"$error":"#N/A"}},{"$f":"IF(AN12<=$G$10,MAX(0,AS12-$AU$10),NA())","v":0}]
[null,null,null,null,null,null,null,null,null,1.1659443140729147E-7,null,null,null,null,null,null,null,null,null,null,null,null,null,null,null,null,null,1.1659443140729147E-7,null,null,null,null,null,null,null,null,null,null,2,{"$f":"AN12+$AO$3","v":-1.98},-3.96,3.5474249821409472E-4,7.5010422401705981E-4,5.8516185248208494E-13,1.7598715861138367E-12,{"$error":"#N/A"},0]
[null,null,null,null,"Noncentrality parameter  D. ",{"$f":"G10/AO10","v":2.42},null,null,null,1.1659443140729147E-7,null,null,null,null,null,null,null,null,null,null,null,null,null,null,null,null,null,1.1659443140729147E-7,null,null,null,null,null,null,null,null,null,null,3,-1.96,-3.92,3.8474666717477711E-4,8.1513653091970875E-4,6.5555671592663841E-13,1.9852117999919746E-12,{"$error":"#N/A"},0]
[null,null,null,null,null,null,null,null,null,1.1659443140729147E-7,null,null,null,null,null,null,null,null,null,null,null,null,null,null,null,null,null,1.1659443140729147E-7,null,null,null,null,null,null,null,null,null,null,4,-1.94,-3.88,4.1735212841156546E-4,8.8588102247113263E-4,7.3496518792631739E-13,2.2411172078154246E-12,{"$error":"#N/A"},0]
[2,"Sample sizes",null,null,null,null,null,null,null,1.1659443140729147E-7,null,null,null,null,null,null,null,null,null,null,null,null,null,null,null,null,null,1.1659443140729147E-7,null,null,null,null,null,null,null,null,null,null,5,-1.92,-3.84,4.5278736931041077E-4,9.6283870711298377E-4,8.2460987623893439E-13,2.531961012599297E-12,{"$error":"#N/A"},0]
[null,null,null,null,null,null,null,null,null,1.1659443140729147E-7,null,null,null,null,null,null,null,null,null,null,null,null,null,null,null,null,null,1.1659443140729147E-7,null,null,null,null,null,null,null,null,null,null,6,-1.9,-3.8,4.9130091759493012E-4,1.0465535956991408E-3,9.2588831674290627E-13,2.8627738987143167E-12,{"$error":"#N/A"},0]
[null,null,"N1",8,null,null,null,null,null,1.1659443140729147E-7,null,null,null,null,null,null,null,null,null,null,null,null,null,null,null,null,null,1.1659443140729147E-7,null,null,null,null,null,null,null,null,null,null,7,-1.88,-3.76,5.3316306142289576E-4,1.1376162023657899E-3,1.0403992726914789E-12,3.2393475319660839E-12,{"$error":"#N/A"},0]
[null,null,null,null,null,null,null,null,null,1.1659443140729147E-7,null,null,null,null,null,null,null,null,null,null,null,null,null,null,null,null,null,1.1659443140729147E-7,null,null,null,null,null,null,null,null,null,null,8,-1.8599999999999999,-3.7199999999999998,5.7866770951752735E-4,1.2366672933169429E-3,1.1699731739701223E-12,3.6683550638183251E-12,{"$error":"#N/A"},0]
[null,null,null,null,null,"df ",{"$f":"D18+D21-2","v":14},null,null,1.1659443140729147E-7,null,null,null,null,null,null,null,null,null,null,null,null,null,null,null,null,null,1.1659443140729147E-7,null,null,null,null,null,null,null,null,null,null,9,-1.8399999999999999,-3.6799999999999997,6.2813440125020507E-4,1.344401901138886E-3,1.3167073765228553E-12,4.1574915482600938E-12,{"$error":"#N/A"},0]
[null,null,"N2",8,null,null,null,null,null,1.1659443140729147E-7,null,null,null,null,null,null,null,null,null,null,null,null,null,null,null,null,null,1.1659443140729147E-7,null,null,null,null,null,null,null,null,null,null,10,-1.8199999999999998,-3.6399999999999997,6.8191047729576051E-4,1.4615736209737699E-3,1.4830070384532591E-12,4.7156376887650291E-12,{"$error":"#N/A"},0]
[null,null,null,null,null,null,null,null,null,1.1659443140729147E-7,null,null,null,null,null,null,null,null,null,null,null,null,null,null,null,null,null,1.1659443140729147E-7,null,null,null,null,null,null,null,null,null,null,11,-1.7999999999999998,-3.5999999999999996,7.4037342213471131E-4,1.5889991979690064E-3,1.6716325460038602E-12,5.3530509526061907E-12,{"$error":"#N/A"},0]
[3,"Level of confidence",null,null,null,null,null,null,null,1.1659443140729147E-7,null,null,null,null,null,null,null,null,null,null,null,null,null,null,null,null,null,1.1659443140729147E-7,null,null,null,null,null,null,null,null,null,null,12,-1.7799999999999998,-3.5599999999999996,8.0393339005347157E-4,1.7275634180248895E-3,1.8857545841081079E-12,6.0815888034086435E-12,{"$error":"#N/A"},0]
[null,null,"C ",95,null,null,null,null,null,1.1659443140729147E-7,null,null,null,null,null,null,null,null,null,null,null,null,null,null,null,null,null,1.1659443140729147E-7,null,null,null,null,null,null,null,null,null,null,13,-1.7599999999999998,-3.5199999999999996,8.7303592677446715E-4,1.8782243176152132E-3,2.1290181362444536E-12,6.9149696638619393E-12,{"$error":"#N/A"},0]
[null,null,null,null,null,null,null,null,null,1.1659443140729147E-7,null,null,null,null,null,null,null,null,null,null,null,null,null,null,null,null,null,1.1659443140729147E-7,null,null,null,null,null,null,null,null,null,null,14,-1.7399999999999998,-3.4799999999999995,9.4816489947907568E-4,2.0420187198719902E-3,2.4056169227989312E-12,7.8690782353061692E-12,{"$error":"#N/A"},0]
[8,"Confidence interval for d",null,null,null,null,null,null,null,1.1659443140729147E-7,null,null,null,null,null,null,null,null,null,null,null,null,null,null,null,null,null,1.1659443140729147E-7,null,null,null,null,null,null,null,null,null,null,15,-1.7199999999999998,-3.4399999999999995,1.0298456482739553E-3,2.2200681118187131E-3,2.720380052211178E-12,8.962323004744854E-12,{"$error":"#N/A"},0]
[null,null,null,null,null,null,null,null,null,1.1659443140729147E-7,null,null,null,null,null,null,null,null,null,null,null,null,null,null,null,null,null,1.1659443140729147E-7,null,null,null,null,null,null,null,null,null,null,16,-1.6999999999999997,-3.3999999999999995,1.1186483727467038E-3,2.4135848620194132E-3,3.0788729724009721E-12,1.0216055203892766E-11,{"$error":"#N/A"},0]
[null,null,null,"CI for d",null,null,null,null,null,"4 ",{"$f":"(K29-100)/10","v":-2},null,null,null,"Target blue tail ",{"$f":"(100-D24)/200","v":2.5000000000000001E-2},null,null,null,null,"Target red tail ",{"$f":"(100-D24)/200","v":2.5000000000000001E-2},null,null,null,"5 ",{"$f":"AA29/10","v":4},null,null,null,null,null,null,null,null,null,null,null,17,-1.6799999999999997,-3.3599999999999994,1.2151917672274803E-3,2.6238787988999831E-3,3.4875151805566828E-12,1.1655060189821056E-11,{"$error":"#N/A"},0]
[null,null,"[",{"$f":"IF(AT1,P31,\"\")","v":0.11634402147074797},",",{"$f":"IF(AT1,V31,\"\")","v":2.2680873858207051},"]",null,null,null,80,null,null,null,"Current blue tail",{"$f":"1-nct(F14,P30,G20)","v":2.4999999719489185E-2},null,null,null,null,"Current red tail",{"$f":"nct(F14,V30,G20)","v":2.4999999836684609E-2},null,null,null,null,40,null,null,null,null,null,null,null,null,null,null,null,18,-1.6599999999999997,-3.3199999999999994,1.3201469191834797E-3,2.852364141880595E-3,3.9537175881495251E-12,1.3308134233577383E-11,{"$error":"#N/A"},0]
[null,null,null,null,null,null,null,null,null,null,null,null,null,null,"Noncentrality parameter DL",{"$f":"P31/AO10","v":0.23268804294149595},null,null,null,null,"Noncentrality parameter DU",{"$f":"V31/AO10","v":4.5361747716414103},null,null,null,null,null,null,null,null,null,null,null,null,null,null,null,null,19,-1.6399999999999997,-3.2799999999999994,1.4342414848587035E-3,3.1005667931867276E-3,4.4860429574926204E-12,1.5208762125348883E-11,{"$error":"#N/A"},0]
[null,null,null,null,null,"MOEav",{"$f":"IF(AT1,(F29-D29)/2,\"\")","v":1.0758716821749785},null,null,null,null,null,null,"6 ","dL",{"$f":"(Q32-10000)/1000","v":0.11634402147074797},null,null,null,"7 ","dU",{"$f":"(U32-10000)/1000","v":2.2680873858207051},null,null,null,null,null,null,null,null,null,null,null,null,null,null,null,null,20,-1.6199999999999997,-3.2399999999999993,1.5582641565861726E-3,3.3701319883137903E-3,5.0943934425065757E-12,1.7395913880589696E-11,{"$error":"#N/A"},0]
[null,null,null,null,null,null,null,null,null,null,null,null,null,null,null,null,10116.344021470748,null,null,null,12268.087385820705,null,null,null,null,null,null,null,null,null,null,null,null,null,null,null,null,null,21,-1.5999999999999996,-3.1999999999999993,1.6930694361187242E-3,3.6628322976897478E-3,5.7902299977301635E-12,1.9914982186723327E-11,{"$error":"#N/A"},0]
[null,null,null,null,null,null,null,null,null,null,null,null,null,null,null,null,null,null,null,null,null,null,null,null,null,null,null,null,null,null,null,null,null,null,null,null,null,null,22,-1.5799999999999996,-3.1599999999999993,1.8395827280263141E-3,3.9805759713485607E-3,6.5868292851990967E-12,2.2818886588451168E-11,{"$error":"#N/A"},0]
[null,null,null,null,null,null,null,null,null,null,null,null,null,null,null,null,null,null,null,null,null,null,null,null,null,null,null,null,null,null,null,null,null,null,null,null,null,null,23,-1.5599999999999996,-3.1199999999999992,1.9988057668802565E-3,4.3254156121798485E-3,7.4995847487371434E-12,2.6169374674941245E-11,{"$error":"#N/A"},0]
[null,null,null,null,null,null,null,null,null,null,null,null,null,null,null,null,null,null,null,null,null,null,null,null,null,null,null,null,null,null,null,null,null,null,null,null,null,null,24,-1.5399999999999996,-3.0799999999999992,2.1718223913674505E-3,4.6995571533567301E-3,8.5463597357347931E-12,3.0038557312256088E-11,{"$error":"#N/A"},0]
[null,null,null,null,null,null,null,null,null,null,null,null,null,null,null,null,null,null,null,null,null,null,null,null,null,null,null,null,null,null,null,null,null,null,null,null,null,null,25,-1.5199999999999996,-3.0399999999999991,2.3598046775017197E-3,5.1053691164509316E-3,9.7479020282250367E-12,3.4510720913944661E-11,{"$error":"#N/A"},0]
[null,null,null,null,null,null,null,null,null,null,null,null,null,null,null,null,null,null,null,null,null,null,null,null,null,null,null,null,null,null,null,null,null,null,null,null,null,null,26,-1.4999999999999996,-2.9999999999999991,2.564019442159757E-3,5.5453921121321375E-3,1.1128330864782823E-11,3.9684468836287903E-11,{"$error":"#N/A"},0]
[null,null,null,null,null,null,null,null,null,null,null,null,null,null,null,null,null,null,null,null,null,null,null,null,null,null,null,null,null,null,null,null,null,null,null,null,null,null,27,-1.4799999999999995,-2.9599999999999991,2.7858351266450425E-3,6.0223485397765475E-3,1.2715709618234339E-11,4.5675253727535939E-11,{"$error":"#N/A"},0]
[null,null,null,null,null,null,null,null,null,null,null,null,null,null,null,null,null,null,null,null,null,null,null,null,null,null,null,null,null,null,null,null,null,null,null,null,null,null,28,-1.4599999999999995,-2.919999999999999,3.0267290682361044E-3,6.539152433060599E-3,1.4542719767335777E-11,5.2618374389787997E-11,{"$error":"#N/A"},0]
[null,null,null,null,null,null,null,null,null,null,null,null,null,null,null,null,null,null,null,null,null,null,null,null,null,null,null,null,null,null,null,null,null,null,null,null,null,null,29,-1.4399999999999995,-2.879999999999999,3.2882951655585284E-3,7.0989193866011603E-3,1.6647454742927297E-11,6.0672525675658637E-11,{"$error":"#N/A"},0]
[null,null,null,null,null,null,null,null,null,null,null,null,null,null,null,null,null,null,null,null,null,null,null,null,null,null,null,null,null,null,null,null,null,null,null,null,null,null,30,-1.4199999999999995,-2.839999999999999,3.5722519410225748E-3,7.7049764877989545E-3,1.9074355769953642E-11,7.0024006314308024E-11,{"$error":"#N/A"},0]
[null,null,null,null,null,null,null,null,null,null,null,null,null,null,null,null,null,null,null,null,null,null,null,null,null,null,null,null,null,null,null,null,null,null,null,null,null,null,31,-1.3999999999999995,-2.7999999999999989,3.880451000534533E-3,8.3608721649028606E-3,2.1875316022525964E-11,8.0891711269766116E-11,{"$error":"#N/A"},0]
[null,null,null,null,null,null,null,null,null,null,null,null,null,null,null,null,null,null,null,null,null,null,null,null,null,null,null,null,null,null,null,null,null,null,null,null,null,null,32,-1.3799999999999994,-2.7599999999999989,4.2148858871306474E-3,9.0703858484871645E-3,2.5110984473316608E-11,9.3533058944403124E-11,{"$error":"#N/A"},0]
[null,null,null,null,null,null,null,null,null,null,null,null,null,null,null,null,null,null,null,null,null,null,null,null,null,null,null,null,null,null,null,null,null,null,null,null,null,null,33,-1.3599999999999994,-2.7199999999999989,4.577701321070134E-3,9.8375373281514786E-3,2.8852306831092733E-11,1.0825103454101535E-10,{"$error":"#N/A"},0]
[null,null,null,null,null,null,null,null,null,null,null,null,null,null,null,null,null,null,null,null,null,null,null,null,null,null,null,null,null,null,null,null,null,null,null,null,null,null,34,-1.3399999999999994,-2.6799999999999988,4.9712028141961932E-3,1.0666595670243226E-2,3.3182348212733347E-11,1.2540256594537482E-10,{"$error":"#N/A"},0]
[null,null,null,null,null,null,null,null,null,null,null,null,null,null,null,null,null,null,null,null,null,null,null,null,null,null,null,null,null,null,null,null,null,null,null,null,null,null,35,-1.3199999999999994,-2.6399999999999988,5.3978666410059222E-3,1.1562087545229343E-2,3.819845085054834E-11,1.4540849191171744E-10,{"$error":"#N/A"},0]
[null,null,null,null,null,null,null,null,null,null,null,null,null,null,null,null,null,null,null,null,null,null,null,null,null,null,null,null,null,null,null,null,null,null,null,null,null,null,36,-1.2999999999999994,-2.5999999999999988,5.860350142815096E-3,1.2528804794794561E-2,4.4014790527017038E-11,1.6876543516934852E-10,{"$error":"#N/A"},0]
[null,null,null,null,null,null,null,null,null,null,null,null,null,null,null,null,null,null,null,null,null,null,null,null,null,null,null,null,null,null,null,null,null,null,null,null,null,null,37,-1.2799999999999994,-2.5599999999999987,6.3615023346068784E-3,1.3571811050084454E-2,5.0765407933790979E-11,1.9605995478454005E-10,{"$error":"#N/A"},0]
[null,null,null,null,null,null,null,null,null,null,null,null,null,null,null,null,null,null,null,null,null,null,null,null,null,null,null,null,null,null,null,null,null,null,null,null,null,null,38,-1.2599999999999993,-2.5199999999999987,6.9043747766102566E-3,1.4696447192503341E-2,5.8607806125172581E-11,2.2798542739999175E-10,{"$error":"#N/A"},0]
[null,null,null,null,null,null,null,null,null,null,null,null,null,null,null,null,null,null,null,null,null,null,null,null,null,null,null,null,null,null,null,null,null,null,null,null,null,null,39,-1.2399999999999993,-2.4799999999999986,7.4922326643103903E-3,1.5908335428406147E-2,6.7727223221172251E-11,2.6536220100035044E-10,{"$error":"#N/A"},0]
[null,null,null,null,null,null,null,null,null,null,null,null,null,null,null,null,null,null,null,null,null,null,null,null,null,null,null,null,null,null,null,null,null,null,null,null,null,null,40,-1.2199999999999993,-2.4399999999999986,8.1285660814466362E-3,1.721338172868728E-2,7.8341711261186269E-11,3.0916167063185824E-10,{"$error":"#N/A"},0]
[null,null,null,null,null,null,null,null,null,null,null,null,null,null,null,null,null,null,null,null,null,null,null,null,null,null,null,null,null,null,null,null,null,null,null,null,null,null,41,-1.1999999999999993,-2.3999999999999986,8.8171013505941274E-3,1.8617776363692065E-2,9.0708178086460599E-11,3.6053506252836046E-10,{"$error":"#N/A"},0]
[null,null,null,null,null,null,null,null,null,null,null,null,null,null,null,null,null,null,null,null,null,null,null,null,null,null,null,null,null,null,null,null,null,null,null,null,null,null,42,-1.1799999999999993,-2.3599999999999985,9.5618124051418101E-3,2.0127992244416526E-2,1.0512958058759502E-10,4.2084787074417482E-10,{"$error":"#N/A"},0]
[null,null,null,null,null,null,null,null,null,null,null,null,null,null,null,null,null,null,null,null,null,null,null,null,null,null,null,null,null,null,null,null,null,null,null,null,null,null,43,-1.1599999999999993,-2.3199999999999985,1.0366932094918471E-2,2.1750780761647891E-2,1.2196349541736201E-10,4.9172108694618394E-10,{"$error":"#N/A"},0]
[null,null,null,null,null,null,null,null,null,null,null,null,null,null,null,null,null,null,null,null,null,null,null,null,null,null,null,null,null,null,null,null,null,null,null,null,null,null,44,-1.1399999999999992,-2.2799999999999985,1.1236963325384387E-2,2.349316479750567E-2,1.4163233889520937E-10,5.750805941827986E-10,{"$error":"#N/A"},0]
[null,null,null,null,null,null,null,null,null,null,null,null,null,null,null,null,null,null,null,null,null,null,null,null,null,null,null,null,null,null,null,null,null,null,null,null,null,null,45,-1.1199999999999992,-2.2399999999999984,1.2176689917284614E-2,2.5362428567967221E-2,1.6463556266252131E-10,6.7321639005261099E-10,{"$error":"#N/A"},0]
[null,null,null,null,null,null,null,null,null,null,null,null,null,null,null,null,null,null,null,null,null,null,null,null,null,null,null,null,null,null,null,null,null,null,null,null,null,null,46,-1.0999999999999992,-2.1999999999999984,1.3191187060003303E-2,2.7366103942351838E-2,1.9156421826462575E-10,7.8885362992062195E-10,{"$error":"#N/A"},0]
[null,null,null,null,null,null,null,null,null,null,null,null,null,null,null,null,null,null,null,null,null,null,null,null,null,null,null,null,null,null,null,null,null,null,null,null,null,null,47,-1.0799999999999992,-2.1599999999999984,1.4285831217697376E-2,2.9511952875813617E-2,2.2311836346145063E-10,9.2523791641521868E-10,{"$error":"#N/A"},0]
[null,null,null,null,null,null,null,null,null,null,null,null,null,null,null,null,null,null,null,null,null,null,null,null,null,null,null,null,null,null,null,null,null,null,null,null,null,null,48,-1.0599999999999992,-2.1199999999999983,1.5466309332729921E-2,3.1807945585636453E-2,2.6012788011805938E-10,1.0862377471019941E-9,{"$error":"#N/A"},0]
[null,null,null,null,null,null,null,null,null,null,null,null,null,null,null,null,null,null,null,null,null,null,null,null,null,null,null,null,null,null,null,null,null,null,null,null,null,null,49,-1.0399999999999991,-2.0799999999999983,1.6738627156155379E-2,3.4262234101234496E-2,3.0357739000213915E-10,1.2764676612926295E-9,{"$error":"#N/A"},0]
[null,null,null,null,null,null,null,null,null,null,null,null,null,null,null,null,null,null,null,null,null,null,null,null,null,null,null,null,null,null,null,null,null,null,null,null,null,null,50,-1.0199999999999991,-2.0399999999999983,1.8109116520204759E-2,3.6883120823206529E-2,3.5463609645384432E-10,1.5014363397948501E-9,{"$error":"#N/A"},0]
[null,null,null,null,null,null,null,null,null,null,null,null,null,null,null,null,null,null,null,null,null,null,null,null,null,null,null,null,null,null,null,null,null,null,null,null,null,null,51,-0.99999999999999911,-1.9999999999999982,1.958444135313302E-2,3.9679021738445085E-2,4.1469355004563833E-10,1.7677248222974792E-9,{"$error":"#N/A"},0]
[null,null,null,null,null,null,null,null,null,null,null,null,null,null,null,null,null,null,null,null,null,null,null,null,null,null,null,null,null,null,null,null,null,null,null,null,null,null,52,-0.97999999999999909,-1.9599999999999982,2.1171602222670824E-2,4.265842395790951E-2,4.854025429375375E-10,2.0832011110238178E-9,{"$error":"#N/A"},0]
[null,null,null,null,null,null,null,null,null,null,null,null,null,null,null,null,null,null,null,null,null,null,null,null,null,null,null,null,null,null,null,null,null,null,null,null,null,null,53,-0.95999999999999908,-1.9199999999999982,2.2877939180987204E-2,4.5829837271710132E-2,5.6873058737849021E-10,2.4572786727365443E-9,{"$error":"#N/A"},0]
[null,null,null,null,null,null,null,null,null,null,null,null,null,null,null,null,null,null,null,null,null,null,null,null,null,null,null,null,null,null,null,null,null,null,null,null,null,null,54,-0.93999999999999906,-1.8799999999999981,2.471113267185561E-2,4.9201739453607563E-2,6.6702173428795198E-10,2.9012280267975351E-9,{"$error":"#N/A"},0]
[null,null,null,null,null,null,null,null,null,null,null,null,null,null,null,null,null,null,null,null,null,null,null,null,null,null,null,null,null,null,null,null,null,null,null,null,null,null,55,-0.91999999999999904,-1.8399999999999981,2.6679202249999912E-2,5.2782515094909693E-2,7.830708553598534E-10,3.4285524950621673E-9,{"$error":"#N/A"},0]
[null,null,null,null,null,null,null,null,null,null,null,null,null,null,null,null,null,null,null,null,null,null,null,null,null,null,null,null,null,null,null,null,null,null,null,null,null,null,56,-0.89999999999999902,-1.799999999999998,2.87905028537963E-2,5.6580387806655537E-2,9.2021295516234009E-10,4.0554415185000804E-9,{"$error":"#N/A"},0]
[null,null,null,null,null,null,null,null,null,null,null,null,null,null,null,null,null,null,null,null,null,null,null,null,null,null,null,null,null,null,null,null,null,null,null,null,null,null,57,-0.87999999999999901,-1.759999999999998,3.1053718366062522E-2,6.0603345699497026E-2,1.0824306159023433E-9,4.8013177542059403E-9,{"$error":"#N/A"},0]
[null,null,null,null,null,null,null,null,null,null,null,null,null,null,null,null,null,null,null,null,null,null,null,null,null,null,null,null,null,null,null,null,null,null,null,null,null,null,58,-0.85999999999999899,-1.719999999999998,3.3477852194042403E-2,6.4859060133690305E-2,1.2744833260705809E-9,5.6894977615646719E-9,{"$error":"#N/A"},0]
[null,null,null,null,null,null,null,null,null,null,null,null,null,null,null,null,null,null,null,null,null,null,null,null,null,null,null,null,null,null,null,null,null,null,null,null,null,null,59,-0.83999999999999897,-1.6799999999999979,3.6072214599390015E-2,6.9354797826759462E-2,1.5020632365331678E-9,6.7479899589108862E-9,{"$error":"#N/A"},0]
[null,null,null,null,null,null,null,null,null,null,null,null,null,null,null,null,null,null,null,null,null,null,null,null,null,null,null,null,null,null,null,null,null,null,null,null,null,null,60,-0.81999999999999895,-1.6399999999999979,3.8846406512460394E-2,7.4097326514386067E-2,1.7719828348896033E-9,8.0104587892825212E-9,{"$error":"#N/A"},0]
[null,null,null,null,null,null,null,null,null,null,null,null,null,null,null,null,null,null,null,null,null,null,null,null,null,null,null,null,null,null,null,null,null,null,null,null,null,null,61,-0.79999999999999893,-1.5999999999999979,4.1810299573035836E-2,7.9092814480148474E-2,2.0924011864609041E-9,9.5173901726432533E-9,{"$error":"#N/A"},0]
[null,null,null,null,null,null,null,null,null,null,null,null,null,null,null,null,null,null,null,null,null,null,null,null,null,null,null,null,null,null,null,null,null,null,null,null,null,null,62,-0.77999999999999892,-1.5599999999999978,4.4974012152241775E-2,8.4346724401557382E-2,2.4730967933666342E-9,1.131750053730571E-8,{"$error":"#N/A"},0]
[null,null,null,null,null,null,null,null,null,null,null,null,null,null,null,null,null,null,null,null,null,null,null,null,null,null,null,null,null,null,null,null,null,null,null,null,null,null,63,-0.7599999999999989,-1.5199999999999978,4.8347881128304071E-2,8.9863702102378762E-2,2.9257968148588627E-9,1.3469440692383564E-8,{"$error":"#N/A"},0]
[null,null,null,null,null,null,null,null,null,null,null,null,null,null,null,null,null,null,null,null,null,null,null,null,null,null,null,null,null,null,null,null,null,null,null,null,null,null,64,-0.73999999999999888,-1.4799999999999978,5.1942429212399222E-2,9.5647460953102864E-2,3.4645744425542052E-9,1.6043856731490313E-8,{"$error":"#N/A"},0]
[null,null,null,null,null,null,null,null,null,null,null,null,null,null,null,null,null,null,null,null,null,null,null,null,null,null,null,null,null,null,null,null,null,null,null,null,null,null,65,-0.71999999999999886,{"$f":"AN76/$AO$10","v":-1.4399999999999977},{"$f":"nct(AO76,$P$30,$G$20)","v":5.5768327650523336E-2},{"$f":"(AP77-AP76)/$AR$10","v":0.10170066282075579},{"$f":"nct(AO76,$V$30,$G$20)","v":4.1063287118138177E-9},{"$f":"(AR77-AR76)/$AR$10","v":1.9125883050192305E-8},{"$f":"IF(AN76>=$G$10,MAX(0,AQ76-$AU$10),NA())","v":{"$error":"#N/A"}},{"$f":"IF(AN76<=$G$10,MAX(0,AS76-$AU$10),NA())","v":0}]
[null,null,null,null,null,null,null,null,null,null,null,null,null,null,null,null,null,null,null,null,null,null,null,null,null,null,null,null,null,null,null,null,null,null,null,null,null,null,66,{"$f":"AN76+$AO$3","v":-0.69999999999999885},-1.3999999999999977,5.9836354163353568E-2,0.1080247966338774,4.8713640338215099E-9,2.2818158822403225E-8,{"$error":"#N/A"},0]
[null,null,null,null,null,null,null,null,null,null,null,null,null,null,null,null,null,null,null,null,null,null,null,null,null,null,null,null,null,null,null,null,null,null,null,null,null,null,67,-0.67999999999999883,-1.3599999999999977,6.4157346028708664E-2,0.11462005579546894,5.7840903867176389E-9,2.7244478351687205E-8,{"$error":"#N/A"},0]
[null,null,null,null,null,null,null,null,null,null,null,null,null,null,null,null,null,null,null,null,null,null,null,null,null,null,null,null,null,null,null,null,null,null,null,null,null,null,68,-0.65999999999999881,-1.3199999999999976,6.8742148260527422E-2,0.12148521584284359,6.8738695207851271E-9,3.2554205560539846E-8,{"$error":"#N/A"},0]
[null,null,null,null,null,null,null,null,null,null,null,null,null,null,null,null,null,null,null,null,null,null,null,null,null,null,null,null,null,null,null,null,null,null,null,null,null,null,69,-0.63999999999999879,-1.2799999999999976,7.3601556894241166E-2,0.12861751391507054,8.1760377432067208E-9,3.8927618073589548E-8,{"$error":"#N/A"},0]
[null,null,null,null,null,null,null,null,null,null,null,null,null,null,null,null,null,null,null,null,null,null,null,null,null,null,null,null,null,null,null,null,null,null,null,null,null,null,70,-0.61999999999999877,-1.2399999999999975,7.8746257450843987E-2,0.13601253174161559,9.7331424661503029E-9,4.6582374882837632E-8,{"$error":"#N/A"},0]
[null,null,null,null,null,null,null,null,null,null,null,null,null,null,null,null,null,null,null,null,null,null,null,null,null,null,null,null,null,null,null,null,null,null,null,null,null,null,71,-0.59999999999999876,-1.1999999999999975,8.4186758720508612E-2,0.14366408400561351,1.1596437461463808E-8,5.5781325846395392E-8,{"$error":"#N/A"},0]
[null,null,null,null,null,null,null,null,null,null,null,null,null,null,null,null,null,null,null,null,null,null,null,null,null,null,null,null,null,null,null,null,null,null,null,null,null,null,72,-0.57999999999999874,-1.1599999999999975,8.9933322080733152E-2,0.15156411405719966,1.3827690495319624E-8,6.684199715708488E-8,{"$error":"#N/A"},0]
[null,null,null,null,null,null,null,null,null,null,null,null,null,null,null,null,null,null,null,null,null,null,null,null,null,null,null,null,null,null,null,null,null,null,null,null,null,null,73,-0.55999999999999872,-1.1199999999999974,9.5995886643021139E-2,0.15970259905120388,1.6501370381603019E-8,8.0147988764485808E-8,{"$error":"#N/A"},0]
[null,null,null,null,null,null,null,null,null,null,null,null,null,null,null,null,null,null,null,null,null,null,null,null,null,null,null,null,null,null,null,null,null,null,null,null,null,null,74,-0.5399999999999987,-1.0799999999999974,0.10238399060506929,0.16806746665475811,1.9707289932182452E-8,9.6162858282058491E-8,{"$error":"#N/A"},0]
[null,null,null,null,null,null,null,null,null,null,null,null,null,null,null,null,null,null,null,null,null,null,null,null,null,null,null,null,null,null,null,null,null,null,null,null,null,null,75,-0.51999999999999869,-1.0399999999999974,0.10910668927125962,0.17664452550842125,2.3553804263464791E-8,1.1544674903068528E-7,{"$error":"#N/A"},0]
[null,null,null,null,null,null,null,null,null,null,null,null,null,null,null,null,null,null,null,null,null,null,null,null,null,null,null,null,null,null,null,null,null,null,null,null,null,null,76,-0.49999999999999867,-0.99999999999999734,0.11617247029159647,0.18541741162517375,2.8171674224692203E-8,1.3867673108377531E-7,{"$error":"#N/A"},0]
[null,null,null,null,null,null,null,null,null,null,null,null,null,null,null,null,null,null,null,null,null,null,null,null,null,null,null,null,null,null,null,null,null,null,null,null,null,null,77,-0.47999999999999865,-0.9599999999999973,0.12358916675660342,0.19436755287022753,3.3718743468043215E-8,1.6667096948962537E-7,{"$error":"#N/A"},0]
[null,null,null,null,null,null,null,null,null,null,null,null,null,null,null,null,null,null,null,null,null,null,null,null,null,null,null,null,null,null,null,null,null,null,null,null,null,null,78,-0.45999999999999863,-0.91999999999999726,0.13136386887141252,0.20347415357772972,4.038558224762823E-8,2.0041834207815362E-7,{"$error":"#N/A"},0]
[null,null,null,null,null,null,null,null,null,null,null,null,null,null,null,null,null,null,null,null,null,null,null,null,null,null,null,null,null,null,null,null,null,null,null,null,null,null,79,-0.43999999999999861,-0.87999999999999723,0.13950283501452171,0.21271420122483189,4.8402315930754375E-8,2.4111385778657653E-7,{"$error":"#N/A"},0]
[null,null,null,null,null,null,null,null,null,null,null,null,null,null,null,null,null,null,null,null,null,null,null,null,null,null,null,null,null,null,null,null,null,null,null,null,null,null,80,-0.4199999999999986,-0.83999999999999719,0.14801140306351498,0.22206249689763549,5.8046870242217438E-8,2.9020121518680084E-7,{"$error":"#N/A"},0]
[null,null,null,null,null,null,null,null,null,null,null,null,null,null,null,null,null,null,null,null,null,null,null,null,null,null,null,null,null,null,null,null,null,null,null,null,null,null,81,-0.39999999999999858,-0.79999999999999716,0.1568939029394204,0.23149171104568309,6.9654918849689472E-8,3.4942496835915259E-7,{"$error":"#N/A"},0]
[null,null,null,null,null,null,null,null,null,null,null,null,null,null,null,null,null,null,null,null,null,null,null,null,null,null,null,null,null,null,null,null,null,null,null,null,null,null,82,-0.37999999999999856,-0.75999999999999712,0.16615357138124773,0.24097246573334952,8.3631917584055575E-8,4.2089173106563429E-7,{"$error":"#N/A"},0]
[null,null,null,null,null,null,null,null,null,null,null,null,null,null,null,null,null,null,null,null,null,null,null,null,null,null,null,null,null,null,null,null,null,null,null,null,null,null,83,-0.35999999999999854,-0.71999999999999709,0.17579247001058171,0.25047344425860457,1.0046758682668095E-7,5.0714480255584544E-7,{"$error":"#N/A"},0]
[null,null,null,null,null,null,null,null,null,null,null,null,null,null,null,null,null,null,null,null,null,null,null,null,null,null,null,null,null,null,null,null,null,null,null,null,null,null,84,-0.33999999999999853,-0.67999999999999705,0.18581140778092589,0.25996152862592242,1.2075337892891477E-7,6.112553946452291E-7,{"$error":"#N/A"},0]
[null,null,null,null,null,null,null,null,null,null,null,null,null,null,null,null,null,null,null,null,null,null,null,null,null,null,null,null,null,null,null,null,null,null,null,null,null,null,85,-0.31999999999999851,-0.63999999999999702,0.19620986892596279,0.26940196493562135,1.4520359471472393E-7,7.3692707361259185E-7,{"$error":"#N/A"},0]
[null,null,null,null,null,null,null,null,null,null,null,null,null,null,null,null,null,null,null,null,null,null,null,null,null,null,null,null,null,null,null,null,null,null,null,null,null,null,86,-0.29999999999999849,-0.59999999999999698,0.20698594752338764,0.27875855629298157,1.746806776592276E-7,8.8862696293294795E-7,{"$error":"#N/A"},0]
[null,null,null,null,null,null,null,null,null,null,null,null,null,null,null,null,null,null,null,null,null,null,null,null,null,null,null,null,null,null,null,null,null,null,null,null,null,null,87,-0.27999999999999847,-0.55999999999999694,0.21813628977510691,0.28799388235463752,2.1022575617654552E-7,1.0717387106047092E-6,{"$error":"#N/A"},0]
[null,null,null,null,null,null,null,null,null,null,null,null,null,null,null,null,null,null,null,null,null,null,null,null,null,null,null,null,null,null,null,null,null,null,null,null,null,null,88,-0.25999999999999845,-0.51999999999999691,0.22965604506929241,0.2970695441274977,2.5309530460073389E-7,1.292752632513395E-6,{"$error":"#N/A"},0]
[null,null,null,null,null,null,null,null,null,null,null,null,null,null,null,null,null,null,null,null,null,null,null,null,null,null,null,null,null,null,null,null,null,null,null,null,null,null,89,-0.23999999999999846,-0.47999999999999693,0.24153882683439232,0.30594643212551176,3.0480540990126969E-7,1.5594718300726883E-6,{"$error":"#N/A"},0]
[null,null,null,null,null,null,null,null,null,null,null,null,null,null,null,null,null,null,null,null,null,null,null,null,null,null,null,null,null,null,null,null,null,null,null,null,null,null,90,-0.21999999999999847,-0.43999999999999695,0.25377668411941279,0.31458501548618095,3.6718428310417723E-7,1.8812897800651867E-6,{"$error":"#N/A"},0]
[null,null,null,null,null,null,null,null,null,null,null,null,null,null,null,null,null,null,null,null,null,null,null,null,null,null,null,null,null,null,null,null,null,null,null,null,null,null,91,-0.19999999999999848,-0.39999999999999697,0.26636008473886003,0.32294564916058033,4.4243587430678469E-7,2.2695026014611405E-6,{"$error":"#N/A"},0]
[null,null,null,null,null,null,null,null,null,null,null,null,null,null,null,null,null,null,null,null,null,null,null,null,null,null,null,null,null,null,null,null,null,null,null,null,null,null,92,-0.17999999999999849,-0.35999999999999699,0.27927791070528324,0.33098889583456359,5.3321597836523031E-7,2.7376578654433747E-6,{"$error":"#N/A"},0]
[null,null,null,null,null,null,null,null,null,null,null,null,null,null,null,null,null,null,null,null,null,null,null,null,null,null,null,null,null,null,null,null,null,null,null,null,null,null,93,-0.1599999999999985,-0.31999999999999701,0.29251746653866578,0.33867585882326745,6.427222929829653E-7,3.3020386073918009E-6,{"$error":"#N/A"},0]
[null,null,null,null,null,null,null,null,null,null,null,null,null,null,null,null,null,null,null,null,null,null,null,null,null,null,null,null,null,null,null,null,null,null,null,null,null,null,94,-0.13999999999999851,-0.27999999999999703,0.30606450089159648,0.34596852182157689,7.7480383727863734E-7,3.9821414827063288E-6,{"$error":"#N/A"},0]
[null,null,null,null,null,null,null,null,null,null,null,null,null,null,null,null,null,null,null,null,null,null,null,null,null,null,null,null,null,null,null,null,null,null,null,null,null,null,95,-0.11999999999999851,-0.23999999999999702,0.31990324176445956,0.35283009109923075,9.3408949658689049E-7,4.8013191076865939E-6,{"$error":"#N/A"},0]
[null,null,null,null,null,null,null,null,null,null,null,null,null,null,null,null,null,null,null,null,null,null,null,null,null,null,null,null,null,null,null,null,null,null,null,null,null,null,96,-9.9999999999998507E-2,-0.19999999999999701,0.33401644540842879,0.3592253355115399,1.1261422608943542E-6,5.7875015015481602E-6,{"$error":"#N/A"},0]
[null,null,null,null,null,null,null,null,null,null,null,null,null,null,null,null,null,null,null,null,null,null,null,null,null,null,null,null,null,null,null,null,null,null,null,null,null,null,97,-7.9999999999998503E-2,-0.15999999999999701,0.34838545882889038,0.36512091956434622,1.3576423209562806E-6,6.9740587092617864E-6,{"$error":"#N/A"},0]
[null,null,null,null,null,null,null,null,null,null,null,null,null,null,null,null,null,null,null,null,null,null,null,null,null,null,null,null,null,null,null,null,null,null,null,null,null,null,98,-5.9999999999998499E-2,-0.119999999999997,0.36299029561146423,0.37048572473017544,1.6366046693267521E-6,8.4008007646316248E-6,{"$error":"#N/A"},0]
[null,null,null,null,null,null,null,null,null,null,null,null,null,null,null,null,null,null,null,null,null,null,null,null,null,null,null,null,null,null,null,null,null,null,null,null,null,null,99,-3.9999999999998495E-2,-7.999999999999699E-2,0.37780972460067125,0.37529115426767345,1.9726366999120171E-6,1.0115159045756817E-5,{"$error":"#N/A"},0]
[null,null,null,null,null,null,null,null,null,null,null,null,null,null,null,null,null,null,null,null,null,null,null,null,null,null,null,null,null,null,null,null,null,null,null,null,null,null,100,-1.9999999999998495E-2,-3.9999999999996989E-2,0.39282137077137819,0.37951141694825968,2.3772430617422898E-6,1.2173567775569492E-5,{"$error":"#N/A"},0]
[null,null,null,null,null,null,null,null,null,null,null,null,null,null,null,null,null,null,null,null,null,null,null,null,null,null,null,null,null,null,null,null,null,null,null,null,null,null,101,1.5057399771478686E-15,3.0114799542957371E-15,0.40800182744930857,0.38312378534354763,2.8641857727650695E-6,1.4643070971843301E-5,{"$error":"#N/A"},0]
[null,null,null,null,null,null,null,null,null,null,null,null,null,null,null,null,null,null,null,null,null,null,null,null,null,null,null,null,null,null,null,null,null,null,null,null,null,null,102,2.0000000000001506E-2,4.0000000000003012E-2,0.42332677886305048,0.38610882466923319,3.4499086116388015E-6,1.7603185321504633E-5,{"$error":"#N/A"},0]
[null,null,null,null,null,null,null,null,null,null,null,null,null,null,null,null,null,null,null,null,null,null,null,null,null,null,null,null,null,null,null,null,null,null,null,null,null,null,103,4.0000000000001507E-2,8.0000000000003013E-2,0.43877113184981981,0.38845058861208259,4.1540360244989869E-6,2.1148072504854332E-5,{"$error":"#N/A"},0]
[null,null,null,null,null,null,null,null,null,null,null,null,null,null,null,null,null,null,null,null,null,null,null,null,null,null,null,null,null,null,null,null,null,null,null,null,null,null,104,6.000000000000151E-2,0.12000000000000302,0.45430915539430311,0.39013677907434874,4.9999589246931602E-6,2.5389036276114738E-5,{"$error":"#N/A"},0]
[null,null,null,null,null,null,null,null,null,null,null,null,null,null,null,null,null,null,null,null,null,null,null,null,null,null,null,null,null,null,null,null,null,null,null,null,null,null,105,8.0000000000001514E-2,0.16000000000000303,0.46991462655727706,0.39115886734712169,6.0155203757377498E-6,3.0457406535679151E-5,{"$error":"#N/A"},0]
[null,null,null,null,null,null,null,null,null,null,null,null,null,null,null,null,null,null,null,null,null,null,null,null,null,null,null,null,null,null,null,null,null,null,null,null,null,null,106,0.10000000000000152,0.20000000000000304,0.48556098125116193,0.39151217485526163,7.2338166371649158E-6,3.6507849698041523E-5,{"$error":"#N/A"},0]
[null,null,null,null,null,null,null,null,null,null,null,null,null,null,null,null,null,null,null,null,null,null,null,null,null,null,null,null,null,null,null,null,null,null,null,null,null,null,107,0.12000000000000152,0.24000000000000304,0.50122146824537239,0.3911959122878006,8.6941306250865769E-6,4.3722154781249489E-5,{"$error":"#N/A"},0]
[null,null,null,null,null,null,null,null,null,null,null,null,null,null,null,null,null,null,null,null,null,null,null,null,null,null,null,null,null,null,null,null,null,null,null,null,null,null,108,0.14000000000000151,0.28000000000000302,0.51686930473688442,0.39021317662425448,1.0443016816336556E-5,5.2313551457847477E-5,{"$error":"#N/A"},0]
[null,null,null,null,null,null,null,null,null,null,null,null,null,null,null,null,null,null,null,null,null,null,null,null,null,null,null,null,null,null,null,null,null,null,null,null,null,null,109,0.1600000000000015,0.320000000000003,0.5324778318018546,0.38857090627115454,1.2535558874650456E-5,6.2531615383330016E-5,{"$error":"#N/A"},0]
[null,null,null,null,null,null,null,null,null,null,null,null,null,null,null,null,null,null,null,null,null,null,null,null,null,null,null,null,null,null,null,null,null,null,null,null,null,null,110,0.18000000000000149,0.36000000000000298,0.54802066805270078,0.38627979521889122,1.5036823489983657E-5,7.4667817309524538E-5,{"$error":"#N/A"},0]
[null,null,null,null,null,null,null,null,null,null,null,null,null,null,null,null,null,null,null,null,null,null,null,null,null,null,null,null,null,null,null,null,null,null,null,null,null,null,111,0.20000000000000148,0.40000000000000296,0.56347185986145643,0.38335416780070353,1.8023536182364638E-5,8.9061776761454033E-5,{"$error":"#N/A"},0]
[null,null,null,null,null,null,null,null,null,null,null,null,null,null,null,null,null,null,null,null,null,null,null,null,null,null,null,null,null,null,null,null,null,null,null,null,null,null,112,0.22000000000000147,0.44000000000000294,0.57880602657348457,0.37981181626633442,2.1586007252822799E-5,1.0610827803088034E-4,{"$error":"#N/A"},0]
[null,null,null,null,null,null,null,null,null,null,null,null,null,null,null,null,null,null,null,null,null,null,null,null,null,null,null,null,null,null,null,null,null,null,null,null,null,null,113,0.24000000000000146,0.48000000000000292,0.59399849922413794,0.37567380396053562,2.5830338374058013E-5,1.2626510719571845E-4,{"$error":"#N/A"},0]
[null,null,null,null,null,null,null,null,null,null,null,null,null,null,null,null,null,null,null,null,null,null,null,null,null,null,null,null,null,null,null,null,null,null,null,null,null,null,114,0.26000000000000145,0.5200000000000029,0.60902545138255937,0.37096423740783646,3.088094266188675E-5,1.5006176452189504E-4,{"$error":"#N/A"},0]
[null,null,null,null,null,null,null,null,null,null,null,null,null,null,null,null,null,null,null,null,null,null,null,null,null,null,null,null,null,null,null,null,null,null,null,null,null,null,115,0.28000000000000147,0.56000000000000294,0.62386402087887283,0.36571001103908041,3.6883413242762552E-5,1.7810910135542747E-4,{"$error":"#N/A"},0]
[null,null,null,null,null,null,null,null,null,null,null,null,null,null,null,null,null,null,null,null,null,null,null,null,null,null,null,null,null,null,null,null,null,null,null,null,null,null,116,0.30000000000000149,0.60000000000000298,0.63849242132043604,0.35994052864570525,4.4007777296979651E-5,2.1110992614132814E-4,{"$error":"#N/A"},0]
[null,null,null,null,null,null,null,null,null,null,null,null,null,null,null,null,null,null,null,null,null,null,null,null,null,null,null,null,null,null,null,null,null,null,null,null,null,null,117,0.32000000000000151,0.64000000000000301,0.65289004246626425,0.35368740590744074,5.2452174342632777E-5,2.4987060958546481E-4,{"$error":"#N/A"},0]
[null,null,null,null,null,null,null,null,null,null,null,null,null,null,null,null,null,null,null,null,null,null,null,null,null,null,null,null,null,null,null,null,null,null,null,null,null,null,118,0.34000000000000152,0.68000000000000305,0.66703753870256188,0.34698415850705489,6.2446998726051368E-5,2.9531371295538875E-4,{"$error":"#N/A"},0]
[null,null,null,null,null,null,null,null,null,null,null,null,null,null,null,null,null,null,null,null,null,null,null,null,null,null,null,null,null,null,null,null,null,null,null,null,null,null,119,0.36000000000000154,0.72000000000000308,0.68091690504284408,0.33986588041916288,7.4259547244266919E-5,3.4849164167776977E-4,{"$error":"#N/A"},0]
[null,null,null,null,null,null,null,null,null,null,null,null,null,null,null,null,null,null,null,null,null,null,null,null,null,null,null,null,null,null,null,null,null,null,null,null,null,null,120,0.38000000000000156,0.76000000000000312,0.69451154025961059,0.33236891694376769,8.8199212911377711E-5,4.1060131139992166E-4,{"$error":"#N/A"},0]
[null,null,null,null,null,null,null,null,null,null,null,null,null,null,null,null,null,null,null,null,null,null,null,null,null,null,null,null,null,null,null,null,null,null,null,null,null,null,121,0.40000000000000158,0.80000000000000315,0.7078062969373613,0.32453053695153111,1.0462326536737458E-4,4.8299979110839197E-4,{"$error":"#N/A"},0]
[null,null,null,null,null,null,null,null,null,null,null,null,null,null,null,null,null,null,null,null,null,null,null,null,null,null,null,null,null,null,null,null,null,null,null,null,null,null,122,0.42000000000000159,0.84000000000000319,0.72078751841542255,0.31638860862389651,1.2394325701171026E-4,5.6722086007393862E-4,{"$error":"#N/A"},0]
[null,null,null,null,null,null,null,null,null,null,null,null,null,null,null,null,null,null,null,null,null,null,null,null,null,null,null,null,null,null,null,null,null,null,null,null,null,null,123,0.44000000000000161,0.88000000000000322,0.73344306276037841,0.30798128271555814,1.466320914146678E-4,6.6499238803467611E-4,{"$error":"#N/A"},0]
[null,null,null,null,null,null,null,null,null,null,null,null,null,null,null,null,null,null,null,null,null,null,null,null,null,null,null,null,null,null,null,null,null,null,null,null,null,null,124,0.46000000000000163,0.92000000000000326,0.74576231406900073,0.29934668704853784,1.7323178693605485E-4,7.7825441444107784E-4,{"$error":"#N/A"},0]
[null,null,null,null,null,null,null,null,null,null,null,null,null,null,null,null,null,null,null,null,null,null,null,null,null,null,null,null,null,null,null,null,null,null,null,null,null,null,125,0.48000000000000165,0.9600000000000033,0.75773618155094224,0.29052263557629021,2.0436196351369796E-4,9.0917776721345048E-4,{"$error":"#N/A"},0]
[null,null,null,null,null,null,null,null,null,null,null,null,null,null,null,null,null,null,null,null,null,null,null,null,null,null,null,null,null,null,null,null,null,null,null,null,null,null,126,0.50000000000000167,1.0000000000000033,0.76935708697399385,0.28154635494663793,2.4072907420223598E-4,1.0601830220152225E-3,{"$error":"#N/A"},0]
[null,null,null,null,null,null,null,null,null,null,null,null,null,null,null,null,null,null,null,null,null,null,null,null,null,null,null,null,null,null,null,null,null,null,null,null,null,null,127,0.52000000000000168,1.0400000000000034,0.78061894117185937,0.27245423105029254,2.8313639508284488E-4,1.2339595634938269E-3,{"$error":"#N/A"},0]
[null,null,null,null,null,null,null,null,null,null,null,null,null,null,null,null,null,null,null,null,null,null,null,null,null,null,null,null,null,null,null,null,null,null,null,null,null,null,128,0.5400000000000017,1.0800000000000034,0.79151711041387107,0.26328157758643556,3.3249477762259795E-4,1.433484466873665E-3,{"$error":"#N/A"},0]
[null,null,null,null,null,null,null,null,null,null,null,null,null,null,null,null,null,null,null,null,null,null,null,null,null,null,null,null,null,null,null,null,null,null,null,null,null,null,129,0.56000000000000172,{"$f":"AN140/$AO$10","v":1.1200000000000034},{"$f":"nct(AO140,$P$30,$G$20)","v":0.80204837351732849},{"$f":"(AP141-AP140)/$AR$10","v":0.25406242820961711},{"$f":"nct(AO140,$V$30,$G$20)","v":3.8983415629754455E-4},{"$f":"(AR141-AR140)/$AR$10","v":1.6620408756383097E-3},{"$f":"IF(AN140>=$G$10,MAX(0,AQ140-$AU$10),NA())","v":{"$error":"#N/A"}},{"$f":"IF(AN140<=$G$10,MAX(0,AS140-$AU$10),NA())","v":0}]
[null,null,null,null,null,null,null,null,null,null,null,null,null,null,null,null,null,null,null,null,null,null,null,null,null,null,null,null,null,null,null,null,null,null,null,null,null,null,130,{"$f":"AN140+$AO$3","v":0.58000000000000174},1.1600000000000035,0.81221087064571318,0.24482935336429812,4.5631579132307694E-4,1.9232355091656865E-3,{"$error":"#N/A"},0]
[null,null,null,null,null,null,null,null,null,null,null,null,null,null,null,null,null,null,null,null,null,null,null,null,null,null,null,null,null,null,null,null,null,null,null,null,null,null,131,0.60000000000000175,1.2000000000000035,0.8220040447802851,0.23561330246344991,5.332452116897044E-4,2.2210148931091083E-3,{"$error":"#N/A"},2.2101489310910822E-4]
[null,null,null,null,null,null,null,null,null,null,null,null,null,null,null,null,null,null,null,null,null,null,null,null,null,null,null,null,null,null,null,null,null,null,null,null,null,null,132,0.62000000000000177,1.2400000000000035,0.8314285768788231,0.22644347164426648,6.2208580741406874E-4,2.5596798677569896E-3,{"$error":"#N/A"},5.5967986775698952E-4]
[null,null,null,null,null,null,null,null,null,null,null,null,null,null,null,null,null,null,null,null,null,null,null,null,null,null,null,null,null,null,null,null,null,null,null,null,null,null,133,0.64000000000000179,1.2800000000000036,0.84048631574459376,0.21734719693425608,7.2447300212434833E-4,2.9438978966972685E-3,{"$error":"#N/A"},9.4389789669726849E-4]
[null,null,null,null,null,null,null,null,null,null,null,null,null,null,null,null,null,null,null,null,null,null,null,null,null,null,null,null,null,null,null,null,null,null,null,null,null,null,134,0.66000000000000181,1.3200000000000036,0.849180203621964,0.20834987230151369,8.4222891799223907E-4,3.3787126707701533E-3,{"$error":"#N/A"},1.3787126707701532E-3]
[null,null,null,null,null,null,null,null,null,null,null,null,null,null,null,null,null,null,null,null,null,null,null,null,null,null,null,null,null,null,null,null,null,null,null,null,null,null,135,0.68000000000000183,1.3600000000000037,0.85751419851402455,0.19947489173763877,9.7737742482304521E-4,3.8695504821694912E-3,{"$error":"#N/A"},1.8695504821694912E-3]
[null,null,null,null,null,null,null,null,null,null,null,null,null,null,null,null,null,null,null,null,null,null,null,null,null,null,null,null,null,null,null,null,null,null,null,null,null,null,136,0.70000000000000184,1.4000000000000037,0.8654931941835301,0.19074361424104846,1.1321594441098249E-3,4.422222833730215E-3,{"$error":"#N/A"},2.422222833730215E-3]
[null,null,null,null,null,null,null,null,null,null,null,null,null,null,null,null,null,null,null,null,null,null,null,null,null,null,null,null,null,null,null,null,null,null,null,null,null,null,137,0.72000000000000186,1.4400000000000037,0.87312293875317204,0.18217535033261956,1.3090483574590334E-3,5.0429247471262505E-3,{"$error":"#N/A"},3.0429247471262504E-3]
[null,null,null,null,null,null,null,null,null,null,null,null,null,null,null,null,null,null,null,null,null,null,null,null,null,null,null,null,null,null,null,null,null,null,null,null,null,null,138,0.74000000000000188,1.4800000000000038,0.88040995276647682,0.1737873685415614,1.5107653473440835E-3,5.738228246058929E-3,{"$error":"#N/A"},3.738228246058929E-3]
[null,null,null,null,null,null,null,null,null,null,null,null,null,null,null,null,null,null,null,null,null,null,null,null,null,null,null,null,null,null,null,null,null,null,null,null,null,null,139,0.7600000000000019,1.5200000000000038,0.88736144750813928,0.16559492015295885,1.7402944771864406E-3,6.515070514453639E-3,{"$error":"#N/A"},4.5150705144536389E-3]
[null,null,null,null,null,null,null,null,null,null,null,null,null,null,null,null,null,null,null,null,null,null,null,null,null,null,null,null,null,null,null,null,null,null,null,null,null,null,140,0.78000000000000191,1.5600000000000038,0.89398524431425763,0.15761128040208683,2.0008972977645862E-3,7.3807362679195873E-3,{"$error":"#N/A"},5.3807362679195872E-3]
[null,null,null,null,null,null,null,null,null,null,null,null,null,null,null,null,null,null,null,null,null,null,null,null,null,null,null,null,null,null,null,null,null,null,null,null,null,null,141,0.80000000000000193,1.6000000000000039,0.90028969553034111,0.14984780423633604,2.2961267484813697E-3,8.3428339291672527E-3,{"$error":"#N/A"},6.3428339291672527E-3]
[null,null,null,null,null,null,null,null,null,null,null,null,null,null,null,null,null,null,null,null,null,null,null,null,null,null,null,null,null,null,null,null,null,null,null,null,null,null,142,0.82000000000000195,1.6400000000000039,0.90628360769979455,0.14231399473836337,2.6298401056480598E-3,9.4092652650595941E-3,{"$error":"#N/A"},7.409265265059594E-3]
[null,null,null,null,null,null,null,null,null,null,null,null,null,null,null,null,null,null,null,null,null,null,null,null,null,null,null,null,null,null,null,null,null,null,null,null,null,null,143,0.84000000000000197,1.6800000000000039,0.91197616748932908,0.13501758231116712,3.0062107162504435E-3,1.0588188224108373E-2,{"$error":"#N/A"},8.5881882241083726E-3]
[null,null,null,null,null,null,null,null,null,null,null,null,null,null,null,null,null,null,null,null,null,null,null,null,null,null,null,null,null,null,null,null,null,null,null,null,null,null,144,0.86000000000000199,1.720000000000004,0.91737687078177577,0.12796461276249893,3.4297382452147785E-3,1.1887972808018718E-2,{"$error":"#N/A"},9.887972808018718E-3]
[null,null,null,null,null,null,null,null,null,null,null,null,null,null,null,null,null,null,null,null,null,null,null,null,null,null,null,null,null,null,null,null,null,null,null,null,null,null,145,0.880000000000002,1.760000000000004,0.92249545529227572,0.12115954249051486,3.9052571575355272E-3,1.331714991870493E-2,{"$error":"#N/A"},1.131714991870493E-2]
[null,null,null,null,null,null,null,null,null,null,null,null,null,null,null,null,null,null,null,null,null,null,null,null,null,null,null,null,null,null,null,null,null,null,null,null,null,null,146,0.90000000000000202,1.800000000000004,0.92734183699189632,0.11460533905721382,4.4379431542837244E-3,1.4884353239933453E-2,{"$error":"#N/A"},1.2884353239933453E-2]
[null,null,null,null,null,null,null,null,null,null,null,null,null,null,null,null,null,null,null,null,null,null,null,null,null,null,null,null,null,null,null,null,null,null,null,null,null,null,147,0.92000000000000204,1.8400000000000041,0.93192605055418487,0.10830358554071162,5.0333172838810626E-3,1.6598254341069693E-2,{"$error":"#N/A"},1.4598254341069693E-2]
[null,null,null,null,null,null,null,null,null,null,null,null,null,null,null,null,null,null,null,null,null,null,null,null,null,null,null,null,null,null,null,null,null,null,null,null,null,null,148,0.94000000000000206,1.8800000000000041,0.93625819397581334,0.10225458717427749,5.6972474575238503E-3,1.8467491323862179E-2,{"$error":"#N/A"},1.6467491323862181E-2]
[null,null,null,null,null,null,null,null,null,null,null,null,null,null,null,null,null,null,null,null,null,null,null,null,null,null,null,null,null,null,null,null,null,null,null,null,null,null,149,0.96000000000000207,1.9200000000000041,0.94034837746278443,9.6457478908290595E-2,6.4359471104783374E-3,2.0500591471699321E-2,{"$error":"#N/A"},1.8500591471699322E-2]
[null,null,null,null,null,null,null,null,null,null,null,null,null,null,null,null,null,null,null,null,null,null,null,null,null,null,null,null,null,null,null,null,null,null,null,null,null,null,150,0.98000000000000209,1.9600000000000042,0.94420667661911606,9.0910332665231075E-2,7.2559707693463102E-3,2.2705888499455835E-2,{"$error":"#N/A"},2.0705888499455836E-2]
[null,null,null,null,null,null,null,null,null,null,null,null,null,null,null,null,null,null,null,null,null,null,null,null,null,null,null,null,null,null,null,null,null,null,null,null,null,null,151,1.000000000000002,2.000000000000004,0.9478430899257253,8.561026319648668E-2,8.1642063093245437E-3,2.5091435138859235E-2,{"$error":"#N/A"},2.3091435138859237E-2]
[null,null,null,null,null,null,null,null,null,null,null,null,null,null,null,null,null,null,null,null,null,null,null,null,null,null,null,null,null,null,null,null,null,null,null,null,null,null,152,1.020000000000002,2.040000000000004,0.95126750045358477,8.0553531586288751E-2,9.1678637148789131E-3,2.7664911924890925E-2,{"$error":"#N/A"},2.5664911924890926E-2]
[null,null,null,null,null,null,null,null,null,null,null,null,null,null,null,null,null,null,null,null,null,null,null,null,null,null,null,null,null,null,null,null,null,null,null,null,null,null,153,1.040000000000002,2.0800000000000041,0.95448964171703632,7.5735645586291755E-2,1.027446019187455E-2,3.0433533170579365E-2,{"$error":"#N/A"},2.8433533170579367E-2]
[null,null,null,null,null,null,null,null,null,null,null,null,null,null,null,null,null,null,null,null,null,null,null,null,null,null,null,null,null,null,null,null,null,null,null,null,null,null,154,1.0600000000000021,2.1200000000000041,0.95751906754048799,7.1151456094653565E-2,1.1491801518697725E-2,3.3403951226629446E-2,{"$error":"#N/A"},3.1403951226629444E-2]
[null,null,null,null,null,null,null,null,null,null,null,null,null,null,null,null,null,null,null,null,null,null,null,null,null,null,null,null,null,null,null,null,null,null,null,null,null,null,155,1.0800000000000021,2.1600000000000041,0.96036512578427413,6.6795249221365816E-2,1.2827959567762903E-2,3.6582160215911264E-2,{"$error":"#N/A"},3.4582160215911262E-2]
[null,null,null,null,null,null,null,null,null,null,null,null,null,null,null,null,null,null,null,null,null,null,null,null,null,null,null,null,null,null,null,null,null,null,null,null,null,null,156,1.1000000000000021,2.2000000000000042,0.96303693575312876,6.2660833498257018E-2,1.4291245976399353E-2,3.9973400507730676E-2,{"$error":"#N/A"},3.7973400507730674E-2]
[null,null,null,null,null,null,null,null,null,null,null,null,null,null,null,null,null,null,null,null,null,null,null,null,null,null,null,null,null,null,null,null,null,null,null,null,null,null,157,1.1200000000000021,2.2400000000000042,0.96554336909305905,5.8741621905084029E-2,1.589018199670858E-2,4.3582065250921502E-2,{"$error":"#N/A"},4.15820652509215E-2]
[null,null,null,null,null,null,null,null,null,null,null,null,null,null,null,null,null,null,null,null,null,null,null,null,null,null,null,null,null,null,null,null,null,null,null,null,null,null,158,1.1400000000000021,2.2800000000000042,0.96789303396926241,5.5030708481887403E-2,1.763346460674544E-2,4.7411610315627441E-2,{"$error":"#N/A"},4.5411610315627439E-2]
[null,null,null,null,null,null,null,null,null,null,null,null,null,null,null,null,null,null,null,null,null,null,null,null,null,null,null,null,null,null,null,null,null,null,null,null,null,null,159,1.1600000000000021,2.3200000000000043,0.9700942623085379,5.1520939391933029E-2,1.9529929019370538E-2,5.1464469000049584E-2,{"$error":"#N/A"},4.9464469000049582E-2]
[null,null,null,null,null,null,null,null,null,null,null,null,null,null,null,null,null,null,null,null,null,null,null,null,null,null,null,null,null,null,null,null,null,null,null,null,null,null,160,1.1800000000000022,2.3600000000000043,0.97215509988421522,4.8204978378840746E-2,2.1588507779372521E-2,5.5741972839401521E-2,{"$error":"#N/A"},5.3741972839401519E-2]
[null,null,null,null,null,null,null,null,null,null,null,null,null,null,null,null,null,null,null,null,null,null,null,null,null,null,null,null,null,null,null,null,null,null,null,null,null,null,161,1.2000000000000022,2.4000000000000044,0.97408329901936885,4.5075366636584957E-2,2.3818186692948582E-2,6.0244279809355816E-2,{"$error":"#N/A"},5.8244279809355815E-2]
[null,null,null,null,null,null,null,null,null,null,null,null,null,null,null,null,null,null,null,null,null,null,null,null,null,null,null,null,null,null,null,null,null,null,null,null,null,null,162,1.2200000000000022,2.4400000000000044,0.97588631368483225,4.2124577170099542E-2,2.6227957885322815E-2,6.4970311146309981E-2,4.012457717009954E-2,{"$error":"#N/A"}]
[null,null,null,null,null,null,null,null,null,null,null,null,null,null,null,null,null,null,null,null,null,null,null,null,null,null,null,null,null,null,null,null,null,null,null,null,null,null,163,1.2400000000000022,2.4800000000000044,0.97757129677163623,3.9345063780540923E-2,2.8826770331175214E-2,6.991769791183898E-2,3.7345063780540921E-2,{"$error":"#N/A"}]
[null,null,null,null,null,null,null,null,null,null,null,null,null,null,null,null,null,null,null,null,null,null,null,null,null,null,null,null,null,null,null,null,null,null,null,null,null,null,164,1.2600000000000022,2.5200000000000045,0.97914509932285787,3.672930485073278E-2,3.1623478247648773E-2,7.5082738311778127E-2,3.4729304850732778E-2,{"$error":"#N/A"}]
[null,null,null,null,null,null,null,null,null,null,null,null,null,null,null,null,null,null,null,null,null,null,null,null,null,null,null,null,null,null,null,null,null,null,null,null,null,null,165,1.2800000000000022,2.5600000000000045,0.98061427151688718,3.4269842144754592E-2,3.4626787780119898E-2,8.046036664199635E-2,3.226984214475459E-2,{"$error":"#N/A"}]
[null,null,null,null,null,null,null,null,null,null,null,null,null,null,null,null,null,null,null,null,null,null,null,null,null,null,null,null,null,null,null,null,null,null,null,null,null,null,166,1.3000000000000023,2.6000000000000045,0.98198506520267737,3.1959314861751409E-2,3.7845202445799753E-2,8.6044134577383316E-2,2.9959314861751407E-2,{"$error":"#N/A"}]
[null,null,null,null,null,null,null,null,null,null,null,null,null,null,null,null,null,null,null,null,null,null,null,null,null,null,null,null,null,null,null,null,null,null,null,null,null,null,167,1.3200000000000023,2.6400000000000046,0.98326343779714742,2.9790489206840687E-2,4.1286967828895085E-2,9.1826205349845522E-2,2.7790489206840685E-2,{"$error":"#N/A"}]
[null,null,null,null,null,null,null,null,null,null,null,null,null,null,null,null,null,null,null,null,null,null,null,null,null,null,null,null,null,null,null,null,null,null,null,null,null,null,168,1.3400000000000023,2.6800000000000046,0.98445505736542105,2.7756283756538713E-2,4.4960016042888906E-2,9.7797361179153761E-2,2.5756283756538711E-2,{"$error":"#N/A"}]
[null,null,null,null,null,null,null,null,null,null,null,null,null,null,null,null,null,null,null,null,null,null,null,null,null,null,null,null,null,null,null,null,null,null,null,null,null,null,169,1.3600000000000023,2.7200000000000046,0.9855653087156826,2.5849790904972081E-2,4.8871910490055057E-2,0.10394702413100784,2.3849790904972079E-2,{"$error":"#N/A"}]
[null,null,null,null,null,null,null,null,null,null,null,null,null,null,null,null,null,null,null,null,null,null,null,null,null,null,null,null,null,null,null,null,null,null,null,null,null,null,170,1.3800000000000023,2.7600000000000047,0.98659930035188148,2.4064294682413223E-2,5.3029791455295371E-2,0.1102632903835863,2.2064294682413221E-2,{"$error":"#N/A"}]
[null,null,null,null,null,null,null,null,null,null,null,null,null,null,null,null,null,null,null,null,null,null,null,null,null,null,null,null,null,null,null,null,null,null,null,null,null,null,171,1.4000000000000024,2.8000000000000047,0.98756187213917801,2.2393285236996241E-2,5.7440323070638823E-2,0.116732977690529,2.0393285236996239E-2,{"$error":"#N/A"}]
[null,null,null,null,null,null,null,null,null,null,null,null,null,null,null,null,null,null,null,null,null,null,null,null,null,null,null,null,null,null,null,null,null,null,null,null,null,null,172,1.4200000000000024,2.8400000000000047,0.98845760354865786,2.0830470267529932E-2,6.2109642178259983E-2,0.12334168563961495,1.8830470267529931E-2,{"$error":"#N/A"}]
[null,null,null,null,null,null,null,null,null,null,null,null,null,null,null,null,null,null,null,null,null,null,null,null,null,null,null,null,null,null,null,null,null,null,null,null,null,null,173,1.4400000000000024,2.8800000000000048,0.98929082235935906,1.936978368821396E-2,6.7043309603844581E-2,0.13007386812470578,1.7369783688213958E-2,{"$error":"#N/A"}]
[null,null,null,null,null,null,null,null,null,null,null,null,null,null,null,null,null,null,null,null,null,null,null,null,null,null,null,null,null,null,null,null,null,null,null,null,null,null,174,1.4600000000000024,2.9200000000000048,0.99006561370688762,1.800539179769578E-2,7.2246264328832813E-2,0.13691291727853938,1.6005391797695778E-2,{"$error":"#N/A"}]
[null,null,null,null,null,null,null,null,null,null,null,null,null,null,null,null,null,null,null,null,null,null,null,null,null,null,null,null,null,null,null,null,null,null,null,null,null,null,175,1.4800000000000024,2.9600000000000048,0.99078582937879545,1.6731697212921115E-2,7.7722781019974388E-2,0.1438412579577785,1.4731697212921115E-2,{"$error":"#N/A"}]
[null,null,null,null,null,null,null,null,null,null,null,null,null,null,null,null,null,null,null,null,null,null,null,null,null,null,null,null,null,null,null,null,null,null,null,null,null,null,176,1.5000000000000024,3.0000000000000049,0.99145509726731229,1.5543340816090434E-2,8.3476431338285528E-2,0.15084045173256733,1.3543340816090434E-2,{"$error":"#N/A"}]
[null,null,null,null,null,null,null,null,null,null,null,null,null,null,null,null,null,null,null,null,null,null,null,null,null,null,null,null,null,null,null,null,null,null,null,null,null,null,177,1.5200000000000025,3.0400000000000049,0.99207683089995591,1.4435201949800081E-2,8.9510049407588221E-2,0.15789130921288058,1.243520194980008E-2,{"$error":"#N/A"}]
[null,null,null,null,null,null,null,null,null,null,null,null,null,null,null,null,null,null,null,null,null,null,null,null,null,null,null,null,null,null,null,null,null,null,null,null,null,null,178,1.5400000000000025,3.080000000000005,0.99265423897794791,1.3402397079512185E-2,9.5825701776103445E-2,0.16497400944471793,1.1402397079512185E-2,{"$error":"#N/A"}]
[null,null,null,null,null,null,null,null,null,null,null,null,null,null,null,null,null,null,null,null,null,null,null,null,null,null,null,null,null,null,null,null,null,null,null,null,null,null,179,1.5600000000000025,3.120000000000005,0.9931903348611284,1.2440277128797361E-2,0.10242466215389216,0.17206822503230135,1.0440277128797361E-2,{"$error":"#N/A"}]
[null,null,null,null,null,null,null,null,null,null,null,null,null,null,null,null,null,null,null,null,null,null,null,null,null,null,null,null,null,null,null,null,null,null,null,null,null,null,180,1.5800000000000025,3.160000000000005,0.99368794594628029,1.1544423677278814E-2,0.10930739115518422,0.17915325158823145,9.5444236772788144E-3,{"$error":"#N/A"}]
[null,null,null,null,null,null,null,null,null,null,null,null,null,null,null,null,null,null,null,null,null,null,null,null,null,null,null,null,null,null,null,null,null,null,null,null,null,null,181,1.6000000000000025,3.2000000000000051,0.99414972289337145,1.0710644195727204E-2,0.11647352121871347,0.18620814008244238,8.7106441957272036E-3,{"$error":"#N/A"}]
[null,null,null,null,null,null,null,null,null,null,null,null,null,null,null,null,null,null,null,null,null,null,null,null,null,null,null,null,null,null,null,null,null,null,null,null,null,null,182,1.6200000000000025,3.2400000000000051,0.99457814866120053,9.9349664779924129E-3,0.12392184682201117,0.19321183065282818,7.9349664779924129E-3,{"$error":"#N/A"}]
[null,null,null,null,null,null,null,null,null,null,null,null,null,null,null,null,null,null,null,null,null,null,null,null,null,null,null,null,null,null,null,null,null,null,null,null,null,null,183,1.6400000000000026,3.2800000000000051,0.99497554732032023,9.2136324154834526E-3,0.1316503200481243,0.20014328645395971,7.2136324154834525E-3,{"$error":"#N/A"}]
[null,null,null,null,null,null,null,null,null,null,null,null,null,null,null,null,null,null,null,null,null,null,null,null,null,null,null,null,null,null,null,null,null,null,null,null,null,null,184,1.6600000000000026,3.3200000000000052,0.99534409261693957,8.5430912454914631E-3,0.13965605150628269,0.20698162615538432,6.5430912454914631E-3,{"$error":"#N/A"}]
[null,null,null,null,null,null,null,null,null,null,null,null,null,null,null,null,null,null,null,null,null,null,null,null,null,null,null,null,null,null,null,null,null,null,null,null,null,null,185,1.6800000000000026,3.3600000000000052,0.99568581626675923,7.9199923905232117E-3,0.14793531655249806,0.21370625375518176,5.9199923905232116E-3,{"$error":"#N/A"}]
[null,null,null,null,null,null,null,null,null,null,null,null,null,null,null,null,null,null,null,null,null,null,null,null,null,null,null,null,null,null,null,null,null,null,null,null,null,null,186,1.7000000000000026,3.4000000000000052,0.99600261596238016,7.3411779961063406E-3,0.15648356670270533,0.22029698444658505,5.3411779961063405E-3,{"$error":"#N/A"}]
[null,null,null,null,null,null,null,null,null,null,null,null,null,null,null,null,null,null,null,null,null,null,null,null,null,null,null,null,null,null,null,null,null,null,null,null,null,null,187,1.7200000000000026,3.4400000000000053,0.99629626308222441,6.8036752573635839E-3,0.16529544608056873,0.22673416536264646,4.8036752573635839E-3,{"$error":"#N/A"}]
[null,null,null,null,null,null,null,null,null,null,null,null,null,null,null,null,null,null,null,null,null,null,null,null,null,null,null,null,null,null,null,null,null,null,null,null,null,null,188,1.7400000000000027,3.4800000000000053,0.99656841009251895,6.3046886202899888E-3,0.17436481269507459,0.23299879012526128,4.3046886202899887E-3,{"$error":"#N/A"}]
[null,null,null,null,null,null,null,null,null,null,null,null,null,null,null,null,null,null,null,null,null,null,null,null,null,null,null,null,null,null,null,null,null,null,null,null,null,null,189,1.7600000000000027,3.5200000000000053,0.99682059763733055,5.8415919262366778E-3,0.18368476430008504,0.23907260623643178,3.8415919262366777E-3,{"$error":"#N/A"}]
[null,null,null,null,null,null,null,null,null,null,null,null,null,null,null,null,null,null,null,null,null,null,null,null,null,null,null,null,null,null,null,null,null,null,null,null,null,null,190,1.7800000000000027,3.5600000000000054,0.99705426131438002,5.4119205655289715E-3,0.19324766854954231,0.24493821447011468,3.4119205655289715E-3,{"$error":"#N/A"}]
[null,null,null,null,null,null,null,null,null,null,null,null,null,null,null,null,null,null,null,null,null,null,null,null,null,null,null,null,null,null,null,null,null,null,null,null,null,null,191,1.8000000000000027,3.6000000000000054,0.99727073813700118,5.0133636900540068E-3,0.2030451971283469,0.25057915954965687,3.0133636900540068E-3,{"$error":"#N/A"}]
[null,null,null,null,null,null,null,null,null,null,null,null,null,null,null,null,null,null,null,null,null,null,null,null,null,null,null,null,null,null,null,null,null,null,null,null,null,null,192,1.8200000000000027,3.6400000000000055,0.99747127268460334,4.643756534222776E-3,0.21306836351033318,0.25598001152580746,2.643756534222776E-3,{"$error":"#N/A"}]
[null,null,null,null,null,null,null,null,null,null,null,null,null,null,null,null,null,null,null,null,null,null,null,null,null,null,null,null,null,null,null,null,null,null,null,null,null,null,193,1.8400000000000027,{"$f":"AN204/$AO$10","v":3.6800000000000055},{"$f":"nct(AO204,$P$30,$G$20)","v":0.99765702294597225},{"$f":"(AP205-AP204)/$AR$10","v":4.3010728799919296E-3},{"$f":"nct(AO204,$V$30,$G$20)","v":0.22330756397136547},{"$f":"(AR205-AR204)/$AR$10","v":0.26112643740211494},{"$f":"IF(AN204>=$G$10,MAX(0,AQ204-$AU$10),NA())","v":2.3010728799919295E-3},{"$f":"IF(AN204<=$G$10,MAX(0,AS204-$AU$10),NA())","v":{"$error":"#N/A"}}]
[null,null,null,null,null,null,null,null,null,null,null,null,null,null,null,null,null,null,null,null,null,null,null,null,null,null,null,null,null,null,null,null,null,null,null,null,null,null,194,{"$f":"AN204+$AO$3","v":1.8600000000000028},3.7200000000000055,0.99782906586117193,3.9834176993713832E-3,0.23375262146745007,0.26600526268527186,1.9834176993713832E-3,{"$error":"#N/A"}]
[null,null,null,null,null,null,null,null,null,null,null,null,null,null,null,null,null,null,null,null,null,null,null,null,null,null,null,null,null,null,null,null,null,null,null,null,null,null,195,1.8800000000000028,3.7600000000000056,0.99798840256914678,3.689019998223686E-3,0.24439283197486095,0.27060452266612772,1.6890199982236859E-3,{"$error":"#N/A"}]
[null,null,null,null,null,null,null,null,null,null,null,null,null,null,null,null,null,null,null,null,null,null,null,null,null,null,null,null,null,null,null,null,null,null,null,null,null,null,196,1.9000000000000028,3.8000000000000056,0.99813596336907573,3.4162258864739448E-3,0.25521701288150606,0.27491350336031894,1.4162258864739447E-3,{"$error":"#N/A"}]
[null,null,null,null,null,null,null,null,null,null,null,null,null,null,null,null,null,null,null,null,null,null,null,null,null,null,null,null,null,null,null,null,null,null,null,null,null,null,197,1.9200000000000028,3.8400000000000056,0.99827261240453469,3.1634918835704573E-3,0.26621355301591881,0.27892277215536415,1.1634918835704573E-3,{"$error":"#N/A"}]
[null,null,null,null,null,null,null,null,null,null,null,null,null,null,null,null,null,null,null,null,null,null,null,null,null,null,null,null,null,null,null,null,null,null,null,null,null,null,198,1.9400000000000028,3.8800000000000057,0.99839915207987751,2.9293784788747557E-3,0.27737046390213338,0.28262419832010832,9.2937847887475562E-4,{"$error":"#N/A"}]
[null,null,null,null,null,null,null,null,null,null,null,null,null,null,null,null,null,null,null,null,null,null,null,null,null,null,null,null,null,null,null,null,null,null,null,null,null,null,199,1.9600000000000029,3.9200000000000057,0.9985163272190325,2.7125439493846937E-3,0.28867543183493771,0.28601096363414791,7.1254394938469363E-4,{"$error":"#N/A"}]
[null,null,null,null,null,null,null,null,null,null,null,null,null,null,null,null,null,null,null,null,null,null,null,null,null,null,null,null,null,null,null,null,null,null,null,null,null,null,200,1.9800000000000029,3.9600000000000057,0.99862482897700788,2.511738442287359E-3,0.30011587038030363,0.28907756348618835,5.1173844228735894E-4,{"$error":"#N/A"}]
[null,null,null,null,null,null,null,null,null,null,null,null,null,null,null,null,null,null,null,null,null,null,null,null,null,null,null,null,null,null,null,null,null,null,null,null,null,null,201,2.0000000000000027,4.0000000000000053,0.99872529851469938,2.3257983237101598E-3,0.31167897291975116,0.29181979887151904,3.2579832371015978E-4,{"$error":"#N/A"}]
[null,null,null,null,null,null,null,null,null,null,null,null,null,null,null,null,null,null,null,null,null,null,null,null,null,null,null,null,null,null,null,null,null,null,null,null,null,null,202,2.0200000000000027,4.0400000000000054,0.99881833044764778,2.1536407961320059E-3,0.32335176487461192,0.29423475978966607,1.5364079613200583E-4,{"$error":"#N/A"}]
[null,null,null,null,null,null,null,null,null,null,null,null,null,null,null,null,null,null,null,null,null,null,null,null,null,null,null,null,null,null,null,null,null,null,null,null,null,null,203,2.0400000000000027,4.0800000000000054,0.99890447607949306,1.994258779036695E-3,0.33512115526619857,0.29632080060324334,0,{"$error":"#N/A"}]
[null,null,null,null,null,null,null,null,null,null,null,null,null,null,null,null,null,null,null,null,null,null,null,null,null,null,null,null,null,null,null,null,null,null,null,null,null,null,204,2.0600000000000027,4.1200000000000054,0.99898424643065453,1.8467160477125821E-3,0.3469739872903283,0.29807750796763122,0,{"$error":"#N/A"}]
[null,null,null,null,null,null,null,null,null,null,null,null,null,null,null,null,null,null,null,null,null,null,null,null,null,null,null,null,null,null,null,null,null,null,null,null,null,null,205,2.0800000000000027,4.1600000000000055,0.99905811507256304,1.7101426347393422E-3,0.35889708760903355,0.29950566197977785,0,{"$error":"#N/A"}]
[null,null,null,null,null,null,null,null,null,null,null,null,null,null,null,null,null,null,null,null,null,null,null,null,null,null,null,null,null,null,null,null,null,null,null,null,null,null,206,2.1000000000000028,4.2000000000000055,0.99912652077795261,1.5837304750937475E-3,0.37087731408822466,0.30060719122184248,0,{"$error":"#N/A"}]
[null,null,null,null,null,null,null,null,null,null,null,null,null,null,null,null,null,null,null,null,null,null,null,null,null,null,null,null,null,null,null,null,null,null,null,null,null,null,207,2.1200000000000028,4.2400000000000055,0.99918986999695636,1.4667292954156919E-3,0.38290160173709836,0.30138512239379911,0,{"$error":"#N/A"}]
[null,null,null,null,null,null,null,null,null,null,null,null,null,null,null,null,null,null,null,null,null,null,null,null,null,null,null,null,null,null,null,null,null,null,null,null,null,null,208,2.1400000000000028,4.2800000000000056,0.99924853916877299,1.3584427368484864E-3,0.39495700663285033,0.30184352523693059,0,{"$error":"#N/A"}]
[null,null,null,null,null,null,null,null,null,null,null,null,null,null,null,null,null,null,null,null,null,null,null,null,null,null,null,null,null,null,null,null,null,null,null,null,null,null,209,2.1600000000000028,4.3200000000000056,0.99930287687824693,1.2582247109677036E-3,0.40703074764232755,0.30198745345070277,0,{"$error":"#N/A"}]
[null,null,null,null,null,null,null,null,null,null,null,null,null,null,null,null,null,null,null,null,null,null,null,null,null,null,null,null,null,null,null,null,null,null,null,null,null,null,210,2.1800000000000028,4.3600000000000056,0.99935320586668563,1.1654759576068541E-3,0.41911024578035566,0.30182288229668869,0,{"$error":"#N/A"}]
[null,null,null,null,null,null,null,null,null,null,null,null,null,null,null,null,null,null,null,null,null,null,null,null,null,null,null,null,null,null,null,null,null,null,null,null,null,null,211,2.2000000000000028,4.4000000000000057,0.99939982490498991,1.0796408299207361E-3,0.43118316107222321,0.30135664356790715,0,{"$error":"#N/A"}]
[null,null,null,null,null,null,null,null,null,null,null,null,null,null,null,null,null,null,null,null,null,null,null,null,null,null,null,null,null,null,null,null,null,null,null,null,null,null,212,2.2200000000000029,4.4400000000000057,0.99944301053818674,1.0002042630019581E-3,0.44323742681493949,0.30059635858072919,0,{"$error":"#N/A"}]
[null,null,null,null,null,null,null,null,null,null,null,null,null,null,null,null,null,null,null,null,null,null,null,null,null,null,null,null,null,null,null,null,null,null,null,null,null,null,213,2.2400000000000029,4.4800000000000058,0.99948301870870682,9.266889390402433E-4,0.45526128115816866,0.29955036981804406,0,{"$error":"#N/A"}]
[null,null,null,null,null,null,null,null,null,null,null,null,null,null,null,null,null,null,null,null,null,null,null,null,null,null,null,null,null,null,null,null,null,null,null,null,null,null,214,2.2600000000000029,4.5200000000000058,0.99952008626626843,8.5865263605156006E-4,0.46724329595089042,0.29822767182172971,0,{"$error":"#N/A"}]
[null,null,null,null,null,null,null,null,null,null,null,null,null,null,null,null,null,null,null,null,null,null,null,null,null,null,null,null,null,null,null,null,null,null,null,null,null,null,215,2.2800000000000029,4.5600000000000058,0.99955443237171049,7.9568573532473597E-4,0.47917240282375961,0.29663784189537246,0,{"$error":"#N/A"}]
[null,null,null,null,null,null,null,null,null,null,null,null,null,null,null,null,null,null,null,null,null,null,null,null,null,null,null,null,null,null,null,null,null,null,null,null,null,null,216,2.3000000000000029,4.6000000000000059,0.99958625980112348,7.374089115858018E-4,0.49103791649957451,0.29479097113983832,0,{"$error":"#N/A"}]
[null,null,null,null,null,null,null,null,null,null,null,null,null,null,null,null,null,null,null,null,null,null,null,null,null,null,null,null,null,null,null,null,null,null,null,null,null,null,217,2.3200000000000029,4.6400000000000059,0.99961575615758691,6.8347094959730903E-4,0.50282955534516804,0.29269759630312087,0,{"$error":"#N/A"}]
[null,null,null,null,null,null,null,null,null,null,null,null,null,null,null,null,null,null,null,null,null,null,null,null,null,null,null,null,null,null,null,null,null,null,null,null,null,null,218,2.340000000000003,4.6800000000000059,0.9996430949955708,6.33546733050383E-4,0.51453745919729288,0.29036863288244563,0,{"$error":"#N/A"}]
[null,null,null,null,null,null,null,null,null,null,null,null,null,null,null,null,null,null,null,null,null,null,null,null,null,null,null,null,null,null,null,null,null,null,null,null,null,null,219,2.360000000000003,4.720000000000006,0.99966843686489282,5.8733535416854998E-4,0.5261522045125907,0.28781530987312121,0,{"$error":"#N/A"}]
[null,null,null,null,null,null,null,null,null,null,null,null,null,null,null,null,null,null,null,null,null,null,null,null,null,null,null,null,null,null,null,null,null,null,null,null,null,null,220,2.380000000000003,4.760000000000006,0.99969193027905956,5.4455835035160938E-4,0.53766481690751555,0.28504910651489523,0,{"$error":"#N/A"}]
[null,null,null,null,null,null,null,null,null,null,null,null,null,null,null,null,null,null,null,null,null,null,null,null,null,null,null,null,null,null,null,null,null,null,null,null,null,null,221,2.400000000000003,4.800000000000006,0.99971371261307362,5.0495807193129405E-4,0.54906678116811136,0.28208169134177341,0,{"$error":"#N/A"}]
[null,null,null,null,null,null,null,null,null,null,null,null,null,null,null,null,null,null,null,null,null,null,null,null,null,null,null,null,null,null,null,null,null,null,null,null,null,null,222,2.420000000000003,4.8400000000000061,0.99973391093595088,4.6829615593657614E-4,0.5603500488217823,0.2789248637989572,0,{"$error":"#N/A"}]
[null,null,null,null,null,null,null,null,null,null,null,null,null,null,null,null,null,null,null,null,null,null,null,null,null,null,null,null,null,null,null,null,null,null,null,null,null,null,223,2.4400000000000031,4.8800000000000061,0.99975264278218834,4.3435210921594081E-4,0.57150704337374059,0.27559049864806229,0,{"$error":"#N/A"}]
[null,null,null,null,null,null,null,null,null,null,null,null,null,null,null,null,null,null,null,null,null,null,null,null,null,null,null,null,null,null,null,null,null,null,null,null,null,null,224,2.4600000000000031,4.9200000000000061,0.99977001686655698,4.0292199061375822E-4,0.58253066331966308,0.27209049334150359,0,{"$error":"#N/A"}]
[null,null,null,null,null,null,null,null,null,null,null,null,null,null,null,null,null,null,null,null,null,null,null,null,null,null,null,null,null,null,null,null,null,null,null,null,null,null,225,2.4800000000000031,4.9600000000000062,0.99978613374618153,3.7381718299145383E-4,0.59341428305332322,0.26843671850829698,0,{"$error":"#N/A"}]
[null,null,null,null,null,null,null,null,null,null,null,null,null,null,null,null,null,null,null,null,null,null,null,null,null,null,null,null,null,null,null,null,null,null,null,null,null,null,226,2.5000000000000031,5.0000000000000062,0.99980108643350118,3.4686326120803024E-4,0.6041517517936551,0.26464097165690703,0,{"$error":"#N/A"}]
[null,null,null,null,null,null,null,null,null,null,null,null,null,null,null,null,null,null,null,null,null,null,null,null,null,null,null,null,null,null,null,null,null,null,null,null,null,null,227,2.5200000000000031,5.0400000000000063,0.99981496096394951,3.2189893380552004E-4,0.61473739065993138,0.26071493416643388,0,{"$error":"#N/A"}]
[null,null,null,null,null,null,null,null,null,null,null,null,null,null,null,null,null,null,null,null,null,null,null,null,null,null,null,null,null,null,null,null,null,null,null,null,null,null,228,2.5400000000000031,5.0800000000000063,0.99982783692130173,2.9877506265152398E-4,0.62516598802658874,0.25667013160623198,0,{"$error":"#N/A"}]
[null,null,null,null,null,null,null,null,null,null,null,null,null,null,null,null,null,null,null,null,null,null,null,null,null,null,null,null,null,null,null,null,null,null,null,null,null,null,229,2.5600000000000032,5.1200000000000063,0.99983978792380779,2.7735375316972899E-4,0.63543279329083802,0.25251789739371977,0,{"$error":"#N/A"}]
[null,null,null,null,null,null,null,null,null,null,null,null,null,null,null,null,null,null,null,null,null,null,null,null,null,null,null,null,null,null,null,null,null,null,null,null,null,null,230,2.5800000000000032,5.1600000000000064,0.99985088207393458,2.5750751844189068E-4,0.64553350918658681,0.24826933977433741,0,{"$error":"#N/A"}]
[null,null,null,null,null,null,null,null,null,null,null,null,null,null,null,null,null,null,null,null,null,null,null,null,null,null,null,null,null,null,null,null,null,null,null,null,null,null,231,2.6000000000000032,5.2000000000000064,0.99986118237467225,2.3911848789914814E-4,0.6554642827775603,0.24393531208370123,0,{"$error":"#N/A"}]
[null,null,null,null,null,null,null,null,null,null,null,null,null,null,null,null,null,null,null,null,null,null,null,null,null,null,null,null,null,null,null,null,null,null,null,null,null,null,232,2.6200000000000032,5.2400000000000064,0.99987074711418822,2.2207769360127472E-4,0.66522169526090835,0.23952638622941336,0,{"$error":"#N/A"}]
[null,null,null,null,null,null,null,null,null,null,null,null,null,null,null,null,null,null,null,null,null,null,null,null,null,null,null,null,null,null,null,null,null,null,null,null,null,null,233,2.6400000000000032,5.2800000000000065,0.99987963022193227,2.0628439312830871E-4,0.67480275071008489,0.23505282931236271,0,{"$error":"#N/A"}]
[null,null,null,null,null,null,null,null,null,null,null,null,null,null,null,null,null,null,null,null,null,null,null,null,null,null,null,null,null,null,null,null,null,null,null,null,null,null,234,2.6600000000000033,5.3200000000000065,0.9998878815976574,1.9164545219385598E-4,0.68420486388257939,0.23052458329059222,0,{"$error":"#N/A"}]
[null,null,null,null,null,null,null,null,null,null,null,null,null,null,null,null,null,null,null,null,null,null,null,null,null,null,null,null,null,null,null,null,null,null,null,null,null,null,235,2.6800000000000033,5.3600000000000065,0.99989554741574516,1.780747692387008E-4,0.69342584721420308,0.22595124757417429,0,{"$error":"#N/A"}]
[null,null,null,null,null,null,null,null,null,null,null,null,null,null,null,null,null,null,null,null,null,null,null,null,null,null,null,null,null,null,null,null,null,null,null,null,null,null,236,2.7000000000000033,5.4000000000000066,0.9999026704065147,1.6549274511612477E-4,0.70246389711717006,0.22134206442890603,0,{"$error":"#N/A"}]
[null,null,null,null,null,null,null,null,null,null,null,null,null,null,null,null,null,null,null,null,null,null,null,null,null,null,null,null,null,null,null,null,null,null,null,null,null,null,237,2.7200000000000033,5.4400000000000066,0.99990929011631935,1.5382578974210137E-4,0.7113175796943263,0.21670590705626658,0,{"$error":"#N/A"}]
[null,null,null,null,null,null,null,null,null,null,null,null,null,null,null,null,null,null,null,null,null,null,null,null,null,null,null,null,null,null,null,null,null,null,null,null,null,null,238,2.7400000000000033,5.4800000000000066,0.99991544314790903,1.4300586237969704E-4,0.71998581597657696,0.21205127021017844,0,{"$error":"#N/A"}]
[null,null,null,null,null,null,null,null,null,null,null,null,null,null,null,null,null,null,null,null,null,null,null,null,null,null,null,null,null,null,null,null,null,null,null,null,null,null,239,2.7600000000000033,5.5200000000000067,0.99992116338240422,1.3297006124790567E-4,0.7284678667849841,0.20738626320487008,0,{"$error":"#N/A"}]
[null,null,null,null,null,null,null,null,null,null,null,null,null,null,null,null,null,null,null,null,null,null,null,null,null,null,null,null,null,null,null,null,null,null,null,null,null,null,240,2.7800000000000034,5.5600000000000067,0.99992648218485414,1.2366022499876728E-4,0.7367633173131789,0.20271860516524742,0,{"$error":"#N/A"}]
[null,null,null,null,null,null,null,null,null,null,null,null,null,null,null,null,null,null,null,null,null,null,null,null,null,null,null,null,null,null,null,null,null,null,null,null,null,null,241,2.8000000000000034,5.6000000000000068,0.99993142859385409,1.150225759277701E-4,0.7448720615197888,0.1980556223678237,0,{"$error":"#N/A"}]
[null,null,null,null,null,null,null,null,null,null,null,null,null,null,null,null,null,null,null,null,null,null,null,null,null,null,null,null,null,null,null,null,null,null,null,null,null,null,242,2.8200000000000034,5.6400000000000068,0.9999360294968912,1.0700738611313376E-4,0.75279428641450175,0.19340424752044005,0,{"$error":"#N/A"}]
[null,null,null,null,null,null,null,null,null,null,null,null,null,null,null,null,null,null,null,null,null,null,null,null,null,null,null,null,null,null,null,null,null,null,null,null,null,null,243,2.8400000000000034,5.6800000000000068,0.99994030979233572,9.9568673461725155E-5,0.76053045631531935,0.18877102082879571,0,{"$error":"#N/A"}]
[null,null,null,null,null,null,null,null,null,null,null,null,null,null,null,null,null,null,null,null,null,null,null,null,null,null,null,null,null,null,null,null,null,null,null,null,null,null,244,2.8600000000000034,5.7200000000000069,0.99994429253927419,9.266390967321847E-5,0.76808129714847118,0.18416209270012696,0,{"$error":"#N/A"}]
[null,null,null,null,null,null,null,null,null,null,null,null,null,null,null,null,null,null,null,null,null,null,null,null,null,null,null,null,null,null,null,null,null,null,null,null,null,null,245,2.8800000000000034,5.7600000000000069,0.99994799909566112,8.6253767447863616E-5,0.77544778085647625,0.17958322793619474,0,{"$error":"#N/A"}]
[null,null,null,null,null,null,null,null,null,null,null,null,null,null,null,null,null,null,null,null,null,null,null,null,null,null,null,null,null,null,null,null,null,null,null,null,null,null,246,2.9000000000000035,5.8000000000000069,0.99995144924635904,8.0301868415899591E-5,0.78263110997392404,0.17503981127251489,0,{"$error":"#N/A"}]
[null,null,null,null,null,null,null,null,null,null,null,null,null,null,null,null,null,null,null,null,null,null,null,null,null,null,null,null,null,null,null,null,null,null,null,null,null,null,247,2.9200000000000035,5.840000000000007,0.99995466132109567,7.4774567321300722E-5,0.78963270242482464,0.17053685412363462,0,{"$error":"#N/A"}]
[null,null,null,null,null,null,null,null,null,null,null,null,null,null,null,null,null,null,null,null,null,null,null,null,null,null,null,null,null,null,null,null,null,null,null,null,null,null,248,2.9400000000000035,5.880000000000007,0.99995765230378852,6.964073450133057E-5,0.79645417658977002,0.16607900240049878,0,{"$error":"#N/A"}]
[null,null,null,null,null,null,null,null,null,null,null,null,null,null,null,null,null,null,null,null,null,null,null,null,null,null,null,null,null,null,null,null,null,null,null,null,null,null,249,2.9600000000000035,5.920000000000007,0.99996043793316858,6.4871574595448678E-5,0.80309733668578998,0.16167054527084501,0,{"$error":"#N/A"}]
[null,null,null,null,null,null,null,null,null,null,null,null,null,null,null,null,null,null,null,null,null,null,null,null,null,null,null,null,null,null,null,null,null,null,null,null,null,null,250,2.9800000000000035,5.9600000000000071,0.9999630327961524,6.0440446403298154E-5,0.80956415849662378,0.1573154247390518,0,{"$error":"#N/A"}]
[null,null,null,null,null,null,null,null,null,null,null,null,null,null,null,null,null,null,null,null,null,null,null,null,null,null,null,null,null,null,null,null,null,null,null,null,null,null,251,3.0000000000000036,6.0000000000000071,0.99996545041400853,5.6322694313992727E-5,0.81585677548618585,0.15301724592918509,0,{"$error":"#N/A"}]
[null,null,null,null,null,null,null,null,null,null,null,null,null,null,null,null,null,null,null,null,null,null,null,null,null,null,null,null,null,null,null,null,null,null,null,null,null,null,252,3.0200000000000036,6.0400000000000071,0.99996770332178109,5.2495505609151394E-5,0.82197746532335325,0.1487792879603711,0,{"$error":"#N/A"}]
[null,null,null,null,null,null,null,null,null,null,null,null,null,null,null,null,null,null,null,null,null,null,null,null,null,null,null,null,null,null,null,null,null,null,null,null,null,null,253,3.0400000000000036,6.0800000000000072,0.99996980314200545,4.8937763910683607E-5,0.8279286368417681,0.14460451531051466,0,{"$error":"#N/A"}]
[null,null,null,null,null,null,null,null,null,null,null,null,null,null,null,null,null,null,null,null,null,null,null,null,null,null,null,null,null,null,null,null,null,null,null,null,null,null,254,3.0600000000000036,6.1200000000000072,0.99997176065256188,4.5629927100665491E-5,0.83371281745418868,0.1404955895715293,0,{"$error":"#N/A"}]
[null,null,null,null,null,null,null,null,null,null,null,null,null,null,null,null,null,null,null,null,null,null,null,null,null,null,null,null,null,null,null,null,null,null,null,null,null,null,255,3.0800000000000036,6.1600000000000072,0.99997358584964591,4.2553901674624584E-5,0.83933264103704985,0.13645488150539342,0,{"$error":"#N/A"}]
[null,null,null,null,null,null,null,null,null,null,null,null,null,null,null,null,null,null,null,null,null,null,null,null,null,null,null,null,null,null,null,null,null,null,null,null,null,null,256,3.1000000000000036,6.2000000000000073,0.99997528800571289,3.9692938788582488E-5,0.84479083629726559,0.13248448331694418,0,{"$error":"#N/A"}]
[null,null,null,null,null,null,null,null,null,null,null,null,null,null,null,null,null,null,null,null,null,null,null,null,null,null,null,null,null,null,null,null,null,null,null,null,null,null,257,3.1200000000000037,{"$f":"AN268/$AO$10","v":6.2400000000000073},{"$f":"nct(AO268,$P$30,$G$20)","v":0.99997687572326444},{"$f":"(AP269-AP268)/$AR$10","v":3.7031530875086816E-5},{"$f":"nct(AO268,$V$30,$G$20)","v":0.85009021562994336},{"$f":"(AR269-AR268)/$AR$10","v":0.1285862210664207},{"$f":"IF(AN268>=$G$10,MAX(0,AQ268-$AU$10),NA())","v":0},{"$f":"IF(AN268<=$G$10,MAX(0,AS268-$AU$10),NA())","v":{"$error":"#N/A"}}]
[null,null,null,null,null,null,null,null,null,null,null,null,null,null,null,null,null,null,null,null,null,null,null,null,null,null,null,null,null,null,null,null,null,null,null,null,null,null,258,{"$f":"AN268+$AO$3","v":3.1400000000000037},6.2800000000000074,0.99997835698449944,3.4555311420603196E-5,0.85523366447260019,0.12476166715062187,0,{"$error":"#N/A"}]
[null,null,null,null,null,null,null,null,null,null,null,null,null,null,null,null,null,null,null,null,null,null,null,null,null,null,null,null,null,null,null,null,null,null,null,null,null,null,259,3.1600000000000037,6.3200000000000074,0.99997973919695626,3.2250984824400142E-5,0.86022413115862506,0.12101215278814137,0,{"$error":"#N/A"}]
[null,null,null,null,null,null,null,null,null,null,null,null,null,null,null,null,null,null,null,null,null,null,null,null,null,null,null,null,null,null,null,null,null,null,null,null,null,null,260,3.1800000000000037,6.3600000000000074,0.99998102923634924,3.0106228013360159E-5,0.86506461727015072,0.11733878044989099,0,{"$error":"#N/A"}]
[null,null,null,null,null,null,null,null,null,null,null,null,null,null,null,null,null,null,null,null,null,null,null,null,null,null,null,null,null,null,null,null,null,null,null,null,null,null,261,3.2000000000000037,6.4000000000000075,0.99998223348546977,2.8109626667993659E-5,0.86975816848814635,0.11374243618242352,0,{"$error":"#N/A"}]
[null,null,null,null,null,null,null,null,null,null,null,null,null,null,null,null,null,null,null,null,null,null,null,null,null,null,null,null,null,null,null,null,null,null,null,null,null,null,262,3.2200000000000037,6.4400000000000075,0.99998335787053649,2.6250607890188071E-5,0.8743078659354433,0.11022380177653501,0,{"$error":"#N/A"}]
[null,null,null,null,null,null,null,null,null,null,null,null,null,null,null,null,null,null,null,null,null,null,null,null,null,null,null,null,null,null,null,null,null,null,null,null,null,null,263,3.2400000000000038,6.4800000000000075,0.9999844078948521,2.4519371519260424E-5,0.8787168180065047,0.10678336673880795,0,{"$error":"#N/A"}]
[null,null,null,null,null,null,null,null,null,null,null,null,null,null,null,null,null,null,null,null,null,null,null,null,null,null,null,null,null,null,null,null,null,null,null,null,null,null,264,3.2600000000000038,6.5200000000000076,0.99998538866971287,2.2906835933644842E-5,0.88298815267605701,0.10342144003072096,0,{"$error":"#N/A"}]
[null,null,null,null,null,null,null,null,null,null,null,null,null,null,null,null,null,null,null,null,null,null,null,null,null,null,null,null,null,null,null,null,null,null,null,null,null,null,265,3.2800000000000038,6.5600000000000076,0.99998630494315022,2.1404584002460147E-5,0.88712501027728585,0.10013816154137989,0,{"$error":"#N/A"}]
[null,null,null,null,null,null,null,null,null,null,null,null,null,null,null,null,null,null,null,null,null,null,null,null,null,null,null,null,null,null,null,null,null,null,null,null,null,null,266,3.3000000000000038,6.6000000000000076,0.99998716112651032,2.000481309494262E-5,0.89113053673894105,9.6933513266878046E-2,0,{"$error":"#N/A"}]
[null,null,null,null,null,null,null,null,null,null,null,null,null,null,null,null,null,null,null,null,null,null,null,null,null,null,null,null,null,null,null,null,null,null,null,null,null,null,267,3.3200000000000038,6.6400000000000077,0.99998796131903411,1.8700286080752804E-5,0.89500787726961617,9.3807330173500958E-2,0,{"$error":"#N/A"}]
[null,null,null,null,null,null,null,null,null,null,null,null,null,null,null,null,null,null,null,null,null,null,null,null,null,null,null,null,null,null,null,null,null,null,null,null,null,null,268,3.3400000000000039,6.6800000000000077,0.99998870933047734,1.7484296399583599E-5,0.89876017047655621,9.0759310723861897E-2,0,{"$error":"#N/A"}]
[null,null,null,null,null,null,null,null,null,null,null,null,null,null,null,null,null,null,null,null,null,null,null,null,null,null,null,null,null,null,null,null,null,null,null,null,null,null,269,3.3600000000000039,6.7200000000000077,0.99998940870233333,1.6350620513083669E-5,0.90239054290551068,8.7789027051621282E-2,0,{"$error":"#N/A"}]
[null,null,null,null,null,null,null,null,null,null,null,null,null,null,null,null,null,null,null,null,null,null,null,null,null,null,null,null,null,null,null,null,null,null,null,null,null,null,270,3.3800000000000039,6.7600000000000078,0.99999006272715385,1.5293486549383672E-5,0.90590210398757554,8.4895934769863013E-2,0,{"$error":"#N/A"}]
[null,null,null,null,null,null,null,null,null,null,null,null,null,null,null,null,null,null,null,null,null,null,null,null,null,null,null,null,null,null,null,null,null,null,null,null,null,null,271,3.4000000000000039,6.8000000000000078,0.99999067446661583,1.4307540058267065E-5,0.90929794137837006,8.207938240626933E-2,0,{"$error":"#N/A"}]
[null,null,null,null,null,null,null,null,null,null,null,null,null,null,null,null,null,null,null,null,null,null,null,null,null,null,null,null,null,null,null,null,null,null,null,null,null,null,272,3.4200000000000039,6.8400000000000079,0.99999124676821816,1.3387813727061548E-5,0.91258111667462083,7.9338620456134712E-2,0,{"$error":"#N/A"}]
[null,null,null,null,null,null,null,null,null,null,null,null,null,null,null,null,null,null,null,null,null,null,null,null,null,null,null,null,null,null,null,null,null,null,null,null,null,null,273,3.4400000000000039,6.8800000000000079,0.99999178228076724,1.252969598353193E-5,0.91575466149286622,7.667281004951898E-2,0,{"$error":"#N/A"}]
[null,null,null,null,null,null,null,null,null,null,null,null,null,null,null,null,null,null,null,null,null,null,null,null,null,null,null,null,null,null,null,null,null,null,null,null,null,null,274,3.460000000000004,6.9200000000000079,0.99999228346860658,1.1728906887387147E-5,0.91882157389484698,7.4081031232892114E-2,0,{"$error":"#N/A"}]
[null,null,null,null,null,null,null,null,null,null,null,null,null,null,null,null,null,null,null,null,null,null,null,null,null,null,null,null,null,null,null,null,null,null,null,null,null,null,275,3.480000000000004,6.960000000000008,0.99999275262488208,1.0981475498383908E-5,0.92178481514416266,7.1562290860111011E-2,0,{"$error":"#N/A"}]
[null,null,null,null,null,null,null,null,null,null,null,null,null,null,null,null,null,null,null,null,null,null,null,null,null,null,null,null,null,null,null,null,null,null,null,null,null,null,276,3.500000000000004,7.000000000000008,0.99999319188390201,1.0283711737724133E-5,0.9246473067785671,6.9115530101987455E-2,0,{"$error":"#N/A"}]
[null,null,null,null,null,null,null,null,null,null,null,null,null,null,null,null,null,null,null,null,null,null,null,null,null,null,null,null,null,null,null,null,null,null,null,null,null,null,277,3.520000000000004,7.040000000000008,0.99999360323237152,9.632190742236979E-6,0.9274119279826466,6.6739631571743896E-2,0,{"$error":"#N/A"}]
[null,null,null,null,null,null,null,null,null,null,null,null,null,null,null,null,null,null,null,null,null,null,null,null,null,null,null,null,null,null,null,null,null,null,null,null,null,null,278,3.540000000000004,7.0800000000000081,0.99999398852000121,9.023731842305871E-6,0.93008151324551636,6.443342607555802E-2,0,{"$error":"#N/A"}]
[null,null,null,null,null,null,null,null,null,null,null,null,null,null,null,null,null,null,null,null,null,null,null,null,null,null,null,null,null,null,null,null,null,null,null,null,null,null,279,3.5600000000000041,7.1200000000000081,0.9999943494692749,8.4553795021147238E-6,0.93265885028853868,6.2195698992301152E-2,0,{"$error":"#N/A"}]
[null,null,null,null,null,null,null,null,null,null,null,null,null,null,null,null,null,null,null,null,null,null,null,null,null,null,null,null,null,null,null,null,null,null,null,null,null,null,280,3.5800000000000041,7.1600000000000081,0.99999468768445499,7.92438895891312E-6,0.93514667824823072,6.002519629275116E-2,0,{"$error":"#N/A"}]
[null,null,null,null,null,null,null,null,null,null,null,null,null,null,null,null,null,null,null,null,null,null,null,null,null,null,null,null,null,null,null,null,null,null,null,null,null,null,281,3.6000000000000041,7.2000000000000082,0.99999500466001334,7.4282076517606654E-6,0.93754768609994077,5.7920630203570078E-2,0,{"$error":"#N/A"}]
[null,null,null,null,null,null,null,null,null,null,null,null,null,null,null,null,null,null,null,null,null,null,null,null,null,null,null,null,null,null,null,null,null,null,null,null,null,null,282,3.6200000000000041,7.2400000000000082,0.99999530178831941,6.9644663258650041E-6,0.93986451130808357,5.5880684528039626E-2,0,{"$error":"#N/A"}]
[null,null,null,null,null,null,null,null,null,null,null,null,null,null,null,null,null,null,null,null,null,null,null,null,null,null,null,null,null,null,null,null,null,null,null,null,null,null,283,3.6400000000000041,7.2800000000000082,0.99999558036697245,6.5309595481677363E-6,0.94209973868920516,5.3904019631872968E-2,0,{"$error":"#N/A"}]
[null,null,null,null,null,null,null,null,null,null,null,null,null,null,null,null,null,null,null,null,null,null,null,null,null,null,null,null,null,null,null,null,null,null,null,null,null,null,284,3.6600000000000041,7.3200000000000083,0.99999584160535437,6.125638554732582E-6,0.94425589947448008,5.1989277106681553E-2,0,{"$error":"#N/A"}]
[null,null,null,null,null,null,null,null,null,null,null,null,null,null,null,null,null,null,null,null,null,null,null,null,null,null,null,null,null,null,null,null,null,null,null,null,null,null,285,3.6800000000000042,7.3600000000000083,0.99999608663089656,5.746598402689429E-6,0.94633547055874734,5.0135084121905038E-2,0,{"$error":"#N/A"}]
[null,null,null,null,null,null,null,null,null,null,null,null,null,null,null,null,null,null,null,null,null,null,null,null,null,null,null,null,null,null,null,null,null,null,null,null,null,null,286,3.7000000000000042,7.4000000000000083,0.99999631649483267,5.3920665543660817E-6,0.94834087392362354,4.8340057468768127E-2,0,{"$error":"#N/A"}]
[null,null,null,null,null,null,null,null,null,null,null,null,null,null,null,null,null,null,null,null,null,null,null,null,null,null,null,null,null,null,null,null,null,null,null,null,null,null,287,3.7200000000000042,7.4400000000000084,0.99999653217749485,5.0603952889138881E-6,0.95027447622237426,4.6602807326279194E-2,0,{"$error":"#N/A"}]
[null,null,null,null,null,null,null,null,null,null,null,null,null,null,null,null,null,null,null,null,null,null,null,null,null,null,null,null,null,null,null,null,null,null,null,null,null,null,288,3.7400000000000042,7.4800000000000084,0.9999967345933064,4.7500506028530509E-6,0.95213858851542543,4.4921940740255684E-2,0,{"$error":"#N/A"}]
[null,null,null,null,null,null,null,null,null,null,null,null,null,null,null,null,null,null,null,null,null,null,null,null,null,null,null,null,null,null,null,null,null,null,null,null,null,null,289,3.7600000000000042,7.5200000000000085,0.99999692459533052,4.4596054737944257E-6,0.95393546614503566,4.3296064838671544E-2,0,{"$error":"#N/A"}]
[null,null,null,null,null,null,null,null,null,null,null,null,null,null,null,null,null,null,null,null,null,null,null,null,null,null,null,null,null,null,null,null,null,null,null,null,null,null,290,3.7800000000000042,7.5600000000000085,0.99999710297954947,4.1877323497807595E-6,0.95566730873858252,4.1723789797137867E-2,0,{"$error":"#N/A"}]
[null,null,null,null,null,null,null,null,null,null,null,null,null,null,null,null,null,null,null,null,null,null,null,null,null,null,null,null,null,null,null,null,null,null,null,null,null,null,291,3.8000000000000043,7.6000000000000085,0.99999727048884346,3.9331946616316671E-6,0.95733626033046804,4.0203731554877553E-2,0,{"$error":"#N/A"}]
[null,null,null,null,null,null,null,null,null,null,null,null,null,null,null,null,null,null,null,null,null,null,null,null,null,null,null,null,null,null,null,null,null,null,null,null,null,null,292,3.8200000000000043,7.6400000000000086,0.99999742781662992,3.6948413689730231E-6,0.95894440959266314,3.873451430849717E-2,0,{"$error":"#N/A"}]
[null,null,null,null,null,null,null,null,null,null,null,null,null,null,null,null,null,null,null,null,null,null,null,null,null,null,null,null,null,null,null,null,null,null,null,null,null,null,293,3.8400000000000043,7.6800000000000086,0.99999757561028468,3.4716013341817842E-6,0.96049379016500303,3.7314772779889482E-2,0,{"$error":"#N/A"}]
[null,null,null,null,null,null,null,null,null,null,null,null,null,null,null,null,null,null,null,null,null,null,null,null,null,null,null,null,null,null,null,null,null,null,null,null,null,null,294,3.8600000000000043,7.7200000000000086,0.99999771447433805,3.2624757145827132E-6,0.9619863810761986,3.594315427995487E-2,0,{"$error":"#N/A"}]
[null,null,null,null,null,null,null,null,null,null,null,null,null,null,null,null,null,null,null,null,null,null,null,null,null,null,null,null,null,null,null,null,null,null,null,null,null,null,295,3.8800000000000043,7.7600000000000087,0.99999784497336663,3.0665356559600454E-6,0.9634241072473968,3.4618320577617379E-2,0,{"$error":"#N/A"}]
[null,null,null,null,null,null,null,null,null,null,null,null,null,null,null,null,null,null,null,null,null,null,null,null,null,null,null,null,null,null,null,null,null,null,null,null,null,null,296,3.9000000000000044,7.8000000000000087,0.99999796763479287,2.8829140935604514E-6,0.96480884007050149,3.3338949577432775E-2,0,{"$error":"#N/A"}]
[null,null,null,null,null,null,null,null,null,null,null,null,null,null,null,null,null,null,null,null,null,null,null,null,null,null,null,null,null,null,null,null,null,null,null,null,null,null,297,3.9200000000000044,7.8400000000000087,0.99999808295135661,2.7108049832635928E-6,0.96614239805359881,3.2103736828661966E-2,0,{"$error":"#N/A"}]
[null,null,null,null,null,null,null,null,null,null,null,null,null,null,null,null,null,null,null,null,null,null,null,null,null,null,null,null,null,null,null,null,null,null,null,null,null,null,298,3.9400000000000044,7.8800000000000088,0.99999819138355595,2.5494545530246882E-6,0.96742654752674528,3.0911396865679341E-2,0,{"$error":"#N/A"}]
[null,null,null,null,null,null,null,null,null,null,null,null,null,null,null,null,null,null,null,null,null,null,null,null,null,null,null,null,null,null,null,null,null,null,null,null,null,null,299,3.9600000000000044,7.9200000000000088,0.99999829336173807,2.3981625518754157E-6,0.96866300340137246,2.9760664396510927E-2,0,{"$error":"#N/A"}]
[null,null,null,null,null,null,null,null,null,null,null,null,null,null,null,null,null,null,null,null,null,null,null,null,null,null,null,null,null,null,null,null,null,null,null,null,null,null,300,3.9800000000000044,7.9600000000000088,0.99999838928824014,2.2562752860499913E-6,0.96985342997723289,2.8650295341745013E-2,0,{"$error":"#N/A"}]
[null,null,null,null,null,null,null,null,null,null,null,null,null,null,null,null,null,null,null,null,null,null,null,null,null,null,null,null,null,null,null,null,null,null,null,null,null,null,301,4.0000000000000044,8.0000000000000089,0.99999847953925158,2.1231828489787219E-6,0.9709994417909027,2.7579067741875796E-2,0,{"$error":"#N/A"}]
[null,null,null,null,null,null,null,null,null,null,null,null,null,null,null,null,null,null,null,null,null,null,null,null,null,null,null,null,null,null,null,null,null,null,null,null,null,null,302,4.020000000000004,8.040000000000008,0.99999856446656554,null,0.97210260450057773]

{"sheet":"Power picture","index":6,"n_rows":35,"n_cols":251,"rows_kept":35,"cut":false,"hidden":false,"merged":[[6,2,6,3],[8,2,8,3],[20,2,20,3]]}
[null,null,null,"Power picture",null,null,null,null,null,null,null,null,{"$f":"($C$7+$J$13+$AY$29+$BA$1+$BA$2)/1000000","v":1.2689999999999999E-4},{"$f":"$M$1","v":1.2689999999999999E-4},1.2689999999999999E-4,1.2689999999999999E-4,1.2689999999999999E-4,1.2689999999999999E-4,1.2689999999999999E-4,1.2689999999999999E-4,1.2689999999999999E-4,1.2689999999999999E-4,1.2689999999999999E-4,1.2689999999999999E-4,1.2689999999999999E-4,1.2689999999999999E-4,1.2689999999999999E-4,1.2689999999999999E-4,1.2689999999999999E-4,null,null,null,null,null,null,null,null,null,null,null,null,null,null,null,null,null,null,null,null,"LH end",{"$f":"BC1-BC2/2","v":-3},"ForCentreX",70,"CentreXaxis",{"$f":"(BA1-50)/10","v":2},"For accurate",{"$f":"-BF1","v":-2.2621571581735829},{"$f":"TINV($C$21,$C$9)","v":2.2621571581735829},"For accurate",{"$f":"-BI1","v":-1.959963984540054},{"$f":"NORMSINV(1-C21/2)","v":1.959963984540054}]
[null,null,null,null,"See statistical power for a single sample  ",null,null,null,null,null,null,null,{"$f":"$M$1","v":1.2689999999999999E-4},null,null,null,null,null,null,null,null,null,null,null,null,null,null,null,{"$f":"$M$1","v":1.2689999999999999E-4},null,null,null,null,null,null,null,null,null,null,null,null,null,null,null,null,null,null,null,null,"N(t steps)",200,"ForLengthX",20,"LengthXaxis",{"$f":"BA2/2","v":10},"t power",{"$f":"nct(BE1,$J$16,$C$9)","v":2.6897469186927641E-6},{"$f":"nct(BF1,$J$16,$C$9)","v":0.28282147124497453},"z power",{"$f":"NORMSDIST(-AY33+BH1)","v":7.6984608443630975E-7},{"$f":"NORMSDIST(-AY33+BI1)","v":0.18778561762229806}]
[null,null,null,null,"  If s known, use z, see normal distributions",null,null,null,null,null,null,null,{"$f":"$M$1","v":1.2689999999999999E-4},null,null,null,null,null,null,null,null,null,null,null,null,null,null,null,1.2689999999999999E-4,null,null,null,null,null,null,null,null,null,null,null,null,null,null,null,null,null,null,null,null,"t step size",{"$f":"BC2/AY2","v":0.05}]
[null,null,null,null,"  If s not known, use t, see t distributions",null,null,null,null,null,null,null,1.2689999999999999E-4,null,null,null,null,null,null,null,null,null,null,null,null,null,null,null,1.2689999999999999E-4,null,null,null,null,null,null,null,null,null,null,null,null,null,null,null,null,null,null,null,null,"H0 true blue normal",{"$f":"IF(AND($AX$27,$AX$28,$AZ$29),NORMDIST(AY26,0,1,FALSE),NA())","v":{"$error":"#N/A"}},{"$f":"IF(AND($AX$27,$AX$28,$AZ$29),NORMDIST(AZ26,0,1,FALSE),NA())","v":{"$error":"#N/A"}},{"$error":"#N/A"},{"$error":"#N/A"},{"$error":"#N/A"},{"$error":"#N/A"},{"$error":"#N/A"},{"$error":"#N/A"},{"$error":"#N/A"},{"$error":"#N/A"},{"$error":"#N/A"},{"$error":"#N/A"},{"$error":"#N/A"},{"$error":"#N/A"},{"$error":"#N/A"},{"$error":"#N/A"},{"$error":"#N/A"},{"$error":"#N/A"},{"$error":"#N/A"},{"$error":"#N/A"},{"$error":"#N/A"},{"$error":"#N/A"},{"$error":"#N/A"},{"$error":"#N/A"},{"$error":"#N/A"},{"$error":"#N/A"},{"$error":"#N/A"},{"$error":"#N/A"},{"$error":"#N/A"},{"$error":"#N/A"},{"$error":"#N/A"},{"$error":"#N/A"},{"$error":"#N/A"},{"$error":"#N/A"},{"$error":"#N/A"},{"$error":"#N/A"},{"$error":"#N/A"},{"$error":"#N/A"},{"$error":"#N/A"},{"$error":"#N/A"},{"$error":"#N/A"},{"$error":"#N/A"},{"$error":"#N/A"},{"$error":"#N/A"},{"$error":"#N/A"},{"$error":"#N/A"},{"$error":"#N/A"},{"$error":"#N/A"},{"$error":"#N/A"},{"$error":"#N/A"},{"$error":"#N/A"},{"$error":"#N/A"},{"$error":"#N/A"},{"$error":"#N/A"},{"$error":"#N/A"},{"$error":"#N/A"},{"$error":"#N/A"},{"$error":"#N/A"},{"$error":"#N/A"},{"$error":"#N/A"},{"$error":"#N/A"},{"$error":"#N/A"},{"$error":"#N/A"},{"$error":"#N/A"},{"$error":"#N/A"},{"$f":"IF(AND($AX$27,$AX$28,$AZ$29),NORMDIST(DL26,0,1,FALSE),NA())","v":{"$error":"#N/A"}},{"$error":"#N/A"},{"$error":"#N/A"},{"$error":"#N/A"},{"$error":"#N/A"},{"$error":"#N/A"},{"$error":"#N/A"},{"$error":"#N/A"},{"$error":"#N/A"},{"$error":"#N/A"},{"$error":"#N/A"},{"$error":"#N/A"},{"$error":"#N/A"},{"$error":"#N/A"},{"$error":"#N/A"},{"$error":"#N/A"},{"$error":"#N/A"},{"$error":"#N/A"},{"$error":"#N/A"},{"$error":"#N/A"},{"$error":"#N/A"},{"$error":"#N/A"},{"$error":"#N/A"},{"$error":"#N/A"},{"$error":"#N/A"},{"$error":"#N/A"},{"$error":"#N/A"},{"$error":"#N/A"},{"$error":"#N/A"},{"$error":"#N/A"},{"$error":"#N/A"},{"$error":"#N/A"},{"$error":"#N/A"},{"$error":"#N/A"},{"$error":"#N/A"},{"$error":"#N/A"},{"$error":"#N/A"},{"$error":"#N/A"},{"$error":"#N/A"},{"$error":"#N/A"},{"$error":"#N/A"},{"$error":"#N/A"},{"$error":"#N/A"},{"$error":"#N/A"},{"$error":"#N/A"},{"$error":"#N/A"},{"$error":"#N/A"},{"$error":"#N/A"},{"$error":"#N/A"},{"$error":"#N/A"},{"$error":"#N/A"},{"$error":"#N/A"},{"$error":"#N/A"},{"$error":"#N/A"},{"$error":"#N/A"},{"$error":"#N/A"},{"$error":"#N/A"},{"$error":"#N/A"},{"$error":"#N/A"},{"$error":"#N/A"},{"$error":"#N/A"},{"$error":"#N/A"},{"$error":"#N/A"},{"$error":"#N/A"},{"$f":"IF(AND($AX$27,$AX$28,$AZ$29),NORMDIST(FX26,0,1,FALSE),NA())","v":{"$error":"#N/A"}},{"$error":"#N/A"},{"$error":"#N/A"},{"$error":"#N/A"},{"$error":"#N/A"},{"$error":"#N/A"},{"$error":"#N/A"},{"$error":"#N/A"},{"$error":"#N/A"},{"$error":"#N/A"},{"$error":"#N/A"},{"$error":"#N/A"},{"$error":"#N/A"},{"$error":"#N/A"},{"$error":"#N/A"},{"$error":"#N/A"},{"$error":"#N/A"},{"$error":"#N/A"},{"$error":"#N/A"},{"$error":"#N/A"},{"$error":"#N/A"},{"$error":"#N/A"},{"$error":"#N/A"},{"$error":"#N/A"},{"$error":"#N/A"},{"$error":"#N/A"},{"$error":"#N/A"},{"$error":"#N/A"},{"$error":"#N/A"},{"$error":"#N/A"},{"$error":"#N/A"},{"$error":"#N/A"},{"$error":"#N/A"},{"$error":"#N/A"},{"$error":"#N/A"},{"$error":"#N/A"},{"$error":"#N/A"},{"$error":"#N/A"},{"$error":"#N/A"},{"$error":"#N/A"},{"$error":"#N/A"},{"$error":"#N/A"},{"$error":"#N/A"},{"$error":"#N/A"},{"$error":"#N/A"},{"$error":"#N/A"},{"$error":"#N/A"},{"$error":"#N/A"},{"$error":"#N/A"},{"$error":"#N/A"},{"$error":"#N/A"},{"$error":"#N/A"},{"$error":"#N/A"},{"$error":"#N/A"},{"$error":"#N/A"},{"$error":"#N/A"},{"$error":"#N/A"},{"$error":"#N/A"},{"$error":"#N/A"},{"$error":"#N/A"},{"$error":"#N/A"},{"$error":"#N/A"},{"$error":"#N/A"},{"$error":"#N/A"},{"$f":"IF(AND($AX$27,$AX$28,$AZ$29),NORMDIST(IJ26,0,1,FALSE),NA())","v":{"$error":"#N/A"}},{"$error":"#N/A"},{"$error":"#N/A"},{"$error":"#N/A"},{"$error":"#N/A"},{"$error":"#N/A"},{"$error":"#N/A"}]
[1,"Set up",null,null,null,null," Use z, assume s known",null,null,null,null,null,1.2689999999999999E-4,null,null,null,null,null,null,null,null,null,null,null,null,null,null,null,1.2689999999999999E-4,null,null,null,null,null,null,null,null,null,null,null,null,null,null,null,null,null,null,null,null,"H1 true grey normal",{"$f":"IF(AND($AX$27,NOT($AX$28),$AZ$29),NORMDIST(AY26,0,1,FALSE),NA())","v":{"$error":"#N/A"}},{"$f":"IF(AND($AX$27,NOT($AX$28),$AZ$29),NORMDIST(AZ26,0,1,FALSE),NA())","v":{"$error":"#N/A"}},{"$error":"#N/A"},{"$error":"#N/A"},{"$error":"#N/A"},{"$error":"#N/A"},{"$error":"#N/A"},{"$error":"#N/A"},{"$error":"#N/A"},{"$error":"#N/A"},{"$error":"#N/A"},{"$error":"#N/A"},{"$error":"#N/A"},{"$error":"#N/A"},{"$error":"#N/A"},{"$error":"#N/A"},{"$error":"#N/A"},{"$error":"#N/A"},{"$error":"#N/A"},{"$error":"#N/A"},{"$error":"#N/A"},{"$error":"#N/A"},{"$error":"#N/A"},{"$error":"#N/A"},{"$error":"#N/A"},{"$error":"#N/A"},{"$error":"#N/A"},{"$error":"#N/A"},{"$error":"#N/A"},{"$error":"#N/A"},{"$error":"#N/A"},{"$error":"#N/A"},{"$error":"#N/A"},{"$error":"#N/A"},{"$error":"#N/A"},{"$error":"#N/A"},{"$error":"#N/A"},{"$error":"#N/A"},{"$error":"#N/A"},{"$error":"#N/A"},{"$error":"#N/A"},{"$error":"#N/A"},{"$error":"#N/A"},{"$error":"#N/A"},{"$error":"#N/A"},{"$error":"#N/A"},{"$error":"#N/A"},{"$error":"#N/A"},{"$error":"#N/A"},{"$error":"#N/A"},{"$error":"#N/A"},{"$error":"#N/A"},{"$error":"#N/A"},{"$error":"#N/A"},{"$error":"#N/A"},{"$error":"#N/A"},{"$error":"#N/A"},{"$error":"#N/A"},{"$error":"#N/A"},{"$error":"#N/A"},{"$error":"#N/A"},{"$error":"#N/A"},{"$error":"#N/A"},{"$error":"#N/A"},{"$error":"#N/A"},{"$f":"IF(AND($AX$27,NOT($AX$28),$AZ$29),NORMDIST(DL26,0,1,FALSE),NA())","v":{"$error":"#N/A"}},{"$error":"#N/A"},{"$error":"#N/A"},{"$error":"#N/A"},{"$error":"#N/A"},{"$error":"#N/A"},{"$error":"#N/A"},{"$error":"#N/A"},{"$error":"#N/A"},{"$error":"#N/A"},{"$error":"#N/A"},{"$error":"#N/A"},{"$error":"#N/A"},{"$error":"#N/A"},{"$error":"#N/A"},{"$error":"#N/A"},{"$error":"#N/A"},{"$error":"#N/A"},{"$error":"#N/A"},{"$error":"#N/A"},{"$error":"#N/A"},{"$error":"#N/A"},{"$error":"#N/A"},{"$error":"#N/A"},{"$error":"#N/A"},{"$error":"#N/A"},{"$error":"#N/A"},{"$error":"#N/A"},{"$error":"#N/A"},{"$error":"#N/A"},{"$error":"#N/A"},{"$error":"#N/A"},{"$error":"#N/A"},{"$error":"#N/A"},{"$error":"#N/A"},{"$error":"#N/A"},{"$error":"#N/A"},{"$error":"#N/A"},{"$error":"#N/A"},{"$error":"#N/A"},{"$error":"#N/A"},{"$error":"#N/A"},{"$error":"#N/A"},{"$error":"#N/A"},{"$error":"#N/A"},{"$error":"#N/A"},{"$error":"#N/A"},{"$error":"#N/A"},{"$error":"#N/A"},{"$error":"#N/A"},{"$error":"#N/A"},{"$error":"#N/A"},{"$error":"#N/A"},{"$error":"#N/A"},{"$error":"#N/A"},{"$error":"#N/A"},{"$error":"#N/A"},{"$error":"#N/A"},{"$error":"#N/A"},{"$error":"#N/A"},{"$error":"#N/A"},{"$error":"#N/A"},{"$error":"#N/A"},{"$error":"#N/A"},{"$f":"IF(AND($AX$27,NOT($AX$28),$AZ$29),NORMDIST(FX26,0,1,FALSE),NA())","v":{"$error":"#N/A"}},{"$error":"#N/A"},{"$error":"#N/A"},{"$error":"#N/A"},{"$error":"#N/A"},{"$error":"#N/A"},{"$error":"#N/A"},{"$error":"#N/A"},{"$error":"#N/A"},{"$error":"#N/A"},{"$error":"#N/A"},{"$error":"#N/A"},{"$error":"#N/A"},{"$error":"#N/A"},{"$error":"#N/A"},{"$error":"#N/A"},{"$error":"#N/A"},{"$error":"#N/A"},{"$error":"#N/A"},{"$error":"#N/A"},{"$error":"#N/A"},{"$error":"#N/A"},{"$error":"#N/A"},{"$error":"#N/A"},{"$error":"#N/A"},{"$error":"#N/A"},{"$error":"#N/A"},{"$error":"#N/A"},{"$error":"#N/A"},{"$error":"#N/A"},{"$error":"#N/A"},{"$error":"#N/A"},{"$error":"#N/A"},{"$error":"#N/A"},{"$error":"#N/A"},{"$error":"#N/A"},{"$error":"#N/A"},{"$error":"#N/A"},{"$error":"#N/A"},{"$error":"#N/A"},{"$error":"#N/A"},{"$error":"#N/A"},{"$error":"#N/A"},{"$error":"#N/A"},{"$error":"#N/A"},{"$error":"#N/A"},{"$error":"#N/A"},{"$error":"#N/A"},{"$error":"#N/A"},{"$error":"#N/A"},{"$error":"#N/A"},{"$error":"#N/A"},{"$error":"#N/A"},{"$error":"#N/A"},{"$error":"#N/A"},{"$error":"#N/A"},{"$error":"#N/A"},{"$error":"#N/A"},{"$error":"#N/A"},{"$error":"#N/A"},{"$error":"#N/A"},{"$error":"#N/A"},{"$error":"#N/A"},{"$error":"#N/A"},{"$f":"IF(AND($AX$27,NOT($AX$28),$AZ$29),NORMDIST(IJ26,0,1,FALSE),NA())","v":{"$error":"#N/A"}},{"$error":"#N/A"},{"$error":"#N/A"},{"$error":"#N/A"},{"$error":"#N/A"},{"$error":"#N/A"},{"$error":"#N/A"}]
[null,null,null,"Sample size  ",null,null,null,null,null,null,null,null,1.2689999999999999E-4,null,null,null,null,null,null,null,null,null,null,null,null,null,null,null,1.2689999999999999E-4,null,null,null,null,null,null,null,null,null,null,null,null,null,null,null,null,null,null,null,null,"H0 true grey normal",{"$f":"IF(AND($AX$27,$AX$28,$AZ$32),NORMDIST(AY26,$AY$33,1,FALSE),NA())","v":{"$error":"#N/A"}},{"$error":"#N/A"},{"$error":"#N/A"},{"$error":"#N/A"},{"$error":"#N/A"},{"$error":"#N/A"},{"$error":"#N/A"},{"$error":"#N/A"},{"$error":"#N/A"},{"$error":"#N/A"},{"$error":"#N/A"},{"$error":"#N/A"},{"$error":"#N/A"},{"$error":"#N/A"},{"$error":"#N/A"},{"$error":"#N/A"},{"$error":"#N/A"},{"$error":"#N/A"},{"$error":"#N/A"},{"$error":"#N/A"},{"$error":"#N/A"},{"$error":"#N/A"},{"$error":"#N/A"},{"$error":"#N/A"},{"$error":"#N/A"},{"$error":"#N/A"},{"$error":"#N/A"},{"$error":"#N/A"},{"$error":"#N/A"},{"$error":"#N/A"},{"$error":"#N/A"},{"$error":"#N/A"},{"$f":"IF(AND($AX$27,$AX$28,$AZ$32),NORMDIST(CE26,$AY$33,1,FALSE),NA())","v":{"$error":"#N/A"}},{"$error":"#N/A"},{"$error":"#N/A"},{"$error":"#N/A"},{"$error":"#N/A"},{"$error":"#N/A"},{"$error":"#N/A"},{"$error":"#N/A"},{"$error":"#N/A"},{"$error":"#N/A"},{"$error":"#N/A"},{"$error":"#N/A"},{"$error":"#N/A"},{"$error":"#N/A"},{"$error":"#N/A"},{"$error":"#N/A"},{"$error":"#N/A"},{"$error":"#N/A"},{"$error":"#N/A"},{"$error":"#N/A"},{"$error":"#N/A"},{"$error":"#N/A"},{"$error":"#N/A"},{"$error":"#N/A"},{"$error":"#N/A"},{"$error":"#N/A"},{"$error":"#N/A"},{"$error":"#N/A"},{"$error":"#N/A"},{"$error":"#N/A"},{"$error":"#N/A"},{"$error":"#N/A"},{"$f":"IF(AND($AX$27,$AX$28,$AZ$32),NORMDIST(DK26,$AY$33,1,FALSE),NA())","v":{"$error":"#N/A"}},{"$error":"#N/A"},{"$error":"#N/A"},{"$error":"#N/A"},{"$error":"#N/A"},{"$error":"#N/A"},{"$error":"#N/A"},{"$error":"#N/A"},{"$error":"#N/A"},{"$error":"#N/A"},{"$error":"#N/A"},{"$error":"#N/A"},{"$error":"#N/A"},{"$error":"#N/A"},{"$error":"#N/A"},{"$error":"#N/A"},{"$error":"#N/A"},{"$error":"#N/A"},{"$error":"#N/A"},{"$error":"#N/A"},{"$error":"#N/A"},{"$error":"#N/A"},{"$error":"#N/A"},{"$error":"#N/A"},{"$error":"#N/A"},{"$error":"#N/A"},{"$error":"#N/A"},{"$error":"#N/A"},{"$error":"#N/A"},{"$error":"#N/A"},{"$error":"#N/A"},{"$error":"#N/A"},{"$f":"IF(AND($AX$27,$AX$28,$AZ$32),NORMDIST(EQ26,$AY$33,1,FALSE),NA())","v":{"$error":"#N/A"}},{"$error":"#N/A"},{"$error":"#N/A"},{"$error":"#N/A"},{"$error":"#N/A"},{"$error":"#N/A"},{"$error":"#N/A"},{"$error":"#N/A"},{"$error":"#N/A"},{"$error":"#N/A"},{"$error":"#N/A"},{"$error":"#N/A"},{"$error":"#N/A"},{"$error":"#N/A"},{"$error":"#N/A"},{"$error":"#N/A"},{"$error":"#N/A"},{"$error":"#N/A"},{"$error":"#N/A"},{"$error":"#N/A"},{"$error":"#N/A"},{"$error":"#N/A"},{"$error":"#N/A"},{"$error":"#N/A"},{"$error":"#N/A"},{"$error":"#N/A"},{"$error":"#N/A"},{"$error":"#N/A"},{"$error":"#N/A"},{"$error":"#N/A"},{"$error":"#N/A"},{"$error":"#N/A"},{"$f":"IF(AND($AX$27,$AX$28,$AZ$32),NORMDIST(FW26,$AY$33,1,FALSE),NA())","v":{"$error":"#N/A"}},{"$error":"#N/A"},{"$error":"#N/A"},{"$error":"#N/A"},{"$error":"#N/A"},{"$error":"#N/A"},{"$error":"#N/A"},{"$error":"#N/A"},{"$error":"#N/A"},{"$error":"#N/A"},{"$error":"#N/A"},{"$error":"#N/A"},{"$error":"#N/A"},{"$error":"#N/A"},{"$error":"#N/A"},{"$error":"#N/A"},{"$error":"#N/A"},{"$error":"#N/A"},{"$error":"#N/A"},{"$error":"#N/A"},{"$error":"#N/A"},{"$error":"#N/A"},{"$error":"#N/A"},{"$error":"#N/A"},{"$error":"#N/A"},{"$error":"#N/A"},{"$error":"#N/A"},{"$error":"#N/A"},{"$error":"#N/A"},{"$error":"#N/A"},{"$error":"#N/A"},{"$error":"#N/A"},{"$f":"IF(AND($AX$27,$AX$28,$AZ$32),NORMDIST(HC26,$AY$33,1,FALSE),NA())","v":{"$error":"#N/A"}},{"$error":"#N/A"},{"$error":"#N/A"},{"$error":"#N/A"},{"$error":"#N/A"},{"$error":"#N/A"},{"$error":"#N/A"},{"$error":"#N/A"},{"$error":"#N/A"},{"$error":"#N/A"},{"$error":"#N/A"},{"$error":"#N/A"},{"$error":"#N/A"},{"$error":"#N/A"},{"$error":"#N/A"},{"$error":"#N/A"},{"$error":"#N/A"},{"$error":"#N/A"},{"$error":"#N/A"},{"$error":"#N/A"},{"$error":"#N/A"},{"$error":"#N/A"},{"$error":"#N/A"},{"$error":"#N/A"},{"$error":"#N/A"},{"$error":"#N/A"},{"$error":"#N/A"},{"$error":"#N/A"},{"$error":"#N/A"},{"$error":"#N/A"},{"$error":"#N/A"},{"$error":"#N/A"},{"$f":"IF(AND($AX$27,$AX$28,$AZ$32),NORMDIST(II26,$AY$33,1,FALSE),NA())","v":{"$error":"#N/A"}},{"$error":"#N/A"},{"$error":"#N/A"},{"$error":"#N/A"},{"$error":"#N/A"},{"$error":"#N/A"},{"$error":"#N/A"},{"$error":"#N/A"}]
[null,"N.",10,null,null,null," Use t, assume s not known",null,null,null,null,null,1.2689999999999999E-4,null,null,null,null,null,null,null,null,null,null,null,null,null,null,null,1.2689999999999999E-4,null,null,null,null,null,null,null,null,null,null,null,null,null,null,null,null,null,null,null,null,"H1 true red normal",{"$f":"IF(AND($AX$27,NOT($AX$28),$AZ$32),NORMDIST(AY26,$AY$33,1,FALSE),NA())","v":{"$error":"#N/A"}},{"$error":"#N/A"},{"$error":"#N/A"},{"$error":"#N/A"},{"$error":"#N/A"},{"$error":"#N/A"},{"$error":"#N/A"},{"$error":"#N/A"},{"$error":"#N/A"},{"$error":"#N/A"},{"$error":"#N/A"},{"$error":"#N/A"},{"$error":"#N/A"},{"$error":"#N/A"},{"$error":"#N/A"},{"$error":"#N/A"},{"$error":"#N/A"},{"$error":"#N/A"},{"$error":"#N/A"},{"$error":"#N/A"},{"$error":"#N/A"},{"$error":"#N/A"},{"$error":"#N/A"},{"$error":"#N/A"},{"$error":"#N/A"},{"$error":"#N/A"},{"$error":"#N/A"},{"$error":"#N/A"},{"$error":"#N/A"},{"$error":"#N/A"},{"$error":"#N/A"},{"$error":"#N/A"},{"$f":"IF(AND($AX$27,NOT($AX$28),$AZ$32),NORMDIST(CE26,$AY$33,1,FALSE),NA())","v":{"$error":"#N/A"}},{"$error":"#N/A"},{"$error":"#N/A"},{"$error":"#N/A"},{"$error":"#N/A"},{"$error":"#N/A"},{"$error":"#N/A"},{"$error":"#N/A"},{"$error":"#N/A"},{"$error":"#N/A"},{"$error":"#N/A"},{"$error":"#N/A"},{"$error":"#N/A"},{"$error":"#N/A"},{"$error":"#N/A"},{"$error":"#N/A"},{"$error":"#N/A"},{"$error":"#N/A"},{"$error":"#N/A"},{"$error":"#N/A"},{"$error":"#N/A"},{"$error":"#N/A"},{"$error":"#N/A"},{"$error":"#N/A"},{"$error":"#N/A"},{"$error":"#N/A"},{"$error":"#N/A"},{"$error":"#N/A"},{"$error":"#N/A"},{"$error":"#N/A"},{"$error":"#N/A"},{"$error":"#N/A"},{"$f":"IF(AND($AX$27,NOT($AX$28),$AZ$32),NORMDIST(DK26,$AY$33,1,FALSE),NA())","v":{"$error":"#N/A"}},{"$error":"#N/A"},{"$error":"#N/A"},{"$error":"#N/A"},{"$error":"#N/A"},{"$error":"#N/A"},{"$error":"#N/A"},{"$error":"#N/A"},{"$error":"#N/A"},{"$error":"#N/A"},{"$error":"#N/A"},{"$error":"#N/A"},{"$error":"#N/A"},{"$error":"#N/A"},{"$error":"#N/A"},{"$error":"#N/A"},{"$error":"#N/A"},{"$error":"#N/A"},{"$error":"#N/A"},{"$error":"#N/A"},{"$error":"#N/A"},{"$error":"#N/A"},{"$error":"#N/A"},{"$error":"#N/A"},{"$error":"#N/A"},{"$error":"#N/A"},{"$error":"#N/A"},{"$error":"#N/A"},{"$error":"#N/A"},{"$error":"#N/A"},{"$error":"#N/A"},{"$error":"#N/A"},{"$f":"IF(AND($AX$27,NOT($AX$28),$AZ$32),NORMDIST(EQ26,$AY$33,1,FALSE),NA())","v":{"$error":"#N/A"}},{"$error":"#N/A"},{"$error":"#N/A"},{"$error":"#N/A"},{"$error":"#N/A"},{"$error":"#N/A"},{"$error":"#N/A"},{"$error":"#N/A"},{"$error":"#N/A"},{"$error":"#N/A"},{"$error":"#N/A"},{"$error":"#N/A"},{"$error":"#N/A"},{"$error":"#N/A"},{"$error":"#N/A"},{"$error":"#N/A"},{"$error":"#N/A"},{"$error":"#N/A"},{"$error":"#N/A"},{"$error":"#N/A"},{"$error":"#N/A"},{"$error":"#N/A"},{"$error":"#N/A"},{"$error":"#N/A"},{"$error":"#N/A"},{"$error":"#N/A"},{"$error":"#N/A"},{"$error":"#N/A"},{"$error":"#N/A"},{"$error":"#N/A"},{"$error":"#N/A"},{"$error":"#N/A"},{"$f":"IF(AND($AX$27,NOT($AX$28),$AZ$32),NORMDIST(FW26,$AY$33,1,FALSE),NA())","v":{"$error":"#N/A"}},{"$error":"#N/A"},{"$error":"#N/A"},{"$error":"#N/A"},{"$error":"#N/A"},{"$error":"#N/A"},{"$error":"#N/A"},{"$error":"#N/A"},{"$error":"#N/A"},{"$error":"#N/A"},{"$error":"#N/A"},{"$error":"#N/A"},{"$error":"#N/A"},{"$error":"#N/A"},{"$error":"#N/A"},{"$error":"#N/A"},{"$error":"#N/A"},{"$error":"#N/A"},{"$error":"#N/A"},{"$error":"#N/A"},{"$error":"#N/A"},{"$error":"#N/A"},{"$error":"#N/A"},{"$error":"#N/A"},{"$error":"#N/A"},{"$error":"#N/A"},{"$error":"#N/A"},{"$error":"#N/A"},{"$error":"#N/A"},{"$error":"#N/A"},{"$error":"#N/A"},{"$error":"#N/A"},{"$f":"IF(AND($AX$27,NOT($AX$28),$AZ$32),NORMDIST(HC26,$AY$33,1,FALSE),NA())","v":{"$error":"#N/A"}},{"$error":"#N/A"},{"$error":"#N/A"},{"$error":"#N/A"},{"$error":"#N/A"},{"$error":"#N/A"},{"$error":"#N/A"},{"$error":"#N/A"},{"$error":"#N/A"},{"$error":"#N/A"},{"$error":"#N/A"},{"$error":"#N/A"},{"$error":"#N/A"},{"$error":"#N/A"},{"$error":"#N/A"},{"$error":"#N/A"},{"$error":"#N/A"},{"$error":"#N/A"},{"$error":"#N/A"},{"$error":"#N/A"},{"$error":"#N/A"},{"$error":"#N/A"},{"$error":"#N/A"},{"$error":"#N/A"},{"$error":"#N/A"},{"$error":"#N/A"},{"$error":"#N/A"},{"$error":"#N/A"},{"$error":"#N/A"},{"$error":"#N/A"},{"$error":"#N/A"},{"$error":"#N/A"},{"$f":"IF(AND($AX$27,NOT($AX$28),$AZ$32),NORMDIST(II26,$AY$33,1,FALSE),NA())","v":{"$error":"#N/A"}},{"$error":"#N/A"},{"$error":"#N/A"},{"$error":"#N/A"},{"$error":"#N/A"},{"$error":"#N/A"},{"$error":"#N/A"},{"$error":"#N/A"}]
[null,null,null,null,null,null,null,null,null,null,null,null,1.2689999999999999E-4,null,null,null,null,null,null,null,null,null,null,null,null,null,null,null,1.2689999999999999E-4,null,null,null,null,null,null,null,null,null,null,null,null,null,null,null,null,null,null,null,null,"H0 true grey nct",{"$f":"IF(AND(NOT($AX$27),$AX$28,$AX$30,$AZ$32),(AZ25-AY25)/$AY$3,NA())","v":{"$error":"#N/A"}},{"$error":"#N/A"},{"$error":"#N/A"},{"$error":"#N/A"},{"$error":"#N/A"},{"$error":"#N/A"},{"$error":"#N/A"},{"$error":"#N/A"},{"$error":"#N/A"},{"$error":"#N/A"},{"$error":"#N/A"},{"$error":"#N/A"},{"$error":"#N/A"},{"$error":"#N/A"},{"$error":"#N/A"},{"$error":"#N/A"},{"$error":"#N/A"},{"$error":"#N/A"},{"$error":"#N/A"},{"$error":"#N/A"},{"$error":"#N/A"},{"$error":"#N/A"},{"$error":"#N/A"},{"$error":"#N/A"},{"$error":"#N/A"},{"$error":"#N/A"},{"$error":"#N/A"},{"$error":"#N/A"},{"$error":"#N/A"},{"$error":"#N/A"},{"$error":"#N/A"},{"$error":"#N/A"},{"$f":"IF(AND(NOT($AX$27),$AX$28,$AX$30,$AZ$32),(CF25-CE25)/$AY$3,NA())","v":{"$error":"#N/A"}},{"$error":"#N/A"},{"$error":"#N/A"},{"$error":"#N/A"},{"$error":"#N/A"},{"$error":"#N/A"},{"$error":"#N/A"},{"$error":"#N/A"},{"$error":"#N/A"},{"$error":"#N/A"},{"$error":"#N/A"},{"$error":"#N/A"},{"$error":"#N/A"},{"$error":"#N/A"},{"$error":"#N/A"},{"$error":"#N/A"},{"$error":"#N/A"},{"$error":"#N/A"},{"$error":"#N/A"},{"$error":"#N/A"},{"$error":"#N/A"},{"$error":"#N/A"},{"$error":"#N/A"},{"$error":"#N/A"},{"$error":"#N/A"},{"$error":"#N/A"},{"$error":"#N/A"},{"$error":"#N/A"},{"$error":"#N/A"},{"$error":"#N/A"},{"$error":"#N/A"},{"$error":"#N/A"},{"$f":"IF(AND(NOT($AX$27),$AX$28,$AX$30,$AZ$32),(DL25-DK25)/$AY$3,NA())","v":{"$error":"#N/A"}},{"$error":"#N/A"},{"$error":"#N/A"},{"$error":"#N/A"},{"$error":"#N/A"},{"$error":"#N/A"},{"$error":"#N/A"},{"$error":"#N/A"},{"$error":"#N/A"},{"$error":"#N/A"},{"$error":"#N/A"},{"$error":"#N/A"},{"$error":"#N/A"},{"$error":"#N/A"},{"$error":"#N/A"},{"$error":"#N/A"},{"$error":"#N/A"},{"$error":"#N/A"},{"$error":"#N/A"},{"$error":"#N/A"},{"$error":"#N/A"},{"$error":"#N/A"},{"$error":"#N/A"},{"$error":"#N/A"},{"$error":"#N/A"},{"$error":"#N/A"},{"$error":"#N/A"},{"$error":"#N/A"},{"$error":"#N/A"},{"$error":"#N/A"},{"$error":"#N/A"},{"$error":"#N/A"},{"$f":"IF(AND(NOT($AX$27),$AX$28,$AX$30,$AZ$32),(ER25-EQ25)/$AY$3,NA())","v":{"$error":"#N/A"}},{"$error":"#N/A"},{"$error":"#N/A"},{"$error":"#N/A"},{"$error":"#N/A"},{"$error":"#N/A"},{"$error":"#N/A"},{"$error":"#N/A"},{"$error":"#N/A"},{"$error":"#N/A"},{"$error":"#N/A"},{"$error":"#N/A"},{"$error":"#N/A"},{"$error":"#N/A"},{"$error":"#N/A"},{"$error":"#N/A"},{"$error":"#N/A"},{"$error":"#N/A"},{"$error":"#N/A"},{"$error":"#N/A"},{"$error":"#N/A"},{"$error":"#N/A"},{"$error":"#N/A"},{"$error":"#N/A"},{"$error":"#N/A"},{"$error":"#N/A"},{"$error":"#N/A"},{"$error":"#N/A"},{"$error":"#N/A"},{"$error":"#N/A"},{"$error":"#N/A"},{"$error":"#N/A"},{"$f":"IF(AND(NOT($AX$27),$AX$28,$AX$30,$AZ$32),(FX25-FW25)/$AY$3,NA())","v":{"$error":"#N/A"}},{"$error":"#N/A"},{"$error":"#N/A"},{"$error":"#N/A"},{"$error":"#N/A"},{"$error":"#N/A"},{"$error":"#N/A"},{"$error":"#N/A"},{"$error":"#N/A"},{"$error":"#N/A"},{"$error":"#N/A"},{"$error":"#N/A"},{"$error":"#N/A"},{"$error":"#N/A"},{"$error":"#N/A"},{"$error":"#N/A"},{"$error":"#N/A"},{"$error":"#N/A"},{"$error":"#N/A"},{"$error":"#N/A"},{"$error":"#N/A"},{"$error":"#N/A"},{"$error":"#N/A"},{"$error":"#N/A"},{"$error":"#N/A"},{"$error":"#N/A"},{"$error":"#N/A"},{"$error":"#N/A"},{"$error":"#N/A"},{"$error":"#N/A"},{"$error":"#N/A"},{"$error":"#N/A"},{"$f":"IF(AND(NOT($AX$27),$AX$28,$AX$30,$AZ$32),(HD25-HC25)/$AY$3,NA())","v":{"$error":"#N/A"}},{"$error":"#N/A"},{"$error":"#N/A"},{"$error":"#N/A"},{"$error":"#N/A"},{"$error":"#N/A"},{"$error":"#N/A"},{"$error":"#N/A"},{"$error":"#N/A"},{"$error":"#N/A"},{"$error":"#N/A"},{"$error":"#N/A"},{"$error":"#N/A"},{"$error":"#N/A"},{"$error":"#N/A"},{"$error":"#N/A"},{"$error":"#N/A"},{"$error":"#N/A"},{"$error":"#N/A"},{"$error":"#N/A"},{"$error":"#N/A"},{"$error":"#N/A"},{"$error":"#N/A"},{"$error":"#N/A"},{"$error":"#N/A"},{"$error":"#N/A"},{"$error":"#N/A"},{"$error":"#N/A"},{"$error":"#N/A"},{"$error":"#N/A"},{"$error":"#N/A"},{"$error":"#N/A"},{"$f":"IF(AND(NOT($AX$27),$AX$28,$AX$30,$AZ$32),(IJ25-II25)/$AY$3,NA())","v":{"$error":"#N/A"}},{"$error":"#N/A"},{"$error":"#N/A"},{"$error":"#N/A"},{"$error":"#N/A"},{"$error":"#N/A"},{"$error":"#N/A"},{"$error":"#N/A"}]
[null,"df.",{"$f":"C7-1","v":9},null,null,null,"      Display H0 distribution",null,null,null,null,null,1.2689999999999999E-4,null,null,null,null,null,null,null,null,null,null,null,null,null,null,null,1.2689999999999999E-4,null,null,null,null,null,null,null,null,null,null,null,null,null,null,null,null,null,null,null,null,"H1 true grey central t",{"$f":"IF(AND(NOT($AX$27),NOT($AX$28),$AZ$29),(AZ22-AY22)/$AY$3,NA())","v":1.2645664082602849E-2},1.3744431563407489E-2,1.4938126372969693E-2,1.6234487406960908E-2,1.7641783773069374E-2,1.9168835373799854E-2,2.0825015984626272E-2,2.2620286896370551E-2,2.4565182894583891E-2,2.6670823209197364E-2,2.8948904075253024E-2,3.1411685128916525E-2,3.4071966418982788E-2,3.6943054552649388E-2,4.0038716394998689E-2,4.3373118658372456E-2,4.6960751657255592E-2,5.0816349817128723E-2,5.4954714695232137E-2,5.9390697045152846E-2,6.4138933206021737E-2,6.921371411663324E-2,7.4628770381281601E-2,8.0397040807204945E-2,8.6530414832423491E-2,9.3039506159872526E-2,9.9933097991542624E-2,0.10721825297267673,0.11489960432830265,0.12297899171321625,0.13145536585516759,0.14032411762586516,{"$f":"IF(AND(NOT($AX$27),NOT($AX$28),$AZ$29),(CF22-CE22)/$AY$3,NA())","v":0.14957682529366134},0.1592008572739434,0.16917901869792251,0.17948922844675641,0.19010423827965361,0.20099140635412072,0.21211253822260301,0.22342380474897783,0.23487575955155493,0.24641344820334865,0.25797663990137942,0.26950017517936908,0.28091444005247435,0.29214596758517342,0.30311816515165901,0.31375216167018327,0.32396776486677159,0.33368451431559087,0.34282281175833207,0.35130510663540893,0.35905711004852736,0.36600901060775737,0.37209665960650118,0.37726269606820462,0.38145758020237452,0.38464050616286993,0.38678016754279732,0.38785535283322625,0.38785535283322625,0.38678016754279732,0.38464050616281886,0.38145758020238674,{"$f":"IF(AND(NOT($AX$27),NOT($AX$28),$AZ$29),(DL22-DK22)/$AY$3,NA())","v":0.37726269606818352},0.37209665960650895,0.36600901060777735,0.35905711004853069,0.3513051066353956,0.34282281175835205,0.33368451431557977,0.32396776486677714,0.31375216167018438,0.30311816515166123,0.29214596758517564,0.28091444005247324,0.2695001751793713,0.25797663990138275,0.24641344820334199,0.23487575955156048,0.22342380474897228,0.21211253822261078,0.20099140635412516,0.19010423827964917,0.17948922844675419,0.16917901869792473,0.15920085727394895,0.14957682529366245,0.14032411762586516,0.13145536585517092,0.12297899171320736,0.11489960432830904,0.10721825297267618,9.9933097991544706E-2,9.303950615987322E-2,8.6530414832424185E-2,{"$f":"IF(AND(NOT($AX$27),NOT($AX$28),$AZ$29),(ER22-EQ22)/$AY$3,NA())","v":8.0397040807205222E-2},7.4628770381279796E-2,6.9213714116636016E-2,6.4138933206021598E-2,5.9390697045151875E-2,5.4954714695234497E-2,5.0816349817128792E-2,4.6960751657254551E-2,4.3373118658374121E-2,4.0038716394998897E-2,3.6943054552649457E-2,3.407196641898258E-2,3.1411685128917011E-2,2.8948904075252191E-2,2.6670823209198335E-2,2.4565182894584758E-2,2.2620286896370967E-2,2.0825015984624606E-2,1.9168835373799542E-2,1.7641783773070241E-2,1.6234487406960874E-2,1.4938126372969762E-2,1.3744431563407211E-2,1.264566408260448E-2,1.1634595090985744E-2,1.0704484061387909E-2,9.8490559656072563E-3,9.0624778305503639E-3,8.3393350326388394E-3,7.6746076358213955E-3,7.063647022795827E-3,6.502153020009338E-3,{"$f":"IF(AND(NOT($AX$27),NOT($AX$28),$AZ$29),(FX22-FW22)/$AY$3,NA())","v":5.986151674168827E-3},5.5119738013176267E-3,5.0762343978338897E-3,4.6758129758539546E-3,4.3078348632619168E-3,3.9696534892974533E-3,3.6588336616460992E-3,3.3731358280753021E-3,3.1105013057408648E-3,2.8690385602292423E-3,2.6470097315134389E-3,2.4428197627801573E-3,2.2550039718671755E-3,2.0822182938640132E-3,1.9232294949134143E-3,1.7769062363459653E-3,1.6422108097158272E-3,1.5181915013950942E-3,1.4039755461503489E-3,1.2987626306082412E-3,1.2018189089690878E-3,1.1124714949661829E-3,1.030103395858184E-3,9.5414885606714961E-4,8.8408907983117402E-4,8.194483042123224E-4,7.5979019539706982E-4,7.0471454320042426E-4,6.5385423018593514E-4,6.068724535968073E-4,5.634601797321892E-4,5.2333381193259143E-4,{"$f":"IF(AND(NOT($AX$27),NOT($AX$28),$AZ$29),(HD22-HC22)/$AY$3,NA())","v":4.8623305477057954E-4},4.5191895829077566E-4,4.2017212737777143E-4,3.90791082620634E-4,3.6359075989755851E-4,3.3840113715655207E-4,3.1506597760078137E-4,2.934416794975192E-4,2.7339622355126991E-4,2.5480820958545536E-4,2.3756597487212261E-4,2.2156678725293588E-4,2.0671610655886852E-4,1.9292690855099437E-4,1.8011906603554451E-4,1.6821878224826392E-4,1.5715807200500365E-4,1.468742865928796E-4,1.3730967858727183E-4,1.2841100322846799E-4,1.2012915319825623E-4,1.1241882395207625E-4,1.0523820699548381E-4,9.8548708711287958E-5,9.2314692574646529E-5,8.6503242746616138E-5,8.1083947216509245E-5,7.6028698887675716E-5,7.1311513010208216E-5,6.6908359619421987E-5,6.2797009714454788E-5,5.8956894006811922E-5,{"$f":"IF(AND(NOT($AX$27),NOT($AX$28),$AZ$29),(IJ22-II22)/$AY$3,NA())","v":5.5368973159719559E-5},5.2015618596801261E-5,4.888050295637214E-5,4.5948499400871867E-5,4.3205589037587089E-5,4.0638775784529457E-5,3.8236008033099012E-5,3.5986106583507649E-5]
[null,null,null,null,null,null,null,"   Display line at H0 mean",null,null,null,null,1.2689999999999999E-4,null,null,null,null,null,null,null,null,null,null,null,null,null,null,null,1.2689999999999999E-4,null,null,null,null,null,null,null,null,null,null,null,null,null,null,null,null,null,null,null,null,"H0 true, Central t",{"$f":"IF(AND(NOT($AX$27),$AX$28,$AZ$29),(AZ22-AY22)/$AY$3,NA())","v":{"$error":"#N/A"}},{"$error":"#N/A"},{"$error":"#N/A"},{"$error":"#N/A"},{"$error":"#N/A"},{"$error":"#N/A"},{"$error":"#N/A"},{"$error":"#N/A"},{"$error":"#N/A"},{"$error":"#N/A"},{"$error":"#N/A"},{"$error":"#N/A"},{"$error":"#N/A"},{"$error":"#N/A"},{"$error":"#N/A"},{"$error":"#N/A"},{"$error":"#N/A"},{"$error":"#N/A"},{"$error":"#N/A"},{"$error":"#N/A"},{"$error":"#N/A"},{"$error":"#N/A"},{"$error":"#N/A"},{"$error":"#N/A"},{"$error":"#N/A"},{"$error":"#N/A"},{"$error":"#N/A"},{"$error":"#N/A"},{"$error":"#N/A"},{"$error":"#N/A"},{"$error":"#N/A"},{"$error":"#N/A"},{"$f":"IF(AND(NOT($AX$27),$AX$28,$AZ$29),(CF22-CE22)/$AY$3,NA())","v":{"$error":"#N/A"}},{"$error":"#N/A"},{"$error":"#N/A"},{"$error":"#N/A"},{"$error":"#N/A"},{"$error":"#N/A"},{"$error":"#N/A"},{"$error":"#N/A"},{"$error":"#N/A"},{"$error":"#N/A"},{"$error":"#N/A"},{"$error":"#N/A"},{"$error":"#N/A"},{"$error":"#N/A"},{"$error":"#N/A"},{"$error":"#N/A"},{"$error":"#N/A"},{"$error":"#N/A"},{"$error":"#N/A"},{"$error":"#N/A"},{"$error":"#N/A"},{"$error":"#N/A"},{"$error":"#N/A"},{"$error":"#N/A"},{"$error":"#N/A"},{"$error":"#N/A"},{"$error":"#N/A"},{"$error":"#N/A"},{"$error":"#N/A"},{"$error":"#N/A"},{"$error":"#N/A"},{"$error":"#N/A"},{"$f":"IF(AND(NOT($AX$27),$AX$28,$AZ$29),(DL22-DK22)/$AY$3,NA())","v":{"$error":"#N/A"}},{"$error":"#N/A"},{"$error":"#N/A"},{"$error":"#N/A"},{"$error":"#N/A"},{"$error":"#N/A"},{"$error":"#N/A"},{"$error":"#N/A"},{"$error":"#N/A"},{"$error":"#N/A"},{"$error":"#N/A"},{"$error":"#N/A"},{"$error":"#N/A"},{"$error":"#N/A"},{"$error":"#N/A"},{"$error":"#N/A"},{"$error":"#N/A"},{"$error":"#N/A"},{"$error":"#N/A"},{"$error":"#N/A"},{"$error":"#N/A"},{"$error":"#N/A"},{"$error":"#N/A"},{"$error":"#N/A"},{"$error":"#N/A"},{"$error":"#N/A"},{"$error":"#N/A"},{"$error":"#N/A"},{"$error":"#N/A"},{"$error":"#N/A"},{"$error":"#N/A"},{"$error":"#N/A"},{"$f":"IF(AND(NOT($AX$27),$AX$28,$AZ$29),(ER22-EQ22)/$AY$3,NA())","v":{"$error":"#N/A"}},{"$error":"#N/A"},{"$error":"#N/A"},{"$error":"#N/A"},{"$error":"#N/A"},{"$error":"#N/A"},{"$error":"#N/A"},{"$error":"#N/A"},{"$error":"#N/A"},{"$error":"#N/A"},{"$error":"#N/A"},{"$error":"#N/A"},{"$error":"#N/A"},{"$error":"#N/A"},{"$error":"#N/A"},{"$error":"#N/A"},{"$error":"#N/A"},{"$error":"#N/A"},{"$error":"#N/A"},{"$error":"#N/A"},{"$error":"#N/A"},{"$error":"#N/A"},{"$error":"#N/A"},{"$error":"#N/A"},{"$error":"#N/A"},{"$error":"#N/A"},{"$error":"#N/A"},{"$error":"#N/A"},{"$error":"#N/A"},{"$error":"#N/A"},{"$error":"#N/A"},{"$error":"#N/A"},{"$f":"IF(AND(NOT($AX$27),$AX$28,$AZ$29),(FX22-FW22)/$AY$3,NA())","v":{"$error":"#N/A"}},{"$error":"#N/A"},{"$error":"#N/A"},{"$error":"#N/A"},{"$error":"#N/A"},{"$error":"#N/A"},{"$error":"#N/A"},{"$error":"#N/A"},{"$error":"#N/A"},{"$error":"#N/A"},{"$error":"#N/A"},{"$error":"#N/A"},{"$error":"#N/A"},{"$error":"#N/A"},{"$error":"#N/A"},{"$error":"#N/A"},{"$error":"#N/A"},{"$error":"#N/A"},{"$error":"#N/A"},{"$error":"#N/A"},{"$error":"#N/A"},{"$error":"#N/A"},{"$error":"#N/A"},{"$error":"#N/A"},{"$error":"#N/A"},{"$error":"#N/A"},{"$error":"#N/A"},{"$error":"#N/A"},{"$error":"#N/A"},{"$error":"#N/A"},{"$error":"#N/A"},{"$error":"#N/A"},{"$f":"IF(AND(NOT($AX$27),$AX$28,$AZ$29),(HD22-HC22)/$AY$3,NA())","v":{"$error":"#N/A"}},{"$error":"#N/A"},{"$error":"#N/A"},{"$error":"#N/A"},{"$error":"#N/A"},{"$error":"#N/A"},{"$error":"#N/A"},{"$error":"#N/A"},{"$error":"#N/A"},{"$error":"#N/A"},{"$error":"#N/A"},{"$error":"#N/A"},{"$error":"#N/A"},{"$error":"#N/A"},{"$error":"#N/A"},{"$error":"#N/A"},{"$error":"#N/A"},{"$error":"#N/A"},{"$error":"#N/A"},{"$error":"#N/A"},{"$error":"#N/A"},{"$error":"#N/A"},{"$error":"#N/A"},{"$error":"#N/A"},{"$error":"#N/A"},{"$error":"#N/A"},{"$error":"#N/A"},{"$error":"#N/A"},{"$error":"#N/A"},{"$error":"#N/A"},{"$error":"#N/A"},{"$error":"#N/A"},{"$f":"IF(AND(NOT($AX$27),$AX$28,$AZ$29),(IJ22-II22)/$AY$3,NA())","v":{"$error":"#N/A"}},{"$error":"#N/A"},{"$error":"#N/A"},{"$error":"#N/A"},{"$error":"#N/A"},{"$error":"#N/A"},{"$error":"#N/A"},{"$error":"#N/A"}]
[null,null,null,null,null,null,null,null,null,null,null,null,1.2689999999999999E-4,null,null,null,null,null,null,null,null,null,null,null,null,null,null,null,1.2689999999999999E-4,null,null,null,null,null,null,null,null,null,null,null,null,null,null,null,null,null,null,null,null,"H1 true, NonCentral t",{"$f":"IF(AND(NOT($AX$27),NOT($AX$28),$AX$30,$AZ$32),(AZ25-AY25)/$AY$3,NA())","v":1.0906791121182812E-6},1.2325867930765749E-6,1.3944261878089164E-6,1.5791905244270228E-6,1.7903480017869021E-6,2.0319199480942256E-6,2.3085787451156624E-6,2.6257533286398813E-6,2.9897567678331646E-6,3.4079410833015184E-6,3.8888747820508054E-6,4.4425475296546287E-6,5.0806234830339328E-6,5.8167225635246653E-6,6.6667755599057614E-6,7.6494179770912664E-6,8.7864651355978375E-6,1.0103484821776556E-5,1.1630449163514005E-5,1.340252272145667E-5,1.5460984802112194E-5,1.7854317534341274E-5,2.0639492282499426E-5,2.3883488235121977E-5,2.7665076107676219E-5,3.2076927585674079E-5,3.7228100353998396E-5,4.324695405162397E-5,5.0284592974783054E-5,5.8518903523278504E-5,6.815929199739547E-5,7.9452243740550473E-5,{"$f":"IF(AND(NOT($AX$27),NOT($AX$28),$AX$30,$AZ$32),(CF25-CE25)/$AY$3,NA())","v":9.2687827029398756E-5},1.0820729422160308E-4,1.2641194848377657E-4,1.4777346403543692E-4,1.7284587578947811E-4,2.0227946415267168E-4,2.3683679873144311E-4,2.7741121337899517E-4,3.2504801035497115E-4,3.8096870520834721E-4,4.4659863315899245E-4,5.235982403233269E-4,6.138983724897118E-4,7.1973985237874002E-4,8.4371759378887214E-4,9.8882943847501356E-4,1.1585298120135167E-3,1.3567881739443835E-3,1.5881520826256559E-3,1.8578144988980801E-3,2.1716847162738407E-3,2.5364620222173974E-3,2.9597108695049055E-3,3.4499359675391542E-3,4.0166552988260421E-3,4.6704686331362983E-3,5.4231186655243459E-3,6.2875414615703919E-3,7.2779024769732258E-3,8.4096140554853864E-3,9.6993300304497928E-3,1.1164912894099013E-2,{"$f":"IF(AND(NOT($AX$27),NOT($AX$28),$AX$30,$AZ$32),(DL25-DK25)/$AY$3,NA())","v":1.2825368990468516E-2},1.4700747366200011E-2,1.6811998309615925E-2,1.918078824668535E-2,2.182926855910693E-2,2.4779797047890725E-2,2.8054612175416015E-2,3.167546185263756E-2,3.5663190351502561E-2,4.0037288854118808E-2,4.481541712210893E-2,5.0012905691376175E-2,5.5642249770080504E-2,6.1712607538355127E-2,6.8229316717485014E-2,7.5193444004179114E-2,8.2601382178465188E-2,9.0444509340065482E-2,9.8708923784108366E-2,0.10737526649820389,0.11641864118734968,0.12580863917888041,0.13550947362253707,0.14548022419922341,0.15567519022016668,0.16604434667852219,0.17653389465035141,0.18708689456536698,0.19764396839830667,0.20814405486608234,0.21852520032372647,0.22872536727455983,{"$f":"IF(AND(NOT($AX$27),NOT($AX$28),$AX$30,$AZ$32),(ER25-EQ25)/$AY$3,NA())","v":0.23868324225753357},0.24833902532882757,0.2576351843708069,0.26651715897162698,0.27493400053932304,0.28283893754775136,0.29018985725666913,0.29694969780108438,0.30308674710729178,0.30857484757487508,0.31339350778712194,0.3175279246125573,0.32096892088989915,0.32371280541286684,0.32576116313433157,0.32712058438533642,0.32780234246401085,0.32782202920884185,0.32719915815997647,0.32595674466096125,0.32412087180070825,0.32172025047817798,0.31878578112976452,0.31535012382767791,0.311447282572479,0.30711220869405143,0.30238042737087856,0.29728769040054281,0.291869657521453,0.2861616078154583,0.28019818201810098,0.27401315594004494,{"$f":"IF(AND(NOT($AX$27),NOT($AX$28),$AX$30,$AZ$32),(FX25-FW25)/$AY$3,NA())","v":0.26763924465813993},0.26110793667320387,0.25444935684758585,0.24769215662934885,0.24086342983469233,0.23398865208934749,0.22709164192043163,0.22019454142877759,0.21331781446064957,0.20648026021978128,0.19969904031743146,0.19298971733992643,0.18636630311290814,0.17984131495832667,0.17342583836514658,0.16712959462644728,0.16096101213032066,0.15492730012554023,0.1490345239151436,0.14328768055726693,0.13769077427492782,0.13224689088957353,0.12695827070023036,0.12182637932858897,0.11685197613936937,0.11203517992752321,0.10737553163626679,0.10287205393548104,9.8523307546098948E-2,9.4327444247344072E-2,9.0282256545859418E-2,8.6385224022798024E-2,{"$f":"IF(AND(NOT($AX$27),NOT($AX$28),$AX$30,$AZ$32),(HD25-HC25)/$AY$3,NA())","v":8.2633556405122821E-2},7.9024233435314173E-2,7.555404163100965E-2,7.2219608045711592E-2,6.9017431153619579E-2,6.5943908990302447E-2,6.2995364688702704E-2,6.0168069553607761E-2,5.7458263819560873E-2,5.4862175236645161E-2,5.2376035629688733E-2,4.9996095570388199E-2,4.7718637299909439E-2,4.5539986034652813E-2,4.3456519786455594E-2,4.1464677810745254E-2,3.9560967810410297E-2,3.7741971995586265E-2,3.6004352107861237E-2,3.434485350631844E-2,3.2760308404720107E-2,3.1247638347080553E-2,2.9803856000312212E-2,2.8426066335824896E-2,2.7111467268923217E-2,2.5857349821156728E-2,2.4661097857519021E-2,2.3520187456886887E-2,2.2432185958118911E-2,2.1394750734027301E-2,2.0405627721788999E-2,1.9462649756014638E-2,{"$f":"IF(AND(NOT($AX$27),NOT($AX$28),$AX$30,$AZ$32),(IJ25-II25)/$AY$3,NA())","v":1.8563734732510717E-2},1.770688363225803E-2,1.6890178434647574E-2,1.6111779932728165E-2,1.5369925499795212E-2,1.4662926783748365E-2,1.3989167387500334E-2,1.3347100519924826E-2]
[2,"Target effect size",null,null,null,"Population effect size if H1 true",null,null,null,null,null,null,1.2689999999999999E-4,null,null,null,null,null,null,null,null,null,null,null,null,null,null,null,1.2689999999999999E-4,null,null,null,null,null,null,null,null,null,null,null,null,null,null,null,null,null,null,null,null,"Max of coloured vals",{"$f":"MAX(IF(ISNA(AY4),0,AY4),IF(ISNA(AY7),0,AY7),IF(ISNA(AY10),0,AY10),IF(ISNA(AY11),0,AY11))","v":1.0906791121182812E-6},{"$f":"MAX(IF(ISNA(AZ4),0,AZ4),IF(ISNA(AZ7),0,AZ7),IF(ISNA(AZ10),0,AZ10),IF(ISNA(AZ11),0,AZ11))","v":1.2325867930765749E-6},1.3944261878089164E-6,1.5791905244270228E-6,1.7903480017869021E-6,2.0319199480942256E-6,2.3085787451156624E-6,2.6257533286398813E-6,2.9897567678331646E-6,3.4079410833015184E-6,3.8888747820508054E-6,4.4425475296546287E-6,5.0806234830339328E-6,5.8167225635246653E-6,6.6667755599057614E-6,7.6494179770912664E-6,8.7864651355978375E-6,1.0103484821776556E-5,1.1630449163514005E-5,1.340252272145667E-5,1.5460984802112194E-5,1.7854317534341274E-5,2.0639492282499426E-5,2.3883488235121977E-5,2.7665076107676219E-5,3.2076927585674079E-5,3.7228100353998396E-5,4.324695405162397E-5,5.0284592974783054E-5,5.8518903523278504E-5,6.815929199739547E-5,7.9452243740550473E-5,9.2687827029398756E-5,1.0820729422160308E-4,1.2641194848377657E-4,1.4777346403543692E-4,1.7284587578947811E-4,2.0227946415267168E-4,2.3683679873144311E-4,2.7741121337899517E-4,3.2504801035497115E-4,3.8096870520834721E-4,4.4659863315899245E-4,5.235982403233269E-4,6.138983724897118E-4,7.1973985237874002E-4,8.4371759378887214E-4,9.8882943847501356E-4,1.1585298120135167E-3,1.3567881739443835E-3,1.5881520826256559E-3,1.8578144988980801E-3,2.1716847162738407E-3,2.5364620222173974E-3,2.9597108695049055E-3,3.4499359675391542E-3,4.0166552988260421E-3,4.6704686331362983E-3,5.4231186655243459E-3,6.2875414615703919E-3,7.2779024769732258E-3,8.4096140554853864E-3,9.6993300304497928E-3,1.1164912894099013E-2,1.2825368990468516E-2,{"$f":"MAX(IF(ISNA(DL4),0,DL4),IF(ISNA(DL7),0,DL7),IF(ISNA(DL10),0,DL10),IF(ISNA(DL11),0,DL11))","v":1.4700747366200011E-2},1.6811998309615925E-2,1.918078824668535E-2,2.182926855910693E-2,2.4779797047890725E-2,2.8054612175416015E-2,3.167546185263756E-2,3.5663190351502561E-2,4.0037288854118808E-2,4.481541712210893E-2,5.0012905691376175E-2,5.5642249770080504E-2,6.1712607538355127E-2,6.8229316717485014E-2,7.5193444004179114E-2,8.2601382178465188E-2,9.0444509340065482E-2,9.8708923784108366E-2,0.10737526649820389,0.11641864118734968,0.12580863917888041,0.13550947362253707,0.14548022419922341,0.15567519022016668,0.16604434667852219,0.17653389465035141,0.18708689456536698,0.19764396839830667,0.20814405486608234,0.21852520032372647,0.22872536727455983,0.23868324225753357,0.24833902532882757,0.2576351843708069,0.26651715897162698,0.27493400053932304,0.28283893754775136,0.29018985725666913,0.29694969780108438,0.30308674710729178,0.30857484757487508,0.31339350778712194,0.3175279246125573,0.32096892088989915,0.32371280541286684,0.32576116313433157,0.32712058438533642,0.32780234246401085,0.32782202920884185,0.32719915815997647,0.32595674466096125,0.32412087180070825,0.32172025047817798,0.31878578112976452,0.31535012382767791,0.311447282572479,0.30711220869405143,0.30238042737087856,0.29728769040054281,0.291869657521453,0.2861616078154583,0.28019818201810098,0.27401315594004494,0.26763924465813993,{"$f":"MAX(IF(ISNA(FX4),0,FX4),IF(ISNA(FX7),0,FX7),IF(ISNA(FX10),0,FX10),IF(ISNA(FX11),0,FX11))","v":0.26110793667320387},0.25444935684758585,0.24769215662934885,0.24086342983469233,0.23398865208934749,0.22709164192043163,0.22019454142877759,0.21331781446064957,0.20648026021978128,0.19969904031743146,0.19298971733992643,0.18636630311290814,0.17984131495832667,0.17342583836514658,0.16712959462644728,0.16096101213032066,0.15492730012554023,0.1490345239151436,0.14328768055726693,0.13769077427492782,0.13224689088957353,0.12695827070023036,0.12182637932858897,0.11685197613936937,0.11203517992752321,0.10737553163626679,0.10287205393548104,9.8523307546098948E-2,9.4327444247344072E-2,9.0282256545859418E-2,8.6385224022798024E-2,8.2633556405122821E-2,7.9024233435314173E-2,7.555404163100965E-2,7.2219608045711592E-2,6.9017431153619579E-2,6.5943908990302447E-2,6.2995364688702704E-2,6.0168069553607761E-2,5.7458263819560873E-2,5.4862175236645161E-2,5.2376035629688733E-2,4.9996095570388199E-2,4.7718637299909439E-2,4.5539986034652813E-2,4.3456519786455594E-2,4.1464677810745254E-2,3.9560967810410297E-2,3.7741971995586265E-2,3.6004352107861237E-2,3.434485350631844E-2,3.2760308404720107E-2,3.1247638347080553E-2,2.9803856000312212E-2,2.8426066335824896E-2,2.7111467268923217E-2,2.5857349821156728E-2,2.4661097857519021E-2,2.3520187456886887E-2,2.2432185958118911E-2,2.1394750734027301E-2,2.0405627721788999E-2,1.9462649756014638E-2,1.8563734732510717E-2,{"$f":"MAX(IF(ISNA(IJ4),0,IJ4),IF(ISNA(IJ7),0,IJ7),IF(ISNA(IJ10),0,IJ10),IF(ISNA(IJ11),0,IJ11))","v":1.770688363225803E-2},1.6890178434647574E-2,1.6111779932728165E-2,1.5369925499795212E-2,1.4662926783748365E-2,1.3989167387500334E-2,1.3347100519924826E-2]
[null,null,null,null,null,null,null,null," d",{"$f":"(AX31-500)/100","v":0.9},null,null,1.2689999999999999E-4,null,null,null,null,null,null,null,null,null,null,null,null,null,null,null,1.2689999999999999E-4,null,null,null,null,null,null,null,null,null,null,null,null,null,null,null,null,null,null,null,null,"Rej region bars",{"$f":"IF(ISNUMBER(AY14),AY12,NA())","v":{"$error":"#N/A"}},{"$f":"IF(ISNUMBER(AZ14),AZ12,NA())","v":{"$error":"#N/A"}},{"$error":"#N/A"},{"$error":"#N/A"},{"$error":"#N/A"},{"$error":"#N/A"},{"$error":"#N/A"},{"$error":"#N/A"},{"$error":"#N/A"},{"$error":"#N/A"},{"$error":"#N/A"},{"$error":"#N/A"},{"$error":"#N/A"},{"$error":"#N/A"},6.6667755599057614E-6,{"$error":"#N/A"},{"$error":"#N/A"},{"$error":"#N/A"},{"$error":"#N/A"},{"$error":"#N/A"},{"$error":"#N/A"},{"$error":"#N/A"},{"$error":"#N/A"},{"$error":"#N/A"},{"$error":"#N/A"},{"$error":"#N/A"},{"$error":"#N/A"},{"$error":"#N/A"},{"$error":"#N/A"},{"$error":"#N/A"},{"$error":"#N/A"},{"$error":"#N/A"},{"$error":"#N/A"},{"$error":"#N/A"},{"$error":"#N/A"},{"$error":"#N/A"},{"$error":"#N/A"},{"$error":"#N/A"},{"$error":"#N/A"},{"$error":"#N/A"},{"$error":"#N/A"},{"$error":"#N/A"},{"$error":"#N/A"},{"$error":"#N/A"},{"$error":"#N/A"},{"$error":"#N/A"},{"$error":"#N/A"},{"$error":"#N/A"},{"$error":"#N/A"},{"$error":"#N/A"},{"$error":"#N/A"},{"$error":"#N/A"},{"$error":"#N/A"},{"$error":"#N/A"},{"$error":"#N/A"},{"$error":"#N/A"},{"$error":"#N/A"},{"$error":"#N/A"},{"$error":"#N/A"},{"$error":"#N/A"},{"$error":"#N/A"},{"$error":"#N/A"},{"$error":"#N/A"},{"$error":"#N/A"},{"$error":"#N/A"},{"$f":"IF(ISNUMBER(DL14),DL12,NA())","v":{"$error":"#N/A"}},{"$error":"#N/A"},{"$error":"#N/A"},{"$error":"#N/A"},{"$error":"#N/A"},{"$error":"#N/A"},{"$error":"#N/A"},{"$error":"#N/A"},{"$error":"#N/A"},{"$error":"#N/A"},{"$error":"#N/A"},{"$error":"#N/A"},{"$error":"#N/A"},{"$error":"#N/A"},{"$error":"#N/A"},{"$error":"#N/A"},{"$error":"#N/A"},{"$error":"#N/A"},{"$error":"#N/A"},{"$error":"#N/A"},{"$error":"#N/A"},{"$error":"#N/A"},{"$error":"#N/A"},{"$error":"#N/A"},{"$error":"#N/A"},{"$error":"#N/A"},{"$error":"#N/A"},{"$error":"#N/A"},{"$error":"#N/A"},{"$error":"#N/A"},{"$error":"#N/A"},{"$error":"#N/A"},{"$error":"#N/A"},{"$error":"#N/A"},{"$error":"#N/A"},{"$error":"#N/A"},{"$error":"#N/A"},{"$error":"#N/A"},{"$error":"#N/A"},{"$error":"#N/A"},{"$error":"#N/A"},0.31339350778712194,{"$error":"#N/A"},{"$error":"#N/A"},{"$error":"#N/A"},{"$error":"#N/A"},{"$error":"#N/A"},{"$error":"#N/A"},{"$error":"#N/A"},{"$error":"#N/A"},{"$error":"#N/A"},{"$error":"#N/A"},{"$error":"#N/A"},{"$error":"#N/A"},{"$error":"#N/A"},{"$error":"#N/A"},{"$error":"#N/A"},{"$error":"#N/A"},{"$error":"#N/A"},{"$error":"#N/A"},{"$error":"#N/A"},{"$error":"#N/A"},{"$error":"#N/A"},{"$error":"#N/A"},{"$f":"IF(ISNUMBER(FX14),FX12,NA())","v":{"$error":"#N/A"}},{"$error":"#N/A"},{"$error":"#N/A"},{"$error":"#N/A"},{"$error":"#N/A"},{"$error":"#N/A"},{"$error":"#N/A"},{"$error":"#N/A"},{"$error":"#N/A"},{"$error":"#N/A"},{"$error":"#N/A"},{"$error":"#N/A"},{"$error":"#N/A"},{"$error":"#N/A"},{"$error":"#N/A"},{"$error":"#N/A"},{"$error":"#N/A"},{"$error":"#N/A"},{"$error":"#N/A"},{"$error":"#N/A"},{"$error":"#N/A"},{"$error":"#N/A"},{"$error":"#N/A"},{"$error":"#N/A"},{"$error":"#N/A"},{"$error":"#N/A"},{"$error":"#N/A"},{"$error":"#N/A"},{"$error":"#N/A"},{"$error":"#N/A"},{"$error":"#N/A"},{"$error":"#N/A"},{"$error":"#N/A"},{"$error":"#N/A"},{"$error":"#N/A"},{"$error":"#N/A"},{"$error":"#N/A"},{"$error":"#N/A"},{"$error":"#N/A"},{"$error":"#N/A"},{"$error":"#N/A"},{"$error":"#N/A"},{"$error":"#N/A"},{"$error":"#N/A"},{"$error":"#N/A"},{"$error":"#N/A"},{"$error":"#N/A"},{"$error":"#N/A"},{"$error":"#N/A"},{"$error":"#N/A"},{"$error":"#N/A"},{"$error":"#N/A"},{"$error":"#N/A"},{"$error":"#N/A"},{"$error":"#N/A"},{"$error":"#N/A"},{"$error":"#N/A"},{"$error":"#N/A"},{"$error":"#N/A"},{"$error":"#N/A"},{"$error":"#N/A"},{"$error":"#N/A"},{"$error":"#N/A"},{"$error":"#N/A"},{"$f":"IF(ISNUMBER(IJ14),IJ12,NA())","v":{"$error":"#N/A"}},{"$error":"#N/A"},{"$error":"#N/A"},{"$error":"#N/A"},{"$error":"#N/A"},{"$error":"#N/A"},{"$error":"#N/A"}]
[null,null,null,null,null,null,null,null,null,null,null,null,1.2689999999999999E-4,null,null,null,null,null,null,null,null,null,null,null,null,null,null,null,1.2689999999999999E-4,null,null,null,null,null,null,null,null,null,null,null,null,null,null,null,null,null,null,null,null,"CutoffsForDisp black",{"$f":"IF(AND(OR(AND($AX$28,$AZ$29,$AZ$30),AND(NOT($AX$28),$AZ$32,$AZ$33)),OR(AND(AY18,NOT(AZ18)),AND(AY18,NOT(AX18)))),0,NA())","v":{"$error":"#VALUE!"}},{"$f":"IF(AND(OR(AND($AX$28,$AZ$29,$AZ$30),AND(NOT($AX$28),$AZ$32,$AZ$33)),OR(AND(AZ18,NOT(BA18)),AND(AZ18,NOT(AY18)))),0,NA())","v":{"$error":"#N/A"}},{"$error":"#N/A"},{"$error":"#N/A"},{"$error":"#N/A"},{"$error":"#N/A"},{"$error":"#N/A"},{"$error":"#N/A"},{"$error":"#N/A"},{"$error":"#N/A"},{"$error":"#N/A"},{"$error":"#N/A"},{"$error":"#N/A"},{"$error":"#N/A"},0,{"$error":"#N/A"},{"$error":"#N/A"},{"$error":"#N/A"},{"$error":"#N/A"},{"$error":"#N/A"},{"$error":"#N/A"},{"$error":"#N/A"},{"$error":"#N/A"},{"$error":"#N/A"},{"$error":"#N/A"},{"$error":"#N/A"},{"$error":"#N/A"},{"$error":"#N/A"},{"$error":"#N/A"},{"$error":"#N/A"},{"$error":"#N/A"},{"$error":"#N/A"},{"$error":"#N/A"},{"$error":"#N/A"},{"$error":"#N/A"},{"$error":"#N/A"},{"$error":"#N/A"},{"$error":"#N/A"},{"$error":"#N/A"},{"$error":"#N/A"},{"$error":"#N/A"},{"$error":"#N/A"},{"$error":"#N/A"},{"$error":"#N/A"},{"$error":"#N/A"},{"$error":"#N/A"},{"$error":"#N/A"},{"$error":"#N/A"},{"$error":"#N/A"},{"$error":"#N/A"},{"$error":"#N/A"},{"$error":"#N/A"},{"$error":"#N/A"},{"$error":"#N/A"},{"$error":"#N/A"},{"$error":"#N/A"},{"$error":"#N/A"},{"$error":"#N/A"},{"$error":"#N/A"},{"$error":"#N/A"},{"$error":"#N/A"},{"$error":"#N/A"},{"$error":"#N/A"},{"$error":"#N/A"},{"$error":"#N/A"},{"$f":"IF(AND(OR(AND($AX$28,$AZ$29,$AZ$30),AND(NOT($AX$28),$AZ$32,$AZ$33)),OR(AND(DL18,NOT(DM18)),AND(DL18,NOT(DK18)))),0,NA())","v":{"$error":"#N/A"}},{"$error":"#N/A"},{"$error":"#N/A"},{"$error":"#N/A"},{"$error":"#N/A"},{"$error":"#N/A"},{"$error":"#N/A"},{"$error":"#N/A"},{"$error":"#N/A"},{"$error":"#N/A"},{"$error":"#N/A"},{"$error":"#N/A"},{"$error":"#N/A"},{"$error":"#N/A"},{"$error":"#N/A"},{"$error":"#N/A"},{"$error":"#N/A"},{"$error":"#N/A"},{"$error":"#N/A"},{"$error":"#N/A"},{"$error":"#N/A"},{"$error":"#N/A"},{"$error":"#N/A"},{"$error":"#N/A"},{"$error":"#N/A"},{"$error":"#N/A"},{"$error":"#N/A"},{"$error":"#N/A"},{"$error":"#N/A"},{"$error":"#N/A"},{"$error":"#N/A"},{"$error":"#N/A"},{"$error":"#N/A"},{"$error":"#N/A"},{"$error":"#N/A"},{"$error":"#N/A"},{"$error":"#N/A"},{"$error":"#N/A"},{"$error":"#N/A"},{"$error":"#N/A"},{"$error":"#N/A"},0,{"$error":"#N/A"},{"$error":"#N/A"},{"$error":"#N/A"},{"$error":"#N/A"},{"$error":"#N/A"},{"$error":"#N/A"},{"$error":"#N/A"},{"$error":"#N/A"},{"$error":"#N/A"},{"$error":"#N/A"},{"$error":"#N/A"},{"$error":"#N/A"},{"$error":"#N/A"},{"$error":"#N/A"},{"$error":"#N/A"},{"$error":"#N/A"},{"$error":"#N/A"},{"$error":"#N/A"},{"$error":"#N/A"},{"$error":"#N/A"},{"$error":"#N/A"},{"$error":"#N/A"},{"$f":"IF(AND(OR(AND($AX$28,$AZ$29,$AZ$30),AND(NOT($AX$28),$AZ$32,$AZ$33)),OR(AND(FX18,NOT(FY18)),AND(FX18,NOT(FW18)))),0,NA())","v":{"$error":"#N/A"}},{"$error":"#N/A"},{"$error":"#N/A"},{"$error":"#N/A"},{"$error":"#N/A"},{"$error":"#N/A"},{"$error":"#N/A"},{"$error":"#N/A"},{"$error":"#N/A"},{"$error":"#N/A"},{"$error":"#N/A"},{"$error":"#N/A"},{"$error":"#N/A"},{"$error":"#N/A"},{"$error":"#N/A"},{"$error":"#N/A"},{"$error":"#N/A"},{"$error":"#N/A"},{"$error":"#N/A"},{"$error":"#N/A"},{"$error":"#N/A"},{"$error":"#N/A"},{"$error":"#N/A"},{"$error":"#N/A"},{"$error":"#N/A"},{"$error":"#N/A"},{"$error":"#N/A"},{"$error":"#N/A"},{"$error":"#N/A"},{"$error":"#N/A"},{"$error":"#N/A"},{"$error":"#N/A"},{"$error":"#N/A"},{"$error":"#N/A"},{"$error":"#N/A"},{"$error":"#N/A"},{"$error":"#N/A"},{"$error":"#N/A"},{"$error":"#N/A"},{"$error":"#N/A"},{"$error":"#N/A"},{"$error":"#N/A"},{"$error":"#N/A"},{"$error":"#N/A"},{"$error":"#N/A"},{"$error":"#N/A"},{"$error":"#N/A"},{"$error":"#N/A"},{"$error":"#N/A"},{"$error":"#N/A"},{"$error":"#N/A"},{"$error":"#N/A"},{"$error":"#N/A"},{"$error":"#N/A"},{"$error":"#N/A"},{"$error":"#N/A"},{"$error":"#N/A"},{"$error":"#N/A"},{"$error":"#N/A"},{"$error":"#N/A"},{"$error":"#N/A"},{"$error":"#N/A"},{"$error":"#N/A"},{"$error":"#N/A"},{"$f":"IF(AND(OR(AND($AX$28,$AZ$29,$AZ$30),AND(NOT($AX$28),$AZ$32,$AZ$33)),OR(AND(IJ18,NOT(IK18)),AND(IJ18,NOT(II18)))),0,NA())","v":{"$error":"#N/A"}},{"$error":"#N/A"},{"$error":"#N/A"},{"$error":"#N/A"},{"$error":"#N/A"},{"$error":"#N/A"},{"$error":"#N/A"}]
[null,null,null," Display H1 distribution",null,null,null,null,{"$f":"IF(AX27,\"z\",\"\")","v":""},{"$f":"IF(AX27,AY33,\"\")","v":""},null,null,1.2689999999999999E-4,null,null,null,null,null,null,null,null,null,null,null,null,null,null,null,1.2689999999999999E-4,null,null,null,null,null,null,null,null,null,null,null,null,null,null,null,null,null,null,null,null,"Max of grey vals",{"$f":"MAX(IF(ISNA(AY5),0,AY5),IF(ISNA(AY6),0,AY6),IF(ISNA(AY8),0,AY8),IF(ISNA(AY9),0,AY9))","v":1.2645664082602849E-2},{"$f":"MAX(IF(ISNA(AZ5),0,AZ5),IF(ISNA(AZ6),0,AZ6),IF(ISNA(AZ8),0,AZ8),IF(ISNA(AZ9),0,AZ9))","v":1.3744431563407489E-2},1.4938126372969693E-2,1.6234487406960908E-2,1.7641783773069374E-2,1.9168835373799854E-2,2.0825015984626272E-2,2.2620286896370551E-2,2.4565182894583891E-2,2.6670823209197364E-2,2.8948904075253024E-2,3.1411685128916525E-2,3.4071966418982788E-2,3.6943054552649388E-2,4.0038716394998689E-2,4.3373118658372456E-2,4.6960751657255592E-2,5.0816349817128723E-2,5.4954714695232137E-2,5.9390697045152846E-2,6.4138933206021737E-2,6.921371411663324E-2,7.4628770381281601E-2,8.0397040807204945E-2,8.6530414832423491E-2,9.3039506159872526E-2,9.9933097991542624E-2,0.10721825297267673,0.11489960432830265,0.12297899171321625,0.13145536585516759,0.14032411762586516,0.14957682529366134,0.1592008572739434,0.16917901869792251,0.17948922844675641,0.19010423827965361,0.20099140635412072,0.21211253822260301,0.22342380474897783,0.23487575955155493,0.24641344820334865,0.25797663990137942,0.26950017517936908,0.28091444005247435,0.29214596758517342,0.30311816515165901,0.31375216167018327,0.32396776486677159,0.33368451431559087,0.34282281175833207,0.35130510663540893,0.35905711004852736,0.36600901060775737,0.37209665960650118,0.37726269606820462,0.38145758020237452,0.38464050616286993,0.38678016754279732,0.38785535283322625,0.38785535283322625,0.38678016754279732,0.38464050616281886,0.38145758020238674,0.37726269606818352,{"$f":"MAX(IF(ISNA(DL5),0,DL5),IF(ISNA(DL6),0,DL6),IF(ISNA(DL8),0,DL8),IF(ISNA(DL9),0,DL9))","v":0.37209665960650895},0.36600901060777735,0.35905711004853069,0.3513051066353956,0.34282281175835205,0.33368451431557977,0.32396776486677714,0.31375216167018438,0.30311816515166123,0.29214596758517564,0.28091444005247324,0.2695001751793713,0.25797663990138275,0.24641344820334199,0.23487575955156048,0.22342380474897228,0.21211253822261078,0.20099140635412516,0.19010423827964917,0.17948922844675419,0.16917901869792473,0.15920085727394895,0.14957682529366245,0.14032411762586516,0.13145536585517092,0.12297899171320736,0.11489960432830904,0.10721825297267618,9.9933097991544706E-2,9.303950615987322E-2,8.6530414832424185E-2,8.0397040807205222E-2,7.4628770381279796E-2,6.9213714116636016E-2,6.4138933206021598E-2,5.9390697045151875E-2,5.4954714695234497E-2,5.0816349817128792E-2,4.6960751657254551E-2,4.3373118658374121E-2,4.0038716394998897E-2,3.6943054552649457E-2,3.407196641898258E-2,3.1411685128917011E-2,2.8948904075252191E-2,2.6670823209198335E-2,2.4565182894584758E-2,2.2620286896370967E-2,2.0825015984624606E-2,1.9168835373799542E-2,1.7641783773070241E-2,1.6234487406960874E-2,1.4938126372969762E-2,1.3744431563407211E-2,1.264566408260448E-2,1.1634595090985744E-2,1.0704484061387909E-2,9.8490559656072563E-3,9.0624778305503639E-3,8.3393350326388394E-3,7.6746076358213955E-3,7.063647022795827E-3,6.502153020009338E-3,5.986151674168827E-3,{"$f":"MAX(IF(ISNA(FX5),0,FX5),IF(ISNA(FX6),0,FX6),IF(ISNA(FX8),0,FX8),IF(ISNA(FX9),0,FX9))","v":5.5119738013176267E-3},5.0762343978338897E-3,4.6758129758539546E-3,4.3078348632619168E-3,3.9696534892974533E-3,3.6588336616460992E-3,3.3731358280753021E-3,3.1105013057408648E-3,2.8690385602292423E-3,2.6470097315134389E-3,2.4428197627801573E-3,2.2550039718671755E-3,2.0822182938640132E-3,1.9232294949134143E-3,1.7769062363459653E-3,1.6422108097158272E-3,1.5181915013950942E-3,1.4039755461503489E-3,1.2987626306082412E-3,1.2018189089690878E-3,1.1124714949661829E-3,1.030103395858184E-3,9.5414885606714961E-4,8.8408907983117402E-4,8.194483042123224E-4,7.5979019539706982E-4,7.0471454320042426E-4,6.5385423018593514E-4,6.068724535968073E-4,5.634601797321892E-4,5.2333381193259143E-4,4.8623305477057954E-4,4.5191895829077566E-4,4.2017212737777143E-4,3.90791082620634E-4,3.6359075989755851E-4,3.3840113715655207E-4,3.1506597760078137E-4,2.934416794975192E-4,2.7339622355126991E-4,2.5480820958545536E-4,2.3756597487212261E-4,2.2156678725293588E-4,2.0671610655886852E-4,1.9292690855099437E-4,1.8011906603554451E-4,1.6821878224826392E-4,1.5715807200500365E-4,1.468742865928796E-4,1.3730967858727183E-4,1.2841100322846799E-4,1.2012915319825623E-4,1.1241882395207625E-4,1.0523820699548381E-4,9.8548708711287958E-5,9.2314692574646529E-5,8.6503242746616138E-5,8.1083947216509245E-5,7.6028698887675716E-5,7.1311513010208216E-5,6.6908359619421987E-5,6.2797009714454788E-5,5.8956894006811922E-5,5.5368973159719559E-5,{"$f":"MAX(IF(ISNA(IJ5),0,IJ5),IF(ISNA(IJ6),0,IJ6),IF(ISNA(IJ8),0,IJ8),IF(ISNA(IJ9),0,IJ9))","v":5.2015618596801261E-5},4.888050295637214E-5,4.5948499400871867E-5,4.3205589037587089E-5,4.0638775784529457E-5,3.8236008033099012E-5,3.5986106583507649E-5]
[null,null,null,null,"        Display line for H1",null,null,null,{"$f":"IF(AX27,\"\",\"D\")","v":"D"},{"$f":"IF(NOT(AX27),AY33,\"\")","v":2.8460498941515415},null,null,1.2689999999999999E-4,null,null,null,null,null,null,null,null,null,null,null,null,null,null,null,1.2689999999999999E-4,null,null,null,null,null,null,null,null,null,null,null,null,null,null,null,null,null,null,null,null,"Grey rej reg bars",{"$f":"IF(ISNUMBER(AY17),AY15,NA())","v":{"$error":"#N/A"}},{"$f":"IF(ISNUMBER(AZ17),AZ15,NA())","v":{"$error":"#N/A"}},{"$error":"#N/A"},{"$error":"#N/A"},{"$error":"#N/A"},{"$error":"#N/A"},{"$error":"#N/A"},{"$error":"#N/A"},{"$error":"#N/A"},{"$error":"#N/A"},{"$error":"#N/A"},{"$error":"#N/A"},{"$error":"#N/A"},{"$error":"#N/A"},4.0038716394998689E-2,{"$error":"#N/A"},{"$error":"#N/A"},{"$error":"#N/A"},{"$error":"#N/A"},{"$error":"#N/A"},{"$error":"#N/A"},{"$error":"#N/A"},{"$error":"#N/A"},{"$error":"#N/A"},{"$error":"#N/A"},{"$error":"#N/A"},{"$error":"#N/A"},{"$error":"#N/A"},{"$error":"#N/A"},{"$error":"#N/A"},{"$error":"#N/A"},{"$error":"#N/A"},{"$error":"#N/A"},{"$error":"#N/A"},{"$error":"#N/A"},{"$error":"#N/A"},{"$error":"#N/A"},{"$error":"#N/A"},{"$error":"#N/A"},{"$error":"#N/A"},{"$error":"#N/A"},{"$error":"#N/A"},{"$error":"#N/A"},{"$error":"#N/A"},{"$error":"#N/A"},{"$error":"#N/A"},{"$error":"#N/A"},{"$error":"#N/A"},{"$error":"#N/A"},{"$error":"#N/A"},{"$error":"#N/A"},{"$error":"#N/A"},{"$error":"#N/A"},{"$error":"#N/A"},{"$error":"#N/A"},{"$error":"#N/A"},{"$error":"#N/A"},{"$error":"#N/A"},{"$error":"#N/A"},{"$error":"#N/A"},{"$error":"#N/A"},{"$error":"#N/A"},{"$error":"#N/A"},{"$error":"#N/A"},{"$error":"#N/A"},{"$f":"IF(ISNUMBER(DL17),DL15,NA())","v":{"$error":"#N/A"}},{"$error":"#N/A"},{"$error":"#N/A"},{"$error":"#N/A"},{"$error":"#N/A"},{"$error":"#N/A"},{"$error":"#N/A"},{"$error":"#N/A"},{"$error":"#N/A"},{"$error":"#N/A"},{"$error":"#N/A"},{"$error":"#N/A"},{"$error":"#N/A"},{"$error":"#N/A"},{"$error":"#N/A"},{"$error":"#N/A"},{"$error":"#N/A"},{"$error":"#N/A"},{"$error":"#N/A"},{"$error":"#N/A"},{"$error":"#N/A"},{"$error":"#N/A"},{"$error":"#N/A"},{"$error":"#N/A"},{"$error":"#N/A"},{"$error":"#N/A"},{"$error":"#N/A"},{"$error":"#N/A"},{"$error":"#N/A"},{"$error":"#N/A"},{"$error":"#N/A"},{"$error":"#N/A"},{"$error":"#N/A"},{"$error":"#N/A"},{"$error":"#N/A"},{"$error":"#N/A"},{"$error":"#N/A"},{"$error":"#N/A"},{"$error":"#N/A"},{"$error":"#N/A"},{"$error":"#N/A"},3.6943054552649457E-2,{"$error":"#N/A"},{"$error":"#N/A"},{"$error":"#N/A"},{"$error":"#N/A"},{"$error":"#N/A"},{"$error":"#N/A"},{"$error":"#N/A"},{"$error":"#N/A"},{"$error":"#N/A"},{"$error":"#N/A"},{"$error":"#N/A"},{"$error":"#N/A"},{"$error":"#N/A"},{"$error":"#N/A"},{"$error":"#N/A"},{"$error":"#N/A"},{"$error":"#N/A"},{"$error":"#N/A"},{"$error":"#N/A"},{"$error":"#N/A"},{"$error":"#N/A"},{"$error":"#N/A"},{"$f":"IF(ISNUMBER(FX17),FX15,NA())","v":{"$error":"#N/A"}},{"$error":"#N/A"},{"$error":"#N/A"},{"$error":"#N/A"},{"$error":"#N/A"},{"$error":"#N/A"},{"$error":"#N/A"},{"$error":"#N/A"},{"$error":"#N/A"},{"$error":"#N/A"},{"$error":"#N/A"},{"$error":"#N/A"},{"$error":"#N/A"},{"$error":"#N/A"},{"$error":"#N/A"},{"$error":"#N/A"},{"$error":"#N/A"},{"$error":"#N/A"},{"$error":"#N/A"},{"$error":"#N/A"},{"$error":"#N/A"},{"$error":"#N/A"},{"$error":"#N/A"},{"$error":"#N/A"},{"$error":"#N/A"},{"$error":"#N/A"},{"$error":"#N/A"},{"$error":"#N/A"},{"$error":"#N/A"},{"$error":"#N/A"},{"$error":"#N/A"},{"$error":"#N/A"},{"$error":"#N/A"},{"$error":"#N/A"},{"$error":"#N/A"},{"$error":"#N/A"},{"$error":"#N/A"},{"$error":"#N/A"},{"$error":"#N/A"},{"$error":"#N/A"},{"$error":"#N/A"},{"$error":"#N/A"},{"$error":"#N/A"},{"$error":"#N/A"},{"$error":"#N/A"},{"$error":"#N/A"},{"$error":"#N/A"},{"$error":"#N/A"},{"$error":"#N/A"},{"$error":"#N/A"},{"$error":"#N/A"},{"$error":"#N/A"},{"$error":"#N/A"},{"$error":"#N/A"},{"$error":"#N/A"},{"$error":"#N/A"},{"$error":"#N/A"},{"$error":"#N/A"},{"$error":"#N/A"},{"$error":"#N/A"},{"$error":"#N/A"},{"$error":"#N/A"},{"$error":"#N/A"},{"$error":"#N/A"},{"$f":"IF(ISNUMBER(IJ17),IJ15,NA())","v":{"$error":"#N/A"}},{"$error":"#N/A"},{"$error":"#N/A"},{"$error":"#N/A"},{"$error":"#N/A"},{"$error":"#N/A"},{"$error":"#N/A"}]
[null,null,null,null,null,null,null,null,null,null,null,null,1.2689999999999999E-4,null,null,null,null,null,null,null,null,null,null,null,null,null,null,null,{"$f":"$M$1","v":1.2689999999999999E-4},null,null,null,null,null,null,null,null,null,null,null,null,null,null,null,null,null,null,null,null,"CutoffsForDisp grey",{"$f":"IF(AND(OR(AND(NOT($AX$28),$AZ$29,$AZ$30),AND($AX$28,$AZ$32,$AZ$33)),OR(AND(AY18,NOT(AZ18)),AND(AY18,NOT(AX18)))),0,NA())","v":{"$error":"#VALUE!"}},{"$f":"IF(AND(OR(AND(NOT($AX$28),$AZ$29,$AZ$30),AND($AX$28,$AZ$32,$AZ$33)),OR(AND(AZ18,NOT(BA18)),AND(AZ18,NOT(AY18)))),0,NA())","v":{"$error":"#N/A"}},{"$error":"#N/A"},{"$error":"#N/A"},{"$error":"#N/A"},{"$error":"#N/A"},{"$error":"#N/A"},{"$error":"#N/A"},{"$error":"#N/A"},{"$error":"#N/A"},{"$error":"#N/A"},{"$error":"#N/A"},{"$error":"#N/A"},{"$error":"#N/A"},0,{"$error":"#N/A"},{"$error":"#N/A"},{"$error":"#N/A"},{"$error":"#N/A"},{"$error":"#N/A"},{"$error":"#N/A"},{"$error":"#N/A"},{"$error":"#N/A"},{"$error":"#N/A"},{"$error":"#N/A"},{"$error":"#N/A"},{"$error":"#N/A"},{"$error":"#N/A"},{"$error":"#N/A"},{"$error":"#N/A"},{"$error":"#N/A"},{"$error":"#N/A"},{"$error":"#N/A"},{"$error":"#N/A"},{"$error":"#N/A"},{"$error":"#N/A"},{"$error":"#N/A"},{"$error":"#N/A"},{"$error":"#N/A"},{"$error":"#N/A"},{"$error":"#N/A"},{"$error":"#N/A"},{"$error":"#N/A"},{"$error":"#N/A"},{"$error":"#N/A"},{"$error":"#N/A"},{"$error":"#N/A"},{"$error":"#N/A"},{"$error":"#N/A"},{"$error":"#N/A"},{"$error":"#N/A"},{"$error":"#N/A"},{"$error":"#N/A"},{"$error":"#N/A"},{"$error":"#N/A"},{"$error":"#N/A"},{"$error":"#N/A"},{"$error":"#N/A"},{"$error":"#N/A"},{"$error":"#N/A"},{"$error":"#N/A"},{"$error":"#N/A"},{"$error":"#N/A"},{"$error":"#N/A"},{"$error":"#N/A"},{"$f":"IF(AND(OR(AND(NOT($AX$28),$AZ$29,$AZ$30),AND($AX$28,$AZ$32,$AZ$33)),OR(AND(DL18,NOT(DM18)),AND(DL18,NOT(DK18)))),0,NA())","v":{"$error":"#N/A"}},{"$error":"#N/A"},{"$error":"#N/A"},{"$error":"#N/A"},{"$error":"#N/A"},{"$error":"#N/A"},{"$error":"#N/A"},{"$error":"#N/A"},{"$error":"#N/A"},{"$error":"#N/A"},{"$error":"#N/A"},{"$error":"#N/A"},{"$error":"#N/A"},{"$error":"#N/A"},{"$error":"#N/A"},{"$error":"#N/A"},{"$error":"#N/A"},{"$error":"#N/A"},{"$error":"#N/A"},{"$error":"#N/A"},{"$error":"#N/A"},{"$error":"#N/A"},{"$error":"#N/A"},{"$error":"#N/A"},{"$error":"#N/A"},{"$error":"#N/A"},{"$error":"#N/A"},{"$error":"#N/A"},{"$error":"#N/A"},{"$error":"#N/A"},{"$error":"#N/A"},{"$error":"#N/A"},{"$error":"#N/A"},{"$error":"#N/A"},{"$error":"#N/A"},{"$error":"#N/A"},{"$error":"#N/A"},{"$error":"#N/A"},{"$error":"#N/A"},{"$error":"#N/A"},{"$error":"#N/A"},0,{"$error":"#N/A"},{"$error":"#N/A"},{"$error":"#N/A"},{"$error":"#N/A"},{"$error":"#N/A"},{"$error":"#N/A"},{"$error":"#N/A"},{"$error":"#N/A"},{"$error":"#N/A"},{"$error":"#N/A"},{"$error":"#N/A"},{"$error":"#N/A"},{"$error":"#N/A"},{"$error":"#N/A"},{"$error":"#N/A"},{"$error":"#N/A"},{"$error":"#N/A"},{"$error":"#N/A"},{"$error":"#N/A"},{"$error":"#N/A"},{"$error":"#N/A"},{"$error":"#N/A"},{"$f":"IF(AND(OR(AND(NOT($AX$28),$AZ$29,$AZ$30),AND($AX$28,$AZ$32,$AZ$33)),OR(AND(FX18,NOT(FY18)),AND(FX18,NOT(FW18)))),0,NA())","v":{"$error":"#N/A"}},{"$error":"#N/A"},{"$error":"#N/A"},{"$error":"#N/A"},{"$error":"#N/A"},{"$error":"#N/A"},{"$error":"#N/A"},{"$error":"#N/A"},{"$error":"#N/A"},{"$error":"#N/A"},{"$error":"#N/A"},{"$error":"#N/A"},{"$error":"#N/A"},{"$error":"#N/A"},{"$error":"#N/A"},{"$error":"#N/A"},{"$error":"#N/A"},{"$error":"#N/A"},{"$error":"#N/A"},{"$error":"#N/A"},{"$error":"#N/A"},{"$error":"#N/A"},{"$error":"#N/A"},{"$error":"#N/A"},{"$error":"#N/A"},{"$error":"#N/A"},{"$error":"#N/A"},{"$error":"#N/A"},{"$error":"#N/A"},{"$error":"#N/A"},{"$error":"#N/A"},{"$error":"#N/A"},{"$error":"#N/A"},{"$error":"#N/A"},{"$error":"#N/A"},{"$error":"#N/A"},{"$error":"#N/A"},{"$error":"#N/A"},{"$error":"#N/A"},{"$error":"#N/A"},{"$error":"#N/A"},{"$error":"#N/A"},{"$error":"#N/A"},{"$error":"#N/A"},{"$error":"#N/A"},{"$error":"#N/A"},{"$error":"#N/A"},{"$error":"#N/A"},{"$error":"#N/A"},{"$error":"#N/A"},{"$error":"#N/A"},{"$error":"#N/A"},{"$error":"#N/A"},{"$error":"#N/A"},{"$error":"#N/A"},{"$error":"#N/A"},{"$error":"#N/A"},{"$error":"#N/A"},{"$error":"#N/A"},{"$error":"#N/A"},{"$error":"#N/A"},{"$error":"#N/A"},{"$error":"#N/A"},{"$error":"#N/A"},{"$f":"IF(AND(OR(AND(NOT($AX$28),$AZ$29,$AZ$30),AND($AX$28,$AZ$32,$AZ$33)),OR(AND(IJ18,NOT(IK18)),AND(IJ18,NOT(II18)))),0,NA())","v":{"$error":"#N/A"}},{"$error":"#N/A"},{"$error":"#N/A"},{"$error":"#N/A"},{"$error":"#N/A"},{"$error":"#N/A"},{"$error":"#N/A"}]
[null,null,null,null,null,null,null,null,null,null,null,null,1.2689999999999999E-4,null,null,null,null,null,null,null,null,null,null,null,null,null,null,null,1.2689999999999999E-4,null,null,null,null,null,null,null,null,null,null,null,null,null,null,null,null,null,null,null,null,"Rejection region",{"$f":"IF(OR(AY22<=$C$21/2,AY22>1-$C$21/2),TRUE,FALSE)","v":true},true,true,true,true,true,true,true,true,true,true,true,true,true,true,false,false,false,false,false,false,false,false,false,false,false,false,false,false,false,false,false,false,false,false,false,false,false,false,false,false,false,false,false,false,false,false,false,false,false,false,false,false,false,false,false,false,false,false,false,false,false,false,false,{"$f":"IF(OR(DK22<=$C$21/2,DK22>1-$C$21/2),TRUE,FALSE)","v":false},false,false,false,false,false,false,false,false,false,false,false,false,false,false,false,false,false,false,false,false,false,false,false,false,false,false,false,false,false,false,false,false,false,false,false,false,false,false,false,false,false,true,true,true,true,true,true,true,true,true,true,true,true,true,true,true,true,true,true,true,true,true,true,{"$f":"IF(OR(FW22<=$C$21/2,FW22>1-$C$21/2),TRUE,FALSE)","v":true},true,true,true,true,true,true,true,true,true,true,true,true,true,true,true,true,true,true,true,true,true,true,true,true,true,true,true,true,true,true,true,true,true,true,true,true,true,true,true,true,true,true,true,true,true,true,true,true,true,true,true,true,true,true,true,true,true,true,true,true,true,true,true,{"$f":"IF(OR(II22<=$C$21/2,II22>1-$C$21/2),TRUE,FALSE)","v":true},true,true,true,true,true,true,true,true]
[3,"Hypothesis test ",null,null,null,null,null,null,null,null,null,null,1.2689999999999999E-4,null,null,null,null,null,null,null,null,null,null,null,null,null,null,null,1.2689999999999999E-4,null,null,null,null,null,null,null,null,null,null,null,null,null,null,null,null,null,null,null,null,"Grey rej tails in front",{"$f":"IF($AZ$31,AY21,NA())","v":1.2645664082602849E-2},{"$f":"IF($AZ$31,AZ21,NA())","v":1.3744431563407489E-2},1.4938126372969693E-2,1.6234487406960908E-2,1.7641783773069374E-2,1.9168835373799854E-2,2.0825015984626272E-2,2.2620286896370551E-2,2.4565182894583891E-2,2.6670823209197364E-2,2.8948904075253024E-2,3.1411685128916525E-2,3.4071966418982788E-2,3.6943054552649388E-2,4.0038716394998689E-2,-999999999999,-999999999999,-999999999999,-999999999999,-999999999999,-999999999999,-999999999999,-999999999999,-999999999999,-999999999999,-999999999999,-999999999999,-999999999999,-999999999999,-999999999999,-999999999999,-999999999999,-999999999999,-999999999999,-999999999999,-999999999999,-999999999999,-999999999999,-999999999999,-999999999999,-999999999999,-999999999999,-999999999999,-999999999999,-999999999999,-999999999999,-999999999999,-999999999999,-999999999999,-999999999999,-999999999999,-999999999999,-999999999999,-999999999999,-999999999999,-999999999999,-999999999999,-999999999999,-999999999999,-999999999999,-999999999999,-999999999999,-999999999999,-999999999999,-999999999999,{"$f":"IF($AZ$31,DL21,NA())","v":-999999999999},-999999999999,-999999999999,-999999999999,-999999999999,-999999999999,-999999999999,-999999999999,-999999999999,-999999999999,-999999999999,-999999999999,-999999999999,-999999999999,-999999999999,-999999999999,-999999999999,-999999999999,-999999999999,-999999999999,-999999999999,-999999999999,-999999999999,-999999999999,-999999999999,-999999999999,-999999999999,-999999999999,-999999999999,-999999999999,-999999999999,-999999999999,-999999999999,-999999999999,-999999999999,-999999999999,-999999999999,-999999999999,-999999999999,-999999999999,-999999999999,3.6943054552649457E-2,3.407196641898258E-2,3.1411685128917011E-2,2.8948904075252191E-2,2.6670823209198335E-2,2.4565182894584758E-2,2.2620286896370967E-2,2.0825015984624606E-2,1.9168835373799542E-2,1.7641783773070241E-2,1.6234487406960874E-2,1.4938126372969762E-2,1.3744431563407211E-2,1.264566408260448E-2,1.1634595090985744E-2,1.0704484061387909E-2,9.8490559656072563E-3,9.0624778305503639E-3,8.3393350326388394E-3,7.6746076358213955E-3,7.063647022795827E-3,6.502153020009338E-3,5.986151674168827E-3,{"$f":"IF($AZ$31,FX21,NA())","v":5.5119738013176267E-3},5.0762343978338897E-3,4.6758129758539546E-3,4.3078348632619168E-3,3.9696534892974533E-3,3.6588336616460992E-3,3.3731358280753021E-3,3.1105013057408648E-3,2.8690385602292423E-3,2.6470097315134389E-3,2.4428197627801573E-3,2.2550039718671755E-3,2.0822182938640132E-3,1.9232294949134143E-3,1.7769062363459653E-3,1.6422108097158272E-3,1.5181915013950942E-3,1.4039755461503489E-3,1.2987626306082412E-3,1.2018189089690878E-3,1.1124714949661829E-3,1.030103395858184E-3,9.5414885606714961E-4,8.8408907983117402E-4,8.194483042123224E-4,7.5979019539706982E-4,7.0471454320042426E-4,6.5385423018593514E-4,6.068724535968073E-4,5.634601797321892E-4,5.2333381193259143E-4,4.8623305477057954E-4,4.5191895829077566E-4,4.2017212737777143E-4,3.90791082620634E-4,3.6359075989755851E-4,3.3840113715655207E-4,3.1506597760078137E-4,2.934416794975192E-4,2.7339622355126991E-4,2.5480820958545536E-4,2.3756597487212261E-4,2.2156678725293588E-4,2.0671610655886852E-4,1.9292690855099437E-4,1.8011906603554451E-4,1.6821878224826392E-4,1.5715807200500365E-4,1.468742865928796E-4,1.3730967858727183E-4,1.2841100322846799E-4,1.2012915319825623E-4,1.1241882395207625E-4,1.0523820699548381E-4,9.8548708711287958E-5,9.2314692574646529E-5,8.6503242746616138E-5,8.1083947216509245E-5,7.6028698887675716E-5,7.1311513010208216E-5,6.6908359619421987E-5,6.2797009714454788E-5,5.8956894006811922E-5,5.5368973159719559E-5,{"$f":"IF($AZ$31,IJ21,NA())","v":5.2015618596801261E-5},4.888050295637214E-5,4.5948499400871867E-5,4.3205589037587089E-5,4.0638775784529457E-5,3.8236008033099012E-5,3.5986106583507649E-5]
[null,null,null,null,null,null,"       Assume true",null,null,null,null,null,1.2689999999999999E-4,null,null,null,null,null,null,null,null,null,null,null,null,null,null,null,1.2689999999999999E-4,null,null,null,null,null,null,null,null,null,null,null,null,null,null,null,null,null,null,null,null,"Rejection tails",{"$f":"IF(OR(AND($AZ$30,AY22<=$C$21/2),AND($AZ$30,AY22>=(1-$C$21/2))),IF($AX$27,AY4,AY10),-999999999999)","v":{"$error":"#N/A"}},{"$error":"#N/A"},{"$error":"#N/A"},{"$error":"#N/A"},{"$error":"#N/A"},{"$error":"#N/A"},{"$error":"#N/A"},{"$error":"#N/A"},{"$error":"#N/A"},{"$error":"#N/A"},{"$error":"#N/A"},{"$error":"#N/A"},{"$error":"#N/A"},{"$error":"#N/A"},{"$error":"#N/A"},-999999999999,-999999999999,-999999999999,-999999999999,-999999999999,-999999999999,-999999999999,-999999999999,-999999999999,-999999999999,-999999999999,-999999999999,-999999999999,-999999999999,-999999999999,-999999999999,-999999999999,{"$f":"IF(OR(AND($AZ$30,CE22<=$C$21/2),AND($AZ$30,CE22>=(1-$C$21/2))),IF($AX$27,CE4,CE10),-999999999999)","v":-999999999999},-999999999999,-999999999999,-999999999999,-999999999999,-999999999999,-999999999999,-999999999999,-999999999999,-999999999999,-999999999999,-999999999999,-999999999999,-999999999999,-999999999999,-999999999999,-999999999999,-999999999999,-999999999999,-999999999999,-999999999999,-999999999999,-999999999999,-999999999999,-999999999999,-999999999999,-999999999999,-999999999999,-999999999999,-999999999999,-999999999999,-999999999999,{"$f":"IF(OR(AND($AZ$30,DK22<=$C$21/2),AND($AZ$30,DK22>=(1-$C$21/2))),IF($AX$27,DK4,DK10),-999999999999)","v":-999999999999},-999999999999,-999999999999,-999999999999,-999999999999,-999999999999,-999999999999,-999999999999,-999999999999,-999999999999,-999999999999,-999999999999,-999999999999,-999999999999,-999999999999,-999999999999,-999999999999,-999999999999,-999999999999,-999999999999,-999999999999,-999999999999,-999999999999,-999999999999,-999999999999,-999999999999,-999999999999,-999999999999,-999999999999,-999999999999,-999999999999,-999999999999,{"$f":"IF(OR(AND($AZ$30,EQ22<=$C$21/2),AND($AZ$30,EQ22>=(1-$C$21/2))),IF($AX$27,EQ4,EQ10),-999999999999)","v":-999999999999},-999999999999,-999999999999,-999999999999,-999999999999,-999999999999,-999999999999,-999999999999,-999999999999,-999999999999,{"$error":"#N/A"},{"$error":"#N/A"},{"$error":"#N/A"},{"$error":"#N/A"},{"$error":"#N/A"},{"$error":"#N/A"},{"$error":"#N/A"},{"$error":"#N/A"},{"$error":"#N/A"},{"$error":"#N/A"},{"$error":"#N/A"},{"$error":"#N/A"},{"$error":"#N/A"},{"$error":"#N/A"},{"$error":"#N/A"},{"$error":"#N/A"},{"$error":"#N/A"},{"$error":"#N/A"},{"$error":"#N/A"},{"$error":"#N/A"},{"$error":"#N/A"},{"$error":"#N/A"},{"$f":"IF(OR(AND($AZ$30,FW22<=$C$21/2),AND($AZ$30,FW22>=(1-$C$21/2))),IF($AX$27,FW4,FW10),-999999999999)","v":{"$error":"#N/A"}},{"$error":"#N/A"},{"$error":"#N/A"},{"$error":"#N/A"},{"$error":"#N/A"},{"$error":"#N/A"},{"$error":"#N/A"},{"$error":"#N/A"},{"$error":"#N/A"},{"$error":"#N/A"},{"$error":"#N/A"},{"$error":"#N/A"},{"$error":"#N/A"},{"$error":"#N/A"},{"$error":"#N/A"},{"$error":"#N/A"},{"$error":"#N/A"},{"$error":"#N/A"},{"$error":"#N/A"},{"$error":"#N/A"},{"$error":"#N/A"},{"$error":"#N/A"},{"$error":"#N/A"},{"$error":"#N/A"},{"$error":"#N/A"},{"$error":"#N/A"},{"$error":"#N/A"},{"$error":"#N/A"},{"$error":"#N/A"},{"$error":"#N/A"},{"$error":"#N/A"},{"$error":"#N/A"},{"$f":"IF(OR(AND($AZ$30,HC22<=$C$21/2),AND($AZ$30,HC22>=(1-$C$21/2))),IF($AX$27,HC4,HC10),-999999999999)","v":{"$error":"#N/A"}},{"$error":"#N/A"},{"$error":"#N/A"},{"$error":"#N/A"},{"$error":"#N/A"},{"$error":"#N/A"},{"$error":"#N/A"},{"$error":"#N/A"},{"$error":"#N/A"},{"$error":"#N/A"},{"$error":"#N/A"},{"$error":"#N/A"},{"$error":"#N/A"},{"$error":"#N/A"},{"$error":"#N/A"},{"$error":"#N/A"},{"$error":"#N/A"},{"$error":"#N/A"},{"$error":"#N/A"},{"$error":"#N/A"},{"$error":"#N/A"},{"$error":"#N/A"},{"$error":"#N/A"},{"$error":"#N/A"},{"$error":"#N/A"},{"$error":"#N/A"},{"$error":"#N/A"},{"$error":"#N/A"},{"$error":"#N/A"},{"$error":"#N/A"},{"$error":"#N/A"},{"$error":"#N/A"},{"$f":"IF(OR(AND($AZ$30,II22<=$C$21/2),AND($AZ$30,II22>=(1-$C$21/2))),IF($AX$27,II4,II10),-999999999999)","v":{"$error":"#N/A"}},{"$error":"#N/A"},{"$error":"#N/A"},{"$error":"#N/A"},{"$error":"#N/A"},{"$error":"#N/A"},{"$error":"#N/A"},{"$error":"#N/A"}]
[null,"a. ",{"$f":"IF(AY29<21,AY29/1000,IF(AY29<37,(AY29-16)/200,(AY29-26)/100))","v":0.05},null,null,null,null,"H0",null,"H1",null,null,1.2689999999999999E-4,null,null,null,null,null,null,null,null,null,null,null,null,null,null,null,1.2689999999999999E-4,null,null,null,null,null,null,null,null,null,null,null,null,null,null,null,null,null,null,null,null,"Grey rejection tails",{"$f":"IF(OR(AND($AZ$30,AY22<=$C$21/2),AND($AZ$30,AY22>=(1-$C$21/2))),IF($AX$27,AY5,AY9),-999999999999)","v":1.2645664082602849E-2},1.3744431563407489E-2,1.4938126372969693E-2,1.6234487406960908E-2,1.7641783773069374E-2,1.9168835373799854E-2,2.0825015984626272E-2,2.2620286896370551E-2,2.4565182894583891E-2,2.6670823209197364E-2,2.8948904075253024E-2,3.1411685128916525E-2,3.4071966418982788E-2,3.6943054552649388E-2,4.0038716394998689E-2,-999999999999,-999999999999,-999999999999,-999999999999,-999999999999,-999999999999,-999999999999,-999999999999,-999999999999,-999999999999,-999999999999,-999999999999,-999999999999,-999999999999,-999999999999,-999999999999,-999999999999,{"$f":"IF(OR(AND($AZ$30,CE22<=$C$21/2),AND($AZ$30,CE22>=(1-$C$21/2))),IF($AX$27,CE5,CE9),-999999999999)","v":-999999999999},-999999999999,-999999999999,-999999999999,-999999999999,-999999999999,-999999999999,-999999999999,-999999999999,-999999999999,-999999999999,-999999999999,-999999999999,-999999999999,-999999999999,-999999999999,-999999999999,-999999999999,-999999999999,-999999999999,-999999999999,-999999999999,-999999999999,-999999999999,-999999999999,-999999999999,-999999999999,-999999999999,-999999999999,-999999999999,-999999999999,-999999999999,{"$f":"IF(OR(AND($AZ$30,DK22<=$C$21/2),AND($AZ$30,DK22>=(1-$C$21/2))),IF($AX$27,DK5,DK9),-999999999999)","v":-999999999999},-999999999999,-999999999999,-999999999999,-999999999999,-999999999999,-999999999999,-999999999999,-999999999999,-999999999999,-999999999999,-999999999999,-999999999999,-999999999999,-999999999999,-999999999999,-999999999999,-999999999999,-999999999999,-999999999999,-999999999999,-999999999999,-999999999999,-999999999999,-999999999999,-999999999999,-999999999999,-999999999999,-999999999999,-999999999999,-999999999999,-999999999999,{"$f":"IF(OR(AND($AZ$30,EQ22<=$C$21/2),AND($AZ$30,EQ22>=(1-$C$21/2))),IF($AX$27,EQ5,EQ9),-999999999999)","v":-999999999999},-999999999999,-999999999999,-999999999999,-999999999999,-999999999999,-999999999999,-999999999999,-999999999999,-999999999999,3.6943054552649457E-2,3.407196641898258E-2,3.1411685128917011E-2,2.8948904075252191E-2,2.6670823209198335E-2,2.4565182894584758E-2,2.2620286896370967E-2,2.0825015984624606E-2,1.9168835373799542E-2,1.7641783773070241E-2,1.6234487406960874E-2,1.4938126372969762E-2,1.3744431563407211E-2,1.264566408260448E-2,1.1634595090985744E-2,1.0704484061387909E-2,9.8490559656072563E-3,9.0624778305503639E-3,8.3393350326388394E-3,7.6746076358213955E-3,7.063647022795827E-3,6.502153020009338E-3,{"$f":"IF(OR(AND($AZ$30,FW22<=$C$21/2),AND($AZ$30,FW22>=(1-$C$21/2))),IF($AX$27,FW5,FW9),-999999999999)","v":5.986151674168827E-3},5.5119738013176267E-3,5.0762343978338897E-3,4.6758129758539546E-3,4.3078348632619168E-3,3.9696534892974533E-3,3.6588336616460992E-3,3.3731358280753021E-3,3.1105013057408648E-3,2.8690385602292423E-3,2.6470097315134389E-3,2.4428197627801573E-3,2.2550039718671755E-3,2.0822182938640132E-3,1.9232294949134143E-3,1.7769062363459653E-3,1.6422108097158272E-3,1.5181915013950942E-3,1.4039755461503489E-3,1.2987626306082412E-3,1.2018189089690878E-3,1.1124714949661829E-3,1.030103395858184E-3,9.5414885606714961E-4,8.8408907983117402E-4,8.194483042123224E-4,7.5979019539706982E-4,7.0471454320042426E-4,6.5385423018593514E-4,6.068724535968073E-4,5.634601797321892E-4,5.2333381193259143E-4,{"$f":"IF(OR(AND($AZ$30,HC22<=$C$21/2),AND($AZ$30,HC22>=(1-$C$21/2))),IF($AX$27,HC5,HC9),-999999999999)","v":4.8623305477057954E-4},4.5191895829077566E-4,4.2017212737777143E-4,3.90791082620634E-4,3.6359075989755851E-4,3.3840113715655207E-4,3.1506597760078137E-4,2.934416794975192E-4,2.7339622355126991E-4,2.5480820958545536E-4,2.3756597487212261E-4,2.2156678725293588E-4,2.0671610655886852E-4,1.9292690855099437E-4,1.8011906603554451E-4,1.6821878224826392E-4,1.5715807200500365E-4,1.468742865928796E-4,1.3730967858727183E-4,1.2841100322846799E-4,1.2012915319825623E-4,1.1241882395207625E-4,1.0523820699548381E-4,9.8548708711287958E-5,9.2314692574646529E-5,8.6503242746616138E-5,8.1083947216509245E-5,7.6028698887675716E-5,7.1311513010208216E-5,6.6908359619421987E-5,6.2797009714454788E-5,5.8956894006811922E-5,{"$f":"IF(OR(AND($AZ$30,II22<=$C$21/2),AND($AZ$30,II22>=(1-$C$21/2))),IF($AX$27,II5,II9),-999999999999)","v":5.5368973159719559E-5},5.2015618596801261E-5,4.888050295637214E-5,4.5948499400871867E-5,4.3205589037587089E-5,4.0638775784529457E-5,3.8236008033099012E-5,3.5986106583507649E-5]
[null,null,null,null,null,null,null,null,null,null,null,null,1.2689999999999999E-4,null,null,null,null,null,null,null,null,null,null,null,null,null,null,null,1.2689999999999999E-4,null,null,null,null,null,null,null,null,null,null,null,null,null,null,null,null,null,null,null,null,"z or t: cdf(X)",{"$f":"IF($AX$27,NORMSDIST(AY26),IF(AY26<0,TDIST(ABS(AY26),$C$9,1),1-TDIST(AY26,$C$9,1)))","v":7.4781819373559034E-3},8.1104651414860458E-3,8.7976867196564203E-3,9.5445930383049049E-3,1.035631740865295E-2,1.1238406597306419E-2,1.2196848365996412E-2,1.3238099165227725E-2,1.4369113510046253E-2,1.5597372654775447E-2,1.6930913815235316E-2,1.8378359018997967E-2,1.9948943275443793E-2,2.1652541596392932E-2,2.3499694324025402E-2,2.5501630143775336E-2,2.7670286076693959E-2,3.0018323659556739E-2,3.2559141150413175E-2,3.5306876885174782E-2,3.8276411737432424E-2,4.1483358397733511E-2,4.4944044103565173E-2,4.8675482622629253E-2,5.26953346629895E-2,5.7021855404610675E-2,6.1673830712604301E-2,6.6670485612181432E-2,7.2031398260815269E-2,7.7776378477230401E-2,8.3925328062891213E-2,9.0498096355649593E-2,9.7514302236942851E-2,0.10499314350162592,0.11295318636532309,0.12141213730021921,0.13038659872255703,0.13989181063653972,0.14994138095424575,0.1605470078653759,0.17171819810282479,0.18346198608040254,0.19578265849056997,0.20868149048563894,0.2221564992446074,0.23620222124723111,0.25080951962648979,0.26596542788407274,0.2816530359675819,0.29785142421092048,0.31453564992670002,0.33167679051461663,0.34924204584638707,0.36719490134881344,0.38549535187920131,0.40410018485952637,0.4229633196629366,0.44203619867305532,0.46126822398119882,0.48060723235833869,0.5,0.51939276764166131,0.53873177601880118,0.55796380132694212,{"$f":"IF($AX$27,NORMSDIST(DK26),IF(DK26<0,TDIST(ABS(DK26),$C$9,1),1-TDIST(DK26,$C$9,1)))","v":0.57703668033706146},0.59589981514047063,0.61450464812079608,0.63280509865118495,0.65075795415361148,0.66832320948538126,0.68546435007329887,0.70214857578907786,0.71834696403241671,0.73403457211592593,0.74919048037350899,0.76379777875276778,0.77784350075539144,0.79131850951436,0.80421734150942914,0.81653801391959624,0.82828180189717426,0.83945299213462288,0.85005861904575342,0.86010818936345967,0.86961340127744213,0.87858786269977984,0.88704681363467608,0.89500685649837353,0.90248569776305665,0.90950190364434991,0.91607467193710845,0.92222362152276882,0.92796860173918427,0.93332951438781808,0.93832616928739532,0.94297814459538898,0.94730466533701019,0.95132451737737045,0.95505595589643444,0.95851664160226624,0.96172358826256732,0.96469312311482491,0.96744085884958664,0.96998167634044308,0.97232971392330581,0.97449836985622451,0.97650030567597446,0.97834745840360693,0.98005105672455606,0.98162164098100191,0.98306908618476452,0.98440262734522443,0.98563088648995367,0.98676190083477222,0.98780315163400345,0.98876159340269343,0.98964368259134694,0.99045540696169498,0.99120231328034347,0.99188953485851383,0.99252181806264406,0.99310354781719334,0.99363877202026274,0.9941312248185431,0.99458434871007062,0.99500131546170256,0.99538504584349363,0.99573822819463342,{"$f":"IF($AX$27,NORMSDIST(FW26),IF(FW26<0,TDIST(ABS(FW26),$C$9,1),1-TDIST(FW26,$C$9,1)))","v":0.99606333584563389},0.99636264342934233,0.99663824211940821,0.99689205383929991,0.99712584448809261,0.9973412362312557,0.99753971890572057,0.99772266058880288,0.99789131738020664,0.99804684244549369,0.99819029437350515,0.99832264486008082,0.99844478584821983,0.99855753604681319,0.99866164696150639,0.99875780843625206,0.99884665374806936,0.99892876428855515,0.9990046738636249,0.99907487264093242,0.99913981077246283,0.99919990171791129,0.9992555252926596,0.99930703046245251,0.99935473790525586,0.99939894235924742,0.99943991477445804,0.99947790428422789,0.99951314001138791,0.99954583272289721,0.99957617634557705,0.99960434935456366,0.99963051604516029,0.99965482769789882,0.99967742364581336,0.99969843225218225,0.99971797180631328,0.99973615134430815,0.99975307140116598,0.99976882470004602,0.9997834967840209,0.99979716659519846,0.99980990700567773,0.99982178530442134,0.99983286364378399,0.99984319944911193,0.99985284579453948,0.99986185174784126,0.99987026268695367,0.99987812059055392,0.99988546430488356,0.99989232978881293,0.99989875033897435,0.99990475679663426,0.99991037773783187,0.99991563964818164,0.99992056708361721,0.99992518281824594,0.99992950798038327,0.9999335621777441,0.99993736361268848,0.99994092918833899,0.99994427460631996,0.99994741445680568,{"$f":"IF($AX$27,NORMSDIST(II26),IF(II26<0,TDIST(ABS(II26),$C$9,1),1-TDIST(II26,$C$9,1)))","v":0.99995036230150602},0.99995313075016401,0.99995573153109385,0.99995817555624167,0.99996047298121171,0.99996263326066359,0.99996466519945282,0.99996657699985447,0.99996837630518365]
[null,"   Show rejection region",null,null,null,null,null,"Critical value of",{"$f":"IF(AX27,\"z\",\"t\")","v":"t"},{"$f":"IF(AX27,NORMSINV(1-C21/2),TINV(C21,C9))","v":2.2621571581735829},null,null,1.2689999999999999E-4,null,null,null,null,null,null,null,null,null,null,null,null,null,null,null,1.2689999999999999E-4,null,null,null,null,null,null,null,null,null,null,null,null,null,null,null,null,null,null,null,null,"Power tails",{"$f":"IF(AND($AZ$32,$AZ$33,AY18),IF($AX$27,AY7,AY11),-999999999999)","v":1.0906791121182812E-6},1.2325867930765749E-6,1.3944261878089164E-6,1.5791905244270228E-6,1.7903480017869021E-6,2.0319199480942256E-6,2.3085787451156624E-6,2.6257533286398813E-6,2.9897567678331646E-6,3.4079410833015184E-6,3.8888747820508054E-6,4.4425475296546287E-6,5.0806234830339328E-6,5.8167225635246653E-6,6.6667755599057614E-6,-999999999999,-999999999999,-999999999999,-999999999999,-999999999999,-999999999999,-999999999999,-999999999999,-999999999999,-999999999999,-999999999999,-999999999999,-999999999999,-999999999999,-999999999999,-999999999999,-999999999999,{"$f":"IF(AND($AZ$32,$AZ$33,CE18),IF($AX$27,CE7,CE11),-999999999999)","v":-999999999999},-999999999999,-999999999999,-999999999999,-999999999999,-999999999999,-999999999999,-999999999999,-999999999999,-999999999999,-999999999999,-999999999999,-999999999999,-999999999999,-999999999999,-999999999999,-999999999999,-999999999999,-999999999999,-999999999999,-999999999999,-999999999999,-999999999999,-999999999999,-999999999999,-999999999999,-999999999999,-999999999999,-999999999999,-999999999999,-999999999999,-999999999999,{"$f":"IF(AND($AZ$32,$AZ$33,DK18),IF($AX$27,DK7,DK11),-999999999999)","v":-999999999999},-999999999999,-999999999999,-999999999999,-999999999999,-999999999999,-999999999999,-999999999999,-999999999999,-999999999999,-999999999999,-999999999999,-999999999999,-999999999999,-999999999999,-999999999999,-999999999999,-999999999999,-999999999999,-999999999999,-999999999999,-999999999999,-999999999999,-999999999999,-999999999999,-999999999999,-999999999999,-999999999999,-999999999999,-999999999999,-999999999999,-999999999999,{"$f":"IF(AND($AZ$32,$AZ$33,EQ18),IF($AX$27,EQ7,EQ11),-999999999999)","v":-999999999999},-999999999999,-999999999999,-999999999999,-999999999999,-999999999999,-999999999999,-999999999999,-999999999999,-999999999999,0.31339350778712194,0.3175279246125573,0.32096892088989915,0.32371280541286684,0.32576116313433157,0.32712058438533642,0.32780234246401085,0.32782202920884185,0.32719915815997647,0.32595674466096125,0.32412087180070825,0.32172025047817798,0.31878578112976452,0.31535012382767791,0.311447282572479,0.30711220869405143,0.30238042737087856,0.29728769040054281,0.291869657521453,0.2861616078154583,0.28019818201810098,0.27401315594004494,{"$f":"IF(AND($AZ$32,$AZ$33,FW18),IF($AX$27,FW7,FW11),-999999999999)","v":0.26763924465813993},0.26110793667320387,0.25444935684758585,0.24769215662934885,0.24086342983469233,0.23398865208934749,0.22709164192043163,0.22019454142877759,0.21331781446064957,0.20648026021978128,0.19969904031743146,0.19298971733992643,0.18636630311290814,0.17984131495832667,0.17342583836514658,0.16712959462644728,0.16096101213032066,0.15492730012554023,0.1490345239151436,0.14328768055726693,0.13769077427492782,0.13224689088957353,0.12695827070023036,0.12182637932858897,0.11685197613936937,0.11203517992752321,0.10737553163626679,0.10287205393548104,9.8523307546098948E-2,9.4327444247344072E-2,9.0282256545859418E-2,8.6385224022798024E-2,{"$f":"IF(AND($AZ$32,$AZ$33,HC18),IF($AX$27,HC7,HC11),-999999999999)","v":8.2633556405122821E-2},7.9024233435314173E-2,7.555404163100965E-2,7.2219608045711592E-2,6.9017431153619579E-2,6.5943908990302447E-2,6.2995364688702704E-2,6.0168069553607761E-2,5.7458263819560873E-2,5.4862175236645161E-2,5.2376035629688733E-2,4.9996095570388199E-2,4.7718637299909439E-2,4.5539986034652813E-2,4.3456519786455594E-2,4.1464677810745254E-2,3.9560967810410297E-2,3.7741971995586265E-2,3.6004352107861237E-2,3.434485350631844E-2,3.2760308404720107E-2,3.1247638347080553E-2,2.9803856000312212E-2,2.8426066335824896E-2,2.7111467268923217E-2,2.5857349821156728E-2,2.4661097857519021E-2,2.3520187456886887E-2,2.2432185958118911E-2,2.1394750734027301E-2,2.0405627721788999E-2,1.9462649756014638E-2,{"$f":"IF(AND($AZ$32,$AZ$33,II18),IF($AX$27,II7,II11),-999999999999)","v":1.8563734732510717E-2},1.770688363225803E-2,1.6890178434647574E-2,1.6111779932728165E-2,1.5369925499795212E-2,1.4662926783748365E-2,1.3989167387500334E-2,1.3347100519924826E-2]
[null,null,"          "," Rejection region to front",null,null,null,null,null,null,null,null,1.2689999999999999E-4,null,null,null,null,null,null,null,null,null,null,null,null,null,null,null,1.2689999999999999E-4,null,null,null,null,null,null,null,null,null,null,null,null,null,null,null,null,null,null,null,null,"Grey power tails",{"$f":"IF(AND($AZ$32,$AZ$33,AY18),IF($AX$27,AY6,AY8),-999999999999)","v":{"$error":"#N/A"}},{"$error":"#N/A"},{"$error":"#N/A"},{"$error":"#N/A"},{"$error":"#N/A"},{"$error":"#N/A"},{"$error":"#N/A"},{"$error":"#N/A"},{"$error":"#N/A"},{"$error":"#N/A"},{"$error":"#N/A"},{"$error":"#N/A"},{"$error":"#N/A"},{"$error":"#N/A"},{"$error":"#N/A"},-999999999999,-999999999999,-999999999999,-999999999999,-999999999999,-999999999999,-999999999999,-999999999999,-999999999999,-999999999999,-999999999999,-999999999999,-999999999999,-999999999999,-999999999999,-999999999999,-999999999999,{"$f":"IF(AND($AZ$32,$AZ$33,CE18),IF($AX$27,CE6,CE8),-999999999999)","v":-999999999999},-999999999999,-999999999999,-999999999999,-999999999999,-999999999999,-999999999999,-999999999999,-999999999999,-999999999999,-999999999999,-999999999999,-999999999999,-999999999999,-999999999999,-999999999999,-999999999999,-999999999999,-999999999999,-999999999999,-999999999999,-999999999999,-999999999999,-999999999999,-999999999999,-999999999999,-999999999999,-999999999999,-999999999999,-999999999999,-999999999999,-999999999999,{"$f":"IF(AND($AZ$32,$AZ$33,DK18),IF($AX$27,DK6,DK8),-999999999999)","v":-999999999999},-999999999999,-999999999999,-999999999999,-999999999999,-999999999999,-999999999999,-999999999999,-999999999999,-999999999999,-999999999999,-999999999999,-999999999999,-999999999999,-999999999999,-999999999999,-999999999999,-999999999999,-999999999999,-999999999999,-999999999999,-999999999999,-999999999999,-999999999999,-999999999999,-999999999999,-999999999999,-999999999999,-999999999999,-999999999999,-999999999999,-999999999999,{"$f":"IF(AND($AZ$32,$AZ$33,EQ18),IF($AX$27,EQ6,EQ8),-999999999999)","v":-999999999999},-999999999999,-999999999999,-999999999999,-999999999999,-999999999999,-999999999999,-999999999999,-999999999999,-999999999999,{"$error":"#N/A"},{"$error":"#N/A"},{"$error":"#N/A"},{"$error":"#N/A"},{"$error":"#N/A"},{"$error":"#N/A"},{"$error":"#N/A"},{"$error":"#N/A"},{"$error":"#N/A"},{"$error":"#N/A"},{"$error":"#N/A"},{"$error":"#N/A"},{"$error":"#N/A"},{"$error":"#N/A"},{"$error":"#N/A"},{"$error":"#N/A"},{"$error":"#N/A"},{"$error":"#N/A"},{"$error":"#N/A"},{"$error":"#N/A"},{"$error":"#N/A"},{"$error":"#N/A"},{"$f":"IF(AND($AZ$32,$AZ$33,FW18),IF($AX$27,FW6,FW8),-999999999999)","v":{"$error":"#N/A"}},{"$error":"#N/A"},{"$error":"#N/A"},{"$error":"#N/A"},{"$error":"#N/A"},{"$error":"#N/A"},{"$error":"#N/A"},{"$error":"#N/A"},{"$error":"#N/A"},{"$error":"#N/A"},{"$error":"#N/A"},{"$error":"#N/A"},{"$error":"#N/A"},{"$error":"#N/A"},{"$error":"#N/A"},{"$error":"#N/A"},{"$error":"#N/A"},{"$error":"#N/A"},{"$error":"#N/A"},{"$error":"#N/A"},{"$error":"#N/A"},{"$error":"#N/A"},{"$error":"#N/A"},{"$error":"#N/A"},{"$error":"#N/A"},{"$error":"#N/A"},{"$error":"#N/A"},{"$error":"#N/A"},{"$error":"#N/A"},{"$error":"#N/A"},{"$error":"#N/A"},{"$error":"#N/A"},{"$f":"IF(AND($AZ$32,$AZ$33,HC18),IF($AX$27,HC6,HC8),-999999999999)","v":{"$error":"#N/A"}},{"$error":"#N/A"},{"$error":"#N/A"},{"$error":"#N/A"},{"$error":"#N/A"},{"$error":"#N/A"},{"$error":"#N/A"},{"$error":"#N/A"},{"$error":"#N/A"},{"$error":"#N/A"},{"$error":"#N/A"},{"$error":"#N/A"},{"$error":"#N/A"},{"$error":"#N/A"},{"$error":"#N/A"},{"$error":"#N/A"},{"$error":"#N/A"},{"$error":"#N/A"},{"$error":"#N/A"},{"$error":"#N/A"},{"$error":"#N/A"},{"$error":"#N/A"},{"$error":"#N/A"},{"$error":"#N/A"},{"$error":"#N/A"},{"$error":"#N/A"},{"$error":"#N/A"},{"$error":"#N/A"},{"$error":"#N/A"},{"$error":"#N/A"},{"$error":"#N/A"},{"$error":"#N/A"},{"$f":"IF(AND($AZ$32,$AZ$33,II18),IF($AX$27,II6,II8),-999999999999)","v":{"$error":"#N/A"}},{"$error":"#N/A"},{"$error":"#N/A"},{"$error":"#N/A"},{"$error":"#N/A"},{"$error":"#N/A"},{"$error":"#N/A"},{"$error":"#N/A"}]
[null,null,null,null,null,null,null,null,null,null,null,null,1.2689999999999999E-4,null,null,null,null,null,null,null,null,null,null,null,null,null,null,null,1.2689999999999999E-4,null,null,null,null,null,null,null,null,null,null,null,null,null,null,null,null,null,null,null,null,"nct",{"$f":"nct(AY26,$AY$33,$C$9)","v":4.5771073109688987E-7},5.1224468670280393E-7,5.7387402635663267E-7,6.4359533574707849E-7,7.2255486196842963E-7,8.1207226205777473E-7,9.1366825946248601E-7,1.0290971967182691E-6,1.1603848631502632E-6,1.3098727015419214E-6,1.4802697557069973E-6,1.6747134948095376E-6,1.8968408712922691E-6,2.1508720454439657E-6,2.441708173620199E-6,2.775046951615487E-6,3.1575178504700503E-6,3.5968411072499422E-6,4.10201534833877E-6,4.6835378065144703E-6,5.3536639425873038E-6,6.1267131826929135E-6,7.0194290594099772E-6,8.0514036735349485E-6,9.2455780852910474E-6,1.0628831890674858E-5,1.2232678269958562E-5,1.4094083287658482E-5,1.6256430990239681E-5,1.8770660638978833E-5,2.1696605815142758E-5,2.5104570415012532E-5,2.9077182602040056E-5,3.3711573953509993E-5,3.9121938664590148E-5,4.5442536088778976E-5,5.2831209290550822E-5,6.1473503080024727E-5,7.1587476287658311E-5,8.3429316224230466E-5,9.7299876893180225E-5,1.1355227741092878E-4,1.3260071267134614E-4,1.5493064432929576E-4,1.8111055634546211E-4,2.118054749699477E-4,2.477924675888847E-4,2.8997834727832831E-4,3.3941981920207899E-4,3.9734630980275482E-4,4.6518571849997399E-4,5.4459332263125679E-4,6.374840475761608E-4,7.4606828338985283E-4,8.728913845007227E-4,1.020876927975968E-3,1.1933737263529257E-3,1.3942064912942278E-3,1.6277299229510427E-3,1.89888585622726E-3,2.2132629293057796E-3,2.5771580531544409E-3,2.9976387559287102E-3,3.4826052574511998E-3,{"$f":"nct(DK26,$AY$33,$C$9)","v":4.0408509021561505E-3},4.6821193516795763E-3,5.4171567199895769E-3,6.2577566354703731E-3,7.2167960478046406E-3,8.3082594757599871E-3,9.5472493281545234E-3,1.0949979936925324E-2,1.2533753029557202E-2,1.431691254713233E-2,1.631877698983827E-2,1.8559547845943717E-2,2.1060193130512526E-2,2.3842305619016551E-2,2.6927935995934307E-2,3.0339401831808558E-2,3.4099074032017514E-2,3.8229143140940773E-2,4.2751368607944047E-2,4.7686814797149465E-2,5.305557812205966E-2,5.8876510181427144E-2,6.5166942140371165E-2,7.1942415821498018E-2,7.9216427031459188E-2,8.7000186542467522E-2,9.5302403876393632E-2,0.1041290986089112,0.11348344333717955,0.12336564175709488,0.133772844500399,0.14469910451658533,0.15613537288031332,0.16806953499319,0.18048648625963137,0.19336824547817172,0.20669410342675307,0.22044080345371922,0.23458275033110679,0.24909224319394024,0.26393972808399446,0.27909406543935905,0.29452280781810281,0.3101924832074589,0.32606887943808677,0.34211732548258172,0.35830296575322507,0.37459102390994164,0.39094705312920847,0.40733717025240901,0.4237282717128511,0.44008822962084992,0.45638606685389799,0.4725921104439334,0.4886781229678423,0.50461741202433052,0.52038491821571442,0.53595728234433837,0.55131289277904094,0.56643191414758487,0.58129629866761201,0.59588978154368466,0.61019786193445757,0.62420777103536262,{"$f":"nct(FW26,$AY$33,$C$9)","v":0.63790842883236487},0.65129039106527187,0.66434578789893206,0.67706825574131135,0.6894528635727788,0.70149603506451341,0.71319546766898079,0.72455004976500237,0.73555977683644125,0.74622566755947373,0.75654968057046279,0.76653463258633436,0.77618411845333068,0.78550243360897609,0.79449449935689243,0.80316579127514975,0.81152227100647212,0.81957032161298815,0.82731668661926516,0.83476841281502234,0.84193279684288569,0.84881733555663208,0.85542968010111076,0.86177759363612227,0.86786891260255172,0.87371151140952019,0.87931327040589635,0.88468204698770969,0.88982564968448374,0.89475181506178869,0.89946818727415589,0.90398230010144887,0.90830156130258877,0.91243323912284491,0.91638445079461062,0.9201621528761611,0.92377313327844668,0.92722400483612766,0.93052120028564278,0.93367096852007792,0.9366793719977583,0.93955228518873635,0.9422953939505686,0.94491419573205304,0.94741400051057245,0.94979993237556792,0.95207693167730056,0.95424975766662334,0.95632299155716061,0.95830103994768112,0.96018813854746043,0.9619883561528535,0.96370559882816942,0.96534361424840542,0.96690599616575945,0.96839618896577506,0.96981749228256631,0.97117306564601247,0.9724659331370703,0.97369898802994626,0.9748749974027906,0.97599660670069655,0.97706634423739791,0.97808662562348736,{"$f":"nct(II26,$AY$33,$C$9)","v":0.97905975811128809},0.97998794484791363,0.98087328902952653,0.98171779795125891,0.98252338694789532,0.98329188322288508,0.9840250295620725,0.98472448793144751,0.98539184295744375]
[4,"Power",null,null,null,null,null,null,null,null,null,null,1.2689999999999999E-4,null,null,null,null,null,null,null,null,null,null,null,null,null,null,null,1.2689999999999999E-4,null,null,null,null,null,null,null,null,null,null,null,null,null,null,null,null,null,null,null,null,"x",{"$f":"AY1","v":-3},{"$f":"AY26+$AY$3","v":-2.95},-2.9000000000000004,-2.8500000000000005,-2.8000000000000007,-2.7500000000000009,-2.7000000000000011,-2.6500000000000012,-2.6000000000000014,-2.5500000000000016,-2.5000000000000018,-2.450000000000002,-2.4000000000000021,-2.3500000000000023,-2.3000000000000025,-2.2500000000000027,-2.2000000000000028,-2.150000000000003,-2.1000000000000032,-2.0500000000000034,-2.0000000000000036,-1.9500000000000035,-1.9000000000000035,-1.8500000000000034,-1.8000000000000034,-1.7500000000000033,-1.7000000000000033,-1.6500000000000032,-1.6000000000000032,-1.5500000000000032,-1.5000000000000031,-1.4500000000000031,-1.400000000000003,{"$f":"CE26+$AY$3","v":-1.350000000000003},-1.3000000000000029,-1.2500000000000029,-1.2000000000000028,-1.1500000000000028,-1.1000000000000028,-1.0500000000000027,-1.0000000000000027,-0.95000000000000262,-0.90000000000000258,-0.85000000000000253,-0.80000000000000249,-0.75000000000000244,-0.7000000000000024,-0.65000000000000235,-0.60000000000000231,-0.55000000000000226,-0.50000000000000222,-0.45000000000000223,-0.40000000000000224,-0.35000000000000225,-0.30000000000000226,-0.25000000000000228,-0.20000000000000229,-0.1500000000000023,-0.1000000000000023,-5.0000000000002293E-2,-2.2898349882893854E-15,4.9999999999997713E-2,9.9999999999997716E-2,0.14999999999999772,0.19999999999999774,{"$f":"DK26+$AY$3","v":0.24999999999999772},0.29999999999999771,0.3499999999999977,0.39999999999999769,0.44999999999999768,0.49999999999999767,0.54999999999999771,0.59999999999999776,0.6499999999999978,0.69999999999999785,0.74999999999999789,0.79999999999999793,0.84999999999999798,0.89999999999999802,0.94999999999999807,0.99999999999999811,1.049999999999998,1.0999999999999981,1.1499999999999981,1.1999999999999982,1.2499999999999982,1.2999999999999983,1.3499999999999983,1.3999999999999984,1.4499999999999984,1.4999999999999984,1.5499999999999985,1.5999999999999985,1.6499999999999986,1.6999999999999986,1.7499999999999987,1.7999999999999987,{"$f":"EQ26+$AY$3","v":1.8499999999999988},1.8999999999999988,1.9499999999999988,1.9999999999999989,2.0499999999999989,2.0999999999999988,2.1499999999999986,2.1999999999999984,2.2499999999999982,2.299999999999998,2.3499999999999979,2.3999999999999977,2.4499999999999975,2.4999999999999973,2.5499999999999972,2.599999999999997,2.6499999999999968,2.6999999999999966,2.7499999999999964,2.7999999999999963,2.8499999999999961,2.8999999999999959,2.9499999999999957,2.9999999999999956,3.0499999999999954,3.0999999999999952,3.149999999999995,3.1999999999999948,3.2499999999999947,3.2999999999999945,3.3499999999999943,3.3999999999999941,{"$f":"FW26+$AY$3","v":3.449999999999994},3.4999999999999938,3.5499999999999936,3.5999999999999934,3.6499999999999932,3.6999999999999931,3.7499999999999929,3.7999999999999927,3.8499999999999925,3.8999999999999924,3.9499999999999922,3.999999999999992,4.0499999999999918,4.0999999999999917,4.1499999999999915,4.1999999999999913,4.2499999999999911,4.2999999999999909,4.3499999999999908,4.3999999999999906,4.4499999999999904,4.4999999999999902,4.5499999999999901,4.5999999999999899,4.6499999999999897,4.6999999999999895,4.7499999999999893,4.7999999999999892,4.849999999999989,4.8999999999999888,4.9499999999999886,4.9999999999999885,{"$f":"HC26+$AY$3","v":5.0499999999999883},5.0999999999999881,5.1499999999999879,5.1999999999999877,5.2499999999999876,5.2999999999999874,5.3499999999999872,5.399999999999987,5.4499999999999869,5.4999999999999867,5.5499999999999865,5.5999999999999863,5.6499999999999861,5.699999999999986,5.7499999999999858,5.7999999999999856,5.8499999999999854,5.8999999999999853,5.9499999999999851,5.9999999999999849,6.0499999999999847,6.0999999999999845,6.1499999999999844,6.1999999999999842,6.249999999999984,6.2999999999999838,6.3499999999999837,6.3999999999999835,6.4499999999999833,6.4999999999999831,6.5499999999999829,6.5999999999999828,{"$f":"II26+$AY$3","v":6.6499999999999826},6.6999999999999824,6.7499999999999822,6.7999999999999821,6.8499999999999819,6.8999999999999817,6.9499999999999815,6.9999999999999813]
[null,null,"   ","     Show power",null,null,null,null,{"$f":"IF(AND(AX30,AZ32,AZ33,NOT(AND(C9=1,C21<0.06))),\"Power\",\"\")","v":"Power"},{"$f":"IF(AX27,BH2+1-BI2,IF(AND(OR(AX30,BE2+1-BF2>0.999),AZ32,AZ33),BE2+1-BF2,\"\"))","v":0.71718121850194416},null,null,1.2689999999999999E-4,null,null,null,null,null,null,null,null,null,null,null,null,null,null,null,1.2689999999999999E-4,null,null,null,null,null,null,null,null,null,null,null,null,null,null,null,null,null,null,null,null,{"$f":"IF(AZ27=1, TRUE, FALSE)","v":false},"Use normal?",2,"1=normal, 2=nct",null,"H0 mean",{"$f":"1+(200)*(-AY1/BC2)","v":61},null,"Labels",null,0.02]
[null,null,null,null,null,null,null,null,null,null,null,null,1.2689999999999999E-4,null,null,null,null,null,null,null,null,null,null,null,null,null,null,null,1.2689999999999999E-4,null,null,null,null,null,null,null,null,null,null,null,null,null,null,null,null,null,null,null,null,{"$f":"IF(AZ28=1, TRUE, FALSE)","v":false},"H0 assume true?",2,"1=H0, 2=H1",null,"H1 mean or D",{"$f":"1+(200)*(-AY1/BC2+AY33/BC2)","v":117.92099788303084},null,null,20,0.4]
[5,"   <<        Shift",null,{"$f":"IF(AX27,\"z\",\"t\")","v":"t"},"axis      >>",null,"     In        Zoom ",null,{"$f":"IF(AX27,\"z\",\"t\")","v":"t"},"axis      Out",null,null,1.2689999999999999E-4,null,null,null,null,null,null,null,null,null,null,null,null,null,null,null,1.2689999999999999E-4,null,null,null,null,null,null,null,null,null,null,null,null,null,null,null,null,null,null,null,null,"For a",26,true,"Display H0 distribution",null,"Vertical lines",null,null,"Using z",{"$f":"IF(AND(AX27,OR(AZ29,AZ32)),IF(AND((BD27+BD28)/2>1,(BD27+BD28)/2<200),(BD27+BD28)/2,NA()),NA())","v":{"$error":"#N/A"}},{"$f":"$BH$28","v":0.4}]
[null,null,null,null,null,null,null,null,null,null,null,null,1.2689999999999999E-4,null,null,null,null,null,null,null,null,null,null,null,null,null,null,null,1.2689999999999999E-4,null,null,null,null,null,null,null,null,null,null,null,null,null,null,null,null,null,null,null,null,true,"nctAcc?",true,"Show Rejection Region",null,"H0whenH0 true",{"$f":"IF(AND(AX28,AZ29,AZ34),IF(AND(BD27>1,BD27<200),BD27,NA()),NA())","v":{"$error":"#N/A"}},0,"Using t",{"$f":"IF(AND(NOT(AX27),OR(AZ29,AZ32)),IF(AND((BD27+BD28)/2>1,(BD27+BD28)/2<200),(BD27+BD28)/2,NA()),NA())","v":89.460498941515425},{"$f":"$BH$28","v":0.4}]
[null,null,null,null,null,null,null,null,null,null,null,null,null,null,null,null,null,null,null,null,null,null,null,null,null,null,null,null,null,null,null,null,null,null,null,null,null,null,null,null,null,null,null,null,null,null,null,null,null,590,"for pop ES d",true,"Rejection region to front",null,"H0whenH1 true",{"$f":"IF(AND(NOT(AX28),AZ29,AZ34),IF(AND(BD27>1,BD27<200),BD27,NA()),NA())","v":61},0,"H0 true",{"$f":"IF(AND(AX28,AZ29),IF(AND(BD27-BG28>1,BD27-BG28<200),BD27-BG28,NA()),NA())","v":{"$error":"#N/A"}},{"$f":"$BH$28-$BH$27","v":0.38}]
[null,null,null,null,null,null,null,null,null,null,null,null,null,null,null,null,null,null,null,null,null,null,null,null,null,null,null,null,null,null,null,null,null,null,null,null,null,null,null,null,null,null,null,null,null,null,null,null,null,"X axis label",{"$f":"IF(AX27,\"z\",\"t\")","v":"t"},true,"Display exact H1 dbn",null,"H1whenH0 true",{"$f":"IF(AND(AX28,AZ32,AZ35),IF(AND(BD28>1,BD28<200),BD28,NA()),NA())","v":{"$error":"#N/A"}},0,"H1 true",{"$f":"IF(AND(NOT(AX28),AZ32),IF(AND(BD28+BG28>1,BD28+BG28<200),BD28+BG28,NA()),NA())","v":137.92099788303085},{"$f":"$BH$28-$BH$27","v":0.38}]
[null,null,null,null,null,null,null,null,null,null,null,null,null,null,null,null,null,null,null,null,null,null,null,null,null,null,null,null,null,null,null,null,null,null,null,null,null,null,null,null,null,null,null,null,null,null,null,null,null,"z or D",{"$f":"J13*SQRT(C7)","v":2.8460498941515415},true,"Show exact power",null,"H1whenH1 true",{"$f":"IF(AND(NOT(AX28),AZ32,AZ35),IF(AND(BD28>1,BD28<200),BD28,NA()),NA())","v":117.92099788303084},0]
[null,null,null,null,null,null,null,null,null,null,null,null,null,null,null,null,null,null,null,null,null,null,null,null,null,null,null,null,null,null,null,null,null,null,null,null,null,null,null,null,null,null,null,null,null,null,null,null,null,null,null,true,"Display line at H0 mean"]
[null,null,null,null,null,null,null,null,null,null,null,null,null,null,null,null,null,null,null,null,null,null,null,null,null,null,null,null,null,null,null,null,null,null,null,null,null,null,null,null,null,null,null,null,null,null,null,null,null,null,null,true,"Display line at H1 z or D"]

{"sheet":"Power two","index":7,"n_rows":163,"n_cols":46,"rows_kept":163,"cut":false,"hidden":false,"merged":[]}
[null,null,null,"Power, two groups",null,null,null,null,null,{"$f":"($D$62+$D$64+$D$65+$D$63)/1000000","v":1.35E-4},{"$f":"$J$1","v":1.35E-4},1.35E-4,1.35E-4,1.35E-4,1.35E-4,1.35E-4,1.35E-4,1.35E-4,1.35E-4,1.35E-4,1.35E-4,1.35E-4,1.35E-4,1.35E-4,1.35E-4,1.35E-4,1.35E-4,1.35E-4,1.35E-4,1.35E-4,1.35E-4]
[null,null,null,"    Power curves and values",null,null,null,null,null,{"$f":"$J$1","v":1.35E-4},null,null,null,null,null,null,null,null,null,null,null,null,null,null,null,null,null,{"$f":"$J$1","v":1.35E-4},null,null,{"$f":"$J$1","v":1.35E-4}]
[null,null,null,"    If s known, use z",null,null,null,null,null,1.35E-4,null,null,null,null,null,null,null,null,null,null,null,null,null,null,null,null,null,1.35E-4,null,null,1.35E-4]
[null,null,null,"    If s not known, use t",null,null,null,null,null,1.35E-4,null,null,null,null,null,null,null,null,null,null,null,null,null,null,null,null,null,1.35E-4,null,null,1.35E-4]
[null,null,null,null,null,null,null,null,null,1.35E-4,null,null,null,null,null,null,null,null,null,null,null,null,null,null,null,null,null,1.35E-4,null,null,1.35E-4]
[1,"Set up",null,null,null,null,null,null,null,1.35E-4,null,null,null,null,null,null,null,null,null,null,null,null,null,null,null,null,null,1.35E-4,null,null,1.35E-4]
[null,null,null,"Two-tail a. ",{"$f":"IF(D64=1,0.001,IF(D64=2,0.005,IF(D64<13,(D64-2)/100,(D64-10)/20)))","v":0.05},null,null,null,null,1.35E-4,null,null,null,null,null,null,null,null,null,null,null,null,null,null,null,null,null,1.35E-4,null,null,1.35E-4]
[null,null,null,null,null,null,null,null,null,1.35E-4,null,null,null,null,null,null,null,null,null,null,null,null,null,null,null,null,null,1.35E-4,null,null,1.35E-4]
[null,null,"    Use z, assume s known",null,null,null,null,null,null,1.35E-4,null,null,null,null,null,null,null,null,null,null,null,null,null,null,null,null,null,1.35E-4,null,null,1.35E-4]
[null,null,null,null,null,null,null,null,null,1.35E-4,null,null,null,null,null,null,null,null,null,null,null,null,null,null,null,null,null,1.35E-4,null,null,1.35E-4]
[null,null,"    Use t, assume s not known",null,null,null,null,null,null,1.35E-4,null,null,null,null,null,null,null,null,null,null,null,null,null,null,null,null,null,1.35E-4,null,null,1.35E-4]
[null,null,null,null,null,null,null,null,null,1.35E-4,null,null,null,null,null,null,null,null,null,null,null,null,null,null,null,null,null,1.35E-4,null,null,1.35E-4]
[2,"Effect size",null,null,null,null,null,null,null,1.35E-4,null,null,null,null,null,null,null,null,null,null,null,null,null,null,null,null,null,1.35E-4,null,null,1.35E-4]
[null,null,null,"Label three d series",null,null,null,null,null,1.35E-4,null,null,null,null,null,null,null,null,null,null,null,null,null,null,null,null,null,1.35E-4,null,null,1.35E-4]
[null,null,null,null,null,null,null,null,null,1.35E-4,null,null,null,null,null,null,null,null,null,null,null,null,null,null,null,null,null,1.35E-4,null,null,1.35E-4]
[null,null,"  Highlight a d series",null,null,null,null,null,null,1.35E-4,null,null,null,null,null,null,null,null,null,null,null,null,null,null,null,null,null,1.35E-4,null,null,1.35E-4]
[null,null,null,"d.",{"$f":"IF(E62,IF(D63<8,(D63-1)/10,(D63-4)/5),\"\")","v":0.5},null,null,null,null,1.35E-4,null,null,null,null,null,null,null,null,null,null,null,null,null,null,null,null,null,{"$f":"$J$1","v":1.35E-4},null,null,1.35E-4]
[null,null,null,null,null,null,null,null,null,1.35E-4,null,null,null,null,null,null,null,null,null,null,null,null,null,null,null,null,null,1.35E-4,null,null,1.35E-4]
[null,null,null,"Label highlighted d series",null,null,null,null,null,1.35E-4,null,null,null,null,null,null,null,null,null,null,null,null,null,null,null,null,null,1.35E-4,null,null,1.35E-4]
[null,null,null,null,null,null,null,null,null,1.35E-4,null,null,null,null,null,null,null,null,null,null,null,null,null,null,null,null,null,1.35E-4,null,null,1.35E-4]
[3,"Sample size",null,null,null,null,null,null,null,1.35E-4,null,null,null,null,null,null,null,null,null,null,null,null,null,null,null,null,null,1.35E-4,null,null,1.35E-4]
[null,null,"      Display vertical N cursor",null,null,null,null,null,null,1.35E-4,null,null,null,null,null,null,null,null,null,null,null,null,null,null,null,null,null,1.35E-4,null,null,1.35E-4]
[null,null,null,null,null,null,null,null,null,1.35E-4,null,null,null,null,null,null,null,null,null,null,null,null,null,null,null,null,null,1.35E-4,null,null,1.35E-4]
[5,"Power",null,null,null,null,null,null,null,1.35E-4,null,null,null,null,null,null,null,null,null,null,null,null,null,null,null,null,null,1.35E-4,null,null,1.35E-4]
[null,null,"Display horizontal power cursor",null,null,null,null,null,null,1.35E-4,null,null,null,null,null,null,null,null,null,null,null,null,null,null,null,null,null,1.35E-4,null,null,1.35E-4]
[null,null,null,null,null,null,null,null,null,1.35E-4,null,null,null,null,null,null,null,null,null,null,null,null,null,null,null,null,null,1.35E-4,null,null,1.35E-4]
[null,null,null,"Cursor position ",{"$f":"IF(E66,D65/100,\"\")","v":""},null,null,null,null,1.35E-4,null,null,null,null,null,null,null,null,null,null,null,null,null,null,null,null,null,1.35E-4,null,null,1.35E-4]
[null,null,null,null,null,null,null,null,null,1.35E-4,null,null,null,null,null,null,null,null,null,null,null,null,null,null,null,null,null,1.35E-4,null,null,1.35E-4]
[null,6,"Power for large N, using z",null,null,null,null,null,null,1.35E-4,null,null,null,null,null,null,null,null,null,null,null,null,null,null,null,null,null,1.35E-4,null,null,1.35E-4]
[null,null,null,"N ",100,null,null,null,null,1.35E-4,null,null,null,null,null,null,null,null,null,null,null,null,null,null,null,null,null,1.35E-4,null,null,1.35E-4]
[null,null,null,null,null,null,null,null,null,1.35E-4,null,null,null,null,null,null,null,null,null,null,null,null,null,null,null,null,null,1.35E-4,null,null,1.35E-4]
[null,null,null,null,null,null,null,null,null,1.35E-4,null,null,null,null,null,null,null,null,null,null,null,null,null,null,null,null,null,1.35E-4,null,null,1.35E-4]
[null,null,null,"Power ",{"$f":"IF(E62,AD163,\"\")","v":0.94243754318750828},null,null,null,null,1.35E-4,null,null,null,null,null,null,null,null,null,null,null,null,null,null,null,null,null,null,null,null,1.35E-4]
[]
[null,null,null,null,null,null,null,null,null,4]
[]
[]
[]
[]
[]
[]
[]
[]
[]
[]
[]
[]
[]
[]
[]
[]
[]
[]
[]
[]
[]
[]
[]
[]
[null,null,null,null,2,"1=normal, 2=nct",null,null,null,null,null,"D table",null,"d",null,null,null,null,null,null,null,null,null,null,null,null,null,null,"Power table"]
[null,null,null,null,{"$f":"IF(E60=1, TRUE, FALSE)","v":false},"Use normal?",null,null,null,null,null,"N","df",0,0.1,0.2,0.3,0.4,0.5,0.6,0.8,1,1.2,1.4,1.6,1.8,2,null,"N","z or t crit",{"$f":"N61","v":0},0.1,{"$f":"P61","v":0.2},0.3,{"$f":"R61","v":0.4},0.5,{"$f":"T61","v":0.6},0.8,1,1.2,1.4,1.6,1.8,2,"Selected","Row no."]
[null,null,"for N slider",32,true,"Blue series highlighted d",null,null,null,null,null,3,{"$f":"2*L62-2","v":4},{"$f":"N$61/SQRT(2/$L62)","v":0},{"$f":"O$61/SQRT(2/$L62)","v":0.12247448713915891},0.24494897427831783,0.36742346141747673,{"$f":"R$61/SQRT(2/$L62)","v":0.48989794855663565},0.61237243569579447,0.73484692283495345,0.97979589711327131,1.2247448713915889,1.4696938456699069,1.7146428199482247,1.9595917942265426,2.2045407685048604,2.4494897427831779,null,3,{"$f":"IF($E$61,NORMSINV(1-$E$7/2),TINV($E$7,$M62))","v":2.7764451050438028},{"$f":"IF($E$61,1-NORMSDIST($AD62-N62)+NORMSDIST(-$AD62-N62),nct(-$AD62,N62,$M62)+1-nct($AD62,N62,$M62))","v":4.9999999926399363E-2},{"$f":"IF($E$61,1-NORMSDIST($AD62-O62)+NORMSDIST(-$AD62-O62),nct(-$AD62,O62,$M62)+1-nct($AD62,O62,$M62))","v":5.1065742815361914E-2},{"$f":"IF($E$61,1-NORMSDIST($AD62-P62)+NORMSDIST(-$AD62-P62),nct(-$AD62,P62,$M62)+1-nct($AD62,P62,$M62))","v":5.4267526278434453E-2},{"$f":"IF($E$61,1-NORMSDIST($AD62-Q62)+NORMSDIST(-$AD62-Q62),nct(-$AD62,Q62,$M62)+1-nct($AD62,Q62,$M62))","v":5.9618366719308535E-2},{"$f":"IF($E$61,1-NORMSDIST($AD62-R62)+NORMSDIST(-$AD62-R62),nct(-$AD62,R62,$M62)+1-nct($AD62,R62,$M62))","v":6.7137840213552957E-2},{"$f":"IF($E$61,1-NORMSDIST($AD62-S62)+NORMSDIST(-$AD62-S62),nct(-$AD62,S62,$M62)+1-nct($AD62,S62,$M62))","v":7.6849049892371291E-2},{"$f":"IF($E$61,1-NORMSDIST($AD62-T62)+NORMSDIST(-$AD62-T62),nct(-$AD62,T62,$M62)+1-nct($AD62,T62,$M62))","v":8.8774659011223056E-2},{"$f":"IF($E$61,1-NORMSDIST($AD62-U62)+NORMSDIST(-$AD62-U62),nct(-$AD62,U62,$M62)+1-nct($AD62,U62,$M62))","v":0.11932928305917456},{"$f":"IF($E$61,1-NORMSDIST($AD62-V62)+NORMSDIST(-$AD62-V62),nct(-$AD62,V62,$M62)+1-nct($AD62,V62,$M62))","v":0.15879086995318314},{"$f":"IF($E$61,1-NORMSDIST($AD62-W62)+NORMSDIST(-$AD62-W62),nct(-$AD62,W62,$M62)+1-nct($AD62,W62,$M62))","v":0.20683341885486251},{"$f":"IF($E$61,1-NORMSDIST($AD62-X62)+NORMSDIST(-$AD62-X62),nct(-$AD62,X62,$M62)+1-nct($AD62,X62,$M62))","v":0.26269839683757279},{"$f":"IF($E$61,1-NORMSDIST($AD62-Y62)+NORMSDIST(-$AD62-Y62),nct(-$AD62,Y62,$M62)+1-nct($AD62,Y62,$M62))","v":0.32514340308870859},{"$f":"IF($E$61,1-NORMSDIST($AD62-Z62)+NORMSDIST(-$AD62-Z62),nct(-$AD62,Z62,$M62)+1-nct($AD62,Z62,$M62))","v":0.3924718794185531},{"$f":"IF($E$61,1-NORMSDIST($AD62-AA62)+NORMSDIST(-$AD62-AA62),nct(-$AD62,AA62,$M62)+1-nct($AD62,AA62,$M62))","v":0.4626408118850972},{"$f":"IF($E$62,HLOOKUP($E$17,AE$61:AR62,AT62),NA())","v":7.6849049892371291E-2},2]
[null,null,"for d",6,true,"Display label on d series",null,null,null,null,null,4,{"$f":"2*L63-2","v":6},0,0.1414213562373095,0.28284271247461901,0.42426406871192845,0.56568542494923801,0.70710678118654746,0.84852813742385691,1.131370849898476,1.4142135623730949,1.6970562748477138,1.9798989873223327,2.2627416997969521,2.545584412271571,2.8284271247461898,null,4,2.4469118464326822,5.000000020588935E-2,5.1663013613152287E-2,5.6668080484622352E-2,6.5060519094711666E-2,7.6906893121014841E-2,9.2282379641068113E-2,0.11125465784374922,0.16011344162356123,0.22318803158604694,0.29900512974496274,0.38469689825284792,0.47615086095727488,0.56850796936960524,0.65687587648886248,{"$f":"IF($E$62,HLOOKUP($E$17,AE$61:AR63,AT63),NA())","v":9.2282379641068113E-2},3]
[null,null,"For a",7,true,"Display d labels",null,null,null,null,null,5,8,0,0.15811388300841897,0.31622776601683794,0.47434164902525688,0.63245553203367588,0.79056941504209477,0.94868329805051377,1.2649110640673518,1.5811388300841895,1.8973665961010275,2.2135943621178655,2.5298221281347035,2.8460498941515415,3.1622776601683791,null,5,2.3060041332991172,5.000000001003746E-2,5.2252610418584644E-2,5.9042634284118711E-2,7.0459602992147041E-2,8.6630026375278391E-2,0.10768598992945599,0.13372627295413475,0.20073945294393847,0.28629549378595198,0.38643726151346425,0.49469203061294642,0.60308432831428305,0.70374963400114232,0.79054237844552655,{"$f":"IF($E$62,HLOOKUP($E$17,AE$61:AR64,AT64),NA())","v":0.10768598992945599},4]
[null,null,"For power",90,true,"Display N cursor",null,null,null,null,null,6,10,0,0.17320508075688776,0.34641016151377552,0.51961524227066325,0.69282032302755103,0.86602540378443871,1.0392304845413265,1.3856406460551021,1.7320508075688774,2.078460969082653,2.4248711305964283,2.7712812921102041,3.1176914536239795,3.4641016151377548,null,6,2.2281388424258681,5.0000000653483201E-2,5.2837748078013114E-2,6.1403759062035213E-2,7.5842158451825736E-2,9.6347807854051726E-2,0.12310482950924484,0.15621292927242703,0.24101842981168131,0.34735370013377709,0.4675230146223821,0.59060577990638752,0.70509907788919834,0.80192362115153171,0.87641777328571513,{"$f":"IF($E$62,HLOOKUP($E$17,AE$61:AR65,AT65),NA())","v":0.12310482950924484},5]
[null,null,null,null,false,"Display power cursor",null,null,null,null,null,7,12,0,0.18708286933869708,0.37416573867739417,0.56124860801609111,0.74833147735478833,0.93541434669348533,1.1224972160321822,1.4966629547095767,1.8708286933869707,2.2449944320643644,2.6191601707417589,2.9933259094191533,3.3674916480965473,3.7416573867739413,null,7,2.1788128271650695,5.000000005340266E-2,5.3420328880663837E-2,6.375890225174996E-2,8.1223656990844439E-2,0.10608241265332652,0.13855830987276141,0.17870882976727209,0.28076627189549919,0.40580695356386198,0.54142933464598741,0.67221261090385709,0.78451121886181097,0.87044077302635614,0.92907027392851116,{"$f":"IF($E$62,HLOOKUP($E$17,AE$61:AR66,AT66),NA())","v":0.13855830987276141},6]
[null,null,"d label",{"$f":"IF(E63,AC76-F67,NA())","v":15.7},{"$f":"AS76","v":0.29295714224435021},1.3,null,null,null,null,null,8,14,0,0.2,0.4,0.6,0.8,1,1.2,1.6,2,2.4,2.8,3.2,3.6,4,null,8,2.1447866812820848,5.0000000436714043E-2,5.4001411487221485E-2,6.6112155146584972E-2,8.6612149620375556E-2,0.11584329639443147,0.15404750352971508,0.20118622415733023,0.31979927572353739,0.46123885178270063,0.60781850355627653,0.74028320684252158,0.84479320057796226,0.91682576311968089,0.96022077324736788,{"$f":"IF($E$62,HLOOKUP($E$17,AE$61:AR67,AT67),NA())","v":0.15404750352971508},7]
[null,null,"d label",{"$f":"IF(E63,AC76+F68+G68,NA())","v":18.350000000000001},{"$f":"E67","v":0.29295714224435021},1,0.35,null,null,null,null,9,16,0,0.21213203435596428,0.42426406871192857,0.63639610306789274,0.84852813742385713,1.0606601717798212,1.2727922061357855,1.6970562748477143,2.1213203435596424,2.545584412271571,2.9698484809834995,3.3941125496954285,3.8183766184073566,4.2426406871192848,null,9,2.119905285162579,5.0000001158263419E-2,5.458160827007974E-2,6.8465843599502474E-2,9.2011778628262264E-2,0.12563324999435688,0.16956419151888402,0.22360757261835074,0.35794895948803351,0.51336253818539035,0.66671606156180585,0.79613002795969645,0.88961757975507028,0.94746064188005452,0.97812792376816959,{"$f":"IF($E$62,HLOOKUP($E$17,AE$61:AR68,AT68),NA())","v":0.16956419151888402},8]
[null,null,"Vert cursor",{"$f":"IF(E65,D62,NA())","v":32},0,null,null,null,null,null,null,10,18,0,0.22360679774997899,0.44721359549995798,0.67082039324993692,0.89442719099991597,1.1180339887498949,1.3416407864998738,1.7888543819998319,2.2360679774997898,2.6832815729997477,3.1304951684997055,3.5777087639996639,4.0249223594996213,4.4721359549995796,null,10,2.1009220368611805,5.0000000136858902E-2,5.5161292272004836E-2,7.0821345418982662E-2,9.7424591691862572E-2,0.13545156256851598,0.18509565693246099,0.245932060684252,0.39506921318466681,0.56200664774619513,0.71840537757844425,0.84130591231490981,0.92237282783636554,0.96727949189153395,0.98817898862640985,{"$f":"IF($E$62,HLOOKUP($E$17,AE$61:AR69,AT69),NA())","v":0.18509565693246099},9]
[null,null,"N label",{"$f":"IF(E65,D62-F70,NA())","v":30},2.1999999999999999E-2,2,null,null,null,null,null,11,20,0,0.23452078799117149,0.46904157598234297,0.70356236397351435,0.93808315196468595,1.1726039399558574,1.4071247279470287,1.8761663039293719,2.3452078799117149,2.8142494558940574,3.2832910318764004,3.7523326078587438,4.2213741838410863,4.6904157598234297,null,11,2.0859634412955419,5.00000003969443E-2,5.574070757205718E-2,7.3179509956446398E-2,0.10285146913039733,0.14529564017505547,0.20062713643848551,0.26811887178548344,0.43103846235518972,0.60709779832635435,0.76334081614096727,0.87740619882889404,0.94595373666264304,0.97987692808847004,0.99370715124327191,{"$f":"IF($E$62,HLOOKUP($E$17,AE$61:AR70,AT70),NA())","v":0.20062713643848551},10]
[null,null,"N label",{"$f":"IF(E65,D62+F71,NA())","v":32},{"$f":"E70","v":2.1999999999999999E-2},0,null,null,null,null,null,12,22,0,0.24494897427831783,0.48989794855663565,0.73484692283495345,0.97979589711327131,1.2247448713915889,1.4696938456699069,1.9595917942265426,2.4494897427831779,2.9393876913398138,3.4292856398964493,3.9191835884530852,4.4090815370097207,4.8989794855663558,null,12,2.0738730583156064,5.0000000768775421E-2,5.6320013845400307E-2,7.5540863368040556E-2,0.10829259389263401,0.15516183684399509,0.21614307590108206,0.2901287931116423,0.46575929177185926,0.64864255406342619,0.80207879433631768,0.90594709798003881,0.96271059311496976,0.98776274561492983,0.99669479908105341,{"$f":"IF($E$62,HLOOKUP($E$17,AE$61:AR71,AT71),NA())","v":0.21614307590108206},11]
[null,null,"Point",{"$f":"IF(E65,D62,NA())","v":32},{"$f":"HLOOKUP($E$17,AE61:AR159,D72-1)","v":0.50363817481099638},0.16,null,null,null,null,null,13,24,0,0.25495097567963926,0.50990195135927852,0.76485292703891761,{"$f":"R$61/SQRT(2/$L72)","v":1.019803902718557},1.2747548783981961,1.5297058540778352,2.0396078054371141,2.5495097567963922,3.0594117081556704,3.5693136595149491,4.0792156108742281,4.5891175622335059,5.0990195135927845,null,13,2.0638985473180682,5.0000001262153204E-2,5.6899322257764617E-2,7.7905735630772854E-2,0.11374772878006312,0.16504593552517488,0.23162783891172911,0.31192504475289928,0.49915695651698222,0.68671060214153368,0.83522528956402453,0.92829878784000031,0.97448255335984968,0.99263333442663193,0.99828481902388744,{"$f":"IF($E$62,HLOOKUP($E$17,AE$61:AR72,AT72),NA())","v":0.23162783891172911},12]
[null,null,"Value under",{"$f":"IF(E72>F72,D72,NA())","v":32},{"$f":"E72","v":0.50363817481099638},null,null,null,null,null,null,14,26,0,0.26457513110645908,0.52915026221291817,0.79372539331937719,1.0583005244258363,1.3228756555322954,1.5874507866387544,2.1166010488516727,2.6457513110645907,3.1749015732775088,3.7040518354904268,4.2332020977033453,4.7623523599162638,5.2915026221291814,null,14,2.0555294184806892,5.0000001881560174E-2,5.747871176528252E-2,8.0274329092965835E-2,0.11921637120875872,0.17494341862611118,0.24706609484303077,0.33347366204546114,0.53117736063038612,0.72141975800789315,0.86339739778262581,0.94565588915990428,0.98266865255740887,0.99560597317196686,0.99911958053462324,{"$f":"IF($E$62,HLOOKUP($E$17,AE$61:AR73,AT73),NA())","v":0.24706609484303077},13]
[null,null,"Value over",{"$f":"IF(E72<=F72,D72,NA())","v":{"$error":"#N/A"}},{"$f":"E72","v":0.50363817481099638},null,null,null,null,null,null,15,28,0,0.27386127875258309,0.54772255750516619,0.82158383625774922,1.0954451150103324,1.3693063937629153,1.6431676725154984,2.1908902300206647,2.7386127875258306,3.2863353450309969,3.8340579025361627,4.3817804600413295,4.9295030175464953,5.4772255750516612,null,15,2.0484071146628864,5.0000002626917728E-2,5.8058239765533703E-2,8.2646760964948496E-2,0.12469784819814822,0.18484963220483286,0.26244304200657886,0.35474364750591858,0.56178486192336829,0.75292304283371525,0.8871964362651964,0.95903212503426283,0.98830932371945446,0.99740099223481382,0.99955252759585866,{"$f":"IF($E$62,HLOOKUP($E$17,AE$61:AR74,AT74),NA())","v":0.26244304200657886},14]
[null,null,"Horiz cursor",{"$f":"IF(E66,0,NA())","v":{"$error":"#N/A"}},{"$f":"E27","v":""},null,null,null,null,null,null,16,30,0,0.28284271247461901,0.56568542494923801,0.84852813742385691,1.131370849898476,1.4142135623730949,1.6970562748477138,2.2627416997969521,2.8284271247461898,3.3941125496954276,3.9597979746446654,4.5254833995939041,5.0911688245431419,5.6568542494923797,null,16,2.0422724493667923,5.0000000523362842E-2,5.8637945502867828E-2,8.5023085831086642E-2,0.13019137046513529,0.19475988062497107,0.27774452584855536,0.37570698092348909,0.59096005984787747,0.78139779442996804,0.90719017675297631,0.96926951458386723,0.99216402468702591,0.99847452139126502,0.99977462390898486,{"$f":"IF($E$62,HLOOKUP($E$17,AE$61:AR75,AT75),NA())","v":0.27774452584855536},15]
[null,null,"power label",{"$f":"IF(E66,1.5,NA())","v":{"$error":"#N/A"}},{"$f":"E75","v":""},null,null,null,null,null,null,17,32,0,0.29154759474226505,0.5830951894845301,0.87464278422679498,1.1661903789690602,1.457737973711325,1.74928556845359,2.3323807579381204,2.9154759474226499,3.4985711369071799,4.0816663263917095,4.6647615158762408,5.2478567053607703,5.8309518948452999,null,17,2.0369333344070331,5.0000000752758011E-2,5.9217866756559934E-2,8.7403328814987691E-2,0.13569609219368561,0.2046695186463694,0.29295714224435021,0.39633860170842228,0.61869771768124338,0.80703671755294493,0.92390211467700489,0.97705537899595307,0.99477847324856994,0.99911096339629968,0.99988742743896863,{"$f":"IF($E$62,HLOOKUP($E$17,AE$61:AR76,AT76),NA())","v":0.29295714224435021},16]
[null,null,"Label three d series",null,null,null,null,null,null,null,null,18,34,0,0.30000000000000004,0.60000000000000009,0.9,1.2000000000000002,1.5,1.8,2.4000000000000004,3,3.6,4.2,4.8000000000000007,5.4,6,null,18,2.032244497839593,5.0000001017224793E-2,5.9798025460436666E-2,8.9787475151805518E-2,0.14121110762478128,0.21457395566177617,0.3080682262575305,0.41661625602690144,0.64500471856852604,0.83004056431804474,0.93780591801566537,0.98294264095730999,0.99653954032765946,0.99948527272835375,0.9999442021013718,{"$f":"IF($E$62,HLOOKUP($E$17,AE$61:AR77,AT77),NA())","v":0.3080682262575305},17]
[null,null,1,{"$f":"IF($E$64,AC76-F67,NA())","v":15.7},{"$f":"AM76","v":0.80703671755294493},null,null,null,null,null,null,19,36,0,{"$f":"O$61/SQRT(2/$L78)","v":0.30822070014844882},0.61644140029689765,0.92466210044534636,1.2328828005937953,1.541103500742244,1.8493242008906927,2.4657656011875906,3.082207001484488,3.6986484017813854,4.3150898020782833,4.9315312023751812,5.547972602672079,6.164414002968976,null,19,2.0280939867826753,5.0000001315618992E-2,6.0378440496174246E-2,9.2175491888531136E-2,0.14673548690877947,0.2244687067966108,0.32306589399964813,0.43652040462690034,0.66989826610998082,0.85061238489841262,0.94932368871855344,0.98737062352115967,0.99771828016119024,0.99970380295932881,0.99997253956983612,{"$f":"IF($E$62,HLOOKUP($E$17,AE$61:AR78,AT78),NA())","v":0.32306589399964813},18]
[null,null,null,{"$f":"IF($E$64,AC76+F68,NA())","v":18},{"$f":"E78","v":0.80703671755294493},null,null,null,null,null,null,20,38,0,0.31622776601683794,0.63245553203367588,0.94868329805051377,1.2649110640673518,1.5811388300841895,1.8973665961010275,2.5298221281347035,3.1622776601683791,3.7947331922020551,4.4271887242357311,5.0596442562694071,5.6920997883030831,6.3245553203367582,null,20,2.0243941467155704,5.0000001646335113E-2,6.0959126557594279E-2,9.4567330249755166E-2,0.15226828416123306,0.23434940554555295,0.33793903481224963,0.45603407582604905,0.69340420246736056,0.86895303133795254,0.9588268158879979,0.99068465658871252,0.99850264018614121,0.99983052350850921,0.9999865749379041,{"$f":"IF($E$62,HLOOKUP($E$17,AE$61:AR79,AT79),NA())","v":0.33793903481224963},19]
[null,null,0.5,{"$f":"IF($E$64,AC76-F67,NA())","v":15.7},{"$f":"AJ76","v":0.29295714224435021},null,null,null,null,null,null,21,40,0,0.32403703492039304,0.64807406984078608,0.97211110476117901,1.2961481396815722,1.6201851746019651,1.944222209522358,2.5922962793631443,3.2403703492039302,3.888444419044716,4.5365184888855019,5.1845925587262887,5.8326666285670745,6.4807406984078604,null,21,2.0210753698504513,5.0000002007442035E-2,6.1540095150197538E-2,9.6962929626149275E-2,0.15780854619655471,0.24421181558675187,0.35267730094582139,0.47514271932206842,0.71555549641265204,0.88525776041207926,0.96663855330651305,0.99315363908671206,0.99902174150323952,0.99990354531956649,0.99999347716929343,{"$f":"IF($E$62,HLOOKUP($E$17,AE$61:AR80,AT80),NA())","v":0.35267730094582139},20]
[null,null,null,{"$f":"IF($E$64,AC76+F68,NA())","v":18},{"$f":"E80","v":0.29295714224435021},null,null,null,null,null,null,22,42,0,0.33166247903553997,0.66332495807107994,0.99498743710661985,1.3266499161421599,1.6583123951776999,1.9899748742132397,2.6532998322843198,3.3166247903553998,3.9799497484264794,4.643274706497559,5.3065996645686395,5.96992462263972,6.6332495807107996,null,22,2.0180816788621767,5.00000023967897E-2,6.2121355318158655E-2,9.9362220474659702E-2,0.16335531881906806,0.2540518382885808,0.36727109116049483,0.4938340576539878,0.73639088846695544,0.89971374941744775,0.97303764284837979,0.99498521112431626,0.99936355600039095,0.99994537825357022,0.99999684907725661,{"$f":"IF($E$62,HLOOKUP($E$17,AE$61:AR81,AT81),NA())","v":0.36727109116049483},21]
[null,null,0.2,{"$f":"IF($E$64,AC76-F67,NA())","v":15.7},{"$f":"AG76","v":8.7403328814987691E-2},null,null,null,null,null,null,23,44,0,0.33911649915626341,0.67823299831252681,1.0173494974687902,{"$f":"R$61/SQRT(2/$L82)","v":1.3564659966250536},1.695582495781317,2.0346989949375804,2.7129319932501073,3.3911649915626341,4.0693979898751609,4.7476309881876873,5.4258639865002145,6.1040969848127418,6.7823299831252681,null,23,2.0153675467665533,5.0000002812144895E-2,6.2702914181619773E-2,0.10176512646099078,0.16890765141296193,0.2638655172247667,0.38171153032409855,0.51209793829113259,0.75595368571447641,0.91249836468699774,0.97826248775572577,0.99633851325615164,0.9995875699194795,0.9999692131403527,0.99999848617799025,{"$f":"IF($E$62,HLOOKUP($E$17,AE$61:AR82,AT82),NA())","v":0.38171153032409855},22]
[null,null,null,{"$f":"IF($E$64,AC76+F68,NA())","v":18},{"$f":"E82","v":8.7403328814987691E-2},null,null,null,null,null,null,24,46,0,0.34641016151377552,0.69282032302755103,1.0392304845413265,1.3856406460551021,1.7320508075688774,2.078460969082653,2.7712812921102041,3.4641016151377548,4.156921938165306,4.8497422611928567,5.5425625842204083,6.235382907247959,6.9282032302755097,null,24,2.0128955673215021,5.0000003251203129E-2,6.3284777339444043E-2,0.10417156606497147,0.1744646003262913,0.2736490405779477,0.39599044640198067,0.5299261883134937,0.77429069721766697,0.92377804216400561,0.98251552152841481,0.99733469309882794,0.99973373206882421,0.99998272414692246,0.99999927642124198,{"$f":"IF($E$62,HLOOKUP($E$17,AE$61:AR83,AT83),NA())","v":0.39599044640198067},23]
[null,null,null,null,null,null,null,null,null,null,null,25,48,0,0.35355339059327379,0.70710678118654757,1.0606601717798212,1.4142135623730951,1.7677669529663689,2.1213203435596424,2.8284271247461903,3.5355339059327378,4.2426406871192848,4.9497474683058327,5.6568542494923806,6.3639610306789276,7.0710678118654755,null,25,2.0106347219262766,5.0000003711662799E-2,6.3866949175204302E-2,0.10658145379927786,0.18002523138653004,0.28339874203220772,0.41010034579430854,0.54731247298492181,0.79145130009167208,0.93370765828728486,0.98596752855434255,0.99806541086807565,0.99982870204427288,0.99999034629707051,0.99999965581165162,{"$f":"IF($E$62,HLOOKUP($E$17,AE$61:AR84,AT84),NA())","v":0.41010034579430854},24]
[null,null,null,null,null,null,null,null,null,null,null,26,50,0,0.36055512754639896,0.72111025509279791,1.0816653826391966,1.4422205101855958,1.8027756377319946,2.1633307652783933,2.8844410203711917,3.6055512754639891,4.3266615305567866,5.0477717856495845,5.7688820407423833,6.4899922958351803,7.2111025509279782,null,26,2.0085590721432576,5.0000004191300462E-2,6.4449433092463648E-2,0.10899470114557375,0.18558862178140001,0.29311110057148781,0.42403438768718782,0.56425215907691173,0.80748662595123266,0.94243028713860966,0.98876175676811495,0.99859962816095971,0.99989016790931939,0.99999462689552243,0.99999983702539097,{"$f":"IF($E$62,HLOOKUP($E$17,AE$61:AR85,AT85),NA())","v":0.42403438768718782},25]
[null,null,null,null,null,null,null,null,null,null,null,27,52,0,0.36742346141747673,0.73484692283495345,1.1022703842524302,1.4696938456699069,1.8371173070873836,2.2045407685048604,2.9393876913398138,3.6742346141747673,4.4090815370097207,5.1439284598446733,5.8787753826796276,6.6136223055145811,7.3484692283495345,null,27,2.0066467607040863,5.0000004687963284E-2,6.5032231697579101E-2,0.11141121728127301,0.19115386146948654,0.30278273947799972,0.43778635788948594,0.58074218349717699,0.82244885744242779,0.95007725595913395,0.99101772541893907,0.99898896177909602,0.99992980236435636,0.99999702064748985,0.99999992316462827,{"$f":"IF($E$62,HLOOKUP($E$17,AE$61:AR86,AT86),NA())","v":0.43778635788948594},26]
[null,null,null,null,null,null,null,null,null,null,null,28,54,0,0.37416573867739417,0.74833147735478833,1.1224972160321822,1.4966629547095767,1.8708286933869707,2.2449944320643644,2.9933259094191533,3.7416573867739413,4.4899888641287289,5.2383203414835178,5.9866518188383067,6.7349832961930947,7.4833147735478827,null,28,2.0048792749953916,5.0000001264255856E-2,6.5615342249340847E-2,0.11383090287059661,0.19672004463065984,0.31241041247315449,0.45135062870528386,0.59678091400080446,0.83639061604173692,0.95676842231574888,0.99283467604025333,0.99927186225514686,0.99995527003717766,0.99999835386733937,0.99999996392425772,{"$f":"IF($E$62,HLOOKUP($E$17,AE$61:AR87,AT87),NA())","v":0.45135062870528386},27]
[null,null,null,null,null,null,null,null,null,null,null,29,56,0,0.3807886552931955,0.761577310586391,1.1423659658795864,1.523154621172782,1.9039432764659772,2.2847319317591728,3.046309242345564,3.8078865529319543,4.5694638635183455,5.3310411741047359,6.092618484691128,6.8541957952775183,7.6157731058639087,null,29,2.0032407042050862,5.0000001429470919E-2,6.6198775090528517E-2,0.11625367691068922,0.20228630784321899,0.3219910494821675,0.46472218651968644,0.61236808249208896,0.84936448375175555,0.96261263218279869,0.99429465225028191,0.99947684616411836,0.99997158035290423,0.99999909358211481,0.99999998312788818,{"$f":"IF($E$62,HLOOKUP($E$17,AE$61:AR88,AT88),NA())","v":0.46472218651968644},28]
[null,null,null,null,null,null,null,null,null,null,null,30,58,0,0.38729833462074176,0.77459666924148352,1.1618950038622251,1.549193338482967,1.9364916731037087,2.3237900077244502,3.0983866769659341,3.8729833462074175,4.6475800154489004,5.4221766846903838,6.1967733539318681,6.9713700231733515,7.7459666924148349,null,30,2.0017174680034495,5.0000001600562172E-2,6.678252693788711E-2,0.11867943855310503,0.20785177612093775,0.33152168449043218,0.47789652694893126,0.62750459291384675,0.86142251955255533,0.96770825941417926,0.99546520042662601,0.99962497521392657,0.99998199306752689,0.99999950251321734,0.9999999921385202,{"$f":"IF($E$62,HLOOKUP($E$17,AE$61:AR89,AT89),NA())","v":0.47789652694893126},29]
[null,null,null,null,null,null,null,null,null,null,null,31,60,0,0.39370039370059057,0.78740078740118113,1.1811011811017715,1.5748015748023623,1.9685019685029528,2.3622023622035431,3.1496031496047245,3.9370039370059056,4.7244047244070861,5.5118055118082676,6.2992062992094491,7.0866070866106297,7.8740078740118111,null,31,2.0002978043295352,5.0000001776913661E-2,6.7366598381042753E-2,0.12110809240075149,0.2134155987151739,0.34099949825191622,0.49086968047834656,0.64219246420309339,0.87261593413895588,0.97214385363535849,0.99640172425995754,0.99973174563026768,0.99998862073267314,0.99999972780031288,0.99999999634998893,{"$f":"IF($E$62,HLOOKUP($E$17,AE$61:AR90,AT90),NA())","v":0.49086968047834656},30]
[null,null,null,null,null,null,null,null,null,null,null,32,62,0,0.4,0.8,1.2,1.6,2,2.4,3.2,4,4.8,5.6,6.4,7.2,8,null,32,1.9989714977664996,5.000000195801424E-2,6.7950989693537966E-2,0.12353954265588152,0.218976940815925,0.35042180450199267,0.50363817481099638,0.65643471564870137,0.88299478668117382,0.97599881439366132,0.99714950786224243,0.99980851769391932,0.99999282715867022,0.99999985150710669,0.99999999831108477,{"$f":"IF($E$62,HLOOKUP($E$17,AE$61:AR91,AT91),NA())","v":0.50363817481099638},31]
[null,null,null,null,null,null,null,null,null,null,null,33,64,0,0.40620192023179802,0.81240384046359604,1.2186057606953939,{"$f":"R$61/SQRT(2/$L92)","v":1.6248076809271921},2.0310096011589902,2.4372115213907879,3.2496153618543842,4.0620192023179804,4.8744230427815758,5.686826883245172,6.4992307237087683,7.3116345641723646,8.1240384046359608,null,33,1.9977296334339405,5.0000002143346656E-2,6.8535700881375172E-2,0.12597369331060082,0.22453498375902703,0.35978604706724382,0.51619901027306847,0.67023527049230214,0.8926077470555952,0.97934408691866803,0.99774544308409818,0.99986359143042436,0.99999548959050599,0.99999991922251985,0.99999999922105087,{"$f":"IF($E$62,HLOOKUP($E$17,AE$61:AR92,AT92),NA())","v":0.51619901027306847},32]
[null,null,null,null,null,null,null,null,null,null,null,34,66,0,0.41231056256176607,0.82462112512353214,1.236931687685298,1.6492422502470643,2.0615528128088303,2.4738633753705961,3.2984845004941286,4.1231056256176606,4.9477267507411922,5.7723478758647246,6.5969690009882571,7.4215901261117896,8.2462112512353212,null,34,1.9965643964212214,5.0000002332378224E-2,6.9120731723047668E-2,0.12841044830304271,0.23008892515649682,0.36908979688556942,0.52854963582798087,0.68359886516882551,0.90150190827414634,0.98224285700921099,0.99821949277303823,0.99990301163847861,0.99999717036153857,0.99999995617797688,0.99999999964185626,{"$f":"IF($E$62,HLOOKUP($E$17,AE$61:AR93,AT93),NA())","v":0.52854963582798087},33]
[null,null,null,null,null,null,null,null,null,null,null,35,68,0,{"$f":"O$61/SQRT(2/$L94)","v":0.41833001326703778},0.83666002653407556,1.2549900398011133,1.6733200530681511,2.0916500663351889,2.5099800796022267,3.3466401061363023,4.1833001326703778,5.0199601592044534,5.8566201857385289,6.6932802122726045,7.5299402388066801,8.3666002653407556,null,35,{"$f":"IF($E$61,NORMSINV(1-$E$7/2),TINV($E$7,$M94))","v":1.9954689072249159},{"$f":"IF($E$61,1-NORMSDIST($AD94-N94)+NORMSDIST(-$AD94-N94),nct(-$AD94,N94,$M94)+1-nct($AD94,N94,$M94))","v":5.0000002524708487E-2},{"$f":"IF($E$61,1-NORMSDIST($AD94-O94)+NORMSDIST(-$AD94-O94),nct(-$AD94,O94,$M94)+1-nct($AD94,O94,$M94))","v":6.9706081802847319E-2},{"$f":"IF($E$61,1-NORMSDIST($AD94-P94)+NORMSDIST(-$AD94-P94),nct(-$AD94,P94,$M94)+1-nct($AD94,P94,$M94))","v":0.13084971164615777},{"$f":"IF($E$61,1-NORMSDIST($AD94-Q94)+NORMSDIST(-$AD94-Q94),nct(-$AD94,Q94,$M94)+1-nct($AD94,Q94,$M94))","v":0.23563797896565553},{"$f":"IF($E$61,1-NORMSDIST($AD94-R94)+NORMSDIST(-$AD94-R94),nct(-$AD94,R94,$M94)+1-nct($AD94,R94,$M94))","v":0.37833074896551233},{"$f":"IF($E$61,1-NORMSDIST($AD94-S94)+NORMSDIST(-$AD94-S94),nct(-$AD94,S94,$M94)+1-nct($AD94,S94,$M94))","v":0.54068792573784519},{"$f":"IF($E$61,1-NORMSDIST($AD94-T94)+NORMSDIST(-$AD94-T94),nct(-$AD94,T94,$M94)+1-nct($AD94,T94,$M94))","v":0.69653096403160331},{"$f":"IF($E$61,1-NORMSDIST($AD94-U94)+NORMSDIST(-$AD94-U94),nct(-$AD94,U94,$M94)+1-nct($AD94,U94,$M94))","v":0.9097226428373868},{"$f":"IF($E$61,1-NORMSDIST($AD94-V94)+NORMSDIST(-$AD94-V94),nct(-$AD94,V94,$M94)+1-nct($AD94,V94,$M94))","v":0.9847512307079449},{"$f":"IF($E$61,1-NORMSDIST($AD94-W94)+NORMSDIST(-$AD94-W94),nct(-$AD94,W94,$M94)+1-nct($AD94,W94,$M94))","v":0.99859592218979754},{"$f":"IF($E$61,1-NORMSDIST($AD94-X94)+NORMSDIST(-$AD94-X94),nct(-$AD94,X94,$M94)+1-nct($AD94,X94,$M94))","v":0.99993116739410881},{"$f":"IF($E$61,1-NORMSDIST($AD94-Y94)+NORMSDIST(-$AD94-Y94),nct(-$AD94,Y94,$M94)+1-nct($AD94,Y94,$M94))","v":0.99999822876666244},{"$f":"IF($E$61,1-NORMSDIST($AD94-Z94)+NORMSDIST(-$AD94-Z94),nct(-$AD94,Z94,$M94)+1-nct($AD94,Z94,$M94))","v":0.99999997628847026},{"$f":"IF($E$61,1-NORMSDIST($AD94-AA94)+NORMSDIST(-$AD94-AA94),nct(-$AD94,AA94,$M94)+1-nct($AD94,AA94,$M94))","v":0.99999999983582477},{"$f":"IF($E$62,HLOOKUP($E$17,AE$61:AR94,AT94),NA())","v":0.54068792573784519},34]
[null,null,null,null,null,null,null,null,null,null,null,36,70,0,0.42426406871192857,0.84852813742385713,1.2727922061357855,1.6970562748477143,2.1213203435596424,2.545584412271571,3.3941125496954285,4.2426406871192848,5.0911688245431419,5.939696961966999,6.7882250993908571,7.6367532368147133,8.4852813742385695,null,36,1.9944370858696794,5.0000002719820635E-2,7.0291750538225783E-2,0.13329138753395531,0.24118137550865615,0.38750671930703229,0.55261215689938159,0.70903767938904905,0.91731349729757639,0.98691888832972663,0.99889432921636623,0.99995123647143769,0.99999889366282591,0.99999998720217587,0.9999999999249567,{"$f":"IF($E$62,HLOOKUP($E$17,AE$61:AR95,AT95),NA())","v":0.55261215689938159},35]
[null,null,null,null,null,null,null,null,null,null,null,37,72,0,0.43011626335213132,0.86023252670426265,1.2903487900563939,1.7204650534085253,2.1505813167606567,2.5806975801127878,3.4409301068170506,4.3011626335213133,5.1613951602255757,6.021627686929838,6.8818602136341012,7.7420927403383644,8.6023252670426267,null,37,1.9934635390445274,5.0000002917374498E-2,7.0877737203205005E-2,0.1357353804302921,0.24671836145274373,0.39661564180229614,0.56432098687324461,0.72112569666841853,0.92431611985587314,0.98878970557490387,0.99913050165434814,0.99996551340866535,0.99999931039414858,0.99999999310929477,0.99999999996579281,{"$f":"IF($E$62,HLOOKUP($E$17,AE$61:AR96,AT96),NA())","v":0.56432098687324461},36]
[null,null,null,null,null,null,null,null,null,null,null,38,74,0,0.43588989435406739,0.87177978870813477,1.3076696830622019,1.7435595774162695,2.1794494717703365,2.6153393661244038,3.4871191548325391,4.3588989435406731,5.2306787322488075,6.1024585209569429,6.9742383096650782,7.8460180983732126,8.7177978870813462,null,38,1.9925434658317238,5.0000003116974945E-2,7.146404094760106E-2,0.13818159514252415,0.25224819975785906,0.40565556512991452,0.57581343261770601,0.73280220451204192,0.93077021632512746,0.99040233699325886,0.99931712719138921,0.9999756507314802,0.99999957100837922,0.99999999629847114,0.99999999998444855,{"$f":"IF($E$62,HLOOKUP($E$17,AE$61:AR97,AT97),NA())","v":0.57581343261770601},37]
[null,null,null,null,null,null,null,null,null,null,null,39,76,0,0.44158804331639234,0.88317608663278468,1.324764129949177,1.7663521732655694,2.2079402165819615,2.6495282598983541,3.5327043465311387,4.415880433163923,5.2990565197967081,6.1822326064294923,7.0654086930622775,7.9485847796950626,8.831760866327846,null,39,1.9916725785505602,5.000000331826937E-2,7.2050660813579581E-2,0.14062993688345049,0.25777016959827581,0.41462464965465573,0.58708884993317234,0.74407482960754723,0.93671353026673043,0.99179075906759739,0.99946437876115346,0.99998283567122792,0.99999973364448524,0.99999999801607542,0.99999999999294797,{"$f":"IF($E$62,HLOOKUP($E$17,AE$61:AR98,AT98),NA())","v":0.58708884993317234},38]
[null,null,null,null,null,null,null,null,null,null,null,40,78,0,0.44721359549995798,0.89442719099991597,1.3416407864998738,1.7888543819998319,2.2360679774997898,2.6832815729997477,3.5777087639996639,4.4721359549995796,5.3665631459994954,6.2609903369994111,7.1554175279993277,8.0498447189992426,8.9442719099991592,null,40,1.9908470359624615,5.0000003520914382E-2,7.2637595749589168E-2,0.14308031132321863,0.26328356626266547,0.42352116434140152,0.59814691361876005,0.75495157604903151,0.94218184355432955,0.99298477174481603,0.99958039520905695,0.99998791918172558,0.99999983492984945,0.99999999893896385,0.99999999999681,{"$f":"IF($E$62,HLOOKUP($E$17,AE$61:AR99,AT99),NA())","v":0.59814691361876005},39]
[null,null,null,null,null,null,null,null,null,null,null,41,80,0,0.45276925690687087,0.90553851381374173,1.3583077707206124,1.8110770276274835,2.2638462845343539,2.7166155414412247,3.6221540552549669,4.5276925690687078,5.4332310828824495,6.3387695966961912,7.2443081105099338,8.1498466243236756,9.0553851381374155,null,41,1.9900633866424009,5.0000003724618325E-2,7.3224844622341245E-2,0.145532624633118,0.26878770103668459,0.43234348369104947,0.60898759833904204,0.76544076902628722,0.94720899402930359,0.99401045843289604,0.99967167451020755,0.99999150982627028,0.99999989788332078,0.99999999943372342,0.99999999999856048,{"$f":"IF($E$62,HLOOKUP($E$17,AE$61:AR100,AT100),NA())","v":0.60898759833904204},40]
[null,null,null,null,null,null,null,null,null,null,null,42,82,0,0.45825756949558405,0.9165151389911681,1.374772708486752,1.8330302779823362,2.2912878474779204,2.7495454169735041,3.6660605559646724,4.5825756949558407,5.4990908339470082,6.4156059729381765,7.3321211119293448,8.2486362509205122,9.1651513899116814,null,42,1.9893185207564223,5.0000003929097203E-2,7.3812406226962834E-2,0.14798678352241301,0.27428190107098649,0.44109008470410993,0.61961116019582907,0.77555100263876453,0.95182690729245489,0.99489060537046803,0.99974339433120207,0.99999404189171448,0.9999999369373922,0.99999999969838627,0.99999999999935185,{"$f":"IF($E$62,HLOOKUP($E$17,AE$61:AR101,AT101),NA())","v":0.61961116019582907},41]
[null,null,null,null,null,null,null,null,null,null,null,43,84,0,0.46368092477478523,0.92736184954957046,1.3910427743243556,{"$f":"R$61/SQRT(2/$L102)","v":1.8547236990991409},2.318404623873926,2.7820855486487113,3.7094473981982818,4.636809247747852,5.5641710972974225,6.4915329468469922,7.4188947963965637,8.3462566459461343,9.2736184954957039,null,43,1.9886096288243089,5.0000004134063802E-2,7.4400279295787075E-2,0.15044269526952525,0.27976550923744092,0.44975954387719097,0.63001811899789795,0.78529109163403632,0.9560656400247256,0.99564508191784229,0.99979967251510027,0.99999582466250592,0.99999996112068035,0.9999999998396657,0.99999999999970879,{"$f":"IF($E$62,HLOOKUP($E$17,AE$61:AR102,AT102),NA())","v":0.63001811899789795},42]
[null,null,null,null,null,null,null,null,null,null,null,44,86,0,0.46904157598234297,0.93808315196468595,1.4071247279470287,1.8761663039293719,2.3452078799117149,2.8142494558940574,3.7523326078587438,4.6904157598234297,5.6284989117881148,6.5665820637528007,7.5046652157174876,8.4427483676821726,9.3808315196468595,null,44,1.9879341663152212,5.0000004339350812E-2,7.4988462506045184E-2,0.15290026774849197,0.28523788397560701,0.45835053423625682,0.64020924121906009,0.79467002687161448,0.95995343254750298,0.99629118376264225,0.99984377810864355,0.99999707796828241,0.99999997606904933,0.99999999991492883,0.99999999999986944,{"$f":"IF($E$62,HLOOKUP($E$17,AE$61:AR103,AT103),NA())","v":0.64020924121906009},43]
[null,null,null,null,null,null,null,null,null,null,null,45,88,0,0.47434164902525694,0.94868329805051388,1.4230249470757708,1.8973665961010278,2.3717082451262845,2.8460498941515415,3.7947331922020555,4.7434164902525691,5.6920997883030831,6.6407830863535962,7.589466384404111,8.538149682454625,9.4868329805051381,null,45,1.9872898231356033,5.0000004544688892E-2,7.5576954486218595E-2,0.15535940945107862,0.29069839913093221,0.4668618224098301,0.65018552363389204,0.80369693431884803,0.96351676862207281,0.99684394131990417,0.99987830183761051,0.99999795776254796,0.99999998529321665,0.99999999995494482,0.9999999999999416,{"$f":"IF($E$62,HLOOKUP($E$17,AE$61:AR104,AT104),NA())","v":0.65018552363389204},44]
[null,null,null,null,null,null,null,null,null,null,null,46,90,0,0.47958315233127197,0.95916630466254393,1.4387494569938157,1.9183326093250879,2.3979157616563596,2.8774989139876315,3.8366652186501757,4.7958315233127191,5.7549978279752629,6.7141641326378068,7.6733304373003515,8.6324967419628944,9.5916630466254382,null,46,1.9866744972387487,5.0000004749898963E-2,7.6165753821935911E-2,0.15782002950579022,0.2961464437866056,0.47529226574513783,0.65994817761891034,0.81238103738880163,0.96678044074925351,0.99731639576951914,0.99990529345594181,0.99999857448278973,0.9999999909757179,0.99999999997618028,0.99999999999997391,{"$f":"IF($E$62,HLOOKUP($E$17,AE$61:AR105,AT105),NA())","v":0.65994817761891034},45]
[null,null,null,null,null,null,null,null,null,null,null,47,92,0,0.48476798574163293,0.96953597148326587,1.4543039572248988,1.9390719429665317,2.4238399287081647,2.9086079144497976,3.8781438859330635,4.8476798574163293,5.8172158288995952,6.7867518003828602,7.7562877718661269,8.7258237433493928,9.6953597148326587,null,47,1.986086271720485,5.0000004954805166E-2,7.6754859060860881E-2,0.16028203769374172,0.30158142208982108,0.48364080946908439,0.66949861410592293,0.82073162243543551,0.96976761946597778,0.99771984524127422,0.99992637212768987,0.99999900619841486,0.9999999944707707,0.99999999998742861,0.99999999999998834,{"$f":"IF($E$62,HLOOKUP($E$17,AE$61:AR106,AT106),NA())","v":0.66949861410592293},46]
[null,null,null,null,null,null,null,null,null,null,null,48,94,0,0.48989794855663565,0.97979589711327131,1.4696938456699069,1.9595917942265426,2.4494897427831779,2.9393876913398138,3.9191835884530852,4.8989794855663558,5.8787753826796276,6.8585712797928986,7.8383671769061705,8.8181630740194414,9.7979589711327115,null,48,1.9855233948755648,5.0000005159197447E-2,7.7344268717010389E-2,0.16274534446204192,0.30700275307363123,0.49190648389596303,0.6788384291734042,0.82875800722614912,0.97249992534723673,0.9980640636525735,0.99994281492593851,0.99999930800452519,0.99999999661707573,0.99999999999337619,0.99999999999999478,{"$f":"IF($E$62,HLOOKUP($E$17,AE$61:AR107,AT107),NA())","v":0.6788384291734042},47]
[null,null,null,null,null,null,null,null,null,null,null,49,96,0,0.49497474683058335,0.98994949366116669,1.4849242404917498,1.9798989873223334,2.4748737341529163,2.9698484809834995,3.9597979746446668,4.9497474683058327,5.939696961966999,6.9296464556281654,7.9195959492893335,8.909545442950499,9.8994949366116654,null,49,1.9849842627774357,5.0000005363013078E-2,7.7933981274748043E-2,0.16520986093526113,0.31240987047543212,0.50008840168349811,0.68796939026138637,0.83646951221945531,0.97499750261117601,0.99835749464503243,0.99995562762753942,0.99999951871992621,0.99999999793312799,0.99999999999651557,0.99999999999999767,{"$f":"IF($E$62,HLOOKUP($E$17,AE$61:AR108,AT108),NA())","v":0.68796939026138637},48]
[null,null,null,null,null,null,null,null,null,null,null,50,98,0,0.5,1,1.4999999999999998,2,2.5,2.9999999999999996,4,5,5.9999999999999991,6.9999999999999991,8,9,10,null,50,1.9844674040170753,5.0000005566004146E-2,7.8523995191812523E-2,0.16767549892455225,0.31780222255212209,0.50818575513776865,0.69689342299395174,0.84387543447917401,0.97727909339373165,0.99860742296874516,0.99996560122451039,0.99999966565297826,0.99999999873891154,0.99999999999816991,0.999999999999999,{"$f":"IF($E$62,HLOOKUP($E$17,AE$61:AR109,AT109),NA())","v":0.69689342299395174},49]
[null,null,null,null,null,null,null,null,null,null,null,51,100,{"$f":"N$61/SQRT(2/$L110)","v":0},0.50497524691810391,1.0099504938362078,1.5149257407543117,2.0199009876724157,2.5248762345905194,3.0298514815086235,4.0398019753448313,5.0497524691810387,6.059702963017247,7.0696534568534544,8.0796039506896626,9.08955444452587,10.099504938362077,null,51,1.9839714662943697,5.0000005768112699E-2,7.9114308902648922E-2,0.17014217093586748,0.32317927189363138,0.51619781356885874,0.70561259859424985,0.85098502406460685,0.97936211190904299,0.99882012553930444,0.99997335694241152,0.99999976798544199,0.99999999923156979,0.99999999999904032,0.99999999999999956,{"$f":"IF($E$62,HLOOKUP($E$17,AE$61:AR110,AT110),NA())","v":0.70561259859424985},50]
[null,null,null,null,null,null,null,null,null,null,null,52,102,0,0.50990195135927852,1.019803902718557,1.5297058540778352,2.0396078054371141,2.5495097567963922,3.0594117081556704,4.0792156108742281,5.0990195135927845,6.1188234163113409,7.1386273190298981,8.1584312217484563,9.1782351244670117,10.198039027185569,null,52,1.983495204605445,5.0000005969206618E-2,7.970492082076519E-2,0.17260979017619804,0.32854049523417295,0.52412392069692681,0.71412912187569955,0.85780746274077524,0.98126271784406971,0.99900100425219962,0.99997938203375614,0.99999983917112878,0.9999999995323664,0.99999999999949751,0.99999999999999978,{"$f":"IF($E$62,HLOOKUP($E$17,AE$61:AR111,AT111),NA())","v":0.71412912187569955},51]
[null,null,null,null,null,null,null,null,null,null,null,53,104,0,0.51478150704935011,1.0295630140987002,1.54434452114805,2.0591260281974004,2.5739075352467502,3.0886890422961,4.1182520563948009,5.1478150704935004,6.1773780845921999,7.2069410986909004,8.2365041127896017,9.2660671268883004,10.295630140987001,null,53,1.9830374708083407,5.0000006169245159E-2,8.0295829341214819E-2,0.17507827055901903,0.33388538326254869,0.53196349210991234,0.72244531979289728,0.86435184486134387,0.98299588845247832,0.99915470248956895,0.99998405818439573,0.99999988863312206,0.9999999997157738,0.99999999999973721,0.99999999999999989,{"$f":"IF($E$62,HLOOKUP($E$17,AE$61:AR112,AT112),NA())","v":0.72244531979289728},52]
[null,null,null,null,null,null,null,null,null,null,null,54,106,0,0.51961524227066325,1.0392304845413265,1.5588457268119895,2.078460969082653,2.598076211353316,3.117691453623979,4.156921938165306,5.196152422706632,6.2353829072479581,7.2746133917892841,8.3138438763306119,9.353074360871938,10.392304845413264,null,54,1.9825972043832381,5.0000006368057681E-2,8.088703284243759E-2,0.17754752670833418,0.33921344043120527,0.53971601277268488,0.73056363053610052,0.8706271602812905,0.98457548891491531,0.99928520710116364,0.99998768401763227,0.99999992296236995,0.99999999982745824,0.99999999999986278,1,{"$f":"IF($E$62,HLOOKUP($E$17,AE$61:AR113,AT113),NA())","v":0.73056363053610052},53]
[null,null,null,null,null,null,null,null,null,null,null,55,108,0,0.52440442408507582,1.0488088481701516,1.5732132722552274,2.0976176963403033,2.6220221204253789,3.1464265445104549,4.1952353926806065,5.2440442408507577,6.2928530890209098,7.341661937191061,8.390470785361213,9.4392796335313651,10.488088481701515,null,55,1.9821734242303535,5.0000006565572241E-2,8.1478529688323142E-2,0.18001747396223611,0.34452418476508284,0.5473810345883936,0.73848659315291154,0.87664227916318271,0.98601434062199789,0.99939593748915245,0.9999904928924247,0.99999994676272119,0.99999999989538135,0.9999999999999285,1,{"$f":"IF($E$62,HLOOKUP($E$17,AE$61:AR114,AT114),NA())","v":0.73848659315291154},54]
[null,null,null,null,null,null,null,null,null,null,null,56,110,0,0.52915026221291817,1.0583005244258363,1.5874507866387544,2.1166010488516727,2.6457513110645907,3.1749015732775088,4.2332020977033453,5.2915026221291814,6.3498031465550175,7.4081036709808537,8.4664041954066906,9.5247047198325276,10.583005244258363,null,56,1.9817652213721746,5.0000006761780846E-2,8.207031822980837E-2,0.18248802837545008,0.34981714766995964,0.5549581740116899,0.74621683768041414,0.88240593854809291,0.98732428711370213,0.99948982327821434,0.99999266695695699,0.99999996324592366,0.99999999993663902,0.9999999999999627,1,{"$f":"IF($E$62,HLOOKUP($E$17,AE$61:AR115,AT115),NA())","v":0.74621683768041414},55]
[null,null,null,null,null,null,null,null,null,null,null,57,112,0,0.53385391260156556,1.0677078252031311,1.6015617378046967,2.1354156504062622,2.6692695630078278,3.2031234756093934,4.2708313008125245,5.3385391260156556,6.4062469512187867,7.473954776421917,8.541662601625049,9.6093704268281801,10.677078252031311,null,57,1.9813717524461687,5.0000006956530174E-2,8.2662396806143512E-2,0.18495910672098481,0.35509187374054174,0.56244710971370337,0.75375707577124718,0.88792673056721683,0.98851625747574989,0.99956937191051265,0.99999434822832811,0.99999997464975232,0.99999999996166944,0.99999999999998057,1,{"$f":"IF($E$62,HLOOKUP($E$17,AE$61:AR116,AT116),NA())","v":0.75375707577124718},56]
[null,null,null,null,null,null,null,null,null,null,null,58,114,0,0.53851648071345048,1.077032961426901,1.6155494421403511,2.1540659228538019,2.6925824035672519,3.2310988842807022,4.3081318457076039,5.3851648071345037,6.4621977685614045,7.5392307299883052,8.6162636914152078,9.6932966528421076,10.770329614269007,null,58,1.9809922338890518,5.0000007149863634E-2,8.3254763746532734E-2,0.1874306264917277,0.36034792056921605,0.56984758029936666,0.76111009179792222,0.89321309217730271,0.98960032705111778,0.99963672737109899,0.99999564731444557,0.99999998253149291,0.99999999997683719,0.9999999999999899,1,{"$f":"IF($E$62,HLOOKUP($E$17,AE$61:AR117,AT117),NA())","v":0.76111009179792222},57]
[null,null,null,null,null,null,null,null,null,null,null,59,116,0,0.54313902456001084,1.0862780491200217,1.6294170736800324,2.1725560982400434,2.7156951228000539,3.2588341473600648,4.3451121964800867,5.4313902456001077,6.5176682947201297,7.6039463438401507,8.6902243929601735,9.7765024420801954,10.862780491200215,null,59,1.9806259367293055,5.0000007341640118E-2,8.384741737094259E-2,0.18990250590080116,0.36558485855450495,0.57715938207586204,0.76827873441811945,0.89827329630792141,0.99058577537378434,0.99969372112404942,0.99999665027038909,0.99999998797359735,0.99999999998601796,0.99999999999999478,1,{"$f":"IF($E$62,HLOOKUP($E$17,AE$61:AR118,AT118),NA())","v":0.76827873441811945},58]
[null,null,null,null,null,null,null,null,null,null,null,60,118,0,0.54772255750516619,1.0954451150103324,1.6431676725154984,2.1908902300206647,2.7386127875258306,3.2863353450309969,4.3817804600413295,5.4772255750516612,6.5726706900619938,7.6681158050723255,8.763560920082659,9.8590060350929907,10.954451150103322,null,60,1.9802722258377723,5.0000002532362031E-2,8.4440348967764089E-2,0.192374651961572,0.3708022543064784,0.5843823498869033,0.77526589547581815,0.90311543678097284,0.99148114024655776,0.99974191618060515,0.99999742397981728,0.99999999172760479,0.99999999999156874,0.99999999999999734,1,{"$f":"IF($E$62,HLOOKUP($E$17,AE$61:AR119,AT119),NA())","v":0.77526589547581815},59]
[null,null,null,null,null,null,null,null,null,null,null,61,120,0,0.55226805085936304,1.1045361017187261,1.656804152578089,2.2090722034374521,2.7613402542968153,3.313608305156178,4.4181444068749043,5.5226805085936306,6.627216610312356,7.7317527120310823,8.8362888137498086,9.9408249154685357,11.045361017187261,null,61,1.9799303810037054,5.0000002608158955E-2,8.5033570698015537E-2,0.19484700780984365,0.37599973563152655,0.59151642261829518,0.78207455482480059,0.90774745221556208,0.99229427417448679,0.99978264542063178,0.99999802037667229,0.99999999431473197,0.99999999999492106,0.99999999999999856,1,{"$f":"IF($E$62,HLOOKUP($E$17,AE$61:AR120,AT120),NA())","v":0.78207455482480059},60]
[null,null,null,null,null,null,null,null,null,null,null,62,122,0,0.55677643628300222,1.1135528725660044,1.6703293088490063,2.2271057451320089,2.7838821814150108,3.3406586176980126,4.4542114902640177,5.5677643628300215,6.6813172353960253,7.7948701079620299,8.9084229805280355,10.021975853094039,11.135528725660043,null,62,1.9795998537679447,5.00000026836116E-2,8.5627074028654993E-2,0.19731948225892793,0.38117689424732903,0.59856154014524188,0.78870769471294166,0.91217707528442749,0.99303238743018829,0.99981704425420304,0.99999847974513334,0.99999999609605872,0.99999999999694356,0.99999999999999922,1,{"$f":"IF($E$62,HLOOKUP($E$17,AE$61:AR121,AT121),NA())","v":0.78870769471294166},61]
[null,null,null,null,null,null,null,null,null,null,null,63,124,0,0.56124860801609122,1.1224972160321824,1.6837458240482737,2.2449944320643649,2.8062430400804561,3.3674916480965473,4.4899888641287298,5.6124860801609122,6.7349832961930947,7.8574805122252762,8.9799777282574595,10.102474944289643,11.224972160321824,null,63,1.9792800912500397,5.000000275857075E-2,8.6220857253032746E-2,0.19979199640220457,0.3863333498777195,0.60551770829496032,0.79516834527146507,0.91641185894942323,0.99370209899760364,0.99984607921396151,0.99999883330533001,0.99999999732147071,0.99999999999816247,0.99999999999999967,1,{"$f":"IF($E$62,HLOOKUP($E$17,AE$61:AR122,AT122),NA())","v":0.79516834527146507},62]
[null,null,null,null,null,null,null,null,null,null,null,64,126,0,0.56568542494923801,1.131370849898476,1.6970562748477138,2.2627416997969521,2.8284271247461898,3.3941125496954276,4.5254833995939041,5.6568542494923797,6.7882250993908553,7.9195959492893309,9.0509667991878082,10.182337649086284,11.313708498984759,null,64,1.9789705760036225,5.000000283307382E-2,8.6814918659985918E-2,0.20226447205113551,0.39146873410707084,0.61238498020475152,0.80145956511594896,0.92045916556483764,0.9943094793703775,0.99987057236578081,0.99999910523045432,0.9999999981637232,0.99999999999889633,0.99999999999999978,1,{"$f":"IF($E$62,HLOOKUP($E$17,AE$61:AR123,AT123),NA())","v":0.80145956511594896},63]
[null,null,null,null,null,null,null,null,null,null,null,65,128,0,0.57008771254956903,1.1401754250991381,1.710263137648707,2.2803508501982761,2.8504385627478452,3.4205262752974139,4.5607017003965522,5.7008771254956905,6.8410525505948279,7.9812279756939661,9.1214034007931044,10.261578825892242,11.401754250991381,null,65,1.9786708232227568,5.0000002907114593E-2,8.7409256534239921E-2,0.20473683173359558,0.39658269019371084,0.619163454393312,0.80758443535309743,0.92432616447262084,0.99486009177992474,0.99989122234737071,0.99999931422069532,0.99999999874212919,0.99999999999933775,0.99999999999999989,1,{"$f":"IF($E$62,HLOOKUP($E$17,AE$61:AR124,AT124),NA())","v":0.80758443535309743},64]
[null,null,null,null,null,null,null,null,null,null,null,66,130,0,0.57445626465380284,1.1489125293076057,1.7233687939614084,2.2978250586152114,2.8722813232690143,3.4467375879228168,4.5956501172304227,5.7445626465380286,6.8934751758456336,8.0423877051532386,9.1913002344608454,10.34021276376845,11.489125293076057,null,66,1.978380378208128,5.00000029806692E-2,8.8003869157027403E-2,0.20720899869226683,0.40167487288479442,0.62585327288092529,0.81354605394216561,0.92801983038332425,0.99535903084212263,0.99990862244239609,0.9999994747302634,0.9999999991390115,0.99999999999960298,1,1,{"$f":"IF($E$62,HLOOKUP($E$17,AE$61:AR125,AT125),NA())","v":0.81354605394216561},65]
[null,null,null,null,null,null,null,null,null,null,null,67,132,0,0.57879184513951132,1.1575836902790226,1.7363755354185337,2.3151673805580453,2.8939592256975564,3.4727510708370675,4.6303347611160905,5.7879184513951127,6.9455021416741349,8.1030858319531571,9.2606695222321811,10.418253212511203,11.575836902790225,null,67,{"$f":"IF($E$61,NORMSINV(1-$E$7/2),TINV($E$7,$M126))","v":1.9780988140657403},{"$f":"IF($E$61,1-NORMSDIST($AD126-N126)+NORMSDIST(-$AD126-N126),nct(-$AD126,N126,$M126)+1-nct($AD126,N126,$M126))","v":5.0000003053718656E-2},{"$f":"IF($E$61,1-NORMSDIST($AD126-O126)+NORMSDIST(-$AD126-O126),nct(-$AD126,O126,$M126)+1-nct($AD126,O126,$M126))","v":8.8598754806632041E-2},{"$f":"IF($E$61,1-NORMSDIST($AD126-P126)+NORMSDIST(-$AD126-P126),nct(-$AD126,P126,$M126)+1-nct($AD126,P126,$M126))","v":0.20968089688279223},{"$f":"IF($E$61,1-NORMSDIST($AD126-Q126)+NORMSDIST(-$AD126-Q126),nct(-$AD126,Q126,$M126)+1-nct($AD126,Q126,$M126))","v":0.40674494823234941},{"$f":"IF($E$61,1-NORMSDIST($AD126-R126)+NORMSDIST(-$AD126-R126),nct(-$AD126,R126,$M126)+1-nct($AD126,R126,$M126))","v":0.6324546193578624},{"$f":"IF($E$61,1-NORMSDIST($AD126-S126)+NORMSDIST(-$AD126-S126),nct(-$AD126,S126,$M126)+1-nct($AD126,S126,$M126))","v":0.81934753039612174},{"$f":"IF($E$61,1-NORMSDIST($AD126-T126)+NORMSDIST(-$AD126-T126),nct(-$AD126,T126,$M126)+1-nct($AD126,T126,$M126))","v":0.93154694247286307},{"$f":"IF($E$61,1-NORMSDIST($AD126-U126)+NORMSDIST(-$AD126-U126),nct(-$AD126,U126,$M126)+1-nct($AD126,U126,$M126))","v":0.99581095871664205},{"$f":"IF($E$61,1-NORMSDIST($AD126-V126)+NORMSDIST(-$AD126-V126),nct(-$AD126,V126,$M126)+1-nct($AD126,V126,$M126))","v":0.99992327608993914},{"$f":"IF($E$61,1-NORMSDIST($AD126-W126)+NORMSDIST(-$AD126-W126),nct(-$AD126,W126,$M126)+1-nct($AD126,W126,$M126))","v":0.99999959792137971},{"$f":"IF($E$61,1-NORMSDIST($AD126-X126)+NORMSDIST(-$AD126-X126),nct(-$AD126,X126,$M126)+1-nct($AD126,X126,$M126))","v":0.99999999941111684},{"$f":"IF($E$61,1-NORMSDIST($AD126-Y126)+NORMSDIST(-$AD126-Y126),nct(-$AD126,Y126,$M126)+1-nct($AD126,Y126,$M126))","v":0.99999999999976219},{"$f":"IF($E$61,1-NORMSDIST($AD126-Z126)+NORMSDIST(-$AD126-Z126),nct(-$AD126,Z126,$M126)+1-nct($AD126,Z126,$M126))","v":1},{"$f":"IF($E$61,1-NORMSDIST($AD126-AA126)+NORMSDIST(-$AD126-AA126),nct(-$AD126,AA126,$M126)+1-nct($AD126,AA126,$M126))","v":1},{"$f":"IF($E$62,HLOOKUP($E$17,AE$61:AR126,AT126),NA())","v":0.81934753039612174},66]
[null,null,null,null,null,null,null,null,null,null,null,68,{"$f":"2*L127-2","v":134},0,0.5830951894845301,1.1661903789690602,1.74928556845359,2.3323807579381204,2.9154759474226499,3.4985711369071799,4.6647615158762408,5.8309518948452999,6.9971422738143598,8.1633326527834189,9.3295230317524815,10.495713410721541,11.6619037896906,null,68,1.9778257296137425,5.0000003126284387E-2,8.9193911758902011E-2,0.21215245097171864,0.41179259341055185,0.63896771740031277,0.82499198080951563,0.93491408412964705,0.99622013887980265,0.99993561017845034,0.9999996924076815,0.99999999959752572,0.99999999999985767,1,1,{"$f":"IF($E$62,HLOOKUP($E$17,AE$61:AR127,AT127),NA())","v":0.82499198080951563},67]
[null,null,null,null,null,null,null,null,null,null,null,69,136,0,0.58736700622353655,1.1747340124470731,1.7621010186706096,2.3494680248941462,2.9368350311176825,3.5242020373412193,4.6989360497882924,5.873670062235365,7.0484040746824386,8.2231380871295112,9.3978720995765848,10.572606112023658,11.74734012447073,null,69,1.9775607474751009,5.0000003198285126E-2,8.9789338287559972E-2,0.21462358633421219,0.41681749653436395,0.6453928287333397,0.83048252320038818,0.93812764329088028,0.99659046761655568,0.99994598642849741,0.999999764830515,0.99999999972512776,0.99999999999991485,1,1,{"$f":"IF($E$62,HLOOKUP($E$17,AE$61:AR128,AT128),NA())","v":0.83048252320038818},68]
[null,null,null,null,null,null,null,null,null,null,null,70,138,0,0.5916079783099617,{"$f":"P$61/SQRT(2/$L129)","v":1.1832159566199234},1.7748239349298849,2.3664319132398468,2.9580398915498081,3.5496478698597698,4.7328638264796936,5.9160797830996161,7.0992957397195395,8.282511696339462,9.4657276529593872,10.648943609579311,11.832159566199232,null,70,1.9773035123380969,5.0000003269698112E-2,9.0385032664743292E-2,0.21709422905176246,0.42181935647958435,0.65173025154016861,0.83582227315030266,0.94119381331063712,0.99692550334007746,0.99995471112902945,0.99999982030632706,0.99999999981240817,0.99999999999994915,1,1,{"$f":"IF($E$62,HLOOKUP($E$17,AE$61:AR129,AT129),NA())","v":0.83582227315030266},69]
[null,null,null,null,null,null,null,null,null,null,null,71,140,{"$f":"N$61/SQRT(2/$L130)","v":0},0.59581876439064929,1.1916375287812986,1.7874562931719478,2.3832750575625972,2.9790938219532461,3.5749125863438955,4.7665501151251943,5.9581876439064922,7.1498251726877911,8.341462701469089,9.5331002302503887,10.724737759031687,11.916375287812984,null,71,1.9770536893664614,5.0000003340698096E-2,9.0980993161532631E-2,0.21956430590988441,0.42679788270452979,0.65798031881728991,0.84101433973236128,0.94411859430635292,0.99722849384883649,0.99996204345704964,0.99999986277425978,0.99999999987206389,0.99999999999996969,1,1,{"$f":"IF($E$62,HLOOKUP($E$17,AE$61:AR130,AT130),NA())","v":0.84101433973236128},70]
[null,null,null,null,null,null,null,null,null,null,null,72,142,0,0.60000000000000009,1.2000000000000002,1.8,2.4000000000000004,3,3.6,4.8000000000000007,6,7.2,8.4,9.6000000000000014,10.8,12,null,72,1.9768109627460095,5.0000003411073135E-2,9.1577218047689257E-2,0.22203374439489343,0.43175279507243891,0.66414339677397993,0.84606182171414634,0.9469077949335919,0.99750240163104753,0.99996820257993035,0.99999989526444932,0.99999999991280841,0.9999999999999819,1,1,{"$f":"IF($E$62,HLOOKUP($E$17,AE$61:AR131,AT131),NA())","v":0.84606182171414634},71]
[null,null,null,null,null,null,null,null,null,null,null,73,144,0,0.60415229867972864,1.2083045973594573,1.8124568960391858,2.4166091947189146,3.0207614933986431,3.6249137920783716,4.8332183894378291,6.0415229867972862,7.2498275841567432,8.4581321815162003,9.6664367788756582,10.874741376235114,12.083045973594572,null,73,1.9765750343522277,5.0000003480867639E-2,9.2173705592612953E-2,0.22450247269181645,0.43668382367648606,0.670219883276989,0.85096780402217764,0.94956703454302416,0.9977499273254945,0.99997337371290163,0.99999992010620598,0.99999999994061683,0.99999999999998923,1,1,{"$f":"IF($E$62,HLOOKUP($E$17,AE$61:AR132,AT132),NA())","v":0.85096780402217764},72]
[null,null,null,null,null,null,null,null,null,null,null,74,146,0,0.60827625302982202,1.216552506059644,1.8248287590894658,2.4331050121192881,3.0413812651491097,3.6496575181789317,4.8662100242385762,6.0827625302982193,7.2993150363578634,8.5158675424175065,9.7324200484771524,10.948972554536796,12.165525060596439,null,74,1.9763456225290486,5.0000003550184968E-2,9.2770454065420949E-2,0.22697041968136145,0.44159070866557026,0.6762102063381874,0.85573535445833038,0.95210174567606065,0.99797353144580492,0.99997771328075935,0.99999993908885809,0.99999999995958277,0.99999999999999356,1,1,{"$f":"IF($E$62,HLOOKUP($E$17,AE$61:AR133,AT133),NA())","v":0.85573535445833038},73]
[null,null,null,null,null,null,null,null,null,null,null,75,148,0,0.61237243569579447,1.2247448713915889,1.8371173070873834,2.4494897427831779,3.0618621784789726,3.6742346141747668,4.8989794855663558,6.1237243569579451,7.3484692283495336,8.5732140997411221,9.7979589711327115,11.022703842524301,12.24744871391589,null,75,1.9761224609673742,5.000000361891288E-2,9.3367461734936708E-2,0.22943751493673303,0.44647320007164781,0.68211482264502799,0.86036752065368405,0.95451717685921844,0.99817545447276168,0.99998135331239724,0.99999995358594185,0.99999999997250921,0.99999999999999623,1,1,{"$f":"IF($E$62,HLOOKUP($E$17,AE$61:AR134,AT134),NA())","v":0.86036752065368405},74]
[null,null,null,null,null,null,null,null,null,null,null,76,150,0,0.61644140029689765,1.2328828005937953,1.8493242008906927,2.4657656011875906,3.082207001484488,3.6986484017813854,4.9315312023751812,6.164414002968976,7.3972968035627709,8.6301796041565666,9.8630624047503623,11.095945205344158,12.328828005937952,null,76,1.9759052976736529,5.0000003686924699E-2,9.396472687013302E-2,0.23190368872085576,0.45133105763907055,0.68793421613364836,0.86486732725278737,0.95681839566009619,0.99835773541614081,0.99998440517909548,0.99999996465112428,0.99999999998131328,0.99999999999999778,1,1,{"$f":"IF($E$62,HLOOKUP($E$17,AE$61:AR135,AT135),NA())","v":0.86486732725278737},75]
[null,null,null,null,null,null,null,null,null,null,null,77,152,0,0.62048368229954287,1.2409673645990857,1.8614510468986285,2.4819347291981715,3.1024184114977142,3.722902093797257,4.963869458396343,6.2048368229954285,7.445804187594514,8.6867715521935995,9.9277389167926859,11.168706281391771,12.409673645990857,null,77,1.9756938940206985,5.0000003754427924E-2,9.4562247740685557E-2,0.23436887198359113,0.45616405065554677,0.69366889660313547,0.869237773313836,0.9590102919704816,0.99852222894404141,0.99998696277187493,0.99999997309215105,0.99999999998730571,0.99999999999999867,1,1,{"$f":"IF($E$62,HLOOKUP($E$17,AE$61:AR136,AT136),NA())","v":0.869237773313836},76]
[null,null,null,null,null,null,null,null,null,null,null,78,154,0,0.62449979983983983,1.2489995996796797,1.8734993995195195,2.4979991993593593,3.1224989991991992,3.746998799039039,4.9959983987187186,6.2449979983983983,7.493997598078078,8.7429971977577576,9.9919967974374373,11.240996397117117,12.489995996796797,null,78,1.9754880238731407,5.0000003821376149E-2,9.5160022616610607E-2,0.23683299635811372,0.46097195778414846,0.6993193983703172,0.87348182991670598,0.96109758148477786,0.99867062117385297,0.99998910520000395,0.99999997952784359,0.99999999999138178,0.99999999999999922,1,1,{"$f":"IF($E$62,HLOOKUP($E$17,AE$61:AR137,AT137),NA())","v":0.87348182991670598},77]
[null,null,null,null,null,null,null,null,null,null,null,79,156,0,0.62849025449882667,1.2569805089976533,1.88547076349648,2.5139610179953067,3.1424512724941334,3.77094152699296,5.0279220359906134,6.2849025449882667,7.5418830539859201,8.7988635629835734,10.055844071981227,11.31282458097888,12.569805089976533,null,79,1.975287472780638,5.0000003887673561E-2,9.5758049768641107E-2,0.23929599415788017,0.46575456689746464,0.70488627896460931,0.87760243796827841,0.96308480934453111,0.99880444421496717,0.99999089908105088,0.99999998443198479,0.99999999999415257,0.99999999999999956,1,1,{"$f":"IF($E$62,HLOOKUP($E$17,AE$61:AR138,AT138),NA())","v":0.87760243796827841},78]
[null,null,null,null,null,null,null,null,null,null,null,80,158,0,0.63245553203367588,1.2649110640673518,1.8973665961010275,2.5298221281347035,3.1622776601683791,3.7947331922020551,5.0596442562694071,6.3245553203367582,7.5894663844041101,8.8543774484714621,10.119288512538814,11.384199576606166,12.649110640673516,null,80,1.9750920372326588,5.0000003953523331E-2,9.6356327468740566E-2,0.24175779837369438,0.47051167491351953,0.71037011786229465,0.88160250619459202,0.96497635392203962,0.99892508954913484,0.99999240048276683,0.99999998816708735,0.99999999999603495,0.99999999999999967,1,1,{"$f":"IF($E$62,HLOOKUP($E$17,AE$61:AR139,AT139),NA())","v":0.88160250619459202},79]
[null,null,null,null,null,null,null,null,null,null,null,81,160,0,0.63639610306789285,1.2727922061357857,1.9091883092036783,2.5455844122715714,3.1819805153394642,3.8183766184073566,5.0911688245431428,6.3639610306789285,7.6367532368147133,8.909545442950499,10.182337649086286,11.45512985522207,12.727922061357857,null,81,1.9749015239697845,5.000000401874094E-2,9.6954853989601353E-2,0.2442183426698411,0.47524308763273526,0.71577151525870053,0.88548490931175117,0.96677643071817132,0.99903382033010113,0.99999365656867434,0.99999999101035764,0.99999999999731282,0.99999999999999978,1,1,{"$f":"IF($E$62,HLOOKUP($E$17,AE$61:AR140,AT140),NA())","v":0.88548490931175117},80]
[null,null,null,null,null,null,null,null,null,null,null,82,162,0,0.6403124237432849,1.2806248474865698,1.9209372712298545,2.5612496949731396,3.2015621187164243,3.8418745424597089,5.1224993899462792,6.4031242374328485,7.6837490849194179,8.9643739324059872,10.244998779892558,11.525623627379128,12.806248474865697,null,82,1.9747157493462049,5.0000004083324057E-2,9.7553627605338034E-2,0.24667756138123864,0.47994861957733648,0.72109109087876377,0.88925248636569476,0.96848909635176761,0.99913178267986191,0.99999470699143445,0.99999999317364274,0.9999999999981799,0.99999999999999989,1,1,{"$f":"IF($E$62,HLOOKUP($E$17,AE$61:AR141,AT141),NA())","v":0.88925248636569476},81]
[null,null,null,null,null,null,null,null,null,null,null,83,164,0,0.6442049363362562,1.2884098726725124,1.9326148090087685,2.5768197453450248,3.2210246816812811,3.8652296180175369,5.1536394906900496,6.4420493633625622,7.7304592360350739,9.0188691087075856,10.307278981380099,11.595688854052613,12.884098726725124,null,83,1.9745345387393205,5.0000004147385257E-2,9.815264659156131E-2,0.24913538951000846,0.48462809383207284,0.72632948282401522,0.8929080392323584,0.97011825261971896,0.99922001605460886,0.99999558507193798,0.99999999481874635,0.99999999999876799,0.99999999999999989,1,1,{"$f":"IF($E$62,HLOOKUP($E$17,AE$61:AR142,AT142),NA())","v":0.8929080392323584},82]
[null,null,null,null,null,null,null,null,null,null,null,84,166,0,0.64807406984078608,1.2961481396815722,1.944222209522358,2.5922962793631443,3.2403703492039302,3.888444419044716,5.1845925587262887,6.4807406984078604,7.7768888380894321,9.0730369777710038,10.369185117452577,11.665333257134149,12.961481396815721,null,84,1.9743577260023577,5.0000004210796867E-2,9.8751909225159196E-2,0.25159176272177586,0.48928134188645356,0.73148734645597235,0.8964543312698573,0.97166765060873228,0.99929946274922066,0.9999963187963572,0.99999999606917933,0.99999999999916644,1,1,1,{"$f":"IF($E$62,HLOOKUP($E$17,AE$61:AR143,AT143),NA())","v":0.8964543312698573},83]
[null,null,null,null,null,null,null,null,null,null,null,85,168,0,0.65192024052026487,1.3038404810405297,1.9557607215607944,2.6076809620810595,3.2596012026013241,3.9115214431215888,5.215361924162119,6.5192024052026483,7.8230428862431776,9.1268833672837069,10.430723848324238,11.734564329364767,13.038404810405297,null,85,1.9741851529561125,5.0000004273616283E-2,9.9351413784833809E-2,0.2540466173426168,0.49390820347923281,0.7365653533151828,0.89989408611476063,0.97314089484153188,0.99937097660503427,0.99999693165873627,0.99999999701916886,0.99999999999943634,1,1,1,{"$f":"IF($E$62,HLOOKUP($E$17,AE$61:AR144,AT144),NA())","v":0.89989408611476063},84]
[null,null,null,null,null,null,null,null,null,null,null,86,170,0,0.65574385243020006,1.3114877048604001,1.9672315572906001,2.6229754097208002,3.2787192621510002,3.9344631145812001,5.2459508194416005,6.5574385243020004,7.8689262291624003,9.1804139340228001,10.491901638883201,11.803389343743602,13.114877048604001,null,86,1.9740166689171326,5.0000004335914894E-2,9.995115855103498E-2,0.25649989035543397,0.49850852644416421,0.74156419007472563,0.90322998661445431,0.97454144744168936,0.99943533098163095,0.99999744337252472,0.99999999774056214,0.99999999999961908,1,1,1,{"$f":"IF($E$62,HLOOKUP($E$17,AE$61:AR145,AT145),NA())","v":0.90322998661445431},85]
[null,null,null,null,null,null,null,null,null,null,null,87,172,0,0.65954529791364602,1.319090595827292,1.9786358937409378,2.6381811916545841,3.2977264895682299,3.9572717874818757,5.2763623833091682,6.5954529791364598,7.9145435749637514,9.2336341707910439,10.552724766618336,11.871815362445629,13.19090595827292,null,87,1.9738521302589724,5.0000004397660391E-2,0.10055114180594926,0.25895151939636596,0.50308216655752913,0.74648455752774234,0.90646467388826713,0.9758726323028859,0.99949322604948343,0.99999787047115041,0.99999999828811192,0.99999999999974265,1,1,1,{"$f":"IF($E$62,HLOOKUP($E$17,AE$61:AR146,AT146),NA())","v":0.90646467388826713},86]
[null,null,null,null,null,null,null,null,null,null,null,88,174,0,0.66332495807107994,1.3266499161421599,1.9899748742132397,2.6532998322843198,3.3166247903553998,3.9799497484264794,5.3065996645686395,6.6332495807107996,7.9598994968529588,9.286549412995118,10.613199329137279,11.93984924527944,13.266499161421599,null,88,1.9736914000038777,5.0000004458781833E-2,0.10115136183364826,0.26140144275132848,0.5076289873875266,0.75132716960825152,0.90960074651019285,0.9771376392497505,0.99954529545659743,0.99999822681470563,0.99999999870352174,0.99999999999982625,1,1,1,{"$f":"IF($E$62,HLOOKUP($E$17,AE$61:AR147,AT147),NA())","v":0.90960074651019285},87]
[null,null,null,null,null,null,null,null,null,null,null,89,176,0,0.66708320320631675,1.3341664064126335,2.00124960961895,2.668332812825267,3.3354160160315836,4.0024992192379001,5.336665625650534,6.6708320320631671,8.0049984384758002,{"$f":"X$61/SQRT(2/$L148)","v":9.3391648448884332},10.673331251301068,12.007497657713701,13.341664064126334,null,89,1.973534347442055,5.0000004519341057E-2,0.10175181692037671,0.26384959935272212,0.51214886014555017,0.75609275244496055,0.91264075980639137,0.97833952817871106,0.99959211241870449,0.9999985240166942,0.99999999901853942,0.99999999999988276,1,1,1,{"$f":"IF($E$62,HLOOKUP($E$17,AE$61:AR148,AT148),NA())","v":0.91264075980639137},88]
[null,null,null,null,null,null,null,null,null,null,null,90,178,0,{"$f":"O$61/SQRT(2/$L149)","v":0.67082039324993692},1.3416407864998738,2.0124611797498106,2.6832815729997477,3.3541019662496843,4.0249223594996213,5.3665631459994954,6.7082039324993685,8.0498447189992426,9.3914855054991158,10.733126291998991,12.074767078498864,13.416407864998737,null,90,1.9733808477778281,5.0000004579275892E-2,0.10235250535433738,0.26629592877553721,0.51664166353865792,0.76078204344597866,0.91558722526056002,0.97948123316839986,0.99963419527914754,0.99999877180414132,0.99999999925732108,0.99999999999992095,1,1,1,{"$f":"IF($E$62,HLOOKUP($E$17,AE$61:AR149,AT149),NA())","v":0.91558722526056002},89]
[null,null,null,null,null,null,null,null,null,null,null,91,180,0,0.67453687816160213,1.3490737563232043,2.0236106344848062,2.6981475126464085,3.3726843908080104,4.0472212689696123,5.396295025292817,6.7453687816160208,8.0944425379392246,9.4435162942624284,10.792590050585634,12.141663806908838,13.490737563232042,null,91,1.9732307817983901,5.0000004638750539E-2,0.10295342542613817,0.26874037123419581,0.52110728362443481,0.76539579041554007,0.91844261002129168,0.98056556655049076,0.99967201258137572,0.99999897832037676,0.99999999943823759,0.99999999999994671,1,1,1,{"$f":"IF($E$62,HLOOKUP($E$17,AE$61:AR150,AT150),NA())","v":0.91844261002129168},90]
[null,null,null,null,null,null,null,null,null,null,null,92,182,0,0.67823299831252681,1.3564659966250536,2.0346989949375804,2.7129319932501073,3.3911649915626341,4.0693979898751609,5.4258639865002145,6.7823299831252681,8.1387959797503218,9.4952619763753745,10.851727973000429,12.208193969625484,13.564659966250536,null,92,1.9730840355654431,5.0000004697540512E-2,0.10355457542825486,0.27118286757840826,0.52554561366681762,0.76993475070037021,0.92120933650487979,0.98159522293260182,0.99970598769388364,0.99999915037978793,0.9999999995752531,0.99999999999996414,1,1,1,{"$f":"IF($E$62,HLOOKUP($E$17,AE$61:AR151,AT151),NA())","v":0.92120933650487979},91]
[null,null,null,null,null,null,null,null,null,null,null,93,184,0,0.6819090848492928,1.3638181696985856,2.0457272545478782,2.7276363393971712,3.4095454242464638,4.0914545090957564,5.4552726787943424,6.8190908484929276,8.1829090181915127,9.546727187890097,10.910545357588685,12.274363527287269,13.638181696985855,null,93,1.9729405001263296,5.0000004755857752E-2,0.10415595365589736,0.27362335929031845,0.52995655399460007,0.77439969036656886,0.92388978208821859,0.98257278316612784,0.9997365030245261,0.99999929368263818,0.99999999967897679,0.9999999999999758,1,1,1,{"$f":"IF($E$62,HLOOKUP($E$17,AE$61:AR152,AT152),NA())","v":0.92388978208821859},92]
[null,null,null,null,null,null,null,null,null,null,null,94,186,0,0.68556546004010444,1.3711309200802089,2.0566963801203131,2.7422618401604177,3.427827300200522,4.1133927602406262,5.4845236803208355,6.8556546004010439,8.2267855204812523,9.5979164405614608,10.969047360641671,12.340178280721879,13.711309200802088,null,94,1.9728000712446017,5.0000004813584131E-2,0.10475755840633094,0.27606178848024276,0.53434001186063285,0.77879138340438847,0.92648627888575352,0.98350071825249463,0.99976390385840863,0.99999941299493877,0.99999999975746534,0.99999999999998368,1,1,1,{"$f":"IF($E$62,HLOOKUP($E$17,AE$61:AR153,AT153),NA())","v":0.92648627888575352},93]
[null,null,null,null,null,null,null,null,null,null,null,95,188,0,0.68920243760451116,1.3784048752090223,2.0676073128135335,2.7568097504180447,3.4460121880225558,4.135214625627067,5.5136195008360893,6.8920243760451116,8.270429251254134,9.6488341264631554,11.027239001672179,12.4056438768812,13.784048752090223,null,95,1.9726626491473334,5.0000004870777826E-2,0.10535938797942168,0.2784980978835172,0.53869590130359668,0.78311061096250412,0.92900111360558413,0.98438139318238516,0.99978850185098134,0.99999951230024609,0.99999999981683407,0.99999999999998901,1,1,1,{"$f":"IF($E$62,HLOOKUP($E$17,AE$61:AR154,AT154),NA())","v":0.92900111360558413},94]
[null,null,null,null,null,null,null,null,null,null,null,96,190,0,0.69282032302755103,1.3856406460551021,2.078460969082653,2.7712812921102041,3.4641016151377548,4.156921938165306,5.5425625842204083,6.9282032302755097,8.3138438763306119,9.6994845223857133,11.085125168440817,12.470765814495918,13.856406460551019,null,96,1.9725281382889448,5.0000004927396202E-2,0.10596144067741731,0.28093223085662522,0.54302414301091018,0.78735816060889918,0.93143652747930827,0.98521707070304909,0.99981057820554831,0.99999959492642843,0.9999999998617225,0.99999999999999267,1,1,1,{"$f":"IF($E$62,HLOOKUP($E$17,AE$61:AR155,AT155),NA())","v":0.93143652747930827},95]
[null,null,null,null,null,null,null,null,null,null,null,97,192,0,0.69641941385920603,1.3928388277184121,2.089258241577618,2.7856776554368241,3.4820970692960302,4.1785164831552359,5.5713553108736482,6.9641941385920605,8.3570329663104719,9.7498717940288842,11.142710621747296,12.535549449465709,13.928388277184121,null,97,1.9723964471293134,5.0000004983590918E-2,0.10656371480529958,0.28336413137389649,0.54732466418384973,0.79153482561967781,0.93379471626099197,0.98600991500965851,0.99983038656212708,0.99999966365302284,0.99999999989564892,0.999999999999995,1,1,1,{"$f":"IF($E$62,HLOOKUP($E$17,AE$61:AR156,AT156),NA())","v":0.93379471626099197},96]
[null,null,null,null,null,null,null,null,null,null,null,98,194,0,0.70000000000000007,1.4000000000000001,2.1,2.8000000000000003,3.5,4.2,5.6000000000000005,7,8.4,9.8000000000000007,11.200000000000001,12.600000000000001,14,null,98,1.9722674879266426,5.0000005039073203E-2,0.10716620867018967,0.28579374402326096,0.55159739840358057,0.79564140429279706,0.93607783029031155,0.9867619953571547,0.99984815562251961,0.99999972079992883,0.9999999999212803,0.99999999999999667,1,1,1,{"$f":"IF($E$62,HLOOKUP($E$17,AE$61:AR157,AT157),NA())","v":0.93607783029031155},97]
[null,null,null,null,null,null,null,null,null,null,null,99,196,0,0.70356236397351435,1.4071247279470287,2.1106870919205432,2.8142494558940574,3.5178118198675716,4.2213741838410863,5.6284989117881148,7.0356236397351433,8.4427483676821726,9.8498730956292011,11.25699782357623,12.664122551523258,14.071247279470287,null,99,1.9721411765418351,5.0000005094145039E-2,0.10776892058240639,0.28822101400356981,0.55584228550014814,0.79967869928920343,0.93828797461590252,0.98747528958983122,0.99986409153444933,0.99999976830355308,0.99999999994063749,0.99999999999999778,1,1,1,{"$f":"IF($E$62,HLOOKUP($E$17,AE$61:AR158,AT158),NA())","v":0.93828797461590252},98]
[null,null,null,null,null,null,null,null,null,null,null,100,198,0,0.70710678118654757,1.4142135623730951,2.1213203435596424,2.8284271247461903,3.5355339059327378,4.2426406871192848,5.6568542494923806,7.0710678118654755,8.4852813742385695,9.8994949366116654,11.313708498984761,12.727922061357855,14.142135623730951,null,100,1.972017432255901,5.0000005148653215E-2,0.10837184885449913,0.29064588712007211,0.56005927142175826,0.8036475169971885,0.94042720917412947,0.98815168758617156,0.99987838005579033,0.99999980777898212,0.99999999995525068,0.99999999999999845,1,1,1,{"$f":"IF($E$62,HLOOKUP($E$17,AE$61:AR159,AT159),NA())","v":0.94042720917412947},99]
[null,null,null,null,null,null,null,null,null,null,null,null,null,"d"]
[null,null,null,null,null,null,null,null,null,null,null,null,null,{"$f":"N61","v":0},{"$f":"O61","v":0.1},0.2,0.3,0.4,0.5,0.6,0.8,1,1.2,1.4,1.6,1.8,2,null,null,null,{"$f":"AE61","v":0},{"$f":"AF61","v":0.1},0.2,0.3,0.4,0.5,0.6,0.8,1,1.2,1.4,1.6,1.8,2]
[null,null,null,null,null,null,null,null,null,null,null,{"$f":"E30","v":100},{"$f":"2*L162-2","v":198},{"$f":"N$61/SQRT(2/$L162)","v":0},0.70710678118654757,1.4142135623730951,2.1213203435596424,2.8284271247461903,3.5355339059327378,4.2426406871192848,5.6568542494923806,7.0710678118654755,8.4852813742385695,9.8994949366116654,11.313708498984761,12.727922061357855,14.142135623730951,null,{"$f":"E30","v":100},{"$f":"NORMSINV(1-$E$7/2)","v":1.959963984540054},{"$f":"1-NORMSDIST($AD162-N162)+NORMSDIST(-$AD162-N162)","v":5.0000000000000266E-2},{"$f":"1-NORMSDIST($AD162-O162)+NORMSDIST(-$AD162-O162)","v":0.10895461755061542},0.29298893644798785,0.56411602543099948,0.80743041943260752,0.94243754318750828,0.98877529072779036,0.99989087168589563,0.99999983985905527,0.99999999996607114,0.999999999999999,1,1,1]
[null,null,null,null,null,null,null,null,null,null,null,null,null,null,null,null,null,null,null,null,null,null,null,null,null,null,null,null,"power",{"$f":"HLOOKUP(E17,AE161:AR162,2)","v":0.94243754318750828}]

{"sheet":"Power paired","index":8,"n_rows":163,"n_cols":46,"rows_kept":163,"cut":false,"hidden":false,"merged":[]}
[null,null,null,"Power, paired data",null,null,null,null,null,{"$f":"($D$62+$D$64+$D$65+$D$63+$C$60)/1000000","v":1.74E-4},{"$f":"$J$1","v":1.74E-4},1.74E-4,1.74E-4,1.74E-4,1.74E-4,1.74E-4,1.74E-4,1.74E-4,1.74E-4,1.74E-4,1.74E-4,1.74E-4,1.74E-4,1.74E-4,1.74E-4,1.74E-4,1.74E-4,1.74E-4,1.74E-4,1.74E-4,1.74E-4]
[null,null,null,"    Power curves and values",null,null,null,null,null,{"$f":"$J$1","v":1.74E-4},null,null,null,null,null,null,null,null,null,null,null,null,null,null,null,null,null,null,{"$f":"$J$1","v":1.74E-4},1.74E-4,{"$f":"$J$1","v":1.74E-4}]
[null,null,null,"    If s known, use z",null,null,null,null,null,1.74E-4,null,null,null,null,null,null,null,null,null,null,null,null,null,null,null,null,null,null,1.74E-4,1.74E-4,1.74E-4]
[null,null,null,"    If s not known, use t",null,null,null,null,null,1.74E-4,null,null,null,null,null,null,null,null,null,null,null,null,null,null,null,null,null,null,1.74E-4,1.74E-4,1.74E-4]
[null,null,null,null,null,null,null,null,null,1.74E-4,null,null,null,null,null,null,null,null,null,null,null,null,null,null,null,null,null,null,1.74E-4,1.74E-4,1.74E-4]
[1,"Set up",null,null,null,null,null,null,null,1.74E-4,null,null,null,null,null,null,null,null,null,null,null,null,null,null,null,null,null,null,1.74E-4,1.74E-4,1.74E-4]
[null,null,null,"Two-tail a. ",{"$f":"IF(D64=1,0.001,IF(D64=2,0.005,IF(D64<13,(D64-2)/100,(D64-10)/20)))","v":0.01},null,null,null,null,1.74E-4,null,null,null,null,null,null,null,null,null,null,null,null,null,null,null,null,null,null,1.74E-4,1.74E-4,1.74E-4]
[null,null,null,null,null,null,null,null,null,1.74E-4,null,null,null,null,null,null,null,null,null,null,null,null,null,null,null,null,null,null,1.74E-4,1.74E-4,1.74E-4]
[null,null,null,"Correlation r. ",{"$f":"IF(C60<16,(C60-10)/10,(C60+35)/100)","v":0.7},null,null,null,null,1.74E-4,null,null,null,null,null,null,null,null,null,null,null,null,null,null,null,null,null,null,1.74E-4,1.74E-4,1.74E-4]
[null,null,null,null,null,null,null,null,null,1.74E-4,null,null,null,null,null,null,null,null,null,null,null,null,null,null,null,null,null,null,1.74E-4,1.74E-4,1.74E-4]
[null,null,null,null,null,null,null,null,null,1.74E-4,null,null,null,null,null,null,null,null,null,null,null,null,null,null,null,null,null,null,1.74E-4,1.74E-4,1.74E-4]
[null,null,"    Use z, assume s known",null,null,null,null,null,null,1.74E-4,null,null,null,null,null,null,null,null,null,null,null,null,null,null,null,null,null,null,1.74E-4,1.74E-4,1.74E-4]
[null,null,null,null,null,null,null,null,null,1.74E-4,null,null,null,null,null,null,null,null,null,null,null,null,null,null,null,null,null,null,1.74E-4,1.74E-4,1.74E-4]
[null,null,"    Use t, assume s not known",null,null,null,null,null,null,1.74E-4,null,null,null,null,null,null,null,null,null,null,null,null,null,null,null,null,null,null,1.74E-4,1.74E-4,1.74E-4]
[2,"Effect size",null,null,null,null,null,null,null,1.74E-4,null,null,null,null,null,null,null,null,null,null,null,null,null,null,null,null,null,null,1.74E-4,1.74E-4,1.74E-4]
[null,null,null,"Label three d series",null,null,null,null,null,1.74E-4,null,null,null,null,null,null,null,null,null,null,null,null,null,null,null,null,null,null,1.74E-4,1.74E-4,1.74E-4]
[null,null,"  Highlight a d series",null,null,null,null,null,null,1.74E-4,null,null,null,null,null,null,null,null,null,null,null,null,null,null,null,null,null,null,{"$f":"$J$1","v":1.74E-4},1.74E-4,1.74E-4]
[null,null,null,"d.",{"$f":"IF(E62,IF(D63<8,(D63-1)/10,(D63-4)/5),\"\")","v":0.5},null,null,null,null,1.74E-4,null,null,null,null,null,null,null,null,null,null,null,null,null,null,null,null,null,null,1.74E-4,1.74E-4,1.74E-4]
[null,null,null,null,null,null,null,null,null,1.74E-4,null,null,null,null,null,null,null,null,null,null,null,null,null,null,null,null,null,null,1.74E-4,1.74E-4,1.74E-4]
[null,null,null,"Label highlighted d series",null,null,null,null,null,1.74E-4,null,null,null,null,null,null,null,null,null,null,null,null,null,null,null,null,null,null,1.74E-4,1.74E-4,1.74E-4]
[3,"Sample size",null,null,null,null,null,null,null,1.74E-4,null,null,null,null,null,null,null,null,null,null,null,null,null,null,null,null,null,null,1.74E-4,1.74E-4,1.74E-4]
[null,null,"      Display vertical N cursor",null,null,null,null,null,null,1.74E-4,null,null,null,null,null,null,null,null,null,null,null,null,null,null,null,null,null,null,1.74E-4,1.74E-4,1.74E-4]
[null,null,null,null,null,null,null,null,null,1.74E-4,null,null,null,null,null,null,null,null,null,null,null,null,null,null,null,null,null,null,1.74E-4,1.74E-4,1.74E-4]
[5,"Power",null,null,null,null,null,null,null,1.74E-4,null,null,null,null,null,null,null,null,null,null,null,null,null,null,null,null,null,null,1.74E-4,1.74E-4,1.74E-4]
[null,null,"Display horizontal power cursor",null,null,null,null,null,null,1.74E-4,null,null,null,null,null,null,null,null,null,null,null,null,null,null,null,null,null,null,1.74E-4,1.74E-4,1.74E-4]
[null,null,null,null,null,null,null,null,null,1.74E-4,null,null,null,null,null,null,null,null,null,null,null,null,null,null,null,null,null,null,1.74E-4,1.74E-4,1.74E-4]
[null,null,null,"Cursor position ",{"$f":"IF(E66,D65/100,\"\")","v":0.9},null,null,null,null,1.74E-4,null,null,null,null,null,null,null,null,null,null,null,null,null,null,null,null,null,null,1.74E-4,1.74E-4,1.74E-4]
[null,null,null,null,null,null,null,null,null,1.74E-4,null,null,null,null,null,null,null,null,null,null,null,null,null,null,null,null,null,null,1.74E-4,1.74E-4,1.74E-4]
[null,6,"Power for large N, using z",null,null,null,null,null,null,1.74E-4,null,null,null,null,null,null,null,null,null,null,null,null,null,null,null,null,null,null,1.74E-4,1.74E-4,1.74E-4]
[null,null,null,"N ",100,null,null,null,null,1.74E-4,null,null,null,null,null,null,null,null,null,null,null,null,null,null,null,null,null,null,1.74E-4,1.74E-4,1.74E-4]
[null,null,null,null,null,null,null,null,null,1.74E-4,null,null,null,null,null,null,null,null,null,null,null,null,null,null,null,null,null,null,1.74E-4,1.74E-4,1.74E-4]
[null,null,null,null,null,null,null,null,null,1.74E-4,null,null,null,null,null,null,null,null,null,null,null,null,null,null,null,null,null,null,1.74E-4,1.74E-4,1.74E-4]
[null,null,null,"Power ",{"$f":"IF(E62,AD163,\"\")","v":0.99994758742655432},null,null,null,null,1.74E-4,null,null,null,null,null,null,null,null,null,null,null,null,null,null,null,null,null,null,1.74E-4,1.74E-4,1.74E-4]
[]
[null,null,null,null,null,null,null,null,null,4]
[]
[]
[]
[]
[]
[]
[]
[]
[]
[]
[]
[]
[]
[]
[]
[]
[]
[]
[]
[]
[]
[]
[]
[]
[null,null,35,"r slider",2,"1=normal, 2=nct",null,null,null,null,null,"D table",null,"d",null,null,null,null,null,null,null,null,null,null,null,null,null,null,"Power table"]
[null,null,null,null,{"$f":"IF(E60=1, TRUE, FALSE)","v":false},"Use normal?",null,null,null,null,null,"N","df",0,0.1,0.2,0.3,0.4,0.5,0.6,0.8,1,1.2,1.4,1.6,1.8,2,null,"N","z or t crit",{"$f":"N61","v":0},0.1,{"$f":"P61","v":0.2},0.3,{"$f":"R61","v":0.4},0.5,{"$f":"T61","v":0.6},0.8,1,1.2,1.4,1.6,1.8,2,"Selected","Row no."]
[null,null,"for N slider",40,true,"Blue series highlighted d",null,null,null,null,null,3,{"$f":"L62-1","v":2},{"$f":"N$61*SQRT($L62/(2*(1-$E$9)))","v":0},{"$f":"O$61*SQRT($L62/(2*(1-$E$9)))","v":0.22360679774997894},0.44721359549995787,0.67082039324993681,0.89442719099991574,1.1180339887498947,1.3416407864998736,1.7888543819998315,2.2360679774997894,2.6832815729997472,3.1304951684997051,3.577708763999663,4.0249223594996213,4.4721359549995787,null,3,{"$f":"IF($E$61,NORMSINV(1-$E$7/2),TINV($E$7,$M62))","v":9.9248432004747045},{"$f":"IF($E$61,1-NORMSDIST($AD62-N62)+NORMSDIST(-$AD62-N62),nct(-$AD62,N62,$M62)+1-nct($AD62,N62,$M62))","v":9.9999868099185374E-3},{"$f":"IF($E$61,1-NORMSDIST($AD62-O62)+NORMSDIST(-$AD62-O62),nct(-$AD62,O62,$M62)+1-nct($AD62,O62,$M62))","v":1.0492396787128766E-2},{"$f":"IF($E$61,1-NORMSDIST($AD62-P62)+NORMSDIST(-$AD62-P62),nct(-$AD62,P62,$M62)+1-nct($AD62,P62,$M62))","v":1.1968149272712947E-2},{"$f":"IF($E$61,1-NORMSDIST($AD62-Q62)+NORMSDIST(-$AD62-Q62),nct(-$AD62,Q62,$M62)+1-nct($AD62,Q62,$M62))","v":1.4422828824385059E-2},{"$f":"IF($E$61,1-NORMSDIST($AD62-R62)+NORMSDIST(-$AD62-R62),nct(-$AD62,R62,$M62)+1-nct($AD62,R62,$M62))","v":1.7849121815529334E-2},{"$f":"IF($E$61,1-NORMSDIST($AD62-S62)+NORMSDIST(-$AD62-S62),nct(-$AD62,S62,$M62)+1-nct($AD62,S62,$M62))","v":2.2236858700481421E-2},{"$f":"IF($E$61,1-NORMSDIST($AD62-T62)+NORMSDIST(-$AD62-T62),nct(-$AD62,T62,$M62)+1-nct($AD62,T62,$M62))","v":2.7573051579899865E-2},{"$f":"IF($E$61,1-NORMSDIST($AD62-U62)+NORMSDIST(-$AD62-U62),nct(-$AD62,U62,$M62)+1-nct($AD62,U62,$M62))","v":4.1025072228240811E-2},{"$f":"IF($E$61,1-NORMSDIST($AD62-V62)+NORMSDIST(-$AD62-V62),nct(-$AD62,V62,$M62)+1-nct($AD62,V62,$M62))","v":5.8047407396828121E-2},{"$f":"IF($E$61,1-NORMSDIST($AD62-W62)+NORMSDIST(-$AD62-W62),nct(-$AD62,W62,$M62)+1-nct($AD62,W62,$M62))","v":7.8442704410250474E-2},{"$f":"IF($E$61,1-NORMSDIST($AD62-X62)+NORMSDIST(-$AD62-X62),nct(-$AD62,X62,$M62)+1-nct($AD62,X62,$M62))","v":0.10197767576627093},{"$f":"IF($E$61,1-NORMSDIST($AD62-Y62)+NORMSDIST(-$AD62-Y62),nct(-$AD62,Y62,$M62)+1-nct($AD62,Y62,$M62))","v":0.12838749131496308},{"$f":"IF($E$61,1-NORMSDIST($AD62-Z62)+NORMSDIST(-$AD62-Z62),nct(-$AD62,Z62,$M62)+1-nct($AD62,Z62,$M62))","v":0.15738096130769041},{"$f":"IF($E$61,1-NORMSDIST($AD62-AA62)+NORMSDIST(-$AD62-AA62),nct(-$AD62,AA62,$M62)+1-nct($AD62,AA62,$M62))","v":0.18864561680482339},{"$f":"IF($E$62,HLOOKUP($E$18,AE$61:AR62,AT62),NA())","v":2.2236858700481421E-2},2]
[null,null,"for d",6,true,"Display label on d series",null,null,null,null,null,4,{"$f":"L63-1","v":3},0,{"$f":"O$61*SQRT($L63/(2*(1-$E$9)))","v":0.25819888974716115},0.51639777949432231,0.77459666924148329,1.0327955589886446,1.2909944487358056,1.5491933384829666,2.0655911179772892,2.5819888974716112,3.0983866769659332,3.6147844564602556,4.1311822359545785,4.6475800154489004,5.1639777949432224,null,4,5.8409093094322149,{"$f":"IF($E$61,1-NORMSDIST($AD63-N63)+NORMSDIST(-$AD63-N63),nct(-$AD63,N63,$M63)+1-nct($AD63,N63,$M63))","v":1.0004353273790456E-2},1.0942723951974598E-2,1.3799032199545591E-2,1.8690954783026292E-2,2.5796004676018169E-2,3.5327115110176055E-2,4.750447085793108E-2,8.0551514095312693E-2,0.12589216772946354,0.18332949232936335,0.25141537491881905,0.32764346090255692,0.40881028841839917,0.49143910171760485,{"$f":"IF($E$62,HLOOKUP($E$18,AE$61:AR63,AT63),NA())","v":3.5327115110176055E-2},3]
[null,null,"For a",3,true,"Display d labels",null,null,null,null,null,5,4,0,0.28867513459481287,0.57735026918962573,0.8660254037844386,1.1547005383792515,1.4433756729740643,1.7320508075688772,2.3094010767585029,2.8867513459481287,3.4641016151377544,4.0414518843273797,4.6188021535170058,5.196152422706632,5.7735026918962573,null,5,4.6040948712322471,9.9999999159968711E-3,1.1456620212643709E-2,1.5967903124831206E-2,2.3935939608621393E-2,3.5960157044781949E-2,5.2741899334302289E-2,7.4970432773862727E-2,0.13777732044098023,0.22564804704017394,0.33454581213098322,0.45562850096339635,0.57763154700020514,0.68991853688919635,0.78491084022552082,{"$f":"IF($E$62,HLOOKUP($E$18,AE$61:AR64,AT64),NA())","v":5.2741899334302289E-2},4]
[null,null,"For power",90,true,"Display N cursor",null,null,null,null,null,6,5,0,0.31622776601683794,0.63245553203367588,0.94868329805051366,1.2649110640673518,1.5811388300841895,1.8973665961010273,2.5298221281347035,3.1622776601683791,3.7947331922020546,4.4271887242357302,5.0596442562694071,5.6920997883030822,6.3245553203367582,null,6,4.032142983343908,9.9999802770114332E-3,1.2017792557888596E-2,1.8378366557395998E-2,2.9948171832485659E-2,4.7992997664687564E-2,7.3929381728450316E-2,0.10901967669132107,0.20911683484406129,0.34514233924598636,0.50090932989011971,0.65315966846041951,0.78152667666537057,0.87569782460698753,0.93623314050104089,{"$f":"IF($E$62,HLOOKUP($E$18,AE$61:AR65,AT65),NA())","v":7.3929381728450316E-2},5]
[null,null,null,null,true,"Display power cursor",null,null,null,null,null,7,6,0,0.34156502553198664,0.68313005106397329,1.0246950765959597,1.3662601021279466,1.707825127659933,2.0493901531919194,2.7325202042558931,3.415650255319866,4.0987803063838388,4.7819103574478117,5.4650404085117863,6.1481704595757591,6.831300510639732,null,7,3.7074280203872148,9.9999998921940225E-3,1.2606921397442683E-2,2.0968576862010813E-2,3.6596006983100393E-2,6.1638819774598064E-2,9.8357665808245009E-2,0.14847420480329554,0.28946296115086056,0.46925872111182587,0.65221623324995437,0.80270014652436383,0.90384188526667941,0.95989898371538207,0.98571416818408641,{"$f":"IF($E$62,HLOOKUP($E$18,AE$61:AR66,AT66),NA())","v":9.8357665808245009E-2},6]
[null,null,"d label",{"$f":"IF(E63,AC74-F67,NA())","v":13.7},{"$f":"AS74","v":0.35672621567296936},1.3,null,null,null,null,null,8,7,0,0.36514837167011072,0.73029674334022143,1.0954451150103321,1.4605934866804429,1.8257418583505536,2.1908902300206643,2.9211869733608857,3.6514837167011072,4.3817804600413286,5.11207720338155,5.8423739467217715,6.5726706900619929,7.3029674334022143,null,8,3.4994832972544687,1.0000000024260713E-2,1.321578670015211E-2,2.3706237064951119E-2,4.3799959769181829E-2,7.6704843513811349E-2,0.12553081814239664,0.19210846673888682,0.37366496487959422,0.5857065379204115,0.77234687019385018,0.89775623008297301,0.96279657859111867,0.98907699106677749,0.9974157492263579,{"$f":"IF($E$62,HLOOKUP($E$18,AE$61:AR67,AT67),NA())","v":0.12553081814239664},7]
[null,null,"d label",{"$f":"IF(E63,AC74+F68+G68,NA())","v":16.350000000000001},{"$f":"E67","v":0.35672621567296936},1,0.35,null,null,null,null,9,8,0,0.3872983346207417,0.7745966692414834,1.1618950038622249,1.5491933384829668,1.9364916731037083,2.3237900077244498,3.0983866769659336,3.8729833462074166,4.6475800154488995,5.4221766846903829,6.1967733539318672,6.9713700231733498,7.7459666924148332,null,9,3.3553873311348408,9.9999998584625605E-3,1.3839761486144186E-2,2.6572252675314378E-2,5.1505963440425573E-2,9.3030961871060525E-2,0.15498115988924877,0.23873317548439887,0.45731072043349696,0.6870241209375274,0.85862502328959633,0.95089981300543869,0.98701088778444701,0.99739287632676998,0.99960332241938166,{"$f":"IF($E$62,HLOOKUP($E$18,AE$61:AR68,AT68),NA())","v":0.15498115988924877},8]
[null,null,"Vert cursor",{"$f":"IF(E65,D62,NA())","v":40},0,null,null,null,null,null,null,10,9,0,0.40824829046386296,0.81649658092772592,1.2247448713915887,1.6329931618554518,2.0412414523193148,2.4494897427831774,3.2659863237109037,4.0824829046386295,4.8989794855663549,5.7154760664940811,6.5319726474218074,7.3484692283495336,8.164965809277259,null,10,3.2498355411274824,9.9999998508780719E-3,1.4476047960960803E-2,2.955446260192518E-2,5.9673467982432893E-2,0.11047537782307193,0.18626700082557834,0.28724381116178321,0.53703702570191481,0.77021202253177246,0.91602048919960699,0.97785211812229933,0.99582517126126291,0.99943957779012482,0.99994644945850275,{"$f":"IF($E$62,HLOOKUP($E$18,AE$61:AR69,AT69),NA())","v":0.18626700082557834},9]
[null,null,"N label",{"$f":"IF(E65,D62-F70,NA())","v":38},2.1999999999999999E-2,2,null,null,null,null,null,11,10,0,0.42817441928883765,0.8563488385776753,1.2845232578665129,1.7126976771553506,2.1408720964441881,2.5690465157330258,3.4253953543107012,4.2817441928883762,5.1380930314660516,5.9944418700437261,6.8507907086214024,7.7071395471990769,8.5634883857767523,null,11,3.1692726716091739,9.9999998535604817E-3,1.5122871845935082E-2,3.2644576195880237E-2,6.8269485309575217E-2,0.12890755766589468,0.21897326950968032,0.33664878788826369,0.61055802470430087,0.83544387920032415,0.95196544628268842,0.99051725095800791,0.99874604864978311,0.99988929712029884,0.99999347540467642,{"$f":"IF($E$62,HLOOKUP($E$18,AE$61:AR70,AT70),NA())","v":0.21897326950968032},10]
[null,null,"N label",{"$f":"IF(E65,D62+F71,NA())","v":40},{"$f":"E70","v":2.1999999999999999E-2},0,null,null,null,null,null,12,11,0,0.44721359549995787,0.89442719099991574,1.3416407864998736,1.7888543819998315,2.2360679774997894,2.6832815729997472,3.577708763999663,4.4721359549995787,5.3665631459994945,6.2609903369994102,7.155417527999326,8.0498447189992426,8.9442719099991574,null,12,3.1058065135821673,9.9999998637578802E-3,1.577905706000915E-2,3.5836568584110107E-2,7.7265466281088102E-2,0.14820479142318677,0.25271321923259982,0.38608406849806942,0.67654438285719909,0.88471461830161857,0.97340360956365979,0.9961147064171505,0.99964400092029526,0.9999796009396994,0.99999926876260059,{"$f":"IF($E$62,HLOOKUP($E$18,AE$61:AR71,AT71),NA())","v":0.25271321923259982},11]
[null,null,"Point",{"$f":"IF(E65,D62,NA())","v":40},{"$f":"HLOOKUP($E$18,AE61:AR159,D72-1)","v":0.9083604846054788},0.16,null,null,null,null,null,13,12,0,0.46547466812563143,0.93094933625126286,1.3964240043768941,1.8618986725025257,2.3273733406281569,2.7928480087537881,3.7237973450050514,4.6547466812563139,5.5856960175075763,6.5166453537588387,7.4475946900101029,8.3785440262613644,9.3094933625126277,null,13,3.0545395859505025,9.9999998861806105E-3,1.6443793244183991E-2,3.9125800256228027E-2,8.6635597865743041E-2,0.16825055451234883,0.28713018222423226,0.43481813776010025,0.73443877027560911,0.92078692528811046,0.98568337784593707,0.99846689125715704,0.99990362970389057,0.99999645346439536,0.99999992353643186,{"$f":"IF($E$62,HLOOKUP($E$18,AE$61:AR72,AT72),NA())","v":0.28713018222423226},12]
[null,null,"Value under",{"$f":"IF(E72>F72,D72,NA())","v":40},{"$f":"E72","v":0.9083604846054788},null,null,null,null,null,null,14,13,0,0.48304589153964789,0.96609178307929577,1.4491376746189435,1.9321835661585915,2.4152294576982394,2.898275349237887,3.8643671323171831,4.8304589153964788,5.796550698475774,6.7626424815550701,7.7287342646343662,8.6948260477136614,9.6609178307929575,null,14,3.0122758331349129,9.9999999238552517E-3,1.7116502802306588E-2,4.250851137136058E-2,9.6355841650691998E-2,0.18893377741480344,0.32189889461256516,0.48225006939377835,0.78425928386144639,0.94650724459487179,0.99248171001848706,0.99941442410593184,0.99997495441764861,0.99999941312359242,0.99999999245850324,{"$f":"IF($E$62,HLOOKUP($E$18,AE$61:AR73,AT73),NA())","v":0.32189889461256516},13]
[null,null,"Value over",{"$f":"IF(E72<=F72,D72,NA())","v":{"$error":"#N/A"}},{"$f":"E72","v":0.9083604846054788},null,null,null,null,null,null,15,14,0,0.5,1,1.5,2,2.5,3,4,5,6,7,8,9,10,null,15,2.976842733953295,9.9999998198201379E-3,1.7796761252018567E-2,4.5981518490069262E-2,0.10640337490980456,0.21014857060103542,0.35672621567296936,0.52790277735084867,0.82641917728998548,0.96443371293283231,0.99613722869978227,0.99978261652108402,0.9999937170013089,0.99999990692712903,0.99999999929248495,{"$f":"IF($E$62,HLOOKUP($E$18,AE$61:AR74,AT74),NA())","v":0.35672621567296936},14]
[null,null,"Horiz cursor",{"$f":"IF(E66,0,NA())","v":0},{"$f":"E27","v":0.9},null,null,null,null,null,null,16,15,0,0.51639777949432231,1.0327955589886446,1.5491933384829666,2.0655911179772892,2.5819888974716112,3.0983866769659332,4.1311822359545785,5.1639777949432224,6.1967733539318663,7.2295689129205112,8.2623644719091569,9.2951600308978009,10.327955589886445,null,16,2.9467128828348832,9.999999820273886E-3,1.8484248900813349E-2,4.9542028742915356E-2,0.11675626515934479,0.23179418067220992,0.39135123431699448,0.57141311114898596,0.86157603720313658,0.97668253430643515,0.99805370224196377,0.99992130486104158,0.99999847191824742,0.99999998577620886,0.99999999993643862,{"$f":"IF($E$62,HLOOKUP($E$18,AE$61:AR75,AT75),NA())","v":0.39135123431699448},15]
[null,null,"power label",{"$f":"IF(E66,1.5,NA())","v":1.5},{"$f":"E75","v":0.9},null,null,null,null,null,null,17,16,0,0.53229064742237708,1.0645812948447542,1.5968719422671309,2.1291625896895083,2.6614532371118851,3.1937438845342618,4.2583251793790167,5.3229064742237702,6.3874877690685237,7.4520690639132781,8.5166503587580333,9.5812316536027868,10.64581294844754,null,17,2.9207816214826163,9.9999998231320442E-3,1.9178718113622595E-2,5.3187516993601136E-2,0.1273932693041826,0.25377503020134196,0.42554478391803474,0.61252004782290492,0.89051407517511827,0.98490675684081752,0.99903636640980509,0.99997214262898793,0.99999963840856354,0.99999999789597049,0.99999999999450251,{"$f":"IF($E$62,HLOOKUP($E$18,AE$61:AR76,AT76),NA())","v":0.42554478391803474},16]
[null,null,"Label three d series",null,null,null,null,null,null,null,null,18,17,0,{"$f":"O$61*SQRT($L77/(2*(1-$E$9)))","v":0.54772255750516619},1.0954451150103324,1.6431676725154982,2.1908902300206647,2.7386127875258306,3.2863353450309964,4.3817804600413295,5.4772255750516612,6.5726706900619929,{"$f":"X$61*SQRT($L77/(2*(1-$E$9)))","v":7.6681158050723255},8.763560920082659,9.8590060350929907,10.954451150103322,null,18,2.8982305183425119,9.9999998286212088E-3,1.9879973213913327E-2,5.6915648314772582E-2,0.13829372116221805,0.27600080233971158,0.45910848778683722,0.65105201591766793,0.91405789268426096,0.99034340997663506,0.99953039144256139,0.99999033506020074,0.99999991650473607,0.9999999996976463,0.99999999999954026,{"$f":"IF($E$62,HLOOKUP($E$18,AE$61:AR77,AT77),NA())","v":0.45910848778683722},17]
[null,null,1,{"$f":"IF($E$64,AC74-F67,NA())","v":13.7},{"$f":"AM74","v":0.96443371293283231},null,null,null,null,null,null,19,18,0,0.56273143387113767,1.1254628677422753,1.6881943016134129,2.2509257354845507,2.8136571693556882,3.3763886032268258,4.5018514709691013,5.6273143387113764,6.7527772064536515,7.8782400741959266,9.0037029419382026,10.129165809680478,11.254628677422753,null,19,2.8784404709116362,9.9999998369532106E-3,2.0587856237828439E-2,6.0724224418494122E-2,0.14943746448280015,0.2983865147864645,0.49187340220724352,0.68691406436924241,0.93301336064675089,0.99388744648866312,0.99977441840232451,0.99999670720038303,0.99999998113969202,0.99999999995766287,0.9999999999999627,{"$f":"IF($E$62,HLOOKUP($E$18,AE$61:AR78,AT78),NA())","v":0.49187340220724352},18]
[null,null,null,{"$f":"IF($E$64,AC74+F68,NA())","v":16},{"$f":"E78","v":0.96443371293283231},null,null,null,null,null,null,20,19,0,0.57735026918962573,1.1547005383792515,1.7320508075688772,2.3094010767585029,2.8867513459481287,3.4641016151377544,4.6188021535170058,5.7735026918962573,6.9282032302755088,8.0829037686547593,9.2376043070340117,10.392304845413264,11.547005383792515,null,20,2.8609346040387695,9.9999998483031316E-3,2.1302237179124384E-2,6.4611147115865575E-2,0.1608048172137202,0.32085257168675385,0.52369835902601536,0.72007542527543933,0.94813034334559565,0.99616872108833587,0.99989305751081414,0.99999889654559782,0.99999999582377141,0.99999999999420874,0.999999999999997,{"$f":"IF($E$62,HLOOKUP($E$18,AE$61:AR79,AT79),NA())","v":0.52369835902601536},19]
[null,null,0.5,{"$f":"IF($E$64,AC74-F67,NA())","v":13.7},{"$f":"AJ74","v":0.35672621567296936},null,null,null,null,null,null,21,20,0,0.59160797830996159,1.1832159566199232,1.7748239349298844,2.3664319132398464,2.9580398915498076,3.5496478698597689,4.7328638264796927,5.9160797830996152,7.0992957397195378,8.2825116963394603,9.4657276529593855,10.648943609579307,11.83215956619923,null,21,2.8453397066478177,9.9999998628276243E-3,2.2023007093658675E-2,6.857439280583677E-2,0.17237655486267012,0.34332478355678364,0.55446809122741869,0.75055783847110902,0.96008204802413777,0.9976203820283136,0.99994991126607891,0.99999963576514572,0.99999999909188464,0.9999999999992244,0.99999999999999978,{"$f":"IF($E$62,HLOOKUP($E$18,AE$61:AR80,AT80),NA())","v":0.55446809122741869},20]
[null,null,null,{"$f":"IF($E$64,AC74+F68,NA())","v":16},{"$f":"E80","v":0.35672621567296936},null,null,null,null,null,null,22,21,0,0.60553007081949839,1.2110601416389968,1.8165902124584949,2.4221202832779936,3.0276503540974917,3.6331804249169899,4.8442405665559871,6.0553007081949835,7.2663608498339798,8.477420991472977,9.6884811331119742,10.89954127475097,12.110601416389967,null,22,2.8313595540559779,9.9999998806142854E-3,2.2750073134786608E-2,7.2611994416008629E-2,0.18413390572194843,0.36573435213414984,0.58409121678420983,0.77842487333324317,0.96945636973744986,0.99853446610428209,0.9999768005182309,0.99999988142875162,0.99999999980578436,0.99999999999989808,1,{"$f":"IF($E$62,HLOOKUP($E$18,AE$61:AR81,AT81),NA())","v":0.58409121678420983},21]
[null,null,0.2,{"$f":"IF($E$64,AC74-F67,NA())","v":13.7},{"$f":"AG74","v":4.5981518490069262E-2},null,null,null,null,null,null,23,22,0,0.61913918736689033,1.2382783747337807,1.8574175621006708,2.4765567494675613,3.0956959368344514,3.7148351242013415,4.9531134989351226,6.1913918736689029,7.4296702484026831,8.6679486231364642,9.9062269978702453,11.144505372604025,12.382783747337806,null,23,2.818756055685423,9.9999999017373886E-3,2.3483354919462962E-2,7.672202847666465E-2,0.19605855331365885,0.38801782033769916,0.61249814552761062,0.80377237829457571,0.97675540392380988,0.99910450998587252,0.99998936539942607,0.99999996189229146,0.99999999995909361,0.9999999999999869,1,{"$f":"IF($E$62,HLOOKUP($E$18,AE$61:AR82,AT82),NA())","v":0.61249814552761062},22]
[null,null,null,{"$f":"IF($E$64,AC74+F68,NA())","v":16},{"$f":"E82","v":4.5981518490069262E-2},null,null,null,null,null,null,24,23,0,0.63245553203367588,1.2649110640673518,1.8973665961010273,2.5298221281347035,3.1622776601683791,3.7947331922020546,5.0596442562694071,6.3245553203367582,7.5894663844041093,8.8543774484714604,10.119288512538814,11.384199576606164,12.649110640673516,null,24,2.807335677788104,9.9999999262304629E-3,2.4222781828007856E-2,8.090260579230224E-2,0.20813264302646972,0.41011698938739816,0.63963896330130732,0.82672010866085943,0.98240013221039357,0.99945684228886711,0.99999517181764164,0.99999998789708333,0.99999999999150491,0.99999999999999833,1,{"$f":"IF($E$62,HLOOKUP($E$18,AE$61:AR83,AT83),NA())","v":0.63963896330130732},23]
[null,null,null,null,null,null,null,null,null,null,null,25,24,0,0.6454972243679028,1.2909944487358056,1.9364916731037083,2.5819888974716112,3.2274861218395139,3.8729833462074166,5.1639777949432224,6.4549722436790278,7.7459666924148332,9.0369611411506376,10.327955589886445,11.61895003862225,12.909944487358056,null,25,2.7969394976065445,9.9999999540889561E-3,2.4968290970197149E-2,8.5151864673532418E-2,0.22033879094897746,0.4319788061544575,0.66548133777867768,0.84740452444396652,0.98673804910719831,0.99967281577818923,0.99999782757068378,0.99999999619835322,0.99999999999825884,0.99999999999999978,1,{"$f":"IF($E$62,HLOOKUP($E$18,AE$61:AR84,AT84),NA())","v":0.66548133777867768},24]
[null,null,null,null,null,null,null,null,null,null,null,26,25,0,0.65828058860438332,1.3165611772087666,1.9748417658131496,2.6331223544175333,3.2914029430219163,3.9496835316262993,5.2662447088350666,6.5828058860438325,7.8993670632525985,9.2159282404613645,10.532489417670133,11.849050594878898,13.165611772087665,null,26,2.7874358052060133,9.9999999852840027E-3,2.5719825634031301E-2,8.9467966016517519E-2,0.23266009357479989,0.45355522430415862,0.69000848129512171,0.86597270828607842,0.9900521425708988,0.9998041873177691,0.99999903070214302,0.99999999881810608,0.99999999999964739,1,1,{"$f":"IF($E$62,HLOOKUP($E$18,AE$61:AR85,AT85),NA())","v":0.69000848129512171},25]
[null,null,null,null,null,null,null,null,null,null,null,27,26,0,0.67082039324993692,1.3416407864998738,2.0124611797498106,2.6832815729997477,3.3541019662496843,4.0249223594996213,5.3665631459994954,6.7082039324993685,8.0498447189992426,9.3914855054991158,10.733126291998991,12.074767078498864,13.416407864998737,null,27,2.7787145234414226,1.0000000019749211E-2,2.6477334089044735E-2,9.3849089731389279E-2,0.24508013750030211,0.47480304297141096,0.71321719800080974,0.88257732578914361,0.99257015785031,0.99988352443206674,0.99999957091533365,0.99999999963608777,0.99999999999992939,1,1,{"$f":"IF($E$62,HLOOKUP($E$18,AE$61:AR86,AT86),NA())","v":0.71321719800080974},26]
[null,null,null,null,null,null,null,null,null,null,null,28,27,0,0.68313005106397329,1.3662601021279466,2.0493901531919194,2.7325202042558931,3.415650255319866,4.0987803063838388,5.4650404085117863,6.831300510639732,8.1975606127676777,9.5638207148956234,10.930080817023573,12.296340919151518,13.662601021279464,null,28,2.7706829457059454,1.0000000057395986E-2,2.7240768653453151E-2,9.8293432166716932E-2,0.25758300853549165,0.49568372668046456,0.73511603560227223,0.89737253372712023,0.99447346848791029,0.99993111530165368,0.99999981145926431,0.99999999988895916,0.99999999999998601,1,1,{"$f":"IF($E$62,HLOOKUP($E$18,AE$61:AR87,AT87),NA())","v":0.73511603560227223},27]
[null,null,null,null,null,null,null,null,null,null,null,29,28,0,0.695221787153807,1.390443574307614,2.0856653614614209,2.780887148615228,3.4761089357690347,4.1713307229228418,5.561774297230456,6.9522178715380694,8.3426614458456836,9.733105020153296,11.123548594460912,12.513992168768524,13.904435743076139,null,29,2.7632624424106096,1.0000000098151829E-2,2.8010084959914416E-2,0.10279920427572076,0.27015329985322623,0.51616321007587385,0.75572355591114326,0.91051073317805076,0.99590516704074517,0.99995948277764002,0.999999917732729,0.99999999996640543,0.99999999999999722,1,1,{"$f":"IF($E$62,HLOOKUP($E$18,AE$61:AR88,AT88),NA())","v":0.75572355591114326},28]
[null,null,null,null,null,null,null,null,null,null,null,30,29,0,0.70710678118654746,1.4142135623730949,2.1213203435596424,2.8284271247461898,3.5355339059327373,4.2426406871192848,5.6568542494923797,7.0710678118654746,8.4852813742385695,9.8994949366116636,11.313708498984759,12.727922061357855,14.142135623730949,null,30,2.7563859020980566,9.9999998231492526E-3,2.8785240617154262E-2,0.1073646281808911,0.28277611487863996,0.53621168589878931,0.77506672948428124,0.9221400605410881,0.99697719025634612,0.9999762912329121,0.9999999643405072,0.99999999998991762,0.99999999999999944,1,1,{"$f":"IF($E$62,HLOOKUP($E$18,AE$61:AR89,AT89),NA())","v":0.77506672948428124},29]
[null,null,null,null,null,null,null,null,null,null,null,31,30,0,0.71879528842826079,1.4375905768565216,2.1563858652847823,2.8751811537130432,3.5939764421413036,4.3127717305695645,5.7503623074260863,7.1879528842826073,8.6255434611391291,10.063134037995649,11.500724614852173,12.938315191708693,14.375905768565215,null,31,2.7499956517557429,9.9999998291112613E-3,2.9566197649223191E-2,0.11198794460348949,0.29543708855582407,0.55580340817920815,0.79317948180307951,0.93240252509082189,0.99777642933331179,0.99998619476842798,0.99999998463965256,0.99999999999699696,0.99999999999999989,1,1,{"$f":"IF($E$62,HLOOKUP($E$18,AE$61:AR90,AT90),NA())","v":0.79317948180307951},30]
[null,null,null,null,null,null,null,null,null,null,null,32,31,0,0.73029674334022143,1.4605934866804429,2.1908902300206643,2.9211869733608857,3.6514837167011072,4.3817804600413286,5.8423739467217715,7.3029674334022143,8.7635609200826572,10.2241544067631,11.684747893443543,13.145341380123986,14.605934866804429,null,32,2.7440419172251325,9.9999998356834485E-3,3.0352917921997458E-2,0.11666740038863188,0.30812236897064382,0.57491644269726105,0.8101013365173888,0.94143266730236863,0.99836985772520859,0.9999919989355095,0.99999999342276147,0.99999999999911193,1,1,1,{"$f":"IF($E$62,HLOOKUP($E$18,AE$61:AR91,AT91),NA())","v":0.8101013365173888},31]
[null,null,null,null,null,null,null,null,null,null,null,33,32,0,0.74161984870956621,1.4832396974191324,2.2248595461286986,2.9664793948382648,3.708099243547831,4.4497190922573973,5.9329587896765297,7.4161984870956621,8.8994381845147945,10.382677881933926,11.865917579353059,13.349157276772193,14.832396974191324,null,33,2.7384814796670156,9.99999984286426E-3,3.1145365532765479E-2,0.1214012558630958,0.32081863466985794,0.59353245965447909,0.82587622774916736,0.94935668600298639,0.99880876209171532,0.99999538345643835,0.99999999719953492,0.99999999999973921,1,1,1,{"$f":"IF($E$62,HLOOKUP($E$18,AE$61:AR92,AT92),NA())","v":0.82587622774916736},32]
[null,null,null,null,null,null,null,null,null,null,null,34,33,0,{"$f":"O$61*SQRT($L93/(2*(1-$E$9)))","v":0.752772652709081},1.505545305418162,2.2583179581272428,3.011090610836324,3.7638632635454048,4.5166359162544856,6.022181221672648,7.5277265270908096,9.0332718325089711,10.538817137927133,12.044362443345296,13.549907748763458,15.055453054181619,null,34,2.7332766397116544,9.9999998506280496E-3,3.1943505909816095E-2,0.12618778288524179,0.33351309256089567,0.61163650290520566,0.84055142346998479,0.95629192488875259,0.99913218049708474,0.99999734759621139,0.99999999881401869,0.99999999999992395,1,1,1,{"$f":"IF($E$62,HLOOKUP($E$18,AE$61:AR93,AT93),NA())","v":0.84055142346998479},33]
[null,null,null,null,null,null,null,null,null,null,null,35,34,{"$f":"N$61*SQRT($L94/(2*(1-$E$9)))","v":0},0.76376261582597327,1.5275252316519465,2.2912878474779195,3.0550504633038931,3.8188130791298662,4.5825756949558389,6.1101009266077861,7.6376261582597325,9.1651513899116779,10.692676621563624,12.220201853215572,13.747727084867519,15.275252316519465,null,35,{"$f":"IF($E$61,NORMSINV(1-$E$7/2),TINV($E$7,$M94))","v":2.7283943641200414},{"$f":"IF($E$61,1-NORMSDIST($AD94-N94)+NORMSDIST(-$AD94-N94),nct(-$AD94,N94,$M94)+1-nct($AD94,N94,$M94))","v":9.999999858958053E-3},{"$f":"IF($E$61,1-NORMSDIST($AD94-O94)+NORMSDIST(-$AD94-O94),nct(-$AD94,O94,$M94)+1-nct($AD94,O94,$M94))","v":3.274730560631478E-2},{"$f":"IF($E$61,1-NORMSDIST($AD94-P94)+NORMSDIST(-$AD94-P94),nct(-$AD94,P94,$M94)+1-nct($AD94,P94,$M94))","v":0.13102526487719157},{"$f":"IF($E$61,1-NORMSDIST($AD94-Q94)+NORMSDIST(-$AD94-Q94),nct(-$AD94,Q94,$M94)+1-nct($AD94,Q94,$M94))","v":0.34619347794762767},{"$f":"IF($E$61,1-NORMSDIST($AD94-R94)+NORMSDIST(-$AD94-R94),nct(-$AD94,R94,$M94)+1-nct($AD94,R94,$M94))","v":0.62921676431611651},{"$f":"IF($E$61,1-NORMSDIST($AD94-S94)+NORMSDIST(-$AD94-S94),nct(-$AD94,S94,$M94)+1-nct($AD94,S94,$M94))","v":0.85417657605202435},{"$f":"IF($E$61,1-NORMSDIST($AD94-T94)+NORMSDIST(-$AD94-T94),nct(-$AD94,T94,$M94)+1-nct($AD94,T94,$M94))","v":0.96234665759464477},{"$f":"IF($E$61,1-NORMSDIST($AD94-U94)+NORMSDIST(-$AD94-U94),nct(-$AD94,U94,$M94)+1-nct($AD94,U94,$M94))","v":0.9993696617894825},{"$f":"IF($E$61,1-NORMSDIST($AD94-V94)+NORMSDIST(-$AD94-V94),nct(-$AD94,V94,$M94)+1-nct($AD94,V94,$M94))","v":0.99999848225860544},{"$f":"IF($E$61,1-NORMSDIST($AD94-W94)+NORMSDIST(-$AD94-W94),nct(-$AD94,W94,$M94)+1-nct($AD94,W94,$M94))","v":0.99999999950031671},{"$f":"IF($E$61,1-NORMSDIST($AD94-X94)+NORMSDIST(-$AD94-X94),nct(-$AD94,X94,$M94)+1-nct($AD94,X94,$M94))","v":0.99999999999997791},{"$f":"IF($E$61,1-NORMSDIST($AD94-Y94)+NORMSDIST(-$AD94-Y94),nct(-$AD94,Y94,$M94)+1-nct($AD94,Y94,$M94))","v":1},{"$f":"IF($E$61,1-NORMSDIST($AD94-Z94)+NORMSDIST(-$AD94-Z94),nct(-$AD94,Z94,$M94)+1-nct($AD94,Z94,$M94))","v":1},{"$f":"IF($E$61,1-NORMSDIST($AD94-AA94)+NORMSDIST(-$AD94-AA94),nct(-$AD94,AA94,$M94)+1-nct($AD94,AA94,$M94))","v":1},{"$f":"IF($E$62,HLOOKUP($E$18,AE$61:AR94,AT94),NA())","v":0.85417657605202435},34]
[null,null,null,null,null,null,null,null,null,null,null,36,35,0,0.7745966692414834,1.5491933384829668,2.3237900077244498,3.0983866769659336,3.8729833462074166,4.6475800154488995,6.1967733539318672,7.7459666924148332,9.2951600308977991,10.844353369380766,12.393546707863734,13.9427400463467,15.491933384829666,null,36,2.7238055859289698,9.9999998678477198E-3,3.3556732129659816E-2,0.135911996963899,0.35884805325488445,0.64626436062559289,0.86680288992171783,0.96762010649817776,0.99954345570020231,0.99999913489784076,0.99999999979050147,0.99999999999999367,1,1,1,{"$f":"IF($E$62,HLOOKUP($E$18,AE$61:AR95,AT95),NA())","v":0.86680288992171783},35]
[null,null,null,null,null,null,null,null,null,null,null,37,36,0,0.78528126595931635,1.5705625319186327,2.3558437978779487,3.1411250638372654,3.9264063297965817,4.7116875957558975,6.2822501276745308,7.8528126595931633,9.4233751915117949,10.993937723430427,12.564500255349062,14.135062787267694,15.705625319186327,null,37,2.7194846268260839,9.9999998772511978E-3,3.4371753799405269E-2,0.14084628619277606,0.37146560550977836,0.66277311427475927,0.87848239891641111,0.97220264109012011,0.99967023416872403,0.99999950873130006,0.99999999991257638,0.99999999999999822,1,1,1,{"$f":"IF($E$62,HLOOKUP($E$18,AE$61:AR96,AT96),NA())","v":0.87848239891641111},36]
[null,null,null,null,null,null,null,null,null,null,null,38,37,0,0.79582242575422146,1.5916448515084429,2.3874672772626639,3.1832897030168859,3.9791121287711069,4.7749345545253279,6.3665794060337717,7.9582242575422137,9.5498691090506558,11.141513960559099,12.733158812067543,14.324803663575985,15.916448515084427,null,38,2.7154087175655235,9.9999998871747042E-3,3.5192339628553726E-2,0.14582645181313902,0.38403544265170719,0.67873933945755249,0.88926734541287988,0.97617610997845006,0.99976243243973195,0.99999972201657261,0.99999999996368172,0.99999999999999944,1,1,1,{"$f":"IF($E$62,HLOOKUP($E$18,AE$61:AR97,AT97),NA())","v":0.88926734541287988},37]
[null,null,null,null,null,null,null,null,null,null,null,39,38,0,0.80622577482985491,1.6124515496597098,2.4186773244895647,3.2249030993194197,4.0311288741492746,4.8373546489791295,6.4498061986388393,8.0622577482985491,9.674709297958259,11.287160847617969,12.899612397277679,14.512063946937388,16.124515496597098,null,39,2.7115575975529884,9.9999998975836002E-3,3.6018459223638111E-2,0.15085082559948004,0.39654738874951712,0.69416163443056256,0.89920965302482703,0.97961426813146835,0.99982928570443841,0.99999984324252611,0.99999999998497724,0.99999999999999989,1,1,1,{"$f":"IF($E$62,HLOOKUP($E$18,AE$61:AR98,AT98),NA())","v":0.89920965302482703},38]
[null,null,null,null,null,null,null,null,null,null,null,40,39,0,0.81649658092772592,1.6329931618554518,2.4494897427831774,3.2659863237109037,4.0824829046386295,4.8989794855663549,6.5319726474218074,8.164965809277259,9.7979589711327097,11.430952132988162,13.063945294843615,14.696938456699067,16.329931618554518,null,40,2.7079131787675221,9.9999999084582347E-3,3.6850082700511932E-2,0.15591775220562254,0.40899177820401655,0.70904068093490014,0.9083604846054788,0.98258326774133997,0.99987762467397334,0.99999991189414905,0.99999999999381162,1,1,1,1,{"$f":"IF($E$62,HLOOKUP($E$18,AE$61:AR99,AT99),NA())","v":0.9083604846054788},39]
[null,null,null,null,null,null,null,null,null,null,null,41,40,0,0.82663978450914977,1.6532795690182995,2.4799193535274489,3.3065591380365991,4.1331989225457484,4.9598387070548977,6.6131182760731981,8.2663978450914968,9.9196774141097954,11.572956983128094,13.226236552146396,14.879516121164695,16.532795690182994,null,41,2.704459262279225,9.9999999197784017E-3,3.7687180612927085E-2,0.16102558953965396,0.42135944901657507,0.72337905141097103,0.91676987739758564,0.98514218707790335,0.99991248214868245,0.99999995063692515,0.99999999999746092,1,1,1,1,{"$f":"IF($E$62,HLOOKUP($E$18,AE$61:AR100,AT100),NA())","v":0.91676987739758564},40]
[null,null,null,null,null,null,null,null,null,null,null,42,41,0,0.83666002653407545,1.6733200530681509,2.5099800796022262,3.3466401061363018,4.1833001326703769,5.0199601592044525,6.6932802122726036,8.3666002653407539,10.039920318408905,11.713240371477054,13.386560424545207,15.059880477613357,16.733200530681508,null,42,2.7011812980077474,9.9999999315084631E-3,3.8529723891775336E-2,0.16617270915188886,0.43364173520279004,0.73718102453288181,0.92448644740940167,0.98734357691760344,0.99993755269905704,0.99999997242780336,0.99999999999896216,1,1,1,1,{"$f":"IF($E$62,HLOOKUP($E$18,AE$61:AR101,AT101),NA())","v":0.92448644740940167},41]
[null,null,null,null,null,null,null,null,null,null,null,43,42,0,0.84656167328001963,1.6931233465600393,2.5396850198400589,3.3862466931200785,4.2328083664000982,5.0793700396801178,6.7724933862401571,8.4656167328001963,10.158740079360236,11.851863425920275,13.544986772480314,15.238110119040353,16.931233465600393,null,43,2.6980661802199943,9.9999999436509723E-3,3.9377683793285434E-2,0.17135749662908839,0.44583045843020552,0.75045240945122949,0.93155715542954498,0.98923400861137489,0.99995553908769252,0.99999998464464745,0.99999999999957734,1,1,1,1,{"$f":"IF($E$62,HLOOKUP($E$18,AE$61:AR102,AT102),NA())","v":0.93155715542954498},42]
[null,null,null,null,null,null,null,null,null,null,null,44,43,0,0.8563488385776753,1.7126976771553506,2.5690465157330258,3.4253953543107012,4.2817441928883762,5.1380930314660516,6.8507907086214024,8.5634883857767523,10.276186062932103,11.988883740087452,13.701581417242805,15.414279094398154,17.126976771553505,null,44,2.6951020727167805,9.9999999561787289E-3,4.023103185454413E-2,0.17657835199018401,0.45791791895420442,0.76320037901003834,0.93802712749874673,0.99085461165135369,0.99996841198566488,0.99999999147268692,0.99999999999982847,1,1,1,1,{"$f":"IF($E$62,HLOOKUP($E$18,AE$61:AR103,AT103),NA())","v":0.93802712749874673},43]
[null,null,null,null,null,null,null,null,null,null,null,45,44,0,0.8660254037844386,1.7320508075688772,2.5980762113533156,3.4641016151377544,4.3301270189221928,5.1961524227066311,6.9282032302755088,8.6602540378443855,10.392304845413262,12.124355652982139,13.856406460551018,15.588457268119894,17.320508075688771,null,45,2.6922782588002079,9.9999999690488783E-3,4.1089739855351248E-2,0.18183369007916517,0.46989688592731538,0.77543331209558541,0.94393952311014362,0.99224159177176818,0.99997760374395217,0.99999999527751082,0.99999999999993061,1,1,1,1,{"$f":"IF($E$62,HLOOKUP($E$18,AE$61:AR104,AT104),NA())","v":0.94393952311014362},44]
[null,null,null,null,null,null,null,null,null,null,null,46,45,0,0.87559503577091302,1.751190071541826,2.6267851073127391,3.5023801430836521,4.3779751788545651,5.2535702146254781,7.0047602861673042,8.7559503577091302,10.507140429250956,12.258330500792782,14.009520572334608,15.760710643876434,17.51190071541826,null,46,2.6895850120195695,9.9999999822577568E-3,4.195377978540682E-2,0.18712194095213042,0.48176058715138592,0.78716064517967421,0.94933544489267974,0.99342672324035952,0.99998415231008508,0.99999999739158985,0.99999999999997202,1,1,1,1,{"$f":"IF($E$62,HLOOKUP($E$18,AE$61:AR105,AT105),NA())","v":0.94933544489267974},45]
[null,null,null,null,null,null,null,null,null,null,null,47,46,0,0.88506120315678372,1.7701224063135674,2.6551836094703507,3.5402448126271349,4.4253060157839181,5.3103672189407014,7.0804896252542697,8.8506120315678363,10.620734437881403,12.390856844194969,14.160979250508539,15.931101656822106,17.701224063135673,null,47,2.6870134844151634,9.9999999957977037E-3,4.2823123815882158E-2,0.19244155025607212,0.49350269834039373,0.79839273303748781,0.95425388402946021,0.9944378111299701,0.99998880766278109,0.99999999856297395,0.99999999999998879,1,1,1,1,{"$f":"IF($E$62,HLOOKUP($E$18,AE$61:AR106,AT106),NA())","v":0.95425388402946021},46]
[null,null,null,null,null,null,null,null,null,null,null,48,47,0,0.89442719099991574,1.7888543819998315,2.6832815729997472,3.577708763999663,4.4721359549995787,5.3665631459994945,7.155417527999326,8.9442719099991574,10.733126291998989,12.52198067399882,14.310835055998652,16.099689437998485,17.888543819998315,null,48,2.6845556095584486,1.0000000009615984E-2,4.3697744274798778E-2,0.19779097959651804,0.50511733195831754,0.80914071854905245,0.95873169616202558,0.99529912106992879,0.99999211021147294,0.99999999921028027,0.99999999999999545,1,1,1,1,{"$f":"IF($E$62,HLOOKUP($E$18,AE$61:AR107,AT107),NA())","v":0.95873169616202558},47]
[null,null,null,null,null,null,null,null,null,null,null,49,48,0,0.90369611411506401,1.807392228230128,2.7110883423451919,3.614784456460256,4.5184805705753197,5.4221766846903838,7.2295689129205121,9.0369611411506394,10.844353369380768,12.651745597610894,14.459137825841024,16.266530054071151,18.073922282301279,null,49,2.682204018152655,1.0000000023726918E-2,4.4577613625823242E-2,0.20316870689375666,0.51659902569311322,0.81941641143295407,0.96280360302292678,0.9960317753242518,0.99999444832668671,0.9999999995670531,0.99999999999999822,1,1,1,1,{"$f":"IF($E$62,HLOOKUP($E$18,AE$61:AR108,AT108),NA())","v":0.96280360302292678},48]
[null,null,null,null,null,null,null,null,null,null,null,50,49,0,{"$f":"O$61*SQRT($L109/(2*(1-$E$9)))","v":0.9128709291752769},1.8257418583505538,2.7386127875258306,3.6514837167011076,4.5643546458763842,5.4772255750516612,7.3029674334022152,9.1287092917527684,10.954451150103322,12.780193008453875,14.60593486680443,16.431676725154983,18.257418583505537,null,50,2.6799519643366612,1.0000000038087764E-2,4.54627044496142E-2,0.20857322672532252,0.5279427306242257,0.8292321757095632,0.96650221551499604,0.99665411508411117,0.99999610040564857,0.99999999976319998,0.99999999999999933,1,1,1,1,{"$f":"IF($E$62,HLOOKUP($E$18,AE$61:AR109,AT109),NA())","v":0.96650221551499604},49]
[null,null,null,null,null,null,null,null,null,null,null,51,50,0,0.92195444572928875,1.8439088914585775,2.765863337187866,3.687817782917155,4.6097722286464435,5.5317266743757321,7.37563556583431,9.2195444572928871,11.063453348751464,12.907362240210041,14.75127113166862,16.595180023127199,18.439088914585774,null,51,2.6777932611413613,1.0000000052694857E-2,4.6352989427775992E-2,0.21400305065406211,0.53914379913848598,0.83860082564917215,0.96985807441113592,0.99718202964591007,0.99999726552554336,0.99999999987077559,0.99999999999999967,1,1,1,1,{"$f":"IF($E$62,HLOOKUP($E$18,AE$61:AR110,AT110),NA())","v":0.96985807441113592},50]
[null,null,null,null,null,null,null,null,null,null,null,52,51,0,0.93094933625126286,1.8618986725025257,2.7928480087537881,3.7237973450050514,4.6547466812563139,5.5856960175075763,7.4475946900101029,9.3094933625126277,11.171392035015153,13.033290707517677,14.895189380020206,16.757088052522729,18.618986725025255,null,52,2.6757222237998564,1.0000000067531767E-2,4.724844132875472E-2,0.21945670754161728,0.55019797264522519,0.84753552992555847,0.97289970527885694,0.9976292537181437,0.99999808570831472,0.99999999992963573,0.99999999999999989,1,1,1,1,{"$f":"IF($E$62,HLOOKUP($E$18,AE$61:AR111,AT111),NA())","v":0.97289970527885694},51]
[null,null,null,null,null,null,null,null,null,null,null,53,52,0,0.93985814532477885,1.8797162906495577,2.8195744359743364,3.7594325812991154,4.6992907266238939,5.6391488719486729,7.5188651625982308,9.3985814532477878,11.278297743897346,13.158014034546902,15.037730325196462,16.917446615846018,18.797162906495576,null,53,2.673733619818961,1.0000000082561855E-2,4.8149032995537522E-2,0.22493274384583417,0.5611013691385982,0.85604972366823828,0.9756536846368975,0.99800763449926011,0.99999866204317123,0.99999999996176747,1,1,1,1,1,{"$f":"IF($E$62,HLOOKUP($E$18,AE$61:AR112,AT112),NA())","v":0.9756536846368975},52]
[null,null,null,null,null,null,null,null,null,null,null,54,53,0,0.94868329805051388,1.8973665961010278,2.8460498941515415,3.7947331922020555,4.7434164902525691,5.6920997883030831,7.589466384404111,9.4868329805051381,11.384199576606166,13.281566172707192,15.178932768808222,17.07629936490925,18.973665961010276,null,54,2.6718226248896215,1.0000000097795003E-2,4.9054737335004539E-2,0.23042972390273353,0.57185047065207106,0.86415702808548245,0.97814471472530085,0.99832737042864828,0.9999990663269519,0.99999999997926947,1,1,1,1,1,{"$f":"IF($E$62,HLOOKUP($E$18,AE$61:AR113,AT113),NA())","v":0.97814471472530085},53]
[null,null,null,null,null,null,null,null,null,null,null,55,54,0,0.9574271077563381,1.9148542155126762,2.8722813232690143,3.8297084310253524,4.7871355387816905,5.7445626465380286,7.6594168620507048,9.574271077563381,11.489125293076057,13.403979508588733,15.31883372410141,17.233687939614086,19.148542155126762,null,55,2.669984783855238,1.0000000113195573E-2,4.996552730844972E-2,0.23594623019183669,0.58244211064647844,0.87187117731443142,0.9803957046146009,0.9985972236626206,0.99999934944425939,0.99999999998878208,1,1,1,1,1,{"$f":"IF($E$62,HLOOKUP($E$18,AE$61:AR114,AT114),NA())","v":0.9803957046146009},54]
[null,null,null,null,null,null,null,null,null,null,null,56,55,0,0.96609178307929577,1.9321835661585915,2.898275349237887,3.8643671323171831,4.8304589153964788,5.796550698475774,7.7287342646343662,9.6609178307929575,11.593101396951548,13.52528496311014,15.457468529268732,17.389652095427323,19.321835661585915,null,56,2.6682159760735971,1.0000000128763564E-2,5.0881375923454875E-2,0.2414808635857294,0.59287346137076946,0.8792059521441935,0.98242785569445001,0.99882470839117743,0.99999954738546437,0.99999999999394151,1,1,1,1,1,{"$f":"IF($E$62,HLOOKUP($E$18,AE$61:AR115,AT115),NA())","v":0.98242785569445001},55]
[null,null,null,null,null,null,null,null,null,null,null,57,56,0,0.97467943448089633,1.9493588689617927,2.9240383034426887,3.8987177379235853,4.8733971724044816,5.8480766068853773,7.7974354758471707,9.7467943448089631,11.696153213770755,13.645512082732548,15.594870951694341,17.544229820656135,19.493588689617926,null,57,2.6665123846063086,1.0000000144469778E-2,5.1802256226654353E-2,0.24703224358306974,0.60314202123095162,0.88617512025126088,0.98426074986744327,0.99901625710982078,0.99999968555584962,0.99999999999673428,1,1,1,1,1,{"$f":"IF($E$62,HLOOKUP($E$18,AE$61:AR116,AT116),NA())","v":0.98426074986744327},56]
[null,null,null,null,null,null,null,null,null,null,null,58,57,0,0.98319208025017513,1.9663841605003503,2.9495762407505253,3.9327683210007005,4.9159604012508753,5.8991524815010505,7.865536642001401,9.8319208025017506,11.798304963002101,13.76468912350245,15.731073284002802,17.697457444503151,19.663841605003501,null,58,2.6648704687512881,1.0000000160320432E-2,5.2728141297511355E-2,0.25259900852543182,0.61324560220064561,0.89279238258415994,0.98591243903124171,0.99917736691053716,0.99999978185496663,0.99999999999824285,1,1,1,1,1,{"$f":"IF($E$62,HLOOKUP($E$18,AE$61:AR117,AT117),NA())","v":0.98591243903124171},57]
[null,null,null,null,null,null,null,null,null,null,null,59,58,0,0.99163165204290105,1.9832633040858021,2.9748949561287028,3.9665266081716042,4.9581582602145051,5.9497899122574056,7.9330532163432084,9.9163165204290102,11.899579824514811,13.882843128600614,15.866106432686417,17.849369736772218,19.83263304085802,null,59,2.6632869395026697,1.0000000176301538E-2,5.3659004242785802E-2,0.25817981579798888,0.62318231730352625,0.89907132553486824,0.98739953466251973,0.99931272777101987,0.99999984887045179,0.99999999999905631,1,1,1,1,1,{"$f":"IF($E$62,HLOOKUP($E$18,AE$61:AR118,AT118),NA())","v":0.98739953466251973},58]
[null,null,null,null,null,null,null,null,null,null,null,60,59,0,1,2,3,4,5,6,8,10,12,14,16,18,20,null,60,2.6617587375807101,1.000000019237901E-2,5.4594818191722294E-2,0.26377334201417502,0.632950568195638,0.90502537853803633,0.98873729652132247,0.99942633471233588,0.99999989543888046,0.99999999999949407,1,1,1,1,1,{"$f":"IF($E$62,HLOOKUP($E$18,AE$61:AR119,AT119),NA())","v":0.98873729652132247},59]
[null,null,null,null,null,null,null,null,null,null,null,61,60,0,1.0082988974836116,2.0165977949672231,3.0248966924508349,4.0331955899344463,5.0414944874180581,6.0497933849016698,8.0663911798688925,10.082988974836116,12.09958676980334,14.116184564770561,16.132782359737785,18.14938015470501,20.165977949672232,null,61,2.6602830137229336,1.0000000208540527E-2,5.5535556291930854E-2,0.26937828318497525,0.64254903287312737,0.91066777674497057,0.98993971967575944,0.99952158557130311,0.99999992775265067,0.99999999999972922,1,1,1,1,1,{"$f":"IF($E$62,HLOOKUP($E$18,AE$61:AR120,AT120),NA())","v":0.98993971967575944},60]
[null,null,null,null,null,null,null,null,null,null,null,62,61,0,1.0165300454651269,2.0330600909302539,3.049590136395381,4.0661201818605077,5.0826502273256349,6.099180272790762,8.1322403637210154,10.16530045465127,12.198360545581524,14.231420636511777,16.264480727442031,18.297540818372287,20.330600909302539,null,62,2.6588571109697474,1.0000000224797079E-2,5.6481191705729517E-2,0.2749933548721335,0.65197665352850587,0.91601152842711975,0.9910196192062859,0.99960136600179983,0.9999999501439284,0.99999999999985534,1,1,1,1,1,{"$f":"IF($E$62,HLOOKUP($E$18,AE$61:AR121,AT121),NA())","v":0.9910196192062859},61]
[null,null,null,null,null,null,null,null,null,null,null,63,62,0,1.0246950765959599,2.0493901531919199,3.0740852297878791,4.0987803063838397,5.123475382979799,6.1481704595757583,8.1975606127676794,10.246950765959598,12.296340919151517,14.345731072343437,16.395121225535359,18.444511378727277,20.493901531919196,null,63,2.6574785487130193,1.000000024112635E-2,5.7431697606927679E-2,0.28061729232642663,0.66123262457639265,0.92106938677334849,0.99198871208791117,0.99966812318426634,0.99999996563854687,0.99999999999992284,1,1,1,1,1,{"$f":"IF($E$62,HLOOKUP($E$18,AE$61:AR122,AT122),NA())","v":0.99198871208791117},62]
[null,null,null,null,null,null,null,null,null,null,null,64,63,0,1.0327955589886446,2.0655911179772892,3.0983866769659332,4.1311822359545785,5.1639777949432224,6.1967733539318663,8.2623644719091569,10.327955589886445,12.393546707863733,14.459137825841022,16.524728943818314,18.590320061795602,20.65591117977289,null,64,2.656145008306213,1.0000000257518016E-2,5.8387047178148244E-2,0.28624885061131056,0.67031638086773737,0.92585382575616837,0.99285769586926265,0.99972392958886291,0.99999997634653481,0.99999999999995892,1,1,1,1,1,{"$f":"IF($E$62,HLOOKUP($E$18,AE$61:AR123,AT123),NA())","v":0.99285769586926265},63]
[null,null,null,null,null,null,null,null,null,null,null,65,64,0,1.0408329997330663,2.0816659994661326,3.1224989991991987,4.1633319989322652,5.2041649986653313,6.2449979983983974,8.3266639978645305,10.408329997330663,12.489995996796795,14.571661996262927,16.653327995729061,18.734993995195193,20.816659994661325,null,65,2.6548543200606591,1.0000000273980514E-2,5.9347213608454297E-2,0.29188680471122441,0.67922758610935807,0.93037701975394382,0.9936363238712288,0.99977053800793736,0.99999998373702814,0.99999999999997813,1,1,1,1,1,{"$f":"IF($E$62,HLOOKUP($E$18,AE$61:AR124,AT124),NA())","v":0.9936363238712288},64]
[null,null,null,null,null,null,null,null,null,null,null,66,65,0,{"$f":"O$61*SQRT($L125/(2*(1-$E$9)))","v":1.0488088481701516},2.0976176963403033,3.1464265445104544,4.1952353926806065,5.2440442408507577,6.2928530890209089,8.390470785361213,10.488088481701515,12.585706178041818,14.68332387438212,16.780941570722426,18.878559267062727,20.976176963403031,null,66,2.653604451474779,1.0000000290458999E-2,6.0312170091250894E-2,0.29752994962607193,0.68796612150376824,0.93465082662883103,0.99433347671655092,0.99980942894972646,0.99999998883140873,0.99999999999998834,1,1,1,1,1,{"$f":"IF($E$62,HLOOKUP($E$18,AE$61:AR125,AT125),NA())","v":0.99433347671655092},65]
[null,null,null,null,null,null,null,null,null,null,null,67,66,0,1.0567244989431572,2.1134489978863145,3.1701734968294715,4.2268979957726289,5.2836224947157859,6.3403469936589429,8.4537959915452578,10.567244989431572,12.680693987317886,14.7941429852042,16.907591983090516,19.021040980976831,21.134489978863144,null,67,{"$f":"IF($E$61,NORMSINV(1-$E$7/2),TINV($E$7,$M126))","v":2.6523934965617633},{"$f":"IF($E$61,1-NORMSDIST($AD126-N126)+NORMSDIST(-$AD126-N126),nct(-$AD126,N126,$M126)+1-nct($AD126,N126,$M126))","v":1.0000000306983337E-2},{"$f":"IF($E$61,1-NORMSDIST($AD126-O126)+NORMSDIST(-$AD126-O126),nct(-$AD126,O126,$M126)+1-nct($AD126,O126,$M126))","v":6.1281889822697111E-2},{"$f":"IF($E$61,1-NORMSDIST($AD126-P126)+NORMSDIST(-$AD126-P126),nct(-$AD126,P126,$M126)+1-nct($AD126,P126,$M126))","v":0.30317710045174562},{"$f":"IF($E$61,1-NORMSDIST($AD126-Q126)+NORMSDIST(-$AD126-Q126),nct(-$AD126,Q126,$M126)+1-nct($AD126,Q126,$M126))","v":0.69653207462276889},{"$f":"IF($E$61,1-NORMSDIST($AD126-R126)+NORMSDIST(-$AD126-R126),nct(-$AD126,R126,$M126)+1-nct($AD126,R126,$M126))","v":0.93868677397359324},{"$f":"IF($E$61,1-NORMSDIST($AD126-S126)+NORMSDIST(-$AD126-S126),nct(-$AD126,S126,$M126)+1-nct($AD126,S126,$M126))","v":0.99495723007682257},{"$f":"IF($E$61,1-NORMSDIST($AD126-T126)+NORMSDIST(-$AD126-T126),nct(-$AD126,T126,$M126)+1-nct($AD126,T126,$M126))","v":0.9998418513688877},{"$f":"IF($E$61,1-NORMSDIST($AD126-U126)+NORMSDIST(-$AD126-U126),nct(-$AD126,U126,$M126)+1-nct($AD126,U126,$M126))","v":0.9999999923387185},{"$f":"IF($E$61,1-NORMSDIST($AD126-V126)+NORMSDIST(-$AD126-V126),nct(-$AD126,V126,$M126)+1-nct($AD126,V126,$M126))","v":0.99999999999999389},{"$f":"IF($E$61,1-NORMSDIST($AD126-W126)+NORMSDIST(-$AD126-W126),nct(-$AD126,W126,$M126)+1-nct($AD126,W126,$M126))","v":1},{"$f":"IF($E$61,1-NORMSDIST($AD126-X126)+NORMSDIST(-$AD126-X126),nct(-$AD126,X126,$M126)+1-nct($AD126,X126,$M126))","v":1},{"$f":"IF($E$61,1-NORMSDIST($AD126-Y126)+NORMSDIST(-$AD126-Y126),nct(-$AD126,Y126,$M126)+1-nct($AD126,Y126,$M126))","v":1},{"$f":"IF($E$61,1-NORMSDIST($AD126-Z126)+NORMSDIST(-$AD126-Z126),nct(-$AD126,Z126,$M126)+1-nct($AD126,Z126,$M126))","v":1},{"$f":"IF($E$61,1-NORMSDIST($AD126-AA126)+NORMSDIST(-$AD126-AA126),nct(-$AD126,AA126,$M126)+1-nct($AD126,AA126,$M126))","v":1},{"$f":"IF($E$62,HLOOKUP($E$18,AE$61:AR126,AT126),NA())","v":0.99495723007682257},66]
[null,null,null,null,null,null,null,null,null,null,null,68,{"$f":"L127-1","v":67},{"$f":"N$61*SQRT($L127/(2*(1-$E$9)))","v":0},1.0645812948447542,2.1291625896895083,3.1937438845342618,4.2583251793790167,5.3229064742237702,6.3874877690685237,8.5166503587580333,10.64581294844754,12.774975538137047,14.904138127826556,17.033300717516067,19.162463307205574,21.291625896895081,null,68,2.6512196661582905,1.0000000323541314E-2,6.2256346000125418E-2,0.30882709244708395,0.70492572852610624,0.94249604825403954,0.9955149185862967,0.99986885760135757,0.99999999475047863,0.99999999999999678,1,1,1,1,1,{"$f":"IF($E$62,HLOOKUP($E$18,AE$61:AR127,AT127),NA())","v":0.9955149185862967},67]
[null,null,null,null,null,null,null,null,null,null,null,69,68,0,1.0723805294763609,2.1447610589527217,3.2171415884290822,4.2895221179054435,5.3619026473818039,6.4342831768581643,8.5790442358108869,10.723805294763608,12.868566353716329,15.013327412669049,17.158088471621774,19.302849530574495,21.447610589527216,null,69,2.6500812791103456,1.0000000340132043E-2,6.3235511820869394E-2,0.31447878108708449,0.71314755113550776,0.94608948658794356,0.99601319592418658,0.99989133327154789,0.99999999640694726,0.99999999999999822,1,1,1,1,1,{"$f":"IF($E$62,HLOOKUP($E$18,AE$61:AR128,AT128),NA())","v":0.99601319592418658},68]
[null,null,null,null,null,null,null,null,null,null,null,70,69,0,1.0801234497346435,2.1602468994692869,3.2403703492039297,4.3204937989385739,5.4006172486732167,6.4807406984078595,8.6409875978771478,10.801234497346433,12.961481396815719,15.121728296285006,17.281975195754296,19.442222095223581,21.602468994692867,null,70,2.6489767542453206,1.0000000356692906E-2,6.4219360481173271E-2,0.32013104210383481,0.72119818487240606,0.94947757091522988,0.99645809110990413,0.99991002284908115,0.99999999754335123,0.99999999999999911,1,1,1,1,1,{"$f":"IF($E$62,HLOOKUP($E$18,AE$61:AR129,AT129),NA())","v":0.99645809110990413},69]
[null,null,null,null,null,null,null,null,null,null,null,71,70,0,1.0878112581387147,2.1756225162774294,3.2634337744161437,4.3512450325548588,5.4390562906935731,6.5268675488322874,8.7024900651097177,10.878112581387146,13.053735097664575,15.229357613942003,17.404980130219435,19.580602646496864,21.756225162774292,null,71,2.6479046030491853,1.0000000373283302E-2,6.5207865175554325E-2,0.32578277151451374,0.72907843656686278,0.95267042432839866,0.99685506109024868,0.99992555145004669,0.99999999832209341,0.99999999999999956,1,1,1,1,1,{"$f":"IF($E$62,HLOOKUP($E$18,AE$61:AR130,AT130),NA())","v":0.99685506109024868},70]
[null,null,null,null,null,null,null,null,null,null,null,72,71,0,1.0954451150103324,2.1908902300206647,3.2863353450309964,4.3817804600413295,5.4772255750516612,6.5726706900619929,8.763560920082659,10.954451150103322,13.145341380123986,15.336231610144651,17.527121840165318,19.718012070185981,21.908902300206645,null,72,2.6468634229782655,1.0000000389868369E-2,6.6200999095945012E-2,0.33143288563778261,0.73678926764313246,0.95567780934584112,0.99720903972483599,0.99993844340363236,0.99999999885515412,0.99999999999999978,1,1,1,1,1,{"$f":"IF($E$62,HLOOKUP($E$18,AE$61:AR131,AT131),NA())","v":0.99720903972483599},71]
[null,null,null,null,null,null,null,null,null,null,null,73,72,0,1.1030261405182864,2.2060522810365728,3.3090784215548594,4.4121045620731456,5.5151307025914322,6.6181568431097189,8.8242091241462912,11.030261405182864,13.236313686219438,15.442365967256009,17.648418248292582,19.854470529329156,22.060522810365729,null,73,2.6458518913417253,1.0000000406452436E-2,6.7198735431314494E-2,0.33708032109740205,0.7443317845870161,0.95850912792459886,0.99752448329719801,0.99994913803878327,0.99999999921964933,0.99999999999999989,1,1,1,1,1,{"$f":"IF($E$62,HLOOKUP($E$18,AE$61:AR132,AT132),NA())","v":0.99752448329719801},72]
[null,null,null,null,null,null,null,null,null,null,null,74,73,0,1.1105554165971787,2.2211108331943574,3.3316662497915361,4.4422216663887149,5.5527770829858936,6.6633324995830723,8.8844433327774297,11.105554165971787,13.326664999166145,15.5477758323605,17.768886665554859,19.989997498749219,22.211108331943574,null,74,2.6448687596991638,1.0000000423033173E-2,6.8201047367275169E-2,0.34272403481569769,0.75170722969826875,0.9611734230222877,0.99780541269468737,0.99995800308646743,0.9999999994686205,0.99999999999999989,1,1,1,1,1,{"$f":"IF($E$62,HLOOKUP($E$18,AE$61:AR133,AT133),NA())","v":0.99780541269468737},73]
[null,null,null,null,null,null,null,null,null,null,null,75,74,0,1.1180339887498947,2.2360679774997894,3.3541019662496843,4.4721359549995787,5.5901699437494736,6.7082039324993685,8.9442719099991574,11.180339887498947,13.416407864998737,15.652475842498525,17.888543819998315,20.124611797498105,22.360679774997894,null,75,2.6439128487233177,1.000000043957483E-2,6.9207908085810899E-2,0.34836300399466202,0.75891697213070219,0.96367938153099375,0.99805545241152438,0.99996534604076626,0.9999999996385065,1,1,1,1,1,1,{"$f":"IF($E$62,HLOOKUP($E$18,AE$61:AR134,AT134),NA())","v":0.99805545241152438},74]
[null,null,null,null,null,null,null,null,null,null,null,76,75,0,1.1254628677422753,2.2509257354845507,3.3763886032268258,4.5018514709691013,5.6273143387113764,6.7527772064536515,9.0037029419382026,11.254628677422753,13.505554412907303,15.756480148391853,18.007405883876405,20.258331619360956,22.509257354845506,null,76,2.6429830434832562,1.0000000456115266E-2,7.0219290765256459E-2,0.35399622608770887,0.76596249922163073,0.96603533841851785,0.99827786653662287,0.99997142377600878,0.99999999975431153,1,1,1,1,1,1,{"$f":"IF($E$62,HLOOKUP($E$18,AE$61:AR135,AT135),NA())","v":0.99827786653662287},75]
[null,null,null,null,null,null,null,null,null,null,null,77,76,0,1.1328430311977618,2.2656860623955235,3.3985290935932855,4.531372124791047,5.664215155988809,6.797058187186571,9.062744249582094,11.328430311977618,13.594116374373142,15.859802436768664,18.125488499164188,20.391174561559712,22.656860623955236,null,77,2.642078308586238,9.9999999468658451E-3,7.1235166054881005E-2,0.35962271170370042,0.77284540231551946,0.96824928052809034,0.99847559179313761,0.99997645067418328,0.99999999983317311,1,1,1,1,1,1,{"$f":"IF($E$62,HLOOKUP($E$18,AE$61:AR136,AT136),NA())","v":0.99847559179313761},76]
[null,null,null,null,null,null,null,null,null,null,null,78,77,0,1.1401754250991381,2.2803508501982761,3.4205262752974135,4.5607017003965522,5.7008771254956896,6.841052550594827,9.1214034007931044,11.401754250991379,13.682105101189654,15.96245595138793,18.242806801586209,20.523157651784484,22.803508501982758,null,78,2.6411976067035834,9.9999999513570303E-3,7.2255512090687035E-2,0.36524151258535831,0.77956739182596291,0.97032885832025639,0.99865126839795937,0.99998060549645318,0.99999999988682475,1,1,1,1,1,1,{"$f":"IF($E$62,HLOOKUP($E$18,AE$61:AR137,AT137),NA())","v":0.99865126839795937},77]
[null,null,null,null,null,null,null,null,null,null,null,79,78,0,1.1474609652039003,2.2949219304078006,3.4423828956117011,4.5898438608156011,5.7373048260195016,6.8847657912234022,9.1796877216312023,11.474609652039003,13.769531582446804,16.064453512854605,18.359375443262405,20.654297373670207,22.949219304078007,null,79,2.6403400104802746,9.999999955855321E-3,7.3280299599104204E-2,0.37085167980606781,0.78613025475430154,0.97228138424877342,0.99880726738276382,0.99998403715601225,0.99999999992329069,1,1,1,1,1,1,{"$f":"IF($E$62,HLOOKUP($E$18,AE$61:AR138,AT138),NA())","v":0.99880726738276382},78]
[null,null,null,null,null,null,null,null,null,null,null,80,79,0,1.1547005383792515,2.3094010767585029,3.4641016151377544,4.6188021535170058,5.7735026918962573,6.9282032302755088,9.2376043070340117,11.547005383792515,13.856406460551018,16.165807537309519,18.475208614068023,20.784609690826528,23.094010767585029,null,80,2.6395046225150347,9.9999999603400669E-3,7.4309501744134199E-2,0.37645229133294189,0.79253587025760897,0.97411384604515616,0.99894571660316278,0.99998686959962368,0.99999999994805255,1,1,1,1,1,1,{"$f":"IF($E$62,HLOOKUP($E$18,AE$61:AR139,AT139),NA())","v":0.99894571660316278},79]
[null,null,null,null,null,null,null,null,null,null,null,81,80,0,1.1618950038622251,2.3237900077244502,3.4856850115866749,4.6475800154489004,5.8094750193111251,6.9713700231733498,9.2951600308978009,11.61895003862225,13.9427400463467,16.266530054071151,18.590320061795602,20.914110069520049,23.2379000772445,null,81,2.6386905912794969,9.9999999648565652E-3,7.5343091686811858E-2,0.38204244509222007,0.79878619665866779,0.97583291339040801,0.99906852402523028,0.99998920590297735,0.99999999996485156,1,1,1,1,1,1,{"$f":"IF($E$62,HLOOKUP($E$18,AE$61:AR140,AT140),NA())","v":0.99906852402523028},80]
[null,null,null,null,null,null,null,null,null,null,null,82,81,0,1.169045194450012,2.338090388900024,3.5071355833500362,4.6761807778000479,5.8452259722500601,7.0142711667000723,9.3523615556000959,11.69045194450012,14.028542333400145,16.366632722300167,18.704723111200192,21.042813500100216,23.380903889000241,null,82,2.637897108224549,9.9999999693156649E-3,7.6381042585332293E-2,0.38762125888315846,0.80488326449859615,0.97744494648594693,0.99917739908157821,0.99999113171306586,0.99999999997623823,1,1,1,1,1,1,{"$f":"IF($E$62,HLOOKUP($E$18,AE$61:AR141,AT141),NA())","v":0.99917739908157821},81]
[null,null,null,null,null,null,null,null,null,null,null,83,82,0,1.1761519176251567,2.3523038352503134,3.5284557528754696,4.7046076705006268,5.880759588125783,7.0569115057509393,9.4092153410012536,11.761519176251566,14.113823011501879,16.466126846752193,18.818430682002507,21.170734517252818,23.523038352503132,null,83,2.6371234051024945,9.9999999738548118E-3,7.7423327595821378E-2,0.39318787028422197,0.81082916986870002,0.97895600499011559,0.99927387213756091,0.99999271813666146,0.99999999998394928,1,1,1,1,1,1,{"$f":"IF($E$62,HLOOKUP($E$18,AE$61:AR142,AT142),NA())","v":0.99927387213756091},82]
[null,null,null,null,null,null,null,null,null,null,null,84,83,0,1.1832159566199232,2.3664319132398464,3.5496478698597689,4.7328638264796927,5.9160797830996152,7.0992957397195378,9.4657276529593855,11.83215956619923,14.198591479439076,16.565023392678921,18.931455305918771,21.297887219158614,23.664319132398461,null,84,2.6363687514875904,9.9999999783448867E-3,7.8469919872271809E-2,0.3987414365514893,0.81662606801715243,0.98037185723800191,0.99935931220951202,0.99999402416142935,0.99999999998916689,1,1,1,1,1,1,{"$f":"IF($E$62,HLOOKUP($E$18,AE$61:AR143,AT143),NA())","v":0.99935931220951202},83]
[null,null,null,null,null,null,null,null,null,null,null,85,84,0,1.1902380714238083,{"$f":"P$61*SQRT($L144/(2*(1-$E$9)))","v":2.3804761428476167},3.5707142142714248,4.7609522856952333,5.9511903571190414,7.1414284285428495,9.5219045713904666,11.902380714238083,14.282856857085699,16.663332999933314,19.043809142780933,21.42428528562855,23.804761428476166,null,85,2.6356324524767958,9.9999999828099817E-3,7.9520792567465137E-2,0.40428113450952696,0.82227616722700492,0.98169798967044886,0.99943494306993397,0.99999509868289971,0.99999999999269429,1,1,1,1,1,1,{"$f":"IF($E$62,HLOOKUP($E$18,AE$61:AR144,AT144),NA())","v":0.99943494306993397},84]
[null,null,null,null,null,null,null,null,null,null,null,86,85,0,1.1972189997378646,2.3944379994757292,3.5916569992135936,4.7888759989514584,5.9860949986893228,7.1833139984271872,9.5777519979029169,11.972189997378646,14.366627996854374,16.761065996330103,19.155503995805834,21.549941995281564,23.944379994757291,null,86,2.6349138465565556,9.9999999873058298E-3,8.0575918833358018E-2,0.40980616043446927,0.82778172296037167,0.98293961640534744,0.9995018578672894,0.99999598220003572,0.99999999999507705,1,1,1,1,1,1,{"$f":"IF($E$62,HLOOKUP($E$18,AE$61:AR145,AT145),NA())","v":0.9995018578672894},85]
[null,null,null,null,null,null,null,null,null,null,null,87,86,0,1.2041594578792294,2.4083189157584588,3.6124783736376882,4.8166378315169176,6.020797289396147,7.2249567472753764,9.6332756630338352,12.041594578792294,14.449913494550753,16.85823241030921,19.26655132606767,21.674870241826131,24.083189157584588,null,87,2.6342123036213874,9.9999999917842475E-3,8.1635271821517752E-2,0.4153157299306921,0.83314503226410608,0.98410168889137417,0.99956103238068983,0.99999670823193165,0.99999999999668521,1,1,1,1,1,1,{"$f":"IF($E$62,HLOOKUP($E$18,AE$61:AR146,AT146),NA())","v":0.99956103238068983},86]
[null,null,null,null,null,null,null,null,null,null,null,88,87,0,1.2110601416389968,2.4221202832779936,3.6331804249169899,4.8442405665559871,6.0553007081949835,7.2663608498339798,9.6884811331119742,12.110601416389967,14.53272169966796,16.954841982945954,19.376962266223948,21.799082549501939,24.221202832779934,null,88,2.6335272231318294,9.9999999962895325E-3,8.269882468391776E-2,0.4208090778006236,0.83836842843179227,0.98518890559074423,0.9996133370223993,0.99999730450017399,0.99999999999776967,1,1,1,1,1,1,{"$f":"IF($E$62,HLOOKUP($E$18,AE$61:AR147,AT147),NA())","v":0.9996133370223993},87]
[null,null,null,null,null,null,null,null,null,null,null,89,88,0,1.2179217270963407,2.4358434541926814,3.6537651812890215,4.8716869083853629,6.0896086354817029,7.307530362578043,9.7433738167707258,12.179217270963406,14.615060725156086,17.050904179348766,19.486747633541452,21.92259108773413,24.358434541926812,null,89,2.6328580324007369,1.0000000000711884E-2,8.3766550573290188E-2,0.42628545790787342,0.8434542759163749,0.98620572164352283,0.99965954769378451,0.99999779391523169,0.99999999999850053,1,1,1,1,1,1,{"$f":"IF($E$62,HLOOKUP($E$18,AE$61:AR148,AT148),NA())","v":0.99965954769378451},88]
[null,null,null,null,null,null,null,null,null,null,null,90,89,0,1.2247448713915889,2.4494897427831779,3.6742346141747664,4.8989794855663558,6.1237243569579443,7.3484692283495328,9.7979589711327115,12.247448713915889,14.696938456699066,17.146428199482244,19.595917942265423,22.045407685048598,24.494897427831777,null,90,2.6322041849969997,1.0000000005176202E-2,8.4838422644175404E-2,0.43174414303523967,0.84840496548806321,0.98715635847164762,0.99970035559321069,0.99999819539805923,0.99999999999899258,1,1,1,1,1,1,{"$f":"IF($E$62,HLOOKUP($E$18,AE$61:AR149,AT149),NA())","v":0.99970035559321069},89]
[null,null,null,null,null,null,null,null,null,null,null,91,90,0,1.2315302134607444,2.4630604269214889,3.6945906403822333,4.9261208538429777,6.1576510673037221,7.3891812807644666,9.8522417076859554,12.315302134607444,14.778362561528933,17.24142298845042,19.704483415371911,22.167543842293401,24.630604269214889,null,91,2.6315651592582574,1.0000000009608989E-2,8.5914414053154142E-2,0.43718442473593533,0.85322290963116654,0.98804481328584615,0.99973637606746979,0.99999852456362548,0.99999999999932376,1,1,1,1,1,1,{"$f":"IF($E$62,HLOOKUP($E$18,AE$61:AR150,AT150),NA())","v":0.99973637606746979},90]
[null,null,null,null,null,null,null,null,null,null,null,92,91,0,1.2382783747337807,2.4765567494675613,3.7148351242013415,4.9531134989351226,6.1913918736689029,7.4296702484026831,9.9062269978702453,12.382783747337806,14.859340496805366,17.335897246272928,19.812453995740491,22.289010745208049,24.765567494675611,null,92,2.6309404569031916,1.0000000014043109E-2,8.6994497959838601E-2,0.44260561317971747,0.85791053817428609,0.98887486846346806,0.99976815659166052,0.99999879429041083,0.99999999999954636,1,1,1,1,1,1,{"$f":"IF($E$62,HLOOKUP($E$18,AE$61:AR151,AT151),NA())","v":0.99976815659166052},91]
[null,null,null,null,null,null,null,null,null,null,null,93,92,0,1.2449899597988732,2.4899799195977463,3.7349698793966191,4.9799598391954927,6.2249497989943654,7.4699397587932381,9.9599196783909854,12.449899597988731,14.939879517586476,17.429859437184223,19.919839356781971,22.409819276379714,24.899799195977462,null,93,2.6303296017362658,1.0000000018473787E-2,8.8078647527429665E-2,0.44800703699396838,0.86247029414735343,0.98965010076949378,0.99979618395605674,0.99999901519230039,0.99999999999969591,1,1,1,1,1,1,{"$f":"IF($E$62,HLOOKUP($E$18,AE$61:AR152,AT152),NA())","v":0.99979618395605674},92]
[null,null,null,null,null,null,null,null,null,null,null,94,93,0,1.2516655570345725,2.503331114069145,3.7549966711037173,5.00666222813829,6.2583277851728623,7.5099933422074345,10.01332445627658,12.516655570345725,15.019986684414869,17.523317798484012,20.02664891255316,22.529980026622304,25.033311140691449,null,94,2.6297321384376575,1.0000000022860167E-2,8.9166835923452314E-2,0.45338804309964675,0.8669046298593841,0.99037389039701651,0.99982089073245517,0.99999919601146947,0.99999999999979627,1,1,1,1,1,1,{"$f":"IF($E$62,HLOOKUP($E$18,AE$61:AR153,AT153),NA())","v":0.99982089073245517},93]
[null,null,null,null,null,null,null,null,null,null,null,95,94,0,1.2583057392117916,2.5166114784235831,3.7749172176353745,5.0332229568471663,6.2915286960589576,7.5498344352707489,10.066445913694333,12.583057392117915,15.099668870541498,17.616280348965081,20.132891827388665,22.649503305812249,25.16611478423583,null,95,2.6291476314316427,1.0000000027258205E-2,9.025903632061183E-2,0.45874799654253828,0.87121600319063353,0.99104942980711741,0.99984266108671938,0.9999993439437993,0.99999999999986355,1,1,1,1,1,1,{"$f":"IF($E$62,HLOOKUP($E$18,AE$61:AR154,AT154),NA())","v":0.99984266108671938},94]
[null,null,null,null,null,null,null,null,null,null,null,96,95,0,1.2649110640673518,2.5298221281347035,3.7947331922020546,5.0596442562694071,6.3245553203367582,7.5894663844041093,10.119288512538814,12.649110640673516,15.178932768808219,17.708754896942921,20.238577025077628,22.768399153212329,25.298221281347033,null,96,2.6285756638281095,1.0000000031663125E-2,9.1355221897385541E-2,0.464086280320127,0.87540687409258122,0.99167973235133955,0.99986183599883638,0.99999946490845582,0.99999999999990874,1,1,1,1,1,1,{"$f":"IF($E$62,HLOOKUP($E$18,AE$61:AR155,AT155),NA())","v":0.99986183599883638},95]
[null,null,null,null,null,null,null,null,null,null,null,97,96,0,1.2714820748507101,2.5429641497014202,3.8144462245521296,5.0859282994028403,6.3574103742535497,7.6288924491042591,10.171856598805681,12.714820748507099,15.257784898208518,17.800749047909939,20.343713197611361,22.88667734731278,25.429641497014199,null,97,2.6280158364311674,1.0000000036040957E-2,9.245536583883307E-2,0.46940229520432708,0.87947970128949338,0.99226764066301798,0.99987871794670335,0.99999956377153232,0.99999999999993894,1,1,1,1,1,1,{"$f":"IF($E$62,HLOOKUP($E$18,AE$61:AR156,AT156),NA())","v":0.99987871794670335},96]
[null,null,null,null,null,null,null,null,null,null,null,98,97,0,1.2780193008453875,2.556038601690775,3.8340579025361623,5.11207720338155,6.3900965042269373,7.6681158050723246,10.2241544067631,12.780193008453875,15.336231610144649,17.892270211835424,20.4483088135262,23.004347415216976,25.560386016907749,null,98,2.62746776681045,1.0000000040366275E-2,9.3559441337371485E-2,0.47469545956017223,0.88343693917497068,0.99281583480641189,0.99989357510512167,0.99999964453112289,0.99999999999995925,1,1,1,1,1,1,{"$f":"IF($E$62,HLOOKUP($E$18,AE$61:AR157,AT157),NA())","v":0.99989357510512167},97]
[null,null,null,null,null,null,null,null,null,null,null,99,98,0,1.2845232578665129,2.5690465157330258,3.853569773599538,5.1380930314660516,6.4226162893325638,7.707139547199076,10.276186062932103,12.845232578665128,15.414279094398152,17.983325610131178,20.552372125864206,23.121418641597231,25.690465157330255,null,99,2.6269310884300179,1.0000000044708579E-2,9.4667421593654599E-2,0.47996520916090535,0.8872810348971476,0.99332684017506978,0.99990664510701299,0.99999971046984126,0.9999999999999728,1,1,1,1,1,1,{"$f":"IF($E$62,HLOOKUP($E$18,AE$61:AR158,AT158),NA())","v":0.99990664510701299},98]
[null,null,null,null,null,null,null,null,null,null,null,100,99,0,1.2909944487358056,2.5819888974716112,3.8729833462074166,5.1639777949432224,6.4549722436790278,7.7459666924148332,10.327955589886445,12.909944487358056,15.491933384829666,18.073922282301275,20.65591117977289,23.2379000772445,25.819888974716111,null,100,2.6264054498313065,1.0000000049016244E-2,9.577927981714629E-2,0.48521099699956405,0.89101442562595534,0.99380303513304513,0.99991813840974308,0.99999976428172366,0.99999999999998179,1,1,1,1,1,1,{"$f":"IF($E$62,HLOOKUP($E$18,AE$61:AR159,AT159),NA())","v":0.99991813840974308},99]
[null,null,null,null,null,null,null,null,null,null,null,null,null,"d"]
[null,null,null,null,null,null,null,null,null,null,null,null,null,{"$f":"N61","v":0},{"$f":"O61","v":0.1},0.2,0.3,0.4,0.5,0.6,0.8,1,1.2,1.4,1.6,1.8,2,null,null,null,{"$f":"AE61","v":0},{"$f":"AF61","v":0.1},0.2,0.3,0.4,0.5,0.6,0.8,1,1.2,1.4,1.6,1.8,2]
[null,null,null,null,null,null,null,null,null,null,null,{"$f":"E30","v":100},{"$f":"L162-1","v":99},{"$f":"N$61*SQRT($L162/(2*(1-$E$9)))","v":0},1.2909944487358056,2.5819888974716112,3.8729833462074166,5.1639777949432224,6.4549722436790278,7.7459666924148332,10.327955589886445,12.909944487358056,15.491933384829666,18.073922282301275,20.65591117977289,23.2379000772445,25.819888974716111,null,{"$f":"E30","v":100},{"$f":"NORMSINV(1-$E$7/2)","v":2.5758293035489102},{"$f":"1-NORMSDIST($AD162-N162)+NORMSDIST(-$AD162-N162)","v":1.0000000000000453E-2},{"$f":"1-NORMSDIST($AD162-O162)+NORMSDIST(-$AD162-O162)","v":9.9480130835462588E-2},0.50245743182925617,0.90271090511768737,0.99517533129157643,0.99994758742655432,0.99999988303902287,0.99999999999999545,1,1,1,1,1,1]
[null,null,null,null,null,null,null,null,null,null,null,null,null,null,null,null,null,null,null,null,null,null,null,null,null,null,null,null,"power",{"$f":"HLOOKUP(E18,AE161:AR162,2)","v":0.99994758742655432}]

{"sheet":"Precision one","index":9,"n_rows":199,"n_cols":84,"rows_kept":199,"cut":false,"hidden":false,"merged":[]}
[null,null,null,null,null,null,null,null,null,null,null,null,null,null,null,null,null,null,null,null,null,null,null,null,null,95,{"$f":"AV78","v":95},"C",null,95,{"$f":"AV78","v":95},"C",null,99,{"$f":"AP86","v":99},"g"]
[null,null,null,null,null,null,null,null,null,null,null,null,null,null,null,null,null,null,null,null,null,null,null,null,null,0.5,{"$f":"AP102","v":0.5},"d",null,0.5,{"$f":"AP102","v":0.5},"d",null,"Okfive",{"$f":"AND(AI3,getgamma=putgamma)","v":true}]
[null,null,null,null,null,null,null,null,null,null,null,null,null,null,null,null,null,null,null,null,null,null,null,null,null,0.3,{"$f":"AV102","v":0.3},"targ av MOE",null,0.3,{"$f":"AV102","v":0.3},"targ av MOE",null,"Okfourg",{"$f":"AND(AA1=Z1,AA2=Z2,AA3=Z3,AA4=Z4)","v":true}]
[null,null,null,null,null,null,null,null,null,null,null,null,null,null,null,null,null,null,null,null,null,"Initial N",{"$f":"MAX(ROUNDUP(($AP$141/$AV$102)^2,0),3)","v":43},null,null,1,{"$f":"AQ145","v":1},"d or dunb",null,1,{"$f":"AQ145","v":1},"d or dunb",null,"OKfour",{"$f":"AND(AE1=AD1,AE2=AD2,AE3=AD3,AE4=AD4)","v":true}]
["To calculate N for d",null,null,0,1,2,3,4,5,6,7,8,9,10,11,12,13,"To calculate Ng for d",null,null,0,1,2,3,4,5,6,7,8,9,10,11,12,13,14,15,16]
[null,null,"Max","Done?","Index","N","ncp","av MOE","d at LL","d at UL","ncpL","ncpU","tailprobL","tailprobU","tbzL","tbzU","J",null,null,"Max","Done?","Index","N","ncp","ncpg","forg","tbzg","av MOE","d at LL","d at UL","ncpL","ncpU","tailprobL","tailprobU","tbzL","tbzU","J"]
[null,"Start",219,"topleft",1,{"$f":"MAX(ROUNDUP((AP141/AV102)^2,0),3)","v":43},{"$f":"$AP$102*SQRT(F7)","v":3.2787192621510002},{"$f":"(1/SQRT(F7))*TINV(1-$AV$78/100,F7-1)","v":0.30775457084090457},{"$f":"$AP$102-H7","v":0.19224542915909543},{"$f":"$AP$102+H7","v":0.80775457084090463},{"$f":"I7*SQRT(F7)","v":1.2606375832888235},{"$f":"J7*SQRT(F7)","v":5.2968009410131769},null,0.29723408929879991,49,"Wait:",true,null,"Start",219,"topleftg",1,{"$f":"MAX(ROUNDUP(W4*CHIINV($AP$135,(W4-1))/(W4-1),0),3)","v":68},{"$f":"$AP$102*SQRT(W7)","v":4.1231056256176606},{"$f":"$AP$102*SQRT(W7)","v":4.1231056256176606},null,null,{"$f":"(1/SQRT(W7))*TINV(1-$AV$78/100,W7-1)","v":0.24205156402722058},{"$f":"Y7/SQRT(W7)-AB7","v":0.25794843597277939},{"$f":"Y7/SQRT(W7)+AB7","v":0.74205156402722061},{"$f":"AC7*SQRT(W7)","v":2.1270972949572871},{"$f":"AD7*SQRT(W7)","v":6.1191139562780341},null,0.29886347197454904,59,"Wait:",true]
[{"$f":"E8","v":0},1,{"$f":"MAX(1,ROUNDUP(2*$AP$102,0))","v":1},false,0,{"$f":"MAX(IF(H7>$AV$102,F7+C8,F7-1),3)","v":44},{"$f":"$AP$102*SQRT(F8)/IF($AQ$144,Q8,1)","v":3.3166247903553998},{"$f":"(J8-I8)/2","v":0.31369894745855986},{"$f":"IF($AQ$144,Q8,1)*K8/SQRT(F8)","v":0.1837170772471593},{"$f":"IF($AQ$144,Q8,1)*L8/SQRT(F8)","v":0.81111497216427908},1.218641225619133,5.3803280490169563,{"$f":"IF($Q$7,NA(),1-nct(G8,K8,F8-1))","v":{"$error":"#N/A"}},{"$f":"IF($Q$7,NA(),nct(G8,L8,F8-1))","v":{"$error":"#N/A"}},{"$f":"10000000*(M8-$AP$143)","v":{"$error":"#N/A"}},{"$f":"10000000*(N8-$AP$143)","v":{"$error":"#N/A"}},{"$f":"IF($Q$7,NA(),EXP(GAMMALN((F8-1)/2))/(SQRT((F8-1)/2)*EXP(GAMMALN((F8-1)/2-0.5))))","v":{"$error":"#N/A"}},{"$f":"V8","v":0},1,{"$f":"MAX(1,ROUNDUP(2*$AP$102,0))","v":1},false,0,{"$f":"MAX(IF(AB7>$AV$102,W7+T8,W7-1),3)","v":67},{"$f":"$AP$102*SQRT(W8)/IF($AQ$144,AK8,1)","v":4.0926763859362252},6.8115852390878242,{"$f":"IF($AK$7,NA(),nct(Y8,X8,W8-1)-nct(-Y8,X8,W8-1))","v":{"$error":"#N/A"}},{"$f":"10000000*(Z8-$AP$86/100)","v":{"$error":"#N/A"}},{"$f":"(AD8-AC8)/2","v":0.27822650678460115},{"$f":"IF($AQ$144,AK8,1)*AE8/SQRT(W8)","v":0.55157556656576534},{"$f":"IF($AQ$144,AK8,1)*AF8/SQRT(W8)","v":1.1080285801349676},4.5148405926862045,9.0696048097216533,{"$f":"IF($AK$7,NA(),1-nct(Y8,AE8,W8-1))","v":{"$error":"#N/A"}},{"$f":"IF($AK$7,NA(),nct(Y8,AF8,W8-1))","v":{"$error":"#N/A"}},{"$f":"10000000*(AG8-$AP$143)","v":{"$error":"#N/A"}},{"$error":"#N/A"},{"$f":"IF($AK$7,NA(),EXP(GAMMALN((W8-1)/2))/(SQRT((W8-1)/2)*EXP(GAMMALN((W8-1)/2-0.5))))","v":{"$error":"#N/A"}}]
[{"$f":"E9","v":0},2,{"$f":"IF(F8>F7,2*C8,1)","v":2},false,0,46,3.3911649915626341,{"$f":"(J9-I9)/2","v":0.30679074970765063},0.19073938488637016,0.80432088430167137,1.2936574490776989,5.4551696496530555,{"$error":"#N/A"},{"$error":"#N/A"},{"$error":"#N/A"},{"$error":"#N/A"},{"$error":"#N/A"},{"$f":"V9","v":0},2,{"$f":"6","v":6},false,0,66,4.0620192023179804,6.783490672968532,{"$error":"#N/A"},{"$error":"#N/A"},0.28057938375072206,{"$f":"IF($AQ$144,AK9,1)*AE9/SQRT(W9)","v":0.55200484126167948},{"$f":"IF($AQ$144,AK9,1)*AF9/SQRT(W9)","v":1.1131636087631236},4.4845085299548613,9.0433839082347749,{"$error":"#N/A"},{"$error":"#N/A"},{"$error":"#N/A"},{"$error":"#N/A"},{"$error":"#N/A"}]
[0,3,{"$f":"IF(F9>F8,C9,1)","v":2},{"$f":"OR(AND(F10=3,F9=3),AND(F10>F9,F10=F8))","v":false},0,48,3.4641016151377544,0.30031973178954757,0.19731486159296854,0.79795432517206366,1.3670374614697696,5.528389733269405,{"$error":"#N/A"},{"$error":"#N/A"},{"$error":"#N/A"},{"$error":"#N/A"},{"$error":"#N/A"},0,3,{"$f":"IF(W9>W8,2*T9,1)","v":1},{"$f":"OR(AND(W10=3,W9=3),AND(W10>W9,W10=W8))","v":false},0,65,4.0311288741492746,6.755234337712376,{"$error":"#N/A"},{"$error":"#N/A"},0.28299161152374264,{"$f":"IF($AQ$144,AK10,1)*AE10/SQRT(W10)","v":0.5524447624028932},{"$f":"IF($AQ$144,AK10,1)*AF10/SQRT(W10)","v":1.1184279854503785},4.453952066189677,9.01705469161125,{"$error":"#N/A"},{"$error":"#N/A"},{"$error":"#N/A"},{"$error":"#N/A"},{"$error":"#N/A"}]
[0,4,2,false,0,50,3.5355339059327378,0.29424164552446175,0.20348893017568376,0.79197222122460731,1.4388840242362186,5.6000892813929246,{"$error":"#N/A"},{"$error":"#N/A"},{"$error":"#N/A"},{"$error":"#N/A"},{"$error":"#N/A"},0,4,{"$f":"IF(W10>W9,T10,1)","v":1},{"$f":"OR(AND(W11=3,W10=3),AND(W11>W10,W11=W9))","v":false},0,64,4,6.7268140674650914,{"$error":"#N/A"},{"$error":"#N/A"},0.28546570549185174,{"$f":"IF($AQ$144,AK11,1)*AE11/SQRT(W11)","v":0.55289577289740477},{"$f":"IF($AQ$144,AK11,1)*AF11/SQRT(W11)","v":1.1238271838811082},4.4231661831792382,8.990617471048866,{"$error":"#N/A"},{"$error":"#N/A"},{"$error":"#N/A"},{"$error":"#N/A"},{"$error":"#N/A"}]
[0,5,2,false,0,49,3.5,0.2972340892988054,0.20044948897334811,0.79491766757095894,1.4031464228134367,5.5644236729967123,{"$error":"#N/A"},{"$error":"#N/A"},{"$error":"#N/A"},{"$error":"#N/A"},{"$error":"#N/A"},0,5,1,false,0,63,3.9686269665968861,6.6982276887608432,{"$error":"#N/A"},{"$error":"#N/A"},0.28800433199748998,0.55335834191943456,1.1293670059144145,4.3921456758656161,8.9640727097134612,{"$error":"#N/A"},{"$error":"#N/A"},{"$f":"10000000*(AG12-$AP$143)","v":{"$error":"#N/A"}},{"$f":"10000000*(AH12-$AP$143)","v":{"$error":"#N/A"}},{"$error":"#N/A"}]
[0,6,1,false,0,48,3.4641016151377544,0.30031973180653637,0.1973148615590643,0.79795432517213705,1.3670374612348741,5.5283897332699139,{"$error":"#N/A"},{"$error":"#N/A"},{"$error":"#N/A"},{"$error":"#N/A"},{"$error":"#N/A"},0,6,1,false,0,62,3.9370039370059056,6.669473025361933,{"$error":"#N/A"},{"$error":"#N/A"},0.29061032024767547,0.55383296674386828,1.1350536072392192,4.3608851410285405,8.9374210408271217,{"$error":"#N/A"},{"$error":"#N/A"},{"$error":"#N/A"},{"$error":"#N/A"},{"$error":"#N/A"}]
[1,7,1,true,1,49,3.5,0.29723408929879991,0.20044948897335629,0.79491766757095605,1.403146422813494,5.5644236729966927,{"$error":"#N/A"},{"$error":"#N/A"},{"$error":"#N/A"},{"$error":"#N/A"},{"$error":"#N/A"},0,7,1,false,0,61,3.905124837953327,6.6405479038755413,{"$error":"#N/A"},{"$error":"#N/A"},0.29328667528646069,0.55432017493896413,1.1408935255118855,4.3293789666655647,8.9106632878732039,{"$error":"#N/A"},{"$error":"#N/A"},{"$error":"#N/A"},{"$error":"#N/A"},{"$error":"#N/A"}]
[0,8,1,false,null,48,3.4641016151377544,0.30031431757074195,0.20252674123095782,0.80315537637244172,1.403146422813494,5.5644236729966927,{"$error":"#N/A"},{"$error":"#N/A"},{"$error":"#N/A"},{"$error":"#N/A"},{"$error":"#N/A"},0,8,1,false,0,60,3.872983346207417,6.6114501602929545,{"$error":"#N/A"},{"$error":"#N/A"},0.29603659224954676,0.55482052677095728,1.1468937112700508,4.297621320635888,8.8838004872378491,{"$error":"#N/A"},{"$error":"#N/A"},{"$error":"#N/A"},{"$error":"#N/A"},{"$error":"#N/A"}]
[0,9,1,true,null,49,3.5,0,0,0,null,null,{"$error":"#N/A"},{"$error":"#N/A"},{"$error":"#N/A"},{"$error":"#N/A"},{"$error":"#N/A"},0,9,1,false,0,59,3.8405728739343039,6.5821776475922178,{"$error":"#N/A"},{"$error":"#N/A"},0.29886347205328156,0.55533461784518612,1.1530615619517492,4.26560613850579,8.8568339136164145,{"$error":"#N/A"},{"$error":"#N/A"},{"$error":"#N/A"},{"$error":"#N/A"},{"$error":"#N/A"}]
[0,10,1,false,null,48,3.4641016151377544,0,0,0,null,null,{"$error":"#N/A"},{"$error":"#N/A"},{"$error":"#N/A"},{"$error":"#N/A"},{"$error":"#N/A"},0,10,1,false,0,58,3.8078865529319543,6.5527282445761852,{"$error":"#N/A"},{"$error":"#N/A"},0.30177093869178961,0.55586308201225187,1.1594049593958311,4.2333271105315324,8.8297651085720084,{"$error":"#N/A"},{"$error":"#N/A"},{"$error":"#N/A"},{"$error":"#N/A"},{"$error":"#N/A"}]
[0,11,1,false,null,47,3.427827300200522,{"$f":"(J18-I18)/2","v":0},0,0,null,null,{"$error":"#N/A"},{"$error":"#N/A"},{"$error":"#N/A"},{"$error":"#N/A"},{"$error":"#N/A"},1,11,1,true,1,59,3.8405728739343039,6.5821776475922036,{"$error":"#N/A"},{"$error":"#N/A"},0.29886347197454904,0.5553346180027422,1.1530615619518403,4.2656061397160006,8.8568339136171126,{"$error":"#N/A"},{"$error":"#N/A"},{"$error":"#N/A"},{"$error":"#N/A"},{"$error":"#N/A"}]
[0,12,1,false,null,46,3.3911649915626341,0,0,0,null,null,{"$error":"#N/A"},{"$error":"#N/A"},{"$error":"#N/A"},{"$error":"#N/A"},{"$error":"#N/A"},0,12,1,false,null,58,3.8078865529319543,6.5821776475922036,{"$error":"#N/A"},{"$error":"#N/A"},0.30142887071871988,0.56010152619063935,1.1629592676280791,4.2656061397160006,8.8568339136171126,{"$error":"#N/A"},{"$error":"#N/A"},{"$error":"#N/A"},{"$error":"#N/A"},{"$error":"#N/A"}]
[0,13,1,false,null,45,3.3541019662496847,0,0,0,null,null,{"$error":"#N/A"},{"$error":"#N/A"},{"$error":"#N/A"},{"$error":"#N/A"},{"$error":"#N/A"},0,13,1,true,null,59,3.8405728739343039,null,{"$error":"#N/A"},{"$error":"#N/A"},0.82376021515103348,6.3300780608405764,7.9775984911426434,48.622252180701956,61.27709672844334,{"$error":"#N/A"},{"$error":"#N/A"},{"$error":"#N/A"},{"$error":"#N/A"},{"$error":"#N/A"}]
[0,14,1,false,null,44,3.3166247903553998,0,0,0,null,null,{"$error":"#N/A"},{"$error":"#N/A"},{"$error":"#N/A"},{"$error":"#N/A"},{"$error":"#N/A"},0,14,1,false,null,60,3.872983346207417,null,{"$error":"#N/A"},{"$error":"#N/A"},0.81708038709978403,6.2566871825533426,7.8908479567529106,48.464090520917004,61.122245447917692,{"$error":"#N/A"},{"$error":"#N/A"},{"$error":"#N/A"},{"$error":"#N/A"},{"$error":"#N/A"}]
[0,15,1,false,null,43,3.2787192621510002,0,0,0,null,null,{"$error":"#N/A"},{"$error":"#N/A"},{"$error":"#N/A"},{"$error":"#N/A"},{"$error":"#N/A"},0,15,1,false,null,61,3.905124837953327,null,{"$error":"#N/A"},{"$error":"#N/A"},0.81014340623910419,6.2254414641752014,7.8457282766534098,48.622252177950209,61.277096729983967,{"$error":"#N/A"},{"$error":"#N/A"},{"$error":"#N/A"},{"$error":"#N/A"},{"$error":"#N/A"}]
[0,16,1,false,null,42,3.2403703492039302,0,0,0,null,null,{"$error":"#N/A"},{"$error":"#N/A"},{"$error":"#N/A"},{"$error":"#N/A"},{"$error":"#N/A"},0,16,1,false,null,62,3.9370039370059056,null,{"$error":"#N/A"},{"$error":"#N/A"},0.80358343263797805,6.1750322016349655,7.7821990669109216,48.622252177950209,61.277096729983967,{"$error":"#N/A"},{"$error":"#N/A"},{"$error":"#N/A"},{"$error":"#N/A"},{"$error":"#N/A"}]
[0,17,1,false,null,41,3.2015621187164243,0,0,0,null,null,{"$error":"#N/A"},{"$error":"#N/A"},{"$error":"#N/A"},{"$error":"#N/A"},{"$error":"#N/A"},0,17,1,false,null,63,3.9686269665968861,null,{"$error":"#N/A"},{"$error":"#N/A"},0.72079443308742119,6.0993770152732898,7.5409658814481322,48.41230420450961,59.854561102604229,{"$error":"#N/A"},{"$error":"#N/A"},{"$error":"#N/A"},{"$error":"#N/A"},{"$error":"#N/A"}]
[0,18,1,false,null,40,3.1622776601683795,0,0,0,null,null,{"$error":"#N/A"},{"$error":"#N/A"},{"$error":"#N/A"},{"$error":"#N/A"},{"$error":"#N/A"},0,18,1,false,null,64,4,null,{"$error":"#N/A"},{"$error":"#N/A"},0.71558682791941397,6.029940156157906,7.461113811996734,48.239521249263248,59.688910495973872,{"$error":"#N/A"},{"$error":"#N/A"},{"$error":"#N/A"},{"$error":"#N/A"},{"$error":"#N/A"}]
[0,19,1,false,null,39,3.1224989991991992,0,0,0,null,null,{"$error":"#N/A"},{"$error":"#N/A"},{"$error":"#N/A"},{"$error":"#N/A"},{"$error":"#N/A"},0,19,1,false,null,65,4.0311288741492746,null,{"$error":"#N/A"},{"$error":"#N/A"},0.71050813008695668,5.961857510501285,7.3828737706751983,48.066031908290881,59.52263126233624,{"$error":"#N/A"},{"$error":"#N/A"},{"$error":"#N/A"},{"$error":"#N/A"},{"$error":"#N/A"}]
[0,20,1,false,null,38,3.082207001484488,0,0,0,null,null,{"$error":"#N/A"},{"$error":"#N/A"},{"$error":"#N/A"},{"$error":"#N/A"},{"$error":"#N/A"},0,20,1,false,null,66,4.0620192023179804,null,{"$error":"#N/A"},{"$error":"#N/A"},0.7046611966678431,5.9378745950702125,7.3471969884058987,48.239521252262612,59.688910500235195,{"$error":"#N/A"},{"$error":"#N/A"},{"$error":"#N/A"},{"$error":"#N/A"},{"$error":"#N/A"}]
[0,21,1,false,null,37,3.0413812651491097,0,0,0,null,null,{"$error":"#N/A"},{"$error":"#N/A"},{"$error":"#N/A"},{"$error":"#N/A"},{"$error":"#N/A"},0,21,1,false,null,67,4.0926763859362252,null,{"$error":"#N/A"},{"$error":"#N/A"},0.699382761321933,5.8933955074030999,7.2921610300469659,48.239521252262612,59.688910500235195,{"$error":"#N/A"},{"$error":"#N/A"},{"$error":"#N/A"},{"$error":"#N/A"},{"$error":"#N/A"}]
[0,22,1,false,null,36,3,0,0,0,null,null,{"$error":"#N/A"},{"$error":"#N/A"},{"$error":"#N/A"},{"$error":"#N/A"},{"$error":"#N/A"},0,22,1,false,null,68,4.1231056256176606,null,{"$error":"#N/A"},{"$error":"#N/A"},0.82362229676196552,4.9244622218388416,6.5717068153627727,40.608155780010748,54.191682680664336,{"$error":"#N/A"},{"$error":"#N/A"},{"$error":"#N/A"},{"$error":"#N/A"},{"$error":"#N/A"}]
[0,23,1,false,null,35,2.9580398915498081,0,0,0,null,null,{"$error":"#N/A"},{"$error":"#N/A"},{"$error":"#N/A"},{"$error":"#N/A"},{"$error":"#N/A"},0,23,1,false,null,69,4.1533119314590374,null,{"$error":"#N/A"},{"$error":"#N/A"},0.81790808220794187,4.8754745283058432,6.5112906927217269,40.49873305987456,54.086842646558658,{"$error":"#N/A"},{"$error":"#N/A"},{"$error":"#N/A"},{"$error":"#N/A"},{"$error":"#N/A"}]
[0,24,1,false,null,34,2.9154759474226504,0,0,0,null,null,{"$error":"#N/A"},{"$error":"#N/A"},{"$error":"#N/A"},{"$error":"#N/A"},{"$error":"#N/A"},0,24,1,false,null,70,4.1833001326703778,null,{"$error":"#N/A"},{"$error":"#N/A"},0.81232119528979263,4.827411028587794,6.4520534191673793,40.389018392691526,53.981751848798524,{"$error":"#N/A"},{"$error":"#N/A"},{"$error":"#N/A"},{"$error":"#N/A"},{"$error":"#N/A"}]
[0,25,1,false,null,33,2.8722813232690143,0,0,0,null,null,{"$error":"#N/A"},{"$error":"#N/A"},{"$error":"#N/A"},{"$error":"#N/A"},{"$error":"#N/A"},0,25,1,false,null,71,4.2130748865881795,null,{"$error":"#N/A"},{"$error":"#N/A"},0.8068571668897877,4.7802390978158833,6.3939534315954587,40.279010589790069,53.876409257338274,{"$error":"#N/A"},{"$error":"#N/A"},{"$error":"#N/A"},{"$error":"#N/A"},{"$error":"#N/A"}]
[0,26,1,false,null,32,2.8284271247461903,0,0,0,null,null,{"$error":"#N/A"},{"$error":"#N/A"},{"$error":"#N/A"},{"$error":"#N/A"},{"$error":"#N/A"},0,26,1,false,null,72,4.2426406871192848,null,{"$error":"#N/A"},{"$error":"#N/A"},0.80151174504143397,4.7339276758623177,6.3369511659451856,40.168708334987002,53.770813697854067,{"$error":"#N/A"},{"$error":"#N/A"},{"$error":"#N/A"},{"$error":"#N/A"},{"$error":"#N/A"}]
[0,27,1,false,null,31,2.7838821814150108,0,0,0,null,null,{"$error":"#N/A"},{"$error":"#N/A"},{"$error":"#N/A"},{"$error":"#N/A"},{"$error":"#N/A"},0,27,1,false,null,73,4.2720018726587652,null,{"$error":"#N/A"},{"$error":"#N/A"},0.79572756946609013,4.7143016073540425,6.3057567462862227,40.279010589789394,53.876409257330771,{"$error":"#N/A"},{"$error":"#N/A"},{"$error":"#N/A"},{"$error":"#N/A"},{"$error":"#N/A"}]
[0,28,1,false,null,30,2.7386127875258306,0,0,0,null,null,{"$error":"#N/A"},{"$error":"#N/A"},{"$error":"#N/A"},{"$error":"#N/A"},{"$error":"#N/A"},0,28,1,false,null,74,4.3011626335213133,null,{"$error":"#N/A"},{"$error":"#N/A"},0.79033274408001963,4.6823398720003091,6.2630053601603484,40.279010589789394,53.876409257330771,{"$error":"#N/A"},{"$error":"#N/A"},{"$error":"#N/A"},{"$error":"#N/A"},{"$error":"#N/A"}]
[0,29,1,false,null,29,2.6925824035672519,0,0,0,null,null,{"$error":"#N/A"},{"$error":"#N/A"},{"$error":"#N/A"},{"$error":"#N/A"},{"$error":"#N/A"},0,29,1,false,null,75,4.3301270189221936,null,{"$error":"#N/A"},{"$error":"#N/A"},0.66346137533674221,2.8000324596528539,4.1269552103263383,24.248992414803979,35.7404805242316,{"$error":"#N/A"},{"$error":"#N/A"},{"$error":"#N/A"},{"$error":"#N/A"},{"$error":"#N/A"}]
[0,30,1,false,null,28,2.6457513110645907,0,0,0,null,null,{"$error":"#N/A"},{"$error":"#N/A"},{"$error":"#N/A"},{"$error":"#N/A"},{"$error":"#N/A"},0,30,1,false,null,76,4.358898943540674,null,{"$error":"#N/A"},{"$error":"#N/A"},0.65767818417891299,2.8034960712313084,4.1188524395891344,24.440312126221162,35.90732309505001,{"$error":"#N/A"},{"$error":"#N/A"},{"$error":"#N/A"},{"$error":"#N/A"},{"$error":"#N/A"}]
[0,31,1,false,null,27,2.598076211353316,0,0,0,null,null,{"$error":"#N/A"},{"$error":"#N/A"},{"$error":"#N/A"},{"$error":"#N/A"},{"$error":"#N/A"},0,31,1,false,null,77,4.3874821936960613,null,{"$error":"#N/A"},{"$error":"#N/A"},0.65203920375719915,2.8068604307151417,4.11093883822954,24.630100319905484,36.073341904211361,{"$error":"#N/A"},{"$error":"#N/A"},{"$error":"#N/A"},{"$error":"#N/A"},{"$error":"#N/A"}]
[0,32,1,false,null,26,2.5495097567963922,0,0,0,null,null,{"$error":"#N/A"},{"$error":"#N/A"},{"$error":"#N/A"},{"$error":"#N/A"},{"$error":"#N/A"},0,32,1,false,null,78,4.4158804331639239,null,{"$error":"#N/A"},{"$error":"#N/A"},0.64653854618737738,2.8101296444334234,4.1032067368081782,24.818393023014899,36.238540684595257,{"$error":"#N/A"},{"$error":"#N/A"},{"$error":"#N/A"},{"$error":"#N/A"},{"$error":"#N/A"}]
[0,33,1,false,null,{"$f":"MAX(IF(H39>$AV$102,F39+C40,F39-1),3)","v":25},{"$f":"$AP$102*SQRT(F40)/IF($AQ$144,Q40,1)","v":2.5},0,{"$f":"IF($AQ$144,Q40,1)*K40/SQRT(F40)","v":0},{"$f":"IF($AQ$144,Q40,1)*L40/SQRT(F40)","v":0},null,null,{"$f":"IF($Q$7,NA(),1-nct(G40,K40,F40-1))","v":{"$error":"#N/A"}},{"$f":"IF($Q$7,NA(),nct(G40,L40,F40-1))","v":{"$error":"#N/A"}},{"$f":"10000000*(M40-$AP$143)","v":{"$error":"#N/A"}},{"$f":"10000000*(N40-$AP$143)","v":{"$error":"#N/A"}},{"$f":"IF($Q$7,NA(),EXP(GAMMALN((F40-1)/2))/(SQRT((F40-1)/2)*EXP(GAMMALN((F40-1)/2-0.5))))","v":{"$error":"#N/A"}},0,33,1,false,null,{"$f":"MAX(IF(AB39>$AV$102,W39+T40,W39-1),3)","v":79},{"$f":"$AP$102*SQRT(W40)/IF($AQ$144,AK40,1)","v":4.4440972086577943},null,{"$f":"IF($AK$7,NA(),nct(Y40,X40,W40-1)-nct(-Y40,X40,W40-1))","v":{"$error":"#N/A"}},{"$f":"10000000*(Z40-$AP$86/100)","v":{"$error":"#N/A"}},0.64117065542416696,2.8133075779515733,4.0956488887999072,25.005224708540815,36.402923588716128,{"$f":"IF($AK$7,NA(),1-nct(Y40,AE40,W40-1))","v":{"$error":"#N/A"}},{"$f":"IF($AK$7,NA(),nct(Y40,AF40,W40-1))","v":{"$error":"#N/A"}},{"$error":"#N/A"},{"$error":"#N/A"},{"$f":"IF($AK$7,NA(),EXP(GAMMALN((W40-1)/2))/(SQRT((W40-1)/2)*EXP(GAMMALN((W40-1)/2-0.5))))","v":{"$error":"#N/A"}}]
[0,34,1,false,null,24,2.4494897427831779,0,0,0,null,null,{"$error":"#N/A"},{"$error":"#N/A"},{"$error":"#N/A"},{"$error":"#N/A"},{"$error":"#N/A"},0,34,1,false,null,80,4.4721359549995796,null,{"$error":"#N/A"},{"$error":"#N/A"},0.63593027882854214,2.8163978831213079,4.0882584407783922,25.190628473383011,36.566495132671136,{"$error":"#N/A"},{"$error":"#N/A"},{"$error":"#N/A"},{"$error":"#N/A"},{"$error":"#N/A"}]
[0,35,{"$f":"IF(F41>F40,C41,1)","v":1},{"$f":"OR(AND(F42=3,F41=3),AND(F42>F41,F42=F40))","v":false},null,23,2.3979157616563596,0,0,0,null,null,{"$error":"#N/A"},{"$error":"#N/A"},{"$error":"#N/A"},{"$error":"#N/A"},{"$error":"#N/A"},0,35,1,false,null,81,4.5,null,{"$error":"#N/A"},{"$error":"#N/A"},0.63081244445448226,2.8194040273162262,4.0810289162251907,25.374636245846034,36.729260246026719,{"$error":"#N/A"},{"$error":"#N/A"},{"$error":"#N/A"},{"$error":"#N/A"},{"$error":"#N/A"}]
[0,36,1,false,null,22,2.3452078799117149,0,0,0,null,null,{"$error":"#N/A"},{"$error":"#N/A"},{"$error":"#N/A"},{"$error":"#N/A"},{"$error":"#N/A"},0,36,1,false,null,82,4.5276925690687087,null,{"$error":"#N/A"},{"$error":"#N/A"},0.62581244391955604,2.8223293164390144,4.0739542042781265,25.557278947011387,36.891224354872598,{"$error":"#N/A"},{"$error":"#N/A"},{"$error":"#N/A"},{"$error":"#N/A"},{"$error":"#N/A"}]
[0,37,1,false,null,21,2.2912878474779199,0,0,0,null,null,{"$error":"#N/A"},{"$error":"#N/A"},{"$error":"#N/A"},{"$error":"#N/A"},{"$error":"#N/A"},0,37,1,false,null,83,4.5552167895721496,null,{"$error":"#N/A"},{"$error":"#N/A"},0.62092581895960852,2.825176906621452,4.0670285445406691,25.738586557107094,37.052393419521678,{"$error":"#N/A"},{"$error":"#N/A"},{"$error":"#N/A"},{"$error":"#N/A"},{"$error":"#N/A"}]
[0,38,1,false,null,20,2.2360679774997898,0,0,0,null,null,{"$error":"#N/A"},{"$error":"#N/A"},{"$error":"#N/A"},{"$error":"#N/A"},{"$error":"#N/A"},0,38,1,false,null,84,4.5825756949558398,null,{"$error":"#N/A"},{"$error":"#N/A"},0.61614834904859461,2.8279498051312681,4.0602465032284574,25.918588087099305,37.212773882448332,{"$error":"#N/A"},{"$error":"#N/A"},{"$error":"#N/A"},{"$error":"#N/A"},{"$error":"#N/A"}]
[0,39,1,false,null,19,2.179449471770337,0,0,0,null,null,{"$error":"#N/A"},{"$error":"#N/A"},{"$error":"#N/A"},{"$error":"#N/A"},{"$error":"#N/A"},0,39,1,false,null,85,4.6097722286464435,null,{"$error":"#N/A"},{"$error":"#N/A"},0.61147603796091143,2.8306508657931575,4.0536029417149804,26.097311500254616,37.372372533354486,{"$error":"#N/A"},{"$error":"#N/A"},{"$error":"#N/A"},{"$error":"#N/A"},{"$error":"#N/A"}]
[0,40,1,false,null,18,2.1213203435596424,0,0,0,null,null,{"$error":"#N/A"},{"$error":"#N/A"},{"$error":"#N/A"},{"$error":"#N/A"},{"$error":"#N/A"},0,40,1,false,null,86,4.636809247747852,null,{"$error":"#N/A"},{"$error":"#N/A"},0.60690509845100382,2.8332827860466669,4.0470929829486746,26.274783647651969,37.531196339663708,{"$error":"#N/A"},{"$error":"#N/A"},{"$error":"#N/A"},{"$error":"#N/A"},{"$error":"#N/A"}]
[0,41,1,false,null,17,2.0615528128088303,0,0,0,null,null,{"$error":"#N/A"},{"$error":"#N/A"},{"$error":"#N/A"},{"$error":"#N/A"},{"$error":"#N/A"},0,41,1,false,null,87,4.6636895265444078,null,{"$error":"#N/A"},{"$error":"#N/A"},0.60243193565639097,2.8358481111551552,4.0407119824679372,26.451030269730079,37.689252304836415,{"$error":"#N/A"},{"$error":"#N/A"},{"$error":"#N/A"},{"$error":"#N/A"},{"$error":"#N/A"}]
[0,42,1,false,null,16,2,0,0,0,null,null,{"$error":"#N/A"},{"$error":"#N/A"},{"$error":"#N/A"},{"$error":"#N/A"},{"$error":"#N/A"},0,42,1,false,null,88,4.6904157598234297,null,{"$error":"#N/A"},{"$error":"#N/A"},0.59805313075370425,2.8383492471919216,4.0344555086993301,26.626076081823914,37.846547400619578,{"$error":"#N/A"},{"$error":"#N/A"},{"$error":"#N/A"},{"$error":"#N/A"},{"$error":"#N/A"}]
[0,43,1,false,null,15,1.9364916731037085,0,0,0,null,null,{"$error":"#N/A"},{"$error":"#N/A"},{"$error":"#N/A"},{"$error":"#N/A"},{"$error":"#N/A"},0,43,1,false,null,89,4.7169905660283016,null,{"$error":"#N/A"},{"$error":"#N/A"},0.59376542653931685,2.8407884802307861,4.0283193333094198,26.799944922660988,38.003088584339899,{"$error":"#N/A"},{"$error":"#N/A"},{"$error":"#N/A"},{"$error":"#N/A"},{"$error":"#N/A"}]
[0,44,1,false,null,14,1.8708286933869707,0,0,0,null,null,{"$error":"#N/A"},{"$error":"#N/A"},{"$error":"#N/A"},{"$error":"#N/A"},{"$error":"#N/A"},0,44,1,false,null,90,4.7434164902525691,null,{"$error":"#N/A"},{"$error":"#N/A"},0.58956571602212238,2.8431679965042873,4.0222994285485321,26.972659918353589,38.158882876221185,{"$error":"#N/A"},{"$error":"#N/A"},{"$error":"#N/A"},{"$error":"#N/A"},{"$error":"#N/A"}]
[0,45,1,false,null,13,1.8027756377319946,0,0,0,null,null,{"$error":"#N/A"},{"$error":"#N/A"},{"$error":"#N/A"},{"$error":"#N/A"},{"$error":"#N/A"},0,45,1,false,null,91,4.7696960070847281,null,{"$error":"#N/A"},{"$error":"#N/A"},0.58545103416226407,2.8454898980351899,4.0163919663597181,27.144243609716749,38.313937449666255,{"$error":"#N/A"},{"$error":"#N/A"},{"$error":"#N/A"},{"$error":"#N/A"},{"$error":"#N/A"}]
[0,46,1,false,null,12,1.7320508075688772,0,0,0,null,null,{"$error":"#N/A"},{"$error":"#N/A"},{"$error":"#N/A"},{"$error":"#N/A"},{"$error":"#N/A"},0,46,1,false,null,92,4.7958315233127191,null,{"$error":"#N/A"},{"$error":"#N/A"},0.58141855197717596,2.8477562102443046,4.0105933141986565,27.314718007598398,38.468259686842302,{"$error":"#N/A"},{"$error":"#N/A"},{"$error":"#N/A"},{"$error":"#N/A"},{"$error":"#N/A"}]
[0,47,1,false,null,11,1.6583123951776999,0,0,0,null,null,{"$error":"#N/A"},{"$error":"#N/A"},{"$error":"#N/A"},{"$error":"#N/A"},{"$error":"#N/A"},0,47,1,false,null,93,4.8218253804964775,null,{"$error":"#N/A"},{"$error":"#N/A"},0.57746557171327417,2.8499688812139823,4.0049000246405306,27.48410457012546,38.621857170325356,{"$error":"#N/A"},{"$error":"#N/A"},{"$error":"#N/A"},{"$error":"#N/A"},{"$error":"#N/A"}]
[0,48,1,false,null,10,1.5811388300841898,0,0,0,null,null,{"$error":"#N/A"},{"$error":"#N/A"},{"$error":"#N/A"},{"$error":"#N/A"},{"$error":"#N/A"},0,48,1,false,null,94,4.8476798574163293,null,{"$error":"#N/A"},{"$error":"#N/A"},0.57358952176632672,2.8521297753057704,3.9993088188384238,27.652424124974289,38.774737609341038,{"$error":"#N/A"},{"$error":"#N/A"},{"$error":"#N/A"},{"$error":"#N/A"},{"$error":"#N/A"}]
[0,49,1,false,null,9,1.5,0,0,0,null,null,{"$error":"#N/A"},{"$error":"#N/A"},{"$error":"#N/A"},{"$error":"#N/A"},{"$error":"#N/A"},0,49,1,false,null,95,4.8733971724044816,null,{"$error":"#N/A"},{"$error":"#N/A"},0.56978795047382325,2.8542406655986534,3.9938165665462999,27.819696778180724,38.926908725017825,{"$error":"#N/A"},{"$error":"#N/A"},{"$error":"#N/A"},{"$error":"#N/A"},{"$error":"#N/A"}]
[0,50,1,false,null,8,1.4142135623730951,0,0,0,null,null,{"$error":"#N/A"},{"$error":"#N/A"},{"$error":"#N/A"},{"$error":"#N/A"},{"$error":"#N/A"},0,50,1,false,null,96,4.8989794855663558,null,{"$error":"#N/A"},{"$error":"#N/A"},0.56605851856990208,2.8563032296273305,3.9884202667671347,27.985941853002441,39.078378133418568,{"$error":"#N/A"},{"$error":"#N/A"},{"$error":"#N/A"},{"$error":"#N/A"},{"$error":"#N/A"}]
[0,51,1,false,null,7,1.3228756555322954,0,0,0,null,null,{"$error":"#N/A"},{"$error":"#N/A"},{"$error":"#N/A"},{"$error":"#N/A"},{"$error":"#N/A"},0,51,1,false,null,97,4.924428900898052,null,{"$error":"#N/A"},{"$error":"#N/A"},0.56239899073627853,2.8583190513530643,3.9831170328256214,28.151177888941067,39.229153264211568,{"$error":"#N/A"},{"$error":"#N/A"},{"$error":"#N/A"},{"$error":"#N/A"},{"$error":"#N/A"}]
[0,52,1,false,null,6,1.2247448713915889,0,0,0,null,null,{"$error":"#N/A"},{"$error":"#N/A"},{"$error":"#N/A"},{"$error":"#N/A"},{"$error":"#N/A"},0,52,1,false,null,98,4.9497474683058327,null,{"$error":"#N/A"},{"$error":"#N/A"},0.5588072271016824,2.8602896299020815,3.9779040841054463,28.31542270845851,39.379241338928729,{"$error":"#N/A"},{"$error":"#N/A"},{"$error":"#N/A"},{"$error":"#N/A"},{"$error":"#N/A"}]
[0,53,1,false,null,5,1.1180339887498949,0,0,0,null,null,{"$error":"#N/A"},{"$error":"#N/A"},{"$error":"#N/A"},{"$error":"#N/A"},{"$error":"#N/A"},0,53,1,false,null,99,4.9749371855330997,null,{"$error":"#N/A"},{"$error":"#N/A"},0.55528117561241142,2.8622163932293114,3.9727787444541343,28.478693535437859,39.528649411360746,{"$error":"#N/A"},{"$error":"#N/A"},{"$error":"#N/A"},{"$error":"#N/A"},{"$error":"#N/A"}]
[0,54,1,false,null,4,1,0,0,0,null,null,{"$error":"#N/A"},{"$error":"#N/A"},{"$error":"#N/A"},{"$error":"#N/A"},{"$error":"#N/A"},0,54,1,false,null,100,5,null,{"$error":"#N/A"},{"$error":"#N/A"},0.55181886597843799,2.8641007133219345,3.9677384452788105,28.641007133219347,39.677384452788104,{"$error":"#N/A"},{"$error":"#N/A"},{"$error":"#N/A"},{"$error":"#N/A"},{"$error":"#N/A"}]
[0,55,1,false,null,3,0.8660254037844386,0,0,0,null,null,{"$error":"#N/A"},{"$error":"#N/A"},{"$error":"#N/A"},{"$error":"#N/A"},{"$error":"#N/A"},0,55,1,false,null,101,5.024937810560445,null,{"$error":"#N/A"},{"$error":"#N/A"},0.54841840545569442,2.8659439191880063,3.9627807300993951,28.802379924947203,39.825453451273553,{"$error":"#N/A"},{"$error":"#N/A"},{"$error":"#N/A"},{"$error":"#N/A"},{"$error":"#N/A"}]
[0,56,1,true,null,3,0.8660254037844386,0,0,0,null,null,{"$error":"#N/A"},{"$error":"#N/A"},{"$error":"#N/A"},{"$error":"#N/A"},{"$error":"#N/A"},0,56,1,false,null,102,5.0497524691810387,null,{"$error":"#N/A"},{"$error":"#N/A"},0.5450779762538791,2.867747304721207,3.9579032572289652,28.962828066006367,39.972863491943286,{"$error":"#N/A"},{"$error":"#N/A"},{"$error":"#N/A"},{"$error":"#N/A"},{"$error":"#N/A"}]
[0,57,1,true,null,3,0.8660254037844386,0,0,0,null,null,{"$error":"#N/A"},{"$error":"#N/A"},{"$error":"#N/A"},{"$error":"#N/A"},{"$error":"#N/A"},0,57,1,false,null,103,5.0744457825461096,null,{"$error":"#N/A"},{"$error":"#N/A"},0.54179583398274067,2.8695121301807602,3.9531037981462416,29.122367453921324,40.119621792940407,{"$error":"#N/A"},{"$error":"#N/A"},{"$error":"#N/A"},{"$error":"#N/A"},{"$error":"#N/A"}]
[0,58,1,true,null,3,0.8660254037844386,0,0,0,null,null,{"$error":"#N/A"},{"$error":"#N/A"},{"$error":"#N/A"},{"$error":"#N/A"},{"$error":"#N/A"},0,58,1,false,null,104,5.0990195135927845,null,{"$error":"#N/A"},{"$error":"#N/A"},0.53857030636711456,2.871239617907301,3.9483802306415301,29.281013679820035,40.265735686250281,{"$error":"#N/A"},{"$error":"#N/A"},{"$error":"#N/A"},{"$error":"#N/A"},{"$error":"#N/A"}]
[0,59,1,true,null,3,0.8660254037844386,0,0,0,null,null,{"$error":"#N/A"},{"$error":"#N/A"},{"$error":"#N/A"},{"$error":"#N/A"},{"$error":"#N/A"},0,59,1,false,null,105,5.123475382979799,null,{"$error":"#N/A"},{"$error":"#N/A"},0.53539979150718908,2.8729309444635236,3.9437305274779018,29.438781941919533,40.411212549277934,{"$error":"#N/A"},{"$error":"#N/A"},{"$error":"#N/A"},{"$error":"#N/A"},{"$error":"#N/A"}]
[0,60,1,true,null,3,0.8660254037844386,0,0,0,null,null,{"$error":"#N/A"},{"$error":"#N/A"},{"$error":"#N/A"},{"$error":"#N/A"},{"$error":"#N/A"},0,60,1,false,null,106,5.1478150704935004,null,{"$error":"#N/A"},{"$error":"#N/A"},0.53228275518658297,2.87458723220122,3.939152742574386,29.595686950747279,40.556059706400454,{"$error":"#N/A"},{"$error":"#N/A"},{"$error":"#N/A"},{"$error":"#N/A"},{"$error":"#N/A"}]
[0,61,1,true,null,3,0.8660254037844386,0,0,0,null,null,{"$error":"#N/A"},{"$error":"#N/A"},{"$error":"#N/A"},{"$error":"#N/A"},{"$error":"#N/A"},0,61,1,false,null,107,5.1720402163943007,null,{"$error":"#N/A"},{"$error":"#N/A"},0.52921772707389803,2.8762095432230326,3.9346449973708286,29.751742856653212,40.700284327273145,{"$error":"#N/A"},{"$error":"#N/A"},{"$error":"#N/A"},{"$error":"#N/A"},{"$error":"#N/A"}]
[0,62,1,true,null,3,0.8660254037844386,0,0,0,null,null,{"$error":"#N/A"},{"$error":"#N/A"},{"$error":"#N/A"},{"$error":"#N/A"},{"$error":"#N/A"},0,62,1,false,null,108,5.196152422706632,null,{"$error":"#N/A"},{"$error":"#N/A"},0.52620329599934146,2.8777988778494015,3.9302054698480844,29.906963222399188,40.84389334777196,{"$error":"#N/A"},{"$error":"#N/A"},{"$error":"#N/A"},{"$error":"#N/A"},{"$error":"#N/A"}]
[0,63,1,true,null,3,0.8660254037844386,0,0,0,null,null,{"$error":"#N/A"},{"$error":"#N/A"},{"$error":"#N/A"},{"$error":"#N/A"},{"$error":"#N/A"},0,63,1,false,null,109,5.2201532544552753,null,{"$error":"#N/A"},{"$error":"#N/A"},0.52323810475977472,2.8793561783952679,3.9258323879148174,30.061361050771925,40.986893432438919,{"$error":"#N/A"},{"$error":"#N/A"},{"$error":"#N/A"},{"$error":"#N/A"},{"$error":"#N/A"}]
[0,64,1,true,null,3,0.8660254037844386,0,0,0,null,null,{"$error":"#N/A"},{"$error":"#N/A"},{"$error":"#N/A"},{"$error":"#N/A"},{"$error":"#N/A"},0,64,1,false,null,110,5.2440442408507577,null,{"$error":"#N/A"},{"$error":"#N/A"},0.52032084503448517,2.8808823376258781,3.9215240276948484,30.21494886239131,41.129290985582074,{"$error":"#N/A"},{"$error":"#N/A"},{"$error":"#N/A"},{"$error":"#N/A"},{"$error":"#N/A"},null,null,null,null,"     Precision, single sample",null,null,null,null,null,null,null,null,null,{"$f":"($AP$138+$AP$142+$AP$136+$AP$139+$AQ$94+$AQ$96+$AP$102+$AV$102)/1000000","v":2.298E-4},{"$f":"$AZ$71","v":2.298E-4},2.298E-4,2.298E-4,2.298E-4,2.298E-4,2.298E-4,2.298E-4,2.298E-4,2.298E-4,2.298E-4,2.298E-4,2.298E-4,2.298E-4,2.298E-4,2.298E-4]
[0,65,1,true,null,{"$f":"MAX(IF(H71>$AV$102,F71+C72,F71-1),3)","v":3},{"$f":"$AP$102*SQRT(F72)/IF($AQ$144,Q72,1)","v":0.8660254037844386},0,{"$f":"IF($AQ$144,Q72,1)*K72/SQRT(F72)","v":0},{"$f":"IF($AQ$144,Q72,1)*L72/SQRT(F72)","v":0},null,null,{"$f":"IF($Q$7,NA(),1-nct(G72,K72,F72-1))","v":{"$error":"#N/A"}},{"$f":"IF($Q$7,NA(),nct(G72,L72,F72-1))","v":{"$error":"#N/A"}},{"$f":"10000000*(M72-$AP$143)","v":{"$error":"#N/A"}},{"$f":"10000000*(N72-$AP$143)","v":{"$error":"#N/A"}},{"$f":"IF($Q$7,NA(),EXP(GAMMALN((F72-1)/2))/(SQRT((F72-1)/2)*EXP(GAMMALN((F72-1)/2-0.5))))","v":{"$error":"#N/A"}},0,65,1,false,null,{"$f":"MAX(IF(AB71>$AV$102,W71+T72,W71-1),3)","v":111},{"$f":"$AP$102*SQRT(W72)/IF($AQ$144,AK72,1)","v":5.2678268764263692},null,{"$f":"IF($AK$7,NA(),nct(Y72,X72,W72-1)-nct(-Y72,X72,W72-1))","v":{"$error":"#N/A"}},{"$f":"10000000*(Z72-$AP$86/100)","v":{"$error":"#N/A"}},{"$f":"(AD72-AC72)/2","v":0.51745025297562086},2.8823782101155242,3.9172787160667659,30.36773880654458,41.271092205898981,{"$f":"IF($AK$7,NA(),1-nct(Y72,AE72,W72-1))","v":{"$error":"#N/A"}},{"$f":"IF($AK$7,NA(),nct(Y72,AF72,W72-1))","v":{"$error":"#N/A"}},{"$error":"#N/A"},{"$error":"#N/A"},{"$f":"IF($AK$7,NA(),EXP(GAMMALN((W72-1)/2))/(SQRT((W72-1)/2)*EXP(GAMMALN((W72-1)/2-0.5))))","v":{"$error":"#N/A"}},null,null,null,null,"       Find N required for target MOE, using z or t",null,null,null,null,null,null,null,null,null,{"$f":"$AZ$71","v":2.298E-4},null,null,null,null,null,null,null,null,null,null,null,null,null,null,{"$f":"$AZ$71","v":2.298E-4}]
[{"$f":"E73","v":0},66,1,true,null,3,0.8660254037844386,0,0,0,null,null,{"$error":"#N/A"},{"$error":"#N/A"},{"$error":"#N/A"},{"$error":"#N/A"},{"$error":"#N/A"},{"$f":"V73","v":0},66,1,false,null,112,5.2915026221291814,null,{"$error":"#N/A"},{"$error":"#N/A"},0.51462510588848409,2.8838446240939537,3.9130948358709219,30.519742780412599,41.412303169302284,{"$error":"#N/A"},{"$error":"#N/A"},{"$error":"#N/A"},{"$error":"#N/A"},{"$error":"#N/A"},null,null,null,null,"       Find N for chosen assurance, g",null,null,null,null,null,null,null,null,null,2.298E-4,null,null,null,null,null,null,null,null,null,null,null,null,null,null,2.298E-4]
[0,67,{"$f":"IF(F73>F72,C73,1)","v":1},{"$f":"OR(AND(F74=3,F73=3),AND(F74>F73,F74=F72))","v":true},null,3,0.8660254037844386,0,0,0,null,null,{"$error":"#N/A"},{"$error":"#N/A"},{"$error":"#N/A"},{"$error":"#N/A"},{"$error":"#N/A"},0,67,1,false,null,113,5.315072906367325,null,{"$error":"#N/A"},{"$error":"#N/A"},0.51184422018488718,2.8852823913592092,3.9089708317289835,30.670972531064116,41.552929919005734,{"$error":"#N/A"},{"$error":"#N/A"},{"$error":"#N/A"},{"$error":"#N/A"},{"$error":"#N/A"},null,null,null,null,"       Find N when using Cohen's d",null,null,null,null,null,null,null,null,null,2.298E-4,null,null,null,null,null,null,null,null,null,null,null,null,null,null,2.298E-4]
[0,68,1,true,null,3,0.8660254037844386,0,0,0,null,null,{"$error":"#N/A"},{"$error":"#N/A"},{"$error":"#N/A"},{"$error":"#N/A"},{"$error":"#N/A"},0,68,{"$f":"IF(W74>W73,T74,1)","v":1},{"$f":"OR(AND(W75=3,W74=3),AND(W75>W74,W75=W73))","v":false},null,114,5.3385391260156556,null,{"$error":"#N/A"},{"$error":"#N/A"},0.50910645053688586,{"$f":"IF($AQ$144,AK75,1)*AE75/SQRT(W75)","v":2.8866923133876261},{"$f":"IF($AQ$144,AK75,1)*AF75/SQRT(W75)","v":3.9049052144613978},30.821439719576979,41.692978541569452,{"$error":"#N/A"},{"$error":"#N/A"},{"$error":"#N/A"},{"$error":"#N/A"},{"$error":"#N/A"},null,null,null,null,null,null,null,null,null,null,null,null,null,null,2.298E-4,null,null,null,null,null,null,null,null,null,null,null,null,null,null,2.298E-4]
[0,69,1,true,null,3,0.8660254037844386,0,0,0,null,null,{"$error":"#N/A"},{"$error":"#N/A"},{"$error":"#N/A"},{"$error":"#N/A"},{"$error":"#N/A"},0,69,1,false,null,115,5.3619026473818039,null,{"$error":"#N/A"},{"$error":"#N/A"},0.50641068993697047,2.8880751827129383,3.9008965625868792,30.97115593605238,41.832455212194333,{"$error":"#N/A"},{"$error":"#N/A"},{"$f":"10000000*(AG76-$AP$143)","v":{"$error":"#N/A"}},{"$f":"10000000*(AH76-$AP$143)","v":{"$error":"#N/A"}},{"$error":"#N/A"},null,1,"Sample size figure",null,null,null,null,null,null,null,null,null,null,null,2.298E-4,null,null,null,null,null,null,null,null,null,null,null,null,null,null,2.298E-4]
[0,70,1,true,null,3,0.8660254037844386,0,0,0,null,null,{"$error":"#N/A"},{"$error":"#N/A"},{"$error":"#N/A"},{"$error":"#N/A"},{"$error":"#N/A"},0,70,1,false,null,116,5.3851648071345037,null,{"$error":"#N/A"},{"$error":"#N/A"},0.50375587022955615,2.8894317797273414,3.8969435201864537,31.12013266560739,41.971366200597878,{"$error":"#N/A"},{"$error":"#N/A"},{"$error":"#N/A"},{"$error":"#N/A"},{"$error":"#N/A"},null,null,"Display N curves",null,null,null,null,null,null,null,"Level of confidence",null,null,null,2.298E-4,null,null,null,null,null,null,null,null,null,null,null,null,null,null,2.298E-4]
[0,71,1,true,null,3,0.8660254037844386,0,0,0,null,null,{"$error":"#N/A"},{"$error":"#N/A"},{"$error":"#N/A"},{"$error":"#N/A"},{"$error":"#N/A"},0,71,1,false,null,117,5.4083269131959844,null,{"$error":"#N/A"},{"$error":"#N/A"},0.50114096263046015,2.8907628660239859,3.8930447912849062,31.268381215970159,42.109717837967203,{"$error":"#N/A"},{"$error":"#N/A"},{"$error":"#N/A"},{"$error":"#N/A"},{"$error":"#N/A"},null,null,null,"Using z",null,null,null,null,null,"C. ",{"$f":"AP138","v":95},null,null,null,2.298E-4,null,null,null,null,null,null,null,null,null,null,null,null,null,null,2.298E-4]
[0,72,1,true,null,3,0.8660254037844386,0,0,0,null,null,{"$error":"#N/A"},{"$error":"#N/A"},{"$error":"#N/A"},{"$error":"#N/A"},{"$error":"#N/A"},0,72,1,false,null,118,5.4313902456001077,null,{"$error":"#N/A"},{"$error":"#N/A"},0.49856497780546616,2.8920691760623987,3.889199131673331,31.415912624932105,42.247516453933876,{"$error":"#N/A"},{"$error":"#N/A"},{"$error":"#N/A"},{"$error":"#N/A"},{"$error":"#N/A"},null,null,null,null,"    Display values",null,null,null,null,null,null,null,null,null,2.298E-4,null,null,null,null,null,null,null,null,null,null,null,null,null,null,2.298E-4]
[0,73,1,true,null,3,0.8660254037844386,0,0,0,null,null,{"$error":"#N/A"},{"$error":"#N/A"},{"$error":"#N/A"},{"$error":"#N/A"},{"$error":"#N/A"},0,73,1,false,null,119,5.4543560573178569,null,{"$error":"#N/A"},{"$error":"#N/A"},0.49602696521003686,2.8933514091875061,3.8854053396075798,31.562737569302062,42.384768298447497,{"$error":"#N/A"},{"$error":"#N/A"},{"$error":"#N/A"},{"$error":"#N/A"},{"$error":"#N/A"},null,null,null,"Using t",null,null,null,null,null,null,"Truncate display at: f.",{"$f":"VLOOKUP(AP142,BC137:BD165,2)","v":0.1},null,null,2.298E-4,null,null,null,null,null,null,null,null,null,null,null,null,null,null,2.298E-4]
[0,74,1,true,null,3,0.8660254037844386,0,0,0,null,null,{"$error":"#N/A"},{"$error":"#N/A"},{"$error":"#N/A"},{"$error":"#N/A"},{"$error":"#N/A"},0,74,1,false,null,120,5.4772255750516612,null,{"$error":"#N/A"},{"$error":"#N/A"},0.49352601155815257,2.8946102238362719,3.881662246952577,31.708866295604086,42.521479465442305,{"$error":"#N/A"},{"$error":"#N/A"},{"$error":"#N/A"},{"$error":"#N/A"},{"$error":"#N/A"},null,null,null,null,"    Display values",null,null,null,null,null,null,null,null,null,2.298E-4,null,null,null,null,null,null,null,null,null,null,null,null,null,null,2.298E-4]
[0,75,1,true,null,3,0.8660254037844386,{"$f":"(J82-I82)/2","v":0},0,0,null,null,{"$error":"#N/A"},{"$error":"#N/A"},{"$error":"#N/A"},{"$error":"#N/A"},{"$error":"#N/A"},0,75,1,false,null,121,5.5,null,{"$error":"#N/A"},{"$error":"#N/A"},0.49106123848424765,2.8958462352464616,3.8779687122149569,31.854308587711078,42.657655834364526,{"$error":"#N/A"},{"$error":"#N/A"},{"$error":"#N/A"},{"$error":"#N/A"},{"$error":"#N/A"},null,null,null,null,null,null,null,null,null,null,null,null,null,null,2.298E-4,null,null,null,null,null,null,null,null,null,null,null,null,null,null,2.298E-4]
[0,76,1,true,null,3,0.8660254037844386,0,0,0,null,null,{"$error":"#N/A"},{"$error":"#N/A"},{"$error":"#N/A"},{"$error":"#N/A"},{"$error":"#N/A"},0,76,1,false,null,122,5.5226805085936306,null,{"$error":"#N/A"},{"$error":"#N/A"},0.48863179959667091,2.8970600171938852,3.874323616387227,31.999073778365197,42.793303040411452,{"$error":"#N/A"},{"$error":"#N/A"},{"$error":"#N/A"},{"$error":"#N/A"},{"$error":"#N/A"},null,2,"Assurance in figure",null,null,null,null,null,null,null,null,null,null,null,2.298E-4,null,null,null,null,null,null,null,null,null,null,null,null,null,null,2.298E-4]
[0,77,1,true,null,3,0.8660254037844386,0,0,0,null,null,{"$error":"#N/A"},{"$error":"#N/A"},{"$error":"#N/A"},{"$error":"#N/A"},{"$error":"#N/A"},0,77,1,false,null,123,5.5452682532047088,null,{"$error":"#N/A"},{"$error":"#N/A"},0.48623687724483888,2.8982521075090317,3.8707258619987095,32.143170803106948,42.92842647879975,{"$error":"#N/A"},{"$error":"#N/A"},{"$error":"#N/A"},{"$error":"#N/A"},{"$error":"#N/A"},null,null,null,null,null,null,null,null,null,null,null,null,null,null,2.298E-4,null,null,null,null,null,null,null,null,null,null,null,null,null,null,2.298E-4]
[0,78,1,true,null,3,0.8660254037844386,0,0,0,null,null,{"$error":"#N/A"},{"$error":"#N/A"},{"$error":"#N/A"},{"$error":"#N/A"},{"$error":"#N/A"},0,78,1,false,null,124,5.5677643628300215,null,{"$error":"#N/A"},{"$error":"#N/A"},0.48387567934484621,2.899423016390827,3.8671743750805194,32.286608286859945,43.063031340845548,{"$error":"#N/A"},{"$error":"#N/A"},{"$error":"#N/A"},{"$error":"#N/A"},{"$error":"#N/A"},null,null,null,null,"Level of assurance",null,null,null," Display N curve for assurance",null,null,null,null,null,2.298E-4,null,null,null,null,null,null,null,null,null,null,null,null,null,null,2.298E-4]
[0,79,1,true,null,3,0.8660254037844386,0,0,0,null,null,{"$error":"#N/A"},{"$error":"#N/A"},{"$error":"#N/A"},{"$error":"#N/A"},{"$error":"#N/A"},0,79,1,false,null,125,5.5901699437494745,null,{"$error":"#N/A"},{"$error":"#N/A"},0.4815474365950998,2.9005732360815384,3.863668109271738,32.429394647974327,43.19712267414846,{"$error":"#N/A"},{"$error":"#N/A"},{"$error":"#N/A"},{"$error":"#N/A"},{"$error":"#N/A"},null,null,null,"g. ",{"$f":"AP136","v":99},null,null,null,null,"   Display values",null,null,null,null,2.298E-4,null,null,null,null,null,null,null,null,null,null,null,null,null,null,2.298E-4]
[0,80,1,true,null,3,0.8660254037844386,0,0,0,null,null,{"$error":"#N/A"},{"$error":"#N/A"},{"$error":"#N/A"},{"$error":"#N/A"},{"$error":"#N/A"},0,80,1,false,null,126,5.6124860801609122,null,{"$error":"#N/A"},{"$error":"#N/A"},0.47925140032789693,2.9017032502694828,3.8602060509252767,32.571538201790297,43.33070545474208,{"$error":"#N/A"},{"$error":"#N/A"},{"$error":"#N/A"},{"$error":"#N/A"},{"$error":"#N/A"},null,null,null,null,null,null,null,null,null,null,null,null,null,null,2.298E-4,null,null,null,null,null,null,null,null,null,null,null,null,null,null,2.298E-4]
[0,81,1,true,null,3,0.8660254037844386,0,0,0,null,null,{"$error":"#N/A"},{"$error":"#N/A"},{"$error":"#N/A"},{"$error":"#N/A"},{"$error":"#N/A"},0,81,1,false,null,127,5.634713834792322,null,{"$error":"#N/A"},{"$error":"#N/A"},0.47698684113366485,2.9028135417169487,3.8567872239842784,32.71304724666998,43.463784657668974,{"$error":"#N/A"},{"$error":"#N/A"},{"$error":"#N/A"},{"$error":"#N/A"},{"$error":"#N/A"},null,3,"Cursor for target MOE",null,null,null,null,null,null,null,null,null,null,null,2.298E-4,null,null,null,null,null,null,null,null,null,null,null,null,null,null,2.298E-4]
[0,82,1,true,null,3,0.8660254037844386,0,0,0,null,null,{"$error":"#N/A"},{"$error":"#N/A"},{"$error":"#N/A"},{"$error":"#N/A"},{"$error":"#N/A"},0,82,1,false,null,128,5.6568542494923806,null,{"$error":"#N/A"},{"$error":"#N/A"},0.47475304826925258,2.9039045969753992,3.8534106935139043,32.853930119041493,43.596365313287023,{"$error":"#N/A"},{"$error":"#N/A"},{"$error":"#N/A"},{"$error":"#N/A"},{"$error":"#N/A"},null,null,null,"    Display MOE cursor",null,null,null,null,null,null,"Target MOE cursor: f.",{"$f":"IF($AQ$141,AQ146,\"\")","v":0.2},null,null,2.298E-4,null,null,null,null,null,null,null,null,null,null,null,null,null,null,2.298E-4]
[0,83,1,true,null,3,0.8660254037844386,0,0,0,null,null,{"$error":"#N/A"},{"$error":"#N/A"},{"$error":"#N/A"},{"$error":"#N/A"},{"$error":"#N/A"},0,83,1,false,null,129,5.6789083458002736,null,{"$error":"#N/A"},{"$error":"#N/A"},0.47254932973873731,2.9049769075925211,3.8500755670699958,32.994195209768478,43.728452539591039,{"$error":"#N/A"},{"$error":"#N/A"},{"$error":"#N/A"},{"$error":"#N/A"},{"$error":"#N/A"},null,null,null,null,"          Display values",null,null,null,null,null,null,null,null,null,2.298E-4,null,null,null,null,null,null,null,null,null,null,null,null,null,null,2.298E-4]
[0,84,1,true,null,3,0.8660254037844386,0,0,0,null,null,{"$error":"#N/A"},{"$error":"#N/A"},{"$error":"#N/A"},{"$error":"#N/A"},{"$error":"#N/A"},0,84,1,false,null,130,5.7008771254956896,null,{"$error":"#N/A"},{"$error":"#N/A"},0.47037501285479055,2.9060309678240026,3.8467809935335837,33.133850940899912,43.860051545654379,{"$error":"#N/A"},{"$error":"#N/A"},{"$error":"#N/A"},{"$error":"#N/A"},{"$error":"#N/A"},null,null,null,null,null,null,null,null,null,null,null,null,null,null,2.298E-4,null,null,null,null,null,null,null,null,null,null,null,null,null,null,2.298E-4]
[0,85,1,true,null,3,0.8660254037844386,0,0,0,null,null,{"$error":"#N/A"},{"$error":"#N/A"},{"$error":"#N/A"},{"$error":"#N/A"},{"$error":"#N/A"},0,85,1,false,null,131,5.7227615711297988,null,{"$error":"#N/A"},{"$error":"#N/A"},0.46822944502858177,2.9070672694207307,3.8435261594778942,33.272905708260389,43.991167606184391,{"$error":"#N/A"},{"$error":"#N/A"},{"$error":"#N/A"},{"$error":"#N/A"},{"$error":"#N/A"},null,5,"Find N, for target MOE in original units",null,null,null,null,null,null,null,null,null,null,null,2.298E-4,null,null,null,null,null,null,null,null,null,null,null,null,null,null,2.298E-4]
[0,86,1,true,null,3,0.8660254037844386,0,0,0,null,null,{"$error":"#N/A"},{"$error":"#N/A"},{"$error":"#N/A"},{"$error":"#N/A"},{"$error":"#N/A"},0,86,1,false,null,132,5.7445626465380286,null,{"$error":"#N/A"},{"$error":"#N/A"},0.46679796458386824,2.8839315522041673,3.8175274813719038,33.13385093992899,43.860051543242875,{"$error":"#N/A"},{"$error":"#N/A"},{"$error":"#N/A"},{"$error":"#N/A"},{"$error":"#N/A"},null,null,null,null,null,null,null,null,null,null,null,null,null,null,2.298E-4,null,null,null,null,null,null,null,null,null,null,null,null,null,null,2.298E-4]
[0,87,1,true,null,3,0.8660254037844386,0,0,0,null,null,{"$error":"#N/A"},{"$error":"#N/A"},{"$error":"#N/A"},{"$error":"#N/A"},{"$error":"#N/A"},0,87,1,false,null,133,5.7662812973353983,null,{"$error":"#N/A"},{"$error":"#N/A"},0.46469558738300032,2.8851268254668261,3.8145180002328267,33.272905708260019,43.991167606183545,{"$error":"#N/A"},{"$error":"#N/A"},{"$error":"#N/A"},{"$error":"#N/A"},{"$error":"#N/A"},null,null,null,null,"Target MOE. ",10,null,null,null,null,"Target MOE in SD units: f.",{"$f":"IF(AND(AQ94/AQ96>=0.05,AQ94/AQ96<=2),AQ94/AQ96,\"\")","v":0.5},null,null,2.298E-4,null,null,null,null,null,null,null,null,null,null,null,null,null,null,2.298E-4]
[0,88,1,true,null,3,0.8660254037844386,0,0,0,null,null,{"$error":"#N/A"},{"$error":"#N/A"},{"$error":"#N/A"},{"$error":"#N/A"},{"$error":"#N/A"},0,88,1,false,null,134,5.7879184513951127,null,{"$error":"#N/A"},{"$error":"#N/A"},0.46295840153639389,2.8743412668711632,3.800258069943951,33.272905708260019,43.991167606183545,{"$error":"#N/A"},{"$error":"#N/A"},{"$error":"#N/A"},{"$error":"#N/A"},{"$error":"#N/A"},null,null,null,null,null,null,null,null,null,null,null,null,null,null,2.298E-4,null,null,null,null,null,null,null,null,null,null,null,null,null,null,2.298E-4]
[0,89,1,true,null,3,0.8660254037844386,0,0,0,null,null,{"$error":"#N/A"},{"$error":"#N/A"},{"$error":"#N/A"},{"$error":"#N/A"},{"$error":"#N/A"},0,89,1,false,null,135,5.8094750193111251,null,{"$error":"#N/A"},{"$error":"#N/A"},0,0,0,null,null,{"$error":"#N/A"},{"$error":"#N/A"},{"$error":"#N/A"},{"$error":"#N/A"},{"$error":"#N/A"},null,null,null,null,"Population s. ",20,null,null,"N.",{"$f":"IF(ISNUMBER($AW$94),MAX(ROUNDUP((AP141/AW94)^2,0),AP137),\"\")","v":16},"Using z",null,null,null,2.298E-4,null,null,null,null,null,null,null,null,null,null,null,null,null,null,2.298E-4]
[0,90,1,true,null,3,0.8660254037844386,0,0,0,null,null,{"$error":"#N/A"},{"$error":"#N/A"},{"$error":"#N/A"},{"$error":"#N/A"},{"$error":"#N/A"},0,90,1,false,null,134,5.7879184513951127,null,{"$error":"#N/A"},{"$error":"#N/A"},0,0,0,null,null,{"$error":"#N/A"},{"$error":"#N/A"},{"$error":"#N/A"},{"$error":"#N/A"},{"$error":"#N/A"},null,null,null,null,null,null,null,null,"N.",{"$f":"IF(ISNUMBER($AW$94),BM166,\"\")","v":18},"Using t",null,null,null,2.298E-4,null,null,null,null,null,null,null,null,null,null,null,null,null,null,2.298E-4]
[0,91,1,true,null,3,0.8660254037844386,0,0,0,null,null,{"$error":"#N/A"},{"$error":"#N/A"},{"$error":"#N/A"},{"$error":"#N/A"},{"$error":"#N/A"},0,91,1,false,null,133,5.7662812973353983,null,{"$error":"#N/A"},{"$error":"#N/A"},0,0,0,null,null,{"$error":"#N/A"},{"$error":"#N/A"},{"$error":"#N/A"},{"$error":"#N/A"},{"$error":"#N/A"},null,null,null,"    Display crosses",null,null,null,null,null,"N.",{"$f":"IF(ISNUMBER($AW$94),BM199,\"\")","v":29},"with assurance",null,null,2.298E-4,null,null,null,null,null,null,null,null,null,null,null,null,null,null,2.298E-4]
[0,92,1,true,null,3,0.8660254037844386,0,0,0,null,null,{"$error":"#N/A"},{"$error":"#N/A"},{"$error":"#N/A"},{"$error":"#N/A"},{"$error":"#N/A"},0,92,1,false,null,132,5.7445626465380286,null,{"$error":"#N/A"},{"$error":"#N/A"},0,0,0,null,null,{"$error":"#N/A"},{"$error":"#N/A"},{"$error":"#N/A"},{"$error":"#N/A"},{"$error":"#N/A"},null,null,null,null,null,null,null,null,null,null,null,null,null,null,2.298E-4,null,null,null,null,null,null,null,null,null,null,null,null,null,null,2.298E-4]
[0,93,1,true,null,3,0.8660254037844386,0,0,0,null,null,{"$error":"#N/A"},{"$error":"#N/A"},{"$error":"#N/A"},{"$error":"#N/A"},{"$error":"#N/A"},0,93,1,false,null,131,5.7227615711297988,null,{"$error":"#N/A"},{"$error":"#N/A"},0,0,0,null,null,{"$error":"#N/A"},{"$error":"#N/A"},{"$error":"#N/A"},{"$error":"#N/A"},{"$error":"#N/A"},null,null,6,"Calculate N, for Cohen's d",null,null,null,null,null,null,null,null,null,null,2.298E-4,null,null,null,null,null,null,null,null,null,null,null,null,null,null,2.298E-4]
[0,94,1,true,null,3,0.8660254037844386,0,0,0,null,null,{"$error":"#N/A"},{"$error":"#N/A"},{"$error":"#N/A"},{"$error":"#N/A"},{"$error":"#N/A"},0,94,1,false,null,130,5.7008771254956896,null,{"$error":"#N/A"},{"$error":"#N/A"},0,0,0,null,null,{"$error":"#N/A"},{"$error":"#N/A"},{"$error":"#N/A"},{"$error":"#N/A"},{"$error":"#N/A"},null,null,null,null,"Planning ES ",null,null,null,null,null,null,null,null,null,2.298E-4,null,null,null,null,null,null,null,null,null,null,null,null,null,null,2.298E-4]
[0,95,1,true,null,3,0.8660254037844386,0,0,0,null,null,{"$error":"#N/A"},{"$error":"#N/A"},{"$error":"#N/A"},{"$error":"#N/A"},{"$error":"#N/A"},0,95,1,false,null,129,5.6789083458002736,null,{"$error":"#N/A"},{"$error":"#N/A"},0,0,0,null,null,{"$error":"#N/A"},{"$error":"#N/A"},{"$error":"#N/A"},{"$error":"#N/A"},{"$error":"#N/A"},null,null,null,"d ",{"$f":"AP144/10","v":0.5},null,null,null,null,"Target av. MOE ",{"$f":"AP145/100","v":0.3},null,null,null,2.298E-4,null,null,null,null,null,null,null,null,null,null,null,null,null,null,2.298E-4]
[0,96,1,true,null,3,0.8660254037844386,0,0,0,null,null,{"$error":"#N/A"},{"$error":"#N/A"},{"$error":"#N/A"},{"$error":"#N/A"},{"$error":"#N/A"},0,96,1,false,null,128,5.6568542494923806,null,{"$error":"#N/A"},{"$error":"#N/A"},0,0,0,null,null,{"$error":"#N/A"},{"$error":"#N/A"},{"$error":"#N/A"},{"$error":"#N/A"},{"$error":"#N/A"},null,null,null,null,null,null,null,null,null,null,null,null,null,null,2.298E-4,null,null,null,null,null,null,null,null,null,null,null,null,null,null,2.298E-4]
[0,97,1,true,null,3,{"$f":"$AP$102*SQRT(F104)/IF($AQ$144,Q104,1)","v":0.8660254037844386},0,0,0,null,null,{"$error":"#N/A"},{"$error":"#N/A"},{"$error":"#N/A"},{"$error":"#N/A"},{"$error":"#N/A"},0,97,1,false,null,127,{"$f":"$AP$102*SQRT(W104)/IF($AQ$144,AK104,1)","v":5.634713834792322},null,{"$f":"IF($AK$7,NA(),nct(Y104,X104,W104-1)-nct(-Y104,X104,W104-1))","v":{"$error":"#N/A"}},{"$f":"10000000*(Z104-$AP$86/100)","v":{"$error":"#N/A"}},0,0,0,null,null,{"$error":"#N/A"},{"$error":"#N/A"},{"$error":"#N/A"},{"$error":"#N/A"},{"$error":"#N/A"},null,null,null,null,null,null,null,null,"av. MOE ",null,null,"          steps",null,null,2.298E-4,null,null,null,null,null,null,null,null,null,null,null,null,null,null,2.298E-4]
[0,98,1,true,null,3,{"$f":"$AP$102*SQRT(F105)/IF($AQ$144,Q105,1)","v":0.8660254037844386},0,0,0,null,null,{"$error":"#N/A"},{"$error":"#N/A"},{"$error":"#N/A"},{"$error":"#N/A"},{"$error":"#N/A"},0,98,1,false,null,126,{"$f":"$AP$102*SQRT(W105)/IF($AQ$144,AK105,1)","v":5.6124860801609122},null,{"$f":"IF($AK$7,NA(),nct(Y105,X105,W105-1)-nct(-Y105,X105,W105-1))","v":{"$error":"#N/A"}},{"$f":"10000000*(Z105-$AP$86/100)","v":{"$error":"#N/A"}},0,0,0,null,null,{"$error":"#N/A"},{"$error":"#N/A"},{"$error":"#N/A"},{"$error":"#N/A"},{"$error":"#N/A"},null,null,null,null,null,null,null,null,{"$f":"IF($AI$4,IF($E$7>=2,\"No\",IF(AND($E$7=1,N7=\"\"),\"No!\",IF(E7=0,IF(ISNUMBER(VLOOKUP(1,E8:H107,4,FALSE)),VLOOKUP(1,E8:H107,4,FALSE),\"\"),N7))),\"\")","v":0.29723408929879991},"N ",{"$f":"IF($AI$4,IF($E$7>=2,\"No\",IF(AND($E$7=1,O7=\"\"),\"No!\",IF(E7=0,IF(ISNUMBER(VLOOKUP(1,E8:F107,2,FALSE)),VLOOKUP(1,E8:F107,2,FALSE),\"\"),O7))),\"\")","v":49},{"$f":"IF($AI$4,IF(ISNUMBER(VLOOKUP(1,A8:B107,2,FALSE)),VLOOKUP(1,A8:B107,2,FALSE),\"\"),\"\")","v":7},null,null,2.298E-4,null,null,null,null,null,null,null,null,null,null,null,null,null,null,2.298E-4]
[0,99,{"$f":"IF(F105>F104,C105,1)","v":1},{"$f":"OR(AND(F106=3,F105=3),AND(F106>F105,F106=F104))","v":true},null,3,{"$f":"$AP$102*SQRT(F106)/IF($AQ$144,Q106,1)","v":0.8660254037844386},0,0,0,null,null,{"$error":"#N/A"},{"$error":"#N/A"},{"$error":"#N/A"},{"$error":"#N/A"},{"$error":"#N/A"},0,99,1,false,null,125,{"$f":"$AP$102*SQRT(W106)/IF($AQ$144,AK106,1)","v":5.5901699437494745},null,{"$f":"IF($AK$7,NA(),nct(Y106,X106,W106-1)-nct(-Y106,X106,W106-1))","v":{"$error":"#N/A"}},{"$f":"10000000*(Z106-$AP$86/100)","v":{"$error":"#N/A"}},0,0,0,null,null,{"$error":"#N/A"},{"$error":"#N/A"},{"$error":"#N/A"},{"$error":"#N/A"},{"$error":"#N/A"},null,null,null,null,null,null,null,null,null,null,null,null,null,null,2.298E-4,null,null,null,null,null,null,null,null,null,null,null,null,null,null,2.298E-4]
[0,100,{"$f":"IF(F106>F105,C106,1)","v":1},{"$f":"OR(AND(F107=3,F106=3),AND(F107>F106,F107=F105))","v":true},null,3,{"$f":"$AP$102*SQRT(F107)/IF($AQ$144,Q107,1)","v":0.8660254037844386},0,0,0,null,null,{"$error":"#N/A"},{"$error":"#N/A"},{"$error":"#N/A"},{"$error":"#N/A"},{"$error":"#N/A"},0,100,1,false,null,124,{"$f":"$AP$102*SQRT(W107)/IF($AQ$144,AK107,1)","v":5.5677643628300215},null,{"$f":"IF($AK$7,NA(),nct(Y107,X107,W107-1)-nct(-Y107,X107,W107-1))","v":{"$error":"#N/A"}},{"$f":"10000000*(Z107-$AP$86/100)","v":{"$error":"#N/A"}},0,0,0,null,null,{"$error":"#N/A"},{"$error":"#N/A"},{"$error":"#N/A"},{"$error":"#N/A"},{"$error":"#N/A"},null,null,null,null,null,null,null,null,"av. MOE ",null,null,null,null,null,2.298E-4,null,null,null,null,null,null,null,null,null,null,null,null,null,null,2.298E-4]
[null,null,null,null,null,null,null,null,null,null,null,null,null,null,null,null,null,null,null,null,null,null,null,null,null,null,null,null,null,null,null,null,null,null,null,null,null,null,null,null,null,null,null,null,null,{"$f":"IF($AI$2,IF($V$7>=2,\"No\",IF(AND($V$7=1,AH7=\"\"),\"No!\",IF(V7=0,IF(ISNUMBER(VLOOKUP(1,V8:AB107,7,FALSE)),VLOOKUP(1,V8:AB107,7,FALSE),\"\"),AH7))),\"\")","v":0.29886347197454904},"N ",{"$f":"IF($AI$2,IF($V$7>=2,\"No\",IF(AND($V$7=1,AI7=\"\")=0,\"No!\",IF(V7=0,IF(ISNUMBER(VLOOKUP(1,V8:W107,2,FALSE)),VLOOKUP(1,V8:W107,2,FALSE),\"\"),AI7))),\"\")","v":59},{"$f":"IF($AI$2,IF(ISNUMBER(VLOOKUP(1,R8:S107,2,FALSE)),VLOOKUP(1,R8:S107,2,FALSE),\"\"),\"\")","v":11},null,null,2.298E-4,null,null,null,null,null,null,null,null,null,null,null,null,null,null,2.298E-4]
[]
[null,null,null,null,null,null,null,null,null,null,null,null,null,null,null,null,null,null,null,null,null,null,null,null,null,null,null,null,null,null,null,null,null,null,null,null,null,null,null,null,null,null,null,null,null,null,null,null,null,null,null,4]
[]
[]
[]
[]
[]
[]
[]
[]
[]
[]
[]
[]
[]
[]
[]
[]
[]
[]
[]
[]
[]
[]
[]
[]
[null,null,null,null,null,null,null,null,null,null,null,null,null,null,null,null,null,null,null,null,null,null,null,null,null,null,null,null,null,null,null,null,null,null,null,null,null,null,null,null,"from g",{"$f":"1-$AP$86/100","v":1.0000000000000009E-2},true,"display z series",null,null,null,null,null,null,null,null,null,null,"For display",{"$f":"IF(ISNUMBER(BG135),BG135,IF(ISNUMBER(BF135),BF135,IF(ISNUMBER(BE135),BE135,NA())))","v":385},{"$f":"VLOOKUP(AP142,BC137:BG165,3)","v":385},{"$f":"VLOOKUP(AP142,BC137:BG165,4)","v":{"$error":"#N/A"}},{"$f":"VLOOKUP(AP142,BC137:BG165,5)","v":{"$error":"#N/A"}}]
[null,null,null,null,null,null,null,null,null,null,null,null,null,null,null,null,null,null,null,null,null,null,null,null,null,null,null,null,null,null,null,null,null,null,null,null,null,null,null,null,"for g",99,false,"display t series",null,null,null,null,null,null,null,null,null,null,"Index","Ratio","Nz","Nt","Ntg","Nz values","Nt values","Ntgvalues","NzRound","Ratio","Nt","Nz","df1","Nt1","df2","Nt2","df3","Nt3","df4","Nt4","df5","Nt5","df6","Nt6","df7","Nt7","df8","Nt8","df9","Nt9"]
[null,null,null,null,null,null,null,null,null,null,null,null,null,null,null,null,null,null,null,null,null,null,null,null,null,null,null,null,null,null,null,null,null,null,null,null,null,null,null,null,"MinNz",3,false,"display t+gamma series",null,null,null,null,null,null,null,null,null,null,1,{"$f":"IF(BC137>=$AP$142,BL137,NA())","v":0.1},{"$f":"IF(AND($AQ$135,BC137>=$AP$142),BK137,NA())","v":385},{"$f":"IF(AND($AQ$136,BC137>=$AP$142),BM137,NA())","v":{"$error":"#N/A"}},{"$f":"IF(AND($AQ$137,BC137>=$AP$142),BM170,NA())","v":{"$error":"#N/A"}},{"$f":"IF(AND($AQ$135,$AQ$138,BC137>=$AP$142),BK137,NA())","v":385},{"$f":"IF(AND($AQ$136,$AQ$139,BC137>=$AP$142),BM137,NA())","v":{"$error":"#N/A"}},{"$f":"IF(AND($AQ$137,$AQ$140,BC137>=$AP$142),BM170,NA())","v":{"$error":"#N/A"}},{"$f":"ROUNDUP(BN137,0)","v":385},0.1,{"$f":"1+MAX(CC137,CE137)","v":387},{"$f":"MAX(($AP$141/BL137)^2,$AP$137)","v":384.14588206941261},{"$f":"ROUNDUP(BN137,0)-1","v":384},{"$f":"MAX((TINV(1-$AV$78/100,BO137)/$BL137)^2,$AP$137)","v":386.57886317946281},{"$f":"MAX(MIN(ROUNDUP(BP137,0)-1,BO137+1),BO137-1)","v":385},{"$f":"MAX((TINV(1-$AV$78/100,BQ137)/$BL137)^2,$AP$137)","v":386.57251409232737},386,{"$f":"MAX((TINV(1-$AV$78/100,BS137)/$BL137)^2,$AP$137)","v":386.56619805518341},386,{"$f":"MAX((TINV(1-$AV$78/100,BU137)/$BL137)^2,$AP$137)","v":386.56619805518341},386,{"$f":"MAX((TINV(1-$AV$78/100,BW137)/$BL137)^2,$AP$137)","v":386.56619805518341},386,{"$f":"MAX((TINV(1-$AV$78/100,BY137)/$BL137)^2,$AP$137)","v":386.56619805518341},386,{"$f":"MAX((TINV(1-$AV$78/100,CA137)/$BL137)^2,$AP$137)","v":386.56619805518341},386,{"$f":"MAX((TINV(1-$AV$78/100,CC137)/$BL137)^2,$AP$137)","v":386.56619805518341},386,{"$f":"MAX((TINV(1-$AV$78/100,CE137)/$BL137)^2,$AP$137)","v":386.56619805518341}]
[null,null,null,null,null,null,null,null,null,null,null,null,null,null,null,null,null,null,null,null,null,null,null,null,null,null,null,null,null,null,null,null,null,null,null,null,null,null,null,null,"for C",95,true,"display z values",null,null,null,null,null,null,null,null,null,null,2,0.15,171,{"$error":"#N/A"},{"$error":"#N/A"},171,{"$error":"#N/A"},{"$error":"#N/A"},{"$f":"ROUNDUP(BN138,0)","v":171},0.15,{"$f":"1+MAX(CC138,CE138)","v":174},170.73150314196124,{"$f":"ROUNDUP(BN138,0)-1","v":170},173.18852485167523,171,173.17400450186764,172,173.1596547612393,173,173.14547264057302,173,173.14547264057302,173,173.14547264057302,173,173.14547264057302,173,173.14547264057302,173,173.14547264057302]
[null,null,null,null,null,null,null,null,null,null,null,null,null,null,null,null,null,null,null,null,null,null,null,null,null,null,null,null,null,null,null,null,null,null,null,null,null,null,null,null,"for MOE slider",4,false,"display t values",null,null,null,null,null,null,null,null,null,null,3,0.2,97,{"$error":"#N/A"},{"$error":"#N/A"},97,{"$error":"#N/A"},{"$error":"#N/A"},97,0.2,99,96.036470517353152,96,98.504063086851971,97,98.478148203516895,98,98.452771940156737,98,98.452771940156737,98,98.452771940156737,98,98.452771940156737,98,98.452771940156737,98,98.452771940156737,98,98.452771940156737]
[null,null,null,null,null,null,null,null,null,null,null,null,null,null,null,null,null,null,null,null,null,null,null,null,null,null,null,null,null,null,null,null,null,null,null,null,null,null,null,null,"alpha",{"$f":"1-$AV$78/100","v":5.0000000000000044E-2},false,"display t+gamma values",null,null,null,null,null,null,null,null,null,null,4,0.25,62,{"$error":"#N/A"},{"$error":"#N/A"},62,{"$error":"#N/A"},{"$error":"#N/A"},62,0.25,64,61.463341131106034,61,63.975910524754781,62,63.934192782125486,63,63.893837498620414,63,63.893837498620414,63,63.893837498620414,63,63.893837498620414,63,63.893837498620414,63,63.893837498620414,63,63.893837498620414]
[null,null,null,null,null,null,null,null,null,null,null,null,null,null,null,null,null,null,null,null,null,null,null,null,null,null,null,null,null,null,null,null,null,null,null,null,null,null,null,null,"z crit",{"$f":"ABS(NORMSINV(AP140/2))","v":1.9599639845400545},true,"display MOE cursor",null,null,null,null,null,null,null,null,null,null,5,0.3,43,{"$error":"#N/A"},{"$error":"#N/A"},43,{"$error":"#N/A"},{"$error":"#N/A"},43,0.3,46,42.68287578549031,42,45.251707361768688,43,45.189414693371603,44,45.130070539553657,45,45.07347046456097,45,45.07347046456097,45,45.07347046456097,45,45.07347046456097,45,45.07347046456097,45,45.07347046456097]
[null,null,null,null,null,null,null,null,null,null,null,null,null,null,null,null,null,null,null,null,null,null,null,null,null,null,null,null,null,null,null,null,null,null,null,null,null,null,null,null,"for left limit",1,true,"display values with cursor",null,null,null,null,null,null,null,null,null,null,6,0.35,32,{"$error":"#N/A"},{"$error":"#N/A"},32,{"$error":"#N/A"},{"$error":"#N/A"},32,0.35,34,31.35884751587043,31,33.956041351702076,32,33.870182929131062,33,33.78981595051107,33,33.78981595051107,33,33.78981595051107,33,33.78981595051107,33,33.78981595051107,33,33.78981595051107,33,33.78981595051107]
[null,null,null,null,null,null,null,null,null,null,null,null,null,null,null,null,null,null,null,null,null,null,null,null,null,null,null,null,null,null,null,null,null,null,null,null,null,null,null,null,"targ tailpr",{"$f":"(100-$AV$78)/200","v":2.5000000000000001E-2},false,"display 3 calculated points",null,null,null,null,null,null,null,null,null,null,7,0.4,25,{"$error":"#N/A"},{"$error":"#N/A"},25,{"$error":"#N/A"},{"$error":"#N/A"},25,0.4,27,24.009117629338288,24,26.622982585135201,25,26.510618624142086,26,26.407507438997246,26,26.407507438997246,26,26.407507438997246,26,26.407507438997246,26,26.407507438997246,26,26.407507438997246,26,26.407507438997246]
[null,null,null,null,null,null,null,null,null,null,null,null,null,null,null,null,null,null,null,null,null,null,null,null,null,null,null,null,null,null,null,null,null,null,null,null,null,null,null,null,"for d",5,{"$f":"IF(AQ145=2,TRUE,FALSE)","v":false},"use unbiased d",null,null,null,null,null,null,null,null,null,null,8,0.45,19,{"$error":"#N/A"},{"$error":"#N/A"},19,{"$error":"#N/A"},{"$error":"#N/A"},19,0.45,22,18.970167015773463,18,21.796905703550273,19,21.633331719856077,20,21.487622115661921,21,21.357005982152693,21,21.357005982152693,21,21.357005982152693,21,21.357005982152693,21,21.357005982152693,21,21.357005982152693]
[null,null,null,null,null,null,null,null,null,null,null,null,null,null,null,null,null,null,null,null,null,null,null,null,null,null,null,null,null,null,null,null,null,null,null,null,null,null,null,null,"for MOE",30,1,"1=biased d; 2=unbiased d",null,null,null,null,null,null,null,null,null,null,9,0.5,16,{"$error":"#N/A"},{"$error":"#N/A"},16,{"$error":"#N/A"},{"$error":"#N/A"},16,0.5,18,15.365835282776509,15,18.172308492532931,16,17.975993672240929,17,17.805286765118652,17,17.805286765118652,17,17.805286765118652,17,17.805286765118652,17,17.805286765118652,17,17.805286765118652,17,17.805286765118652]
[null,null,null,null,null,null,null,null,null,null,null,null,null,null,null,null,null,null,null,null,null,null,null,null,null,null,null,null,null,null,null,null,null,null,null,null,null,null,null,null,null,"Vert cursor",{"$f":"IF(AQ141,IF(AP139<21,AP139/20,INT((AP139+1)/2)/10),NA())","v":0.2},0,null,null,"bar",{"$f":"BD135","v":385},null,null,null,null,null,null,10,0.55000000000000004,13,{"$error":"#N/A"},{"$error":"#N/A"},13,{"$error":"#N/A"},{"$error":"#N/A"},13,0.55000000000000004,16,12.699037423782237,12,15.693306895269563,13,15.428736243365778,14,15.206974903157086,15,15.018436770688373,15,15.018436770688373,15,15.018436770688373,15,15.018436770688373,15,15.018436770688373,15,15.018436770688373]
[null,null,null,null,null,null,null,null,null,null,null,null,null,null,null,null,null,null,null,null,null,null,null,null,null,null,null,null,null,null,null,null,null,null,null,null,null,null,null,null,null,"Cursor values",null,null,null,null,null,null,null,null,null,null,null,null,11,0.6,11,{"$error":"#N/A"},{"$error":"#N/A"},11,{"$error":"#N/A"},{"$error":"#N/A"},11,0.6,14,10.670718946372578,10,13.790563058685798,11,13.456487969205027,12,13.186737043941788,13,12.964424204494859,12,13.186737043941788,13,12.964424204494859,12,13.186737043941788,13,12.964424204494859,12,13.186737043941788]
[null,null,null,null,null,null,null,null,null,null,null,null,null,null,null,null,null,null,null,null,null,null,null,null,null,null,null,null,null,null,null,null,null,null,null,null,null,null,null,null,null,{"$f":"IF(AND($AQ$141,$AQ$142),$AQ$146,NA())","v":0.2},{"$f":"VLOOKUP(AQ146,BD137:BG165,4)","v":{"$error":"#N/A"}},null,null,null,null,null,null,null,null,null,null,null,12,0.65,10,{"$error":"#N/A"},{"$error":"#N/A"},10,{"$error":"#N/A"},{"$error":"#N/A"},10,0.65,12,9.0922102264949736,9,12.112082859824794,10,11.750538937578431,11,11.465883240032682,11,11.465883240032682,11,11.465883240032682,11,11.465883240032682,11,11.465883240032682,11,11.465883240032682,11,11.465883240032682]
[null,null,null,null,null,null,null,null,null,null,null,null,null,null,null,null,null,null,null,null,null,null,null,null,null,null,null,null,null,null,null,null,null,null,null,null,null,null,null,null,null,{"$f":"IF(AND($AQ$141,$AQ$142),$AQ$146,NA())","v":0.2},{"$f":"VLOOKUP(AQ146,BD137:BG165,3)","v":{"$error":"#N/A"}},null,null,null,null,null,null,null,null,null,null,null,13,0.7,8,{"$error":"#N/A"},{"$error":"#N/A"},8,{"$error":"#N/A"},{"$error":"#N/A"},8,0.7,11,7.8397118789676075,7,11.411118057505357,8,10.852357271005326,9,10.443581649542809,10,10.131842247197731,10,10.131842247197731,10,10.131842247197731,10,10.131842247197731,10,10.131842247197731,10,10.131842247197731]
[null,null,null,null,null,null,null,null,null,null,null,null,null,null,null,null,null,null,null,null,null,null,null,null,null,null,null,null,null,null,null,null,null,null,null,null,null,null,null,null,null,{"$f":"IF(AND($AQ$141,$AQ$142),$AQ$146,NA())","v":0.2},{"$f":"VLOOKUP(AQ146,BD137:BG165,2)","v":97},null,null,null,null,null,null,null,null,null,null,null,14,0.75,7,{"$error":"#N/A"},{"$error":"#N/A"},7,{"$error":"#N/A"},{"$error":"#N/A"},7,0.75,10,6.8292601256784486,6,10.644226816377937,7,9.9403517300935551,8,9.4536090005201938,9,9.0975200147128454,9,9.0975200147128454,9,9.0975200147128454,9,9.0975200147128454,9,9.0975200147128454,9,9.0975200147128454]
[null,null,null,null,null,null,null,null,null,null,null,null,null,null,null,null,null,null,null,null,null,null,null,null,null,null,null,null,null,null,null,null,null,null,null,null,null,null,null,null,null,"Orig units, 3 points",null,null,null,null,null,null,null,null,null,null,null,null,15,0.8,7,{"$error":"#N/A"},{"$error":"#N/A"},7,{"$error":"#N/A"},{"$error":"#N/A"},7,0.8,9,6.002279407334572,6,9.355277475332171,7,8.7366372627775366,8,8.3088360356134494,8,8.3088360356134494,8,8.3088360356134494,8,8.3088360356134494,8,8.3088360356134494,8,8.3088360356134494,8,8.3088360356134494]
[null,null,null,null,null,null,null,null,null,null,null,null,null,null,null,null,null,null,null,null,null,null,null,null,null,null,null,null,null,null,null,null,null,null,null,null,null,null,null,null,null,{"$f":"IF(AND(AQ143,ISNUMBER(AW94)),AW94,NA())","v":{"$error":"#N/A"}},{"$f":"IF(AND(AQ143,ISNUMBER(AV98)),AV98,NA())","v":{"$error":"#N/A"}},null,null,null,null,null,null,null,null,null,null,null,16,0.85,6,{"$error":"#N/A"},{"$error":"#N/A"},6,{"$error":"#N/A"},{"$error":"#N/A"},6,0.85,8,5.3168980217219755,5,9.1458698531169116,6,8.2870277982181157,7,7.7390281635676459,7,7.7390281635676459,7,7.7390281635676459,7,7.7390281635676459,7,7.7390281635676459,7,7.7390281635676459,7,7.7390281635676459]
[null,null,null,null,null,null,null,null,null,null,null,null,null,null,null,null,null,null,null,null,null,null,null,null,null,null,null,null,null,null,null,null,null,null,null,null,null,null,null,null,null,{"$f":"AP152","v":{"$error":"#N/A"}},{"$f":"IF(AND(AQ143,ISNUMBER(AU97)),AU97,NA())","v":{"$error":"#N/A"}},null,null,null,null,null,null,null,null,null,null,null,17,0.9,5,{"$error":"#N/A"},{"$error":"#N/A"},5,{"$error":"#N/A"},{"$error":"#N/A"},5,0.9,8,4.7425417539433656,4,9.5168486682983797,5,8.1578900850332925,6,7.3918241780402347,7,6.9030220347871891,6,7.3918241780402347,7,6.9030220347871891,6,7.3918241780402347,7,6.9030220347871891,6,7.3918241780402347]
[null,null,null,null,null,null,null,null,null,null,null,null,null,null,null,null,null,null,null,null,null,null,null,null,null,null,null,null,null,null,null,null,null,null,null,null,null,null,null,null,null,{"$f":"AP152","v":{"$error":"#N/A"}},{"$f":"IF(AND(AQ143,ISNUMBER(AU96)),AU96,NA())","v":{"$error":"#N/A"}},null,null,null,null,null,null,null,null,null,null,null,18,0.95,5,{"$error":"#N/A"},{"$error":"#N/A"},5,{"$error":"#N/A"},{"$error":"#N/A"},5,0.95,7,4.2564640672511107,4,8.5414375859520106,5,7.3217628464010733,6,6.6342133897092408,6,6.6342133897092408,6,6.6342133897092408,6,6.6342133897092408,6,6.6342133897092408,6,6.6342133897092408,6,6.6342133897092408]
[null,null,null,null,null,null,null,null,null,null,null,null,null,null,null,null,null,null,null,null,null,null,null,null,null,null,null,null,null,null,null,null,null,null,null,null,null,null,null,null,null,null,null,null,null,null,null,null,null,null,null,null,null,null,19,1,4,{"$error":"#N/A"},{"$error":"#N/A"},4,{"$error":"#N/A"},{"$error":"#N/A"},4,1,7,3.8414588206941271,3,10.127964483488144,4,7.7086474213216887,5,6.6078909688769674,6,5.9873775842125898,5,6.6078909688769674,6,5.9873775842125898,5,6.6078909688769674,6,5.9873775842125898,5,6.6078909688769674]
[null,null,null,null,null,null,null,null,null,null,null,null,null,null,null,null,null,null,null,null,null,null,null,null,null,null,null,null,null,null,null,null,null,null,null,null,null,null,null,null,null,null,null,null,null,null,null,null,null,null,null,null,null,null,20,1.1000000000000001,4,{"$error":"#N/A"},{"$error":"#N/A"},4,{"$error":"#N/A"},{"$error":"#N/A"},4,1.1000000000000001,6,3.1747593559455591,3,8.3702185813951591,4,6.3707829928278406,5,5.4610669164272441,5,5.4610669164272441,5,5.4610669164272441,5,5.4610669164272441,5,5.4610669164272441,5,5.4610669164272441,5,5.4610669164272441]
[null,null,null,null,null,null,null,null,null,null,null,null,null,null,null,null,null,null,null,null,null,null,null,null,null,null,null,null,null,null,null,null,null,null,null,null,null,null,null,null,null,null,null,null,null,null,null,null,null,null,null,null,null,null,21,1.2,3,{"$error":"#N/A"},{"$error":"#N/A"},3,{"$error":"#N/A"},{"$error":"#N/A"},3,1.2,6,3,2,12.856125354900744,3,7.0333086690889886,4,5.3532273759178395,5,4.5888131728312276,4,5.3532273759178395,5,4.5888131728312276,4,5.3532273759178395,5,4.5888131728312276,4,5.3532273759178395]
[null,null,null,null,null,null,null,null,null,null,null,null,null,null,null,null,null,null,null,null,null,null,null,null,null,null,null,null,null,null,null,null,null,null,null,null,null,null,null,null,null,null,null,null,null,null,null,null,null,null,null,null,null,null,22,1.3,3,{"$error":"#N/A"},{"$error":"#N/A"},3,{"$error":"#N/A"},{"$error":"#N/A"},3,1.3,5,3,2,10.954331663347377,3,5.9928783925965341,4,4.5613298351015912,4,4.5613298351015912,4,4.5613298351015912,4,4.5613298351015912,4,4.5613298351015912,4,4.5613298351015912,4,4.5613298351015912]
[null,null,null,null,null,null,null,null,null,null,null,null,null,null,null,null,null,null,null,null,null,null,null,null,null,null,null,null,null,null,null,null,null,null,null,null,null,null,null,null,null,null,null,null,null,null,null,null,null,null,null,null,null,null,23,1.4,3,{"$error":"#N/A"},{"$error":"#N/A"},3,{"$error":"#N/A"},{"$error":"#N/A"},3,1.4,5,3,2,9.4453165872740161,3,5.1673288181061956,4,3.932983378225352,3,5.1673288181061956,4,3.932983378225352,3,5.1673288181061956,4,3.932983378225352,3,5.1673288181061956,4,3.932983378225352]
[null,null,null,null,null,null,null,null,null,null,null,null,null,null,null,null,null,null,null,null,null,null,null,null,null,null,null,null,null,null,null,null,null,null,null,null,null,null,null,null,null,null,null,null,null,null,null,null,null,null,null,null,null,null,24,1.5,3,{"$error":"#N/A"},{"$error":"#N/A"},3,{"$error":"#N/A"},{"$error":"#N/A"},3,1.5,5,3,2,8.2279202271364742,3,4.501317548216953,4,3.4260655205874171,3,4.501317548216953,4,3.4260655205874171,3,4.501317548216953,4,3.4260655205874171,3,4.501317548216953,4,3.4260655205874171]
[null,null,null,null,null,null,null,null,null,null,null,null,null,null,null,null,null,null,null,null,null,null,null,null,null,null,null,null,null,null,null,null,null,null,null,null,null,null,null,null,null,null,null,null,null,null,null,null,null,null,null,null,null,null,25,1.6,3,{"$error":"#N/A"},{"$error":"#N/A"},3,{"$error":"#N/A"},{"$error":"#N/A"},3,1.6,4,3,2,7.2315705121316665,3,3.9562361263625561,3,3.9562361263625561,3,3.9562361263625561,3,3.9562361263625561,3,3.9562361263625561,3,3.9562361263625561,3,3.9562361263625561,3,3.9562361263625561]
[null,null,null,null,null,null,null,null,null,null,null,null,null,null,null,null,null,null,null,null,null,null,null,null,null,null,null,null,null,null,null,null,null,null,null,null,null,null,null,null,null,null,null,null,null,null,null,null,null,null,null,null,null,null,26,1.7,3,{"$error":"#N/A"},{"$error":"#N/A"},3,{"$error":"#N/A"},{"$error":"#N/A"},3,1.7,4,3,2,6.40582024604051,3,3.5044859804457249,3,3.5044859804457249,3,3.5044859804457249,3,3.5044859804457249,3,3.5044859804457249,3,3.5044859804457249,3,3.5044859804457249,3,3.5044859804457249]
[null,null,null,null,null,null,null,null,null,null,null,null,null,null,null,null,null,null,null,null,null,null,null,null,null,null,null,null,null,null,null,null,null,null,null,null,null,null,null,null,null,null,null,null,null,null,null,null,null,null,null,null,null,null,27,1.8,3,{"$error":"#N/A"},{"$error":"#N/A"},3,{"$error":"#N/A"},{"$error":"#N/A"},3,1.8,4,3,2,5.713833491066997,3,3.1259149640395507,3,3.1259149640395507,3,3.1259149640395507,3,3.1259149640395507,3,3.1259149640395507,3,3.1259149640395507,3,3.1259149640395507,3,3.1259149640395507]
[null,null,null,null,null,null,null,null,null,null,null,null,null,null,null,null,null,null,null,null,null,null,null,null,null,null,null,null,null,null,null,null,null,null,null,null,null,null,null,null,null,null,null,null,null,null,null,null,null,null,null,null,null,null,28,1.9,3,{"$error":"#N/A"},{"$error":"#N/A"},3,{"$error":"#N/A"},{"$error":"#N/A"},3,1.9,4,3,2,5.1282051277166394,3,3,2,5.1282051277166394,3,3,2,5.1282051277166394,3,3,2,5.1282051277166394,3,3,2,5.1282051277166394]
[null,null,null,null,null,null,null,null,null,null,null,null,null,null,null,null,null,null,null,null,null,null,null,null,null,null,null,null,null,null,null,null,null,null,null,null,null,null,null,null,null,null,null,null,null,null,null,null,null,null,null,null,null,null,29,2,3,{"$error":"#N/A"},{"$error":"#N/A"},3,{"$error":"#N/A"},{"$error":"#N/A"},3,2,4,3,2,4.6282051277642671,3,3,2,4.6282051277642671,3,3,2,4.6282051277642671,3,3,2,4.6282051277642671,3,3,2,4.6282051277642671]
[null,null,null,null,null,null,null,null,null,null,null,null,null,null,null,null,null,null,null,null,null,null,null,null,null,null,null,null,null,null,null,null,null,null,null,null,null,null,null,null,null,null,null,null,null,null,null,null,null,null,null,null,null,null,null,null,null,null,null,null,null,null,16,{"$f":"AW94","v":0.5},18,15.365835282776509,15,18.172308492532931,16,17.975993672240929,17,17.805286765118652,17,17.805286765118652,17,17.805286765118652,17,17.805286765118652,17,17.805286765118652,17,17.805286765118652,17,17.805286765118652]
[]
[null,null,null,null,null,null,null,null,null,null,null,null,null,null,null,null,null,null,null,null,null,null,null,null,null,null,null,null,null,null,null,null,null,null,null,null,null,null,null,null,null,null,null,null,null,null,null,null,null,null,null,null,null,null,null,null,null,null,null,null,null,null,null,"With chi-square"]
[null,null,null,null,null,null,null,null,null,null,null,null,null,null,null,null,null,null,null,null,null,null,null,null,null,null,null,null,null,null,null,null,null,null,null,null,null,null,null,null,null,null,null,null,null,null,null,null,null,null,null,null,null,null,null,null,null,null,null,null,null,null,null,"Ratio","Ntg","Nz","df1","Nt1","df2","Nt2","df3","Nt3","df4","Nt4","df5","Nt5","df6","Nt6","df7","Nt7","df8","Nt8","df9","Nt9"]
[null,null,null,null,null,null,null,null,null,null,null,null,null,null,null,null,null,null,null,null,null,null,null,null,null,null,null,null,null,null,null,null,null,null,null,null,null,null,null,null,null,null,null,null,null,null,null,null,null,null,null,null,null,null,null,null,null,null,null,null,null,null,null,0.1,{"$f":"1+MAX(CC170,CE170)","v":449},{"$f":"MAX(($AP$141/BL170)^2,$AP$137)","v":384.14588206941261},{"$f":"ROUNDUP(BN170*IF(ISNUMBER(CHIINV($AP$135,BN170)),CHIINV($AP$135,BN170)/ROUNDDOWN(BN170,0),(1+NORMSINV($AP$86/100)*SQRT(2/(ROUNDUP(BN170,0)-1))))-1,0)","v":451},{"$f":"MAX((TINV(1-$AV$78/100,BO170)/$BL170)^2*IF(ISNUMBER(CHIINV($AP$135,BO170)),CHIINV($AP$135,BO170),BO170*(1+NORMSINV($AP$86/100)*SQRT(2/BO170)))/BO170,$AP$137)","v":448.55377752477176},{"$f":"MIN(ROUNDUP(BP170,0)-1,BO170+1)","v":448},{"$f":"MAX((TINV(1-$AV$78/100,BQ170)/$BL170)^2*IF(ISNUMBER(CHIINV($AP$135,BQ170)),CHIINV($AP$135,BQ170),BQ170*(1+NORMSINV($AP$86/100)*SQRT(2/BQ170)))/BQ170,$AP$137)","v":448.78668097425253},{"$f":"MAX(MIN(ROUNDUP(BR170,0)-1,BQ170+1),BQ170-1)","v":448},{"$f":"MAX((TINV(1-$AV$78/100,BS170)/$BL170)^2*IF(ISNUMBER(CHIINV($AP$135,BS170)),CHIINV($AP$135,BS170),BS170*(1+NORMSINV($AP$86/100)*SQRT(2/BS170)))/BS170,$AP$137)","v":448.78668097425253},{"$f":"MAX(MIN(ROUNDUP(BT170,0)-1,BS170+1),BS170-1)","v":448},{"$f":"MAX((TINV(1-$AV$78/100,BU170)/$BL170)^2*IF(ISNUMBER(CHIINV($AP$135,BU170)),CHIINV($AP$135,BU170),BU170*(1+NORMSINV($AP$86/100)*SQRT(2/BU170)))/BU170,$AP$137)","v":448.78668097425253},{"$f":"MAX(MIN(ROUNDUP(BV170,0)-1,BU170+1),BU170-1)","v":448},{"$f":"MAX((TINV(1-$AV$78/100,BW170)/$BL170)^2*IF(ISNUMBER(CHIINV($AP$135,BW170)),CHIINV($AP$135,BW170),BW170*(1+NORMSINV($AP$86/100)*SQRT(2/BW170)))/BW170,$AP$137)","v":448.78668097425253},{"$f":"MAX(MIN(ROUNDUP(BX170,0)-1,BW170+1),BW170-1)","v":448},{"$f":"MAX((TINV(1-$AV$78/100,BY170)/$BL170)^2*IF(ISNUMBER(CHIINV($AP$135,BY170)),CHIINV($AP$135,BY170),BY170*(1+NORMSINV($AP$86/100)*SQRT(2/BY170)))/BY170,$AP$137)","v":448.78668097425253},{"$f":"MAX(MIN(ROUNDUP(BZ170,0)-1,BY170+1),BY170-1)","v":448},{"$f":"MAX((TINV(1-$AV$78/100,CA170)/$BL170)^2*IF(ISNUMBER(CHIINV($AP$135,CA170)),CHIINV($AP$135,CA170),CA170*(1+NORMSINV($AP$86/100)*SQRT(2/CA170)))/CA170,$AP$137)","v":448.78668097425253},{"$f":"MAX(MIN(ROUNDUP(CB170,0)-1,CA170+1),CA170-1)","v":448},{"$f":"MAX((TINV(1-$AV$78/100,CC170)/$BL170)^2*IF(ISNUMBER(CHIINV($AP$135,CC170)),CHIINV($AP$135,CC170),CC170*(1+NORMSINV($AP$86/100)*SQRT(2/CC170)))/CC170,$AP$137)","v":448.78668097425253},{"$f":"MAX(MIN(ROUNDUP(CD170,0)-1,CC170+1),CC170-1)","v":448},{"$f":"MAX((TINV(1-$AV$78/100,CE170)/$BL170)^2*IF(ISNUMBER(CHIINV($AP$135,CE170)),CHIINV($AP$135,CE170),CE170*(1+NORMSINV($AP$86/100)*SQRT(2/CE170)))/CE170,$AP$137)","v":448.78668097425253}]
[null,null,null,null,null,null,null,null,null,null,null,null,null,null,null,null,null,null,null,null,null,null,null,null,null,null,null,null,null,null,null,null,null,null,null,null,null,null,null,null,null,null,null,null,null,null,null,null,null,null,null,null,null,null,null,null,null,null,null,null,null,null,null,0.15,{"$f":"1+MAX(CC171,CE171)","v":214},170.73150314196124,216,213.64497004019577,{"$f":"MIN(ROUNDUP(BP171,0)-1,BO171+1)","v":213},213.98289036247493,{"$f":"MAX(MIN(ROUNDUP(BR171,0)-1,BQ171+1),BQ171-1)","v":213},213.98289036247493,213,213.98289036247493,213,213.98289036247493,213,213.98289036247493,213,213.98289036247493,213,213.98289036247493,213,213.98289036247493]
[null,null,null,null,null,null,null,null,null,null,null,null,null,null,null,null,null,null,null,null,null,null,null,null,null,null,null,null,null,null,null,null,null,null,null,null,null,null,null,null,null,null,null,null,null,null,null,null,null,null,null,null,null,null,null,null,null,null,null,null,null,null,null,0.2,129,96.036470517353152,131,128.13282723994848,128,128.56733005471139,128,128.56733005471139,128,128.56733005471139,128,128.56733005471139,128,128.56733005471139,128,128.56733005471139,128,128.56733005471139,128,128.56733005471139]
[null,null,null,null,null,null,null,null,null,null,null,null,null,null,null,null,null,null,null,null,null,null,null,null,null,null,null,null,null,null,null,null,null,null,null,null,null,null,null,null,null,null,null,null,null,null,null,null,null,null,null,null,null,null,null,null,null,null,null,null,null,null,null,0.25,88,61.463341131106034,90,87.088296061490851,87,87.614756210520113,87,87.614756210520113,87,87.614756210520113,87,87.614756210520113,87,87.614756210520113,87,87.614756210520113,87,87.614756210520113,87,87.614756210520113]
[null,null,null,null,null,null,null,null,null,null,null,null,null,null,null,null,null,null,null,null,null,null,null,null,null,null,null,null,null,null,null,null,null,null,null,null,null,null,null,null,null,null,null,null,null,null,null,null,null,null,null,null,null,null,null,null,null,null,null,null,null,null,null,0.3,65,42.68287578549031,67,63.974591501822715,63,64.802397478865544,64,64.587044013711022,64,64.587044013711022,64,64.587044013711022,64,64.587044013711022,64,64.587044013711022,64,64.587044013711022,64,64.587044013711022]
[null,null,null,null,null,null,null,null,null,null,null,null,null,null,null,null,null,null,null,null,null,null,null,null,null,null,null,null,null,null,null,null,null,null,null,null,null,null,null,null,null,null,null,null,null,null,null,null,null,null,null,null,null,null,null,null,null,null,null,null,null,null,null,0.35,51,31.35884751587043,52,49.694922468816387,49,50.404704955704098,50,50.159733899325232,50,50.159733899325232,50,50.159733899325232,50,50.159733899325232,50,50.159733899325232,50,50.159733899325232,50,50.159733899325232]
[null,null,null,null,null,null,null,null,null,null,null,null,null,null,null,null,null,null,null,null,null,null,null,null,null,null,null,null,null,null,null,null,null,null,null,null,null,null,null,null,null,null,null,null,null,null,null,null,null,null,null,null,null,null,null,null,null,null,null,null,null,null,null,0.4,41,24.009117629338288,42,40.124266454502312,40,40.650073766258615,40,40.650073766258615,40,40.650073766258615,40,40.650073766258615,40,40.650073766258615,40,40.650073766258615,40,40.650073766258615,40,40.650073766258615]
[null,null,null,null,null,null,null,null,null,null,null,null,null,null,null,null,null,null,null,null,null,null,null,null,null,null,null,null,null,null,null,null,null,null,null,null,null,null,null,null,null,null,null,null,null,null,null,null,null,null,null,null,null,null,null,null,null,null,null,null,null,null,null,0.45,34,18.970167015773463,36,33.074144613133242,33,33.928887045677619,33,33.928887045677619,33,33.928887045677619,33,33.928887045677619,33,33.928887045677619,33,33.928887045677619,33,33.928887045677619,33,33.928887045677619]
[null,null,null,null,null,null,null,null,null,null,null,null,null,null,null,null,null,null,null,null,null,null,null,null,null,null,null,null,null,null,null,null,null,null,null,null,null,null,null,null,null,null,null,null,null,null,null,null,null,null,null,null,null,null,null,null,null,null,null,null,null,null,null,0.5,29,15.365835282776509,31,28.012401606662817,28,28.939158782568523,28,28.939158782568523,28,28.939158782568523,28,28.939158782568523,28,28.939158782568523,28,28.939158782568523,28,28.939158782568523,28,28.939158782568523]
[null,null,null,null,null,null,null,null,null,null,null,null,null,null,null,null,null,null,null,null,null,null,null,null,null,null,null,null,null,null,null,null,null,null,null,null,null,null,null,null,null,null,null,null,null,null,null,null,null,null,null,null,null,null,null,null,null,null,null,null,null,null,null,0.55000000000000004,26,12.699037423782237,27,24.207453883257191,24,25.217652964656981,25,24.855152869323121,24,25.217652964656981,25,24.855152869323121,24,25.217652964656981,25,24.855152869323121,24,25.217652964656981,25,24.855152869323121]
[null,null,null,null,null,null,null,null,null,null,null,null,null,null,null,null,null,null,null,null,null,null,null,null,null,null,null,null,null,null,null,null,null,null,null,null,null,null,null,null,null,null,null,null,null,null,null,null,null,null,null,null,null,null,null,null,null,null,null,null,null,null,null,0.6,23,10.670718946372578,24,21.189833393913165,21,22.271642275403433,22,21.879103928424367,21,22.271642275403433,22,21.879103928424367,21,22.271642275403433,22,21.879103928424367,21,22.271642275403433,22,21.879103928424367]
[null,null,null,null,null,null,null,null,null,null,null,null,null,null,null,null,null,null,null,null,null,null,null,null,null,null,null,null,null,null,null,null,null,null,null,null,null,null,null,null,null,null,null,null,null,null,null,null,null,null,null,null,null,null,null,null,null,null,null,null,null,null,null,0.65,20,9.0922102264949736,21,18.977020637030144,18,20.200685507850601,19,19.750001622817638,19,19.750001622817638,19,19.750001622817638,19,19.750001622817638,19,19.750001622817638,19,19.750001622817638,19,19.750001622817638]
[null,null,null,null,null,null,null,null,null,null,null,null,null,null,null,null,null,null,null,null,null,null,null,null,null,null,null,null,null,null,null,null,null,null,null,null,null,null,null,null,null,null,null,null,null,null,null,null,null,null,null,null,null,null,null,null,null,null,null,null,null,null,null,0.7,18,7.8397118789676075,20,16.679574896021016,16,18.34280878815607,17,17.852666141636909,17,17.852666141636909,17,17.852666141636909,17,17.852666141636909,17,17.852666141636909,17,17.852666141636909,17,17.852666141636909]
[null,null,null,null,null,null,null,null,null,null,null,null,null,null,null,null,null,null,null,null,null,null,null,null,null,null,null,null,null,null,null,null,null,null,null,null,null,null,null,null,null,null,null,null,null,null,null,null,null,null,null,null,null,null,null,null,null,null,null,null,null,null,null,0.75,17,6.8292601256784486,19,14.834445663360805,14,17.022590028067405,15,16.464334497765822,16,15.978624544349291,15,16.464334497765822,16,15.978624544349291,15,16.464334497765822,16,15.978624544349291,15,16.464334497765822]
[null,null,null,null,null,null,null,null,null,null,null,null,null,null,null,null,null,null,null,null,null,null,null,null,null,null,null,null,null,null,null,null,null,null,null,null,null,null,null,null,null,null,null,null,null,null,null,null,null,null,null,null,null,null,null,null,null,null,null,null,null,null,null,0.8,15,6.002279407334572,16,14.043712978431991,14,14.961260766856123,14,14.961260766856123,14,14.961260766856123,14,14.961260766856123,14,14.961260766856123,14,14.961260766856123,14,14.961260766856123,14,14.961260766856123]
[null,null,null,null,null,null,null,null,null,null,null,null,null,null,null,null,null,null,null,null,null,null,null,null,null,null,null,null,null,null,null,null,null,null,null,null,null,null,null,null,null,null,null,null,null,null,null,null,null,null,null,null,null,null,null,null,null,null,null,null,null,null,null,0.85,14,5.3168980217219755,16,12.440105614112767,12,14.355000164219843,13,13.758466525189636,13,13.758466525189636,13,13.758466525189636,13,13.758466525189636,13,13.758466525189636,13,13.758466525189636,13,13.758466525189636]
[null,null,null,null,null,null,null,null,null,null,null,null,null,null,null,null,null,null,null,null,null,null,null,null,null,null,null,null,null,null,null,null,null,null,null,null,null,null,null,null,null,null,null,null,null,null,null,null,null,null,null,null,null,null,null,null,null,null,null,null,null,null,null,0.9,13,4.7425417539433656,15,11.433565623448485,11,13.442879414866479,12,12.804305702035599,12,12.804305702035599,12,12.804305702035599,12,12.804305702035599,12,12.804305702035599,12,12.804305702035599,12,12.804305702035599]
[null,null,null,null,null,null,null,null,null,null,null,null,null,null,null,null,null,null,null,null,null,null,null,null,null,null,null,null,null,null,null,null,null,null,null,null,null,null,null,null,null,null,null,null,null,null,null,null,null,null,null,null,null,null,null,null,null,null,null,null,null,null,null,0.95,13,4.2564640672511107,14,10.609647524418749,10,12.767280996925933,11,12.065077369575459,12,11.491953040054119,11,12.065077369575459,12,11.491953040054119,11,12.065077369575459,12,11.491953040054119,11,12.065077369575459]
[null,null,null,null,null,null,null,null,null,null,null,null,null,null,null,null,null,null,null,null,null,null,null,null,null,null,null,null,null,null,null,null,null,null,null,null,null,null,null,null,null,null,null,null,null,null,null,null,null,null,null,null,null,null,null,null,null,null,null,null,null,null,null,1,12,3.8414588206941271,14,9.5752068907879195,9,12.319176068782511,10,11.522471099725653,11,10.888732326041849,10,11.522471099725653,11,10.888732326041849,10,11.522471099725653,11,10.888732326041849,10,11.522471099725653]
[null,null,null,null,null,null,null,null,null,null,null,null,null,null,null,null,null,null,null,null,null,null,null,null,null,null,null,null,null,null,null,null,null,null,null,null,null,null,null,null,null,null,null,null,null,null,null,null,null,null,null,null,null,null,null,null,null,null,null,null,null,null,null,1.1000000000000001,11,3.1747593559455591,12,8.5714773707841623,8,11.036460745898699,9,10.181137246927694,10,9.5227033882030181,9,10.181137246927694,10,9.5227033882030181,9,10.181137246927694,10,9.5227033882030181,9,10.181137246927694]
[null,null,null,null,null,null,null,null,null,null,null,null,null,null,null,null,null,null,null,null,null,null,null,null,null,null,null,null,null,null,null,null,null,null,null,null,null,null,null,null,null,null,null,null,null,null,null,null,null,null,null,null,null,null,null,null,null,null,null,null,null,null,null,1.2,10,3,11,7.5616196708623962,7,10.248384428656895,8,9.2736927100954354,9,8.5549833810989675,8,9.2736927100954354,9,8.5549833810989675,8,9.2736927100954354,9,8.5549833810989675,8,9.2736927100954354]
[null,null,null,null,null,null,null,null,null,null,null,null,null,null,null,null,null,null,null,null,null,null,null,null,null,null,null,null,null,null,null,null,null,null,null,null,null,null,null,null,null,null,null,null,null,null,null,null,null,null,null,null,null,null,null,null,null,null,null,null,null,null,null,1.3,9,3,11,6.443036879314703,6,9.9269384878060851,7,8.7323512291514369,8,7.9018446760576477,7,8.7323512291514369,8,7.9018446760576477,7,8.7323512291514369,8,7.9018446760576477,7,8.7323512291514369]
[null,null,null,null,null,null,null,null,null,null,null,null,null,null,null,null,null,null,null,null,null,null,null,null,null,null,null,null,null,null,null,null,null,null,null,null,null,null,null,null,null,null,null,null,null,null,null,null,null,null,null,null,null,null,null,null,null,null,null,null,null,null,null,1.4,8,3,11,5.5554756765519651,5,10.172290167402107,6,8.5594520634654518,7,7.529425294523433,7,7.529425294523433,7,7.529425294523433,7,7.529425294523433,7,7.529425294523433,7,7.529425294523433]
[null,null,null,null,null,null,null,null,null,null,null,null,null,null,null,null,null,null,null,null,null,null,null,null,null,null,null,null,null,null,null,null,null,null,null,null,null,null,null,null,null,null,null,null,null,null,null,null,null,null,null,null,null,null,null,null,null,null,null,null,null,null,null,1.5,8,3,11,4.8394365893519335,4,11.371714567005942,5,8.8611949902702776,6,7.4562337975076831,7,6.558966034340413,6,7.4562337975076831,7,6.558966034340413,6,7.4562337975076831,7,6.558966034340413]
[null,null,null,null,null,null,null,null,null,null,null,null,null,null,null,null,null,null,null,null,null,null,null,null,null,null,null,null,null,null,null,null,null,null,null,null,null,null,null,null,null,null,null,null,null,null,null,null,null,null,null,null,null,null,null,null,null,null,null,null,null,null,null,1.6,7,3,11,4.2534110648600967,4,9.9946710061575672,5,7.788159659417234,6,6.5533304860907364,6,6.5533304860907364,6,6.5533304860907364,6,6.5533304860907364,6,6.5533304860907364,6,6.5533304860907364]
[null,null,null,null,null,null,null,null,null,null,null,null,null,null,null,null,null,null,null,null,null,null,null,null,null,null,null,null,null,null,null,null,null,null,null,null,null,null,null,null,null,null,null,null,null,null,null,null,null,null,null,null,null,null,null,null,null,null,null,null,null,null,null,1.7,7,3,11,3.7677274484573875,3,13.252642071043015,4,8.8534109950738316,5,6.8988542311792829,6,5.805026312938506,5,6.8988542311792829,6,5.805026312938506,5,6.8988542311792829,6,5.805026312938506]
[null,null,null,null,null,null,null,null,null,null,null,null,null,null,null,null,null,null,null,null,null,null,null,null,null,null,null,null,null,null,null,null,null,null,null,null,null,null,null,null,null,null,null,null,null,null,null,null,null,null,null,null,null,null,null,null,null,null,null,null,null,null,null,1.8,7,3,11,3.3607198537166196,3,11.82102950164022,4,7.8970240048652371,5,6.153607632132136,6,5.1779401371581137,5,6.153607632132136,6,5.1779401371581137,5,6.153607632132136,6,5.1779401371581137]
[null,null,null,null,null,null,null,null,null,null,null,null,null,null,null,null,null,null,null,null,null,null,null,null,null,null,null,null,null,null,null,null,null,null,null,null,null,null,null,null,null,null,null,null,null,null,null,null,null,null,null,null,null,null,null,null,null,null,null,null,null,null,null,1.9,6,3,11,3.0162693423938647,3,10.609455840807289,4,7.0876337328984418,5,5.522905464849897,5,5.522905464849897,5,5.522905464849897,5,5.522905464849897,5,5.522905464849897,5,5.522905464849897]
[null,null,null,null,null,null,null,null,null,null,null,null,null,null,null,null,null,null,null,null,null,null,null,null,null,null,null,null,null,null,null,null,null,null,null,null,null,null,null,null,null,null,null,null,null,null,null,null,null,null,null,null,null,null,null,null,null,null,null,null,null,null,null,2,6,3,11,3,2,21.313672269210272,3,9.5750338963285788,4,6.3965894439408428,5,4.9844221820270302,4,6.3965894439408428,5,4.9844221820270302,4,6.3965894439408428,5,4.9844221820270302]
[null,null,null,null,null,null,null,null,null,null,null,null,null,null,null,null,null,null,null,null,null,null,null,null,null,null,null,null,null,null,null,null,null,null,null,null,null,null,null,null,null,null,null,null,null,null,null,null,null,null,null,null,null,null,null,null,null,null,null,null,null,null,null,{"$f":"AW94","v":0.5},29,15.365835282776509,31,28.012401606662817,28,28.939158782568523,28,28.939158782568523,28,28.939158782568523,28,28.939158782568523,28,28.939158782568523,28,28.939158782568523,28,28.939158782568523,28,28.939158782568523]

{"sheet":"Precision two","index":10,"n_rows":199,"n_cols":84,"rows_kept":199,"cut":false,"hidden":false,"merged":[]}
[null,null,null,null,null,null,null,null,null,null,null,null,null,null,null,null,null,null,null,null,null,null,null,null,null,95,{"$f":"AV78","v":95},"C",null,95,{"$f":"AV78","v":95},"C",null,99,{"$f":"AP86","v":99},"g"]
[null,null,null,null,null,null,null,null,null,null,null,null,null,null,null,null,null,null,null,null,null,"Fixed 1-g/100 for start N",0.2,null,null,0.5,{"$f":"AP102","v":0.5},"d",null,0.5,{"$f":"AP102","v":0.5},"d",null,"Okfive",{"$f":"AND(AI3,getgamma=putgamma)","v":true}]
[null,null,null,null,null,null,null,null,null,null,null,null,null,null,null,null,null,null,null,null,null,null,null,null,null,0.3,{"$f":"AV102","v":0.3},"targ av MOE",null,0.3,{"$f":"AV102","v":0.3},"targ av MOE",null,"Okfourg",{"$f":"AND(AA1=Z1,AA2=Z2,AA3=Z3,AA4=Z4)","v":true}]
[null,null,null,null,null,null,null,null,null,null,null,null,null,null,null,null,null,null,null,null,null,"Initial N",{"$f":"MAX(ROUNDUP(2*($AP$141/$AV$102)^2,0),3)","v":86},null,null,1,{"$f":"AQ145","v":1},"d or dunb",null,1,{"$f":"AQ145","v":1},"d or dunb",null,"OKfour",{"$f":"AND(AE1=AD1,AE2=AD2,AE3=AD3,AE4=AD4)","v":true}]
["To calculate N for d",null,null,0,1,2,3,4,5,6,7,8,9,10,11,12,13,"To calculate Ng for d",null,null,0,1,2,3,4,5,6,7,8,9,10,11,12,13,14,15,16]
[null,null,"Max","Done?","Index","N","ncp","av MOE","d at LL","d at UL","ncpL","ncpU","tailprobL","tailprobU","tbzL","tbzU","J",null,null,"Max","Done?","Index","N","ncp","ncpg","forg","tbzg","av MOE","d at LL","d at UL","ncpL","ncpU","tailprobL","tailprobU","tbzL","tbzU","J"]
[null,"Start",111,"topleft",1,{"$f":"MAX(2*ROUNDUP((AP141/AV102)^2,0),3)","v":86},{"$f":"$AP$102/SQRT(2/F7)","v":3.2787192621510002},{"$f":"SQRT(2/F7)*TINV(1-$AV$78/100,F7-1)","v":0.30320800737530079},{"$f":"$AP$102-H7","v":0.19679199262469921},{"$f":"$AP$102+H7","v":0.80320800737530074},{"$f":"I7/SQRT(2/F7)","v":1.2904513937113578},{"$f":"J7/SQRT(2/F7)","v":5.2669871305906426},null,0.29841135820926512,89,"Wait:",true,null,"Start",111,"topleftg",1,{"$f":"MAX(ROUNDUP(W4*CHIINV(W2,(2*W4-2))/(2*W4-2),0),3)","v":94},{"$f":"$AP$102/SQRT(2/W7)","v":3.427827300200522},{"$f":"$AP$102/SQRT(2/W7)","v":3.427827300200522},null,null,{"$f":"SQRT(2/W7)*TINV(1-$AV$78/100,W7-1)","v":0.28965895803999425},{"$f":"Y7*SQRT(2/W7)-AB7","v":0.21034104196000575},{"$f":"Y7*SQRT(2/W7)+AB7","v":0.7896589580399942},{"$f":"AC7/SQRT(2/W7)","v":1.4420255319662625},{"$f":"AD7/SQRT(2/W7)","v":5.4136290684347808},null,0.29880370557044827,94,"Wait:",true]
[{"$f":"E8","v":0},1,{"$f":"MAX(1,ROUNDUP($AP$102,0))","v":1},false,0,{"$f":"MAX(IF(H7>$AV$102,F7+C8,F7-1),3)","v":87},{"$f":"($AP$102/SQRT(2/F8))/IF($AQ$144,Q8,1)","v":3.2977264895682299},{"$f":"(J8-I8)/2","v":0.30182293721657638},{"$f":"IF($AQ$144,Q8,1)*K8*SQRT(2/F8)","v":0.19747197640654282},{"$f":"IF($AQ$144,Q8,1)*L8*SQRT(2/F8)","v":0.80111785083969556},1.3024171350864975,5.2837351159600683,{"$f":"IF($Q$7,NA(),1-nct(G8,K8,2*F8-2))","v":{"$error":"#N/A"}},{"$f":"IF($Q$7,NA(),nct(G8,L8,2*F8-2))","v":{"$error":"#N/A"}},{"$f":"10000000*(M8-$AP$143)","v":{"$error":"#N/A"}},{"$f":"10000000*(N8-$AP$143)","v":{"$error":"#N/A"}},{"$f":"IF($Q$7,NA(),EXP(GAMMALN((2*F8-2)/2))/(SQRT((2*F8-2)/2)*EXP(GAMMALN((2*F8-2)/2-0.5))))","v":{"$error":"#N/A"}},{"$f":"V8","v":0},1,{"$f":"MAX(1,ROUNDUP($AP$102,0))","v":1},false,0,{"$f":"MAX(IF(AB7>$AV$102,W7+T8,W7-1),3)","v":93},{"$f":"($AP$102/SQRT(2/W8))/IF($AQ$144,AK8,1)","v":3.4095454242464638},5.8484071094648113,{"$f":"IF($AK$7,NA(),nct(Y8,X8,2*W8-2)-nct(-Y8,X8,2*W8-2))","v":{"$error":"#N/A"}},{"$f":"10000000*(Z8-$AP$86/100)","v":{"$error":"#N/A"}},{"$f":"(AD8-AC8)/2","v":0.30046619256159468},{"$f":"IF($AQ$144,AK8,1)*AE8*SQRT(2/W8)","v":0.55611535032662496},{"$f":"IF($AQ$144,AK8,1)*AF8*SQRT(2/W8)","v":1.1570477354498143},3.7922010961187262,7.8900136240752943,{"$f":"IF($AK$7,NA(),1-nct(Y8,AE8,2*W8-2))","v":{"$error":"#N/A"}},{"$f":"IF($AK$7,NA(),nct(Y8,AF8,2*W8-2))","v":{"$error":"#N/A"}},{"$f":"10000000*(AG8-$AP$143)","v":{"$error":"#N/A"}},{"$f":"10000000*(AH8-$AP$143)","v":{"$error":"#N/A"}},{"$f":"IF($AK$7,NA(),EXP(GAMMALN((2*W8-2)/2))/(SQRT((2*W8-2)/2)*EXP(GAMMALN((2*W8-2)/2-0.5))))","v":{"$error":"#N/A"}}]
[0,2,{"$f":"IF(F8>F7,2*C8,1)","v":2},false,0,89,3.3354160160315836,0.29841135820504544,{"$f":"IF($AQ$144,Q9,1)*K9*SQRT(2/F9)","v":0.20089956227971692},{"$f":"IF($AQ$144,Q9,1)*L9*SQRT(2/F9)","v":0.79772227868980783},1.3401672352830047,5.3214713293743907,{"$f":"IF($Q$7,NA(),1-nct(G9,K9,2*F9-2))","v":{"$error":"#N/A"}},{"$f":"IF($Q$7,NA(),nct(G9,L9,2*F9-2))","v":{"$error":"#N/A"}},{"$error":"#N/A"},{"$error":"#N/A"},{"$f":"IF($Q$7,NA(),EXP(GAMMALN((2*F9-2)/2))/(SQRT((2*F9-2)/2)*EXP(GAMMALN((2*F9-2)/2-0.5))))","v":{"$error":"#N/A"}},0,2,{"$f":"6","v":6},false,0,99,3.5178118198675716,5.9535922593692856,{"$error":"#N/A"},{"$error":"#N/A"},0.29088386934680871,{"$f":"IF($AQ$144,AK9,1)*AE9*SQRT(2/W9)","v":0.55432912894124564},{"$f":"IF($AQ$144,AK9,1)*AF9*SQRT(2/W9)","v":1.1360968676348631},3.9000511237728182,7.9931499789608909,{"$f":"IF($AK$7,NA(),1-nct(Y9,AE9,2*W9-2))","v":{"$error":"#N/A"}},{"$f":"IF($AK$7,NA(),nct(Y9,AF9,2*W9-2))","v":{"$error":"#N/A"}},{"$error":"#N/A"},{"$error":"#N/A"},{"$f":"IF($AK$7,NA(),EXP(GAMMALN((2*W9-2)/2))/(SQRT((2*W9-2)/2)*EXP(GAMMALN((2*W9-2)/2-0.5))))","v":{"$error":"#N/A"}}]
[0,3,{"$f":"IF(F9>F8,C9,1)","v":2},{"$f":"OR(AND(F10=3,F9=3),AND(F10>F9,F10=F8))","v":false},0,88,3.3166247903553998,0.30010260501689306,0.19920040392995852,0.79940561396374465,1.3213459958458194,5.3026569536428685,{"$error":"#N/A"},{"$error":"#N/A"},{"$error":"#N/A"},{"$error":"#N/A"},{"$error":"#N/A"},0,3,{"$f":"IF(W9>W8,2*T9,1)","v":12},{"$f":"OR(AND(W10=3,W9=3),AND(W10>W9,W10=W8))","v":false},0,98,3.5,5.9362708338997452,{"$error":"#N/A"},{"$error":"#N/A"},0.29241778389365586,0.55461508847458207,1.1394506562618938,3.8823056193220751,7.9761545938332574,{"$error":"#N/A"},{"$error":"#N/A"},{"$error":"#N/A"},{"$error":"#N/A"},{"$error":"#N/A"}]
[1,4,1,true,1,89,3.3354160160315836,0.29841135820926512,0.2008995622713112,0.79772227868984147,1.3401672352269316,5.3214713293746154,{"$error":"#N/A"},{"$error":"#N/A"},{"$error":"#N/A"},{"$error":"#N/A"},{"$error":"#N/A"},0,4,{"$f":"IF(W10>W9,T10,1)","v":1},false,0,97,3.4820970692960302,5.9188671964665547,{"$error":"#N/A"},{"$error":"#N/A"},0.29397606215128597,0.55490558008024771,1.1428577043828196,3.8644701882668886,7.9590829261076106,{"$error":"#N/A"},{"$error":"#N/A"},{"$error":"#N/A"},{"$error":"#N/A"},{"$error":"#N/A"}]
[0,5,1,false,null,88,3.3166247903553998,0.3001020876498558,0.20203781252616809,0.80224198782587974,1.3401672352269316,5.3214713293746154,{"$error":"#N/A"},{"$error":"#N/A"},{"$error":"#N/A"},{"$error":"#N/A"},{"$error":"#N/A"},0,5,1,false,0,96,3.4641016151377548,5.9013801962911394,{"$error":"#N/A"},{"$error":"#N/A"},0.29555935437481051,0.55520072446755075,1.1463194332171718,3.8465434527073885,7.9419340001428012,{"$error":"#N/A"},{"$error":"#N/A"},{"$error":"#N/A"},{"$error":"#N/A"},{"$error":"#N/A"}]
[0,6,1,true,null,89,3.3354160160315836,0,0,0,null,null,{"$error":"#N/A"},{"$error":"#N/A"},{"$error":"#N/A"},{"$error":"#N/A"},{"$error":"#N/A"},0,6,1,false,0,95,3.4460121880225558,5.8838086560113778,{"$error":"#N/A"},{"$error":"#N/A"},0.29716833534500398,0.55550064683547329,1.1498373175254812,3.8285239988989082,7.9247068208719398,{"$error":"#N/A"},{"$error":"#N/A"},{"$error":"#N/A"},{"$error":"#N/A"},{"$error":"#N/A"}]
[0,7,1,false,null,88,3.3166247903553998,0,0,0,null,null,{"$error":"#N/A"},{"$error":"#N/A"},{"$error":"#N/A"},{"$error":"#N/A"},{"$error":"#N/A"},0,7,1,false,0,94,3.427827300200522,5.8661513712018269,{"$error":"#N/A"},{"$error":"#N/A"},0.29880370557039926,0.55580547714184725,1.1534128882826458,3.8104103762956023,7.9074003737167757,{"$error":"#N/A"},{"$error":"#N/A"},{"$error":"#N/A"},{"$error":"#N/A"},{"$error":"#N/A"}]
[0,8,1,false,null,87,3.2977264895682299,0,0,0,null,null,{"$error":"#N/A"},{"$error":"#N/A"},{"$error":"#N/A"},{"$error":"#N/A"},{"$error":"#N/A"},0,8,1,false,0,93,3.4095454242464638,5.8484071095608074,{"$error":"#N/A"},{"$error":"#N/A"},0.30046619256223733,0.55611535034021686,1.1570477354646915,3.7922010962114108,7.8900136241767438,{"$error":"#N/A"},{"$error":"#N/A"},{"$error":"#N/A"},{"$error":"#N/A"},{"$error":"#N/A"}]
[0,9,1,false,null,86,3.2787192621510002,0,0,0,null,null,{"$error":"#N/A"},{"$error":"#N/A"},{"$error":"#N/A"},{"$error":"#N/A"},{"$error":"#N/A"},1,9,1,true,1,94,3.427827300200522,5.8661513712019566,{"$error":"#N/A"},{"$error":"#N/A"},0.29880370557044827,0.55580547714186535,1.1534128882827619,3.8104103762957262,7.9074003737175724,{"$error":"#N/A"},{"$error":"#N/A"},{"$error":"#N/A"},{"$error":"#N/A"},{"$error":"#N/A"}]
[0,10,1,false,null,85,3.2596012026013241,0,0,0,null,null,{"$error":"#N/A"},{"$error":"#N/A"},{"$error":"#N/A"},{"$error":"#N/A"},{"$error":"#N/A"},0,10,1,false,null,93,3.4095454242464638,5.8661513712019566,{"$error":"#N/A"},{"$error":"#N/A"},0.30040588169662774,0.55878568873119749,1.159597452124453,3.8104103762957262,7.9074003737175724,{"$error":"#N/A"},{"$error":"#N/A"},{"$error":"#N/A"},{"$error":"#N/A"},{"$error":"#N/A"}]
[0,11,1,false,null,84,3.2403703492039302,0,0,0,null,null,{"$error":"#N/A"},{"$error":"#N/A"},{"$error":"#N/A"},{"$error":"#N/A"},{"$error":"#N/A"},0,11,1,true,null,94,3.427827300200522,null,{"$error":"#N/A"},{"$error":"#N/A"},0.26884313662225612,1.0160639425845492,1.5537502158290615,6.9657834422813867,10.651974815022621,{"$error":"#N/A"},{"$error":"#N/A"},{"$error":"#N/A"},{"$error":"#N/A"},{"$error":"#N/A"}]
[0,12,1,false,null,83,3.2210246816812811,0,0,0,null,null,{"$error":"#N/A"},{"$error":"#N/A"},{"$error":"#N/A"},{"$error":"#N/A"},{"$error":"#N/A"},0,12,1,false,null,93,3.4095454242464638,null,{"$error":"#N/A"},{"$error":"#N/A"},0.27040361056159257,1.0156285623584862,1.5564357834816713,6.9256634350467809,10.613477007406784,{"$error":"#N/A"},{"$error":"#N/A"},{"$error":"#N/A"},{"$error":"#N/A"},{"$error":"#N/A"}]
[0,13,1,false,null,82,3.2015621187164243,0,0,0,null,null,{"$error":"#N/A"},{"$error":"#N/A"},{"$error":"#N/A"},{"$error":"#N/A"},{"$error":"#N/A"},0,13,1,false,null,92,3.3911649915626341,null,{"$error":"#N/A"},{"$error":"#N/A"},0.27199158390962896,1.0151796585612971,1.559162826380555,6.8852834365191571,10.574756785935175,{"$error":"#N/A"},{"$error":"#N/A"},{"$error":"#N/A"},{"$error":"#N/A"},{"$error":"#N/A"}]
[0,14,1,false,null,81,3.1819805153394642,0,0,0,null,null,{"$error":"#N/A"},{"$error":"#N/A"},{"$error":"#N/A"},{"$error":"#N/A"},{"$error":"#N/A"},0,14,1,false,null,91,3.3726843908080104,null,{"$error":"#N/A"},{"$error":"#N/A"},0.27335892904862813,1.0267286577306962,1.5734465158279525,6.9256634350471584,10.613477007408369,{"$error":"#N/A"},{"$error":"#N/A"},{"$error":"#N/A"},{"$error":"#N/A"},{"$error":"#N/A"}]
[0,15,1,false,null,80,3.1622776601683791,0,0,0,null,null,{"$error":"#N/A"},{"$error":"#N/A"},{"$error":"#N/A"},{"$error":"#N/A"},{"$error":"#N/A"},0,15,1,false,null,90,3.3541019662496843,null,{"$error":"#N/A"},{"$error":"#N/A"},0.27487339453820026,1.0324169486700097,1.5821637377464102,6.9256634350471584,10.613477007408369,{"$error":"#N/A"},{"$error":"#N/A"},{"$error":"#N/A"},{"$error":"#N/A"},{"$error":"#N/A"}]
[0,16,1,false,null,79,3.1424512724941334,0,0,0,null,null,{"$error":"#N/A"},{"$error":"#N/A"},{"$error":"#N/A"},{"$error":"#N/A"},{"$error":"#N/A"},0,16,1,false,null,89,3.3354160160315836,null,{"$error":"#N/A"},{"$error":"#N/A"},0.2794157771610522,0.9155097100568349,1.4743412643789393,6.1072114995119966,9.8350829326115381,{"$error":"#N/A"},{"$error":"#N/A"},{"$error":"#N/A"},{"$error":"#N/A"},{"$error":"#N/A"}]
[0,17,1,false,null,78,3.1224989991991992,0,0,0,null,null,{"$error":"#N/A"},{"$error":"#N/A"},{"$error":"#N/A"},{"$error":"#N/A"},{"$error":"#N/A"},0,17,1,false,null,88,3.3166247903553998,null,{"$error":"#N/A"},{"$error":"#N/A"},0.28099888205171936,0.92069677541932105,1.4826945395227598,6.1072114995119966,9.8350829326115381,{"$error":"#N/A"},{"$error":"#N/A"},{"$error":"#N/A"},{"$error":"#N/A"},{"$error":"#N/A"}]
[0,18,1,false,null,77,3.1024184114977142,0,0,0,null,null,{"$error":"#N/A"},{"$error":"#N/A"},{"$error":"#N/A"},{"$error":"#N/A"},{"$error":"#N/A"},0,18,1,false,null,87,3.2977264895682299,null,{"$error":"#N/A"},{"$error":"#N/A"},0.58213434894354732,3.9599856527338648,5.1242543506209595,26.117899170661207,33.796778622655971,{"$error":"#N/A"},{"$error":"#N/A"},{"$error":"#N/A"},{"$error":"#N/A"},{"$error":"#N/A"}]
[0,19,1,false,null,76,3.082207001484488,0,0,0,null,null,{"$error":"#N/A"},{"$error":"#N/A"},{"$error":"#N/A"},{"$error":"#N/A"},{"$error":"#N/A"},0,19,1,true,null,88,3.3166247903553998,null,{"$error":"#N/A"},{"$error":"#N/A"},0.57830906951770689,3.9609955192846518,5.1176136583200655,26.274271867492271,33.946408653291435,{"$error":"#N/A"},{"$error":"#N/A"},{"$error":"#N/A"},{"$error":"#N/A"},{"$error":"#N/A"}]
[0,20,1,false,null,75,3.0618621784789726,0,0,0,null,null,{"$error":"#N/A"},{"$error":"#N/A"},{"$error":"#N/A"},{"$error":"#N/A"},{"$error":"#N/A"},0,20,1,false,null,89,3.3354160160315836,null,{"$error":"#N/A"},{"$error":"#N/A"},0.57505096432673275,3.9386798739955857,5.0887818026490512,26.274271867492271,33.946408653291435,{"$error":"#N/A"},{"$error":"#N/A"},{"$error":"#N/A"},{"$error":"#N/A"},{"$error":"#N/A"}]
[0,21,1,false,null,74,3.0413812651491097,0,0,0,null,null,{"$error":"#N/A"},{"$error":"#N/A"},{"$error":"#N/A"},{"$error":"#N/A"},{"$error":"#N/A"},0,21,1,false,null,90,3.3541019662496843,null,{"$error":"#N/A"},{"$error":"#N/A"},0.29997871626075673,0.35771361484164454,0.957671047363158,2.3996158777892846,6.4242526859623261,{"$error":"#N/A"},{"$error":"#N/A"},{"$error":"#N/A"},{"$error":"#N/A"},{"$error":"#N/A"}]
[0,22,1,false,null,73,3.0207614933986431,0,0,0,null,null,{"$error":"#N/A"},{"$error":"#N/A"},{"$error":"#N/A"},{"$error":"#N/A"},{"$error":"#N/A"},0,22,1,false,null,89,3.3354160160315836,null,{"$error":"#N/A"},{"$error":"#N/A"},0.30165928244248519,0.35971762836413784,0.96303619324910827,2.3996158777892846,6.4242526859623261,{"$error":"#N/A"},{"$error":"#N/A"},{"$error":"#N/A"},{"$error":"#N/A"},{"$error":"#N/A"}]
[0,23,1,false,null,72,3,0,0,0,null,null,{"$error":"#N/A"},{"$error":"#N/A"},{"$error":"#N/A"},{"$error":"#N/A"},{"$error":"#N/A"},0,23,1,true,null,90,3.3541019662496843,null,{"$error":"#N/A"},{"$error":"#N/A"},1.0127978907180735,6.0371946749665053,8.0627904564026522,40.49873305987456,54.086842646558658,{"$error":"#N/A"},{"$error":"#N/A"},{"$error":"#N/A"},{"$error":"#N/A"},{"$error":"#N/A"}]
[0,24,1,false,null,71,2.9790938219532461,0,0,0,null,null,{"$error":"#N/A"},{"$error":"#N/A"},{"$error":"#N/A"},{"$error":"#N/A"},{"$error":"#N/A"},0,24,1,false,null,91,3.3726843908080104,null,{"$error":"#N/A"},{"$error":"#N/A"},1.00756043858958,5.9876664568390483,8.0027873340182083,40.389018392691526,53.981751848798524,{"$error":"#N/A"},{"$error":"#N/A"},{"$error":"#N/A"},{"$error":"#N/A"},{"$error":"#N/A"}]
[0,25,1,false,null,70,2.9580398915498081,0,0,0,null,null,{"$error":"#N/A"},{"$error":"#N/A"},{"$error":"#N/A"},{"$error":"#N/A"},{"$error":"#N/A"},0,25,1,false,null,92,3.3911649915626341,null,{"$error":"#N/A"},{"$error":"#N/A"},1.0024135290806497,5.9388161133424644,7.9436431715037639,40.279010589790069,53.876409257338274,{"$error":"#N/A"},{"$error":"#N/A"},{"$error":"#N/A"},{"$error":"#N/A"},{"$error":"#N/A"}]
[0,26,1,false,null,69,2.9368350311176825,0,0,0,null,null,{"$error":"#N/A"},{"$error":"#N/A"},{"$error":"#N/A"},{"$error":"#N/A"},{"$error":"#N/A"},0,26,1,false,null,93,3.4095454242464638,null,{"$error":"#N/A"},{"$error":"#N/A"},0.99735475484046665,5.8906251914600318,7.8853347011409651,40.168708334987002,53.770813697854067,{"$error":"#N/A"},{"$error":"#N/A"},{"$error":"#N/A"},{"$error":"#N/A"},{"$error":"#N/A"}]
[0,27,1,false,null,68,2.9154759474226499,0,0,0,null,null,{"$error":"#N/A"},{"$error":"#N/A"},{"$error":"#N/A"},{"$error":"#N/A"},{"$error":"#N/A"},0,27,1,false,null,94,3.427827300200522,null,{"$error":"#N/A"},{"$error":"#N/A"},0.99169222051720318,5.8752975372232346,7.8586819782576409,40.279010589789394,53.876409257330771,{"$error":"#N/A"},{"$error":"#N/A"},{"$error":"#N/A"},{"$error":"#N/A"},{"$error":"#N/A"}]
[0,28,1,false,null,67,2.8939592256975564,0,0,0,null,null,{"$error":"#N/A"},{"$error":"#N/A"},{"$error":"#N/A"},{"$error":"#N/A"},{"$error":"#N/A"},0,28,1,false,null,95,3.4460121880225558,null,{"$error":"#N/A"},{"$error":"#N/A"},0.98645897965787865,5.8442931121643715,7.8172110714801288,40.279010589789394,53.876409257330771,{"$error":"#N/A"},{"$error":"#N/A"},{"$error":"#N/A"},{"$error":"#N/A"},{"$error":"#N/A"}]
[0,29,1,false,null,66,2.8722813232690143,0,0,0,null,null,{"$error":"#N/A"},{"$error":"#N/A"},{"$error":"#N/A"},{"$error":"#N/A"},{"$error":"#N/A"},0,29,1,false,null,96,3.4641016151377548,null,{"$error":"#N/A"},{"$error":"#N/A"},0.82932671917092748,3.5000405745660674,5.1586940129079224,24.248992414803979,35.7404805242316,{"$error":"#N/A"},{"$error":"#N/A"},{"$error":"#N/A"},{"$error":"#N/A"},{"$error":"#N/A"}]
[0,30,1,false,null,65,2.8504385627478452,0,0,0,null,null,{"$error":"#N/A"},{"$error":"#N/A"},{"$error":"#N/A"},{"$error":"#N/A"},{"$error":"#N/A"},0,30,1,false,null,97,3.4820970692960302,null,{"$error":"#N/A"},{"$error":"#N/A"},0.82328340800297672,3.5094242980369037,5.1559911140428571,24.440312126221162,35.90732309505001,{"$error":"#N/A"},{"$error":"#N/A"},{"$error":"#N/A"},{"$error":"#N/A"},{"$error":"#N/A"}]
[0,31,1,false,null,64,2.8284271247461898,0,0,0,null,null,{"$error":"#N/A"},{"$error":"#N/A"},{"$error":"#N/A"},{"$error":"#N/A"},{"$error":"#N/A"},0,31,1,false,null,98,3.5,null,{"$error":"#N/A"},{"$error":"#N/A"},0.81737439887899122,3.5185857599864976,5.15333455774448,24.630100319905484,36.073341904211361,{"$error":"#N/A"},{"$error":"#N/A"},{"$error":"#N/A"},{"$error":"#N/A"},{"$error":"#N/A"}]
[0,32,1,false,null,63,2.8062430400804561,0,0,0,null,null,{"$error":"#N/A"},{"$error":"#N/A"},{"$error":"#N/A"},{"$error":"#N/A"},{"$error":"#N/A"},0,32,1,false,null,99,3.5178118198675716,null,{"$error":"#N/A"},{"$error":"#N/A"},0.81159455411192738,3.5275327808679071,5.1507218890917619,24.818393023014899,36.238540684595257,{"$error":"#N/A"},{"$error":"#N/A"},{"$error":"#N/A"},{"$error":"#N/A"},{"$error":"#N/A"}]
[{"$f":"E40","v":0},33,1,false,null,{"$f":"MAX(IF(H39>$AV$102,F39+C40,F39-1),3)","v":62},{"$f":"($AP$102/SQRT(2/F40))/IF($AQ$144,Q40,1)","v":2.7838821814150108},{"$f":"(J40-I40)/2","v":0},0,0,null,null,{"$error":"#N/A"},{"$error":"#N/A"},{"$f":"10000000*(M40-$AP$143)","v":{"$error":"#N/A"}},{"$f":"10000000*(N40-$AP$143)","v":{"$error":"#N/A"}},{"$error":"#N/A"},{"$f":"V40","v":0},33,1,false,null,{"$f":"MAX(IF(AB39>$AV$102,W39+T40,W39-1),3)","v":100},{"$f":"($AP$102/SQRT(2/W40))/IF($AQ$144,AK40,1)","v":3.5355339059327378},null,{"$f":"IF($AK$7,NA(),nct(Y40,X40,2*W40-2)-nct(-Y40,X40,2*W40-2))","v":{"$error":"#N/A"}},{"$f":"10000000*(Z40-$AP$86/100)","v":{"$error":"#N/A"}},{"$f":"(AD40-AC40)/2","v":0.80593901680942825},3.5362727913005245,5.148150824919381,25.005224708540815,36.402923588716128,{"$error":"#N/A"},{"$error":"#N/A"},{"$f":"10000000*(AG40-$AP$143)","v":{"$error":"#N/A"}},{"$f":"10000000*(AH40-$AP$143)","v":{"$error":"#N/A"}},{"$error":"#N/A"}]
[0,34,1,false,null,61,2.7613402542968153,0,0,0,null,null,{"$error":"#N/A"},{"$error":"#N/A"},{"$error":"#N/A"},{"$error":"#N/A"},{"$error":"#N/A"},0,34,1,false,null,101,3.5531676008879742,null,{"$error":"#N/A"},{"$error":"#N/A"},0.80040318506543118,3.5448128688170533,5.1456192389479156,25.190628473383011,36.566495132671136,{"$error":"#N/A"},{"$error":"#N/A"},{"$error":"#N/A"},{"$error":"#N/A"},{"$error":"#N/A"}]
[0,35,{"$f":"IF(F41>F40,C41,1)","v":1},{"$f":"OR(AND(F42=3,F41=3),AND(F42>F41,F42=F40))","v":false},null,60,2.7386127875258306,0,0,0,null,null,{"$error":"#N/A"},{"$error":"#N/A"},{"$error":"#N/A"},{"$error":"#N/A"},{"$error":"#N/A"},0,35,1,{"$f":"OR(AND(W42=3,W41=3),AND(W42>W41,W42=W40))","v":false},null,102,3.5707142142714252,null,{"$error":"#N/A"},{"$error":"#N/A"},0.79498269245397313,3.5531597774513464,5.1431251623592926,25.374636245846034,36.729260246026719,{"$error":"#N/A"},{"$error":"#N/A"},{"$error":"#N/A"},{"$error":"#N/A"},{"$error":"#N/A"}]
[0,36,1,false,null,59,2.7156951228000539,0,0,0,null,null,{"$error":"#N/A"},{"$error":"#N/A"},{"$error":"#N/A"},{"$error":"#N/A"},{"$error":"#N/A"},0,36,{"$f":"IF(W42>W41,T42,1)","v":1},false,null,103,3.5881750236018308,null,{"$error":"#N/A"},{"$error":"#N/A"},0.7896733947835779,3.5613199995685889,5.1406667891357447,25.557278947011387,36.891224354872598,{"$error":"#N/A"},{"$error":"#N/A"},{"$error":"#N/A"},{"$error":"#N/A"},{"$error":"#N/A"}]
[0,37,1,false,null,58,2.6925824035672519,0,0,0,null,null,{"$error":"#N/A"},{"$error":"#N/A"},{"$error":"#N/A"},{"$error":"#N/A"},{"$error":"#N/A"},0,37,1,false,null,104,3.6055512754639891,null,{"$error":"#N/A"},{"$error":"#N/A"},0.78447136082946423,3.5692997534468378,5.1382424751057663,25.738586557107094,37.052393419521678,{"$error":"#N/A"},{"$error":"#N/A"},{"$error":"#N/A"},{"$error":"#N/A"},{"$error":"#N/A"}]
[0,38,1,false,null,57,2.6692695630078278,0,0,0,null,null,{"$error":"#N/A"},{"$error":"#N/A"},{"$error":"#N/A"},{"$error":"#N/A"},{"$error":"#N/A"},0,38,1,false,null,105,3.6228441865473595,null,{"$error":"#N/A"},{"$error":"#N/A"},0.77937286381839965,3.5771049971376523,5.1358507247744516,25.918588087099305,37.212773882448332,{"$error":"#N/A"},{"$error":"#N/A"},{"$error":"#N/A"},{"$error":"#N/A"},{"$error":"#N/A"}]
[0,39,1,false,null,56,2.6457513110645907,0,0,0,null,null,{"$error":"#N/A"},{"$error":"#N/A"},{"$error":"#N/A"},{"$error":"#N/A"},{"$error":"#N/A"},0,39,1,false,null,106,3.640054944640259,null,{"$error":"#N/A"},{"$error":"#N/A"},0.77437437103124318,3.5847414252195819,5.1334901672820683,26.097311500254616,37.372372533354486,{"$error":"#N/A"},{"$error":"#N/A"},{"$error":"#N/A"},{"$error":"#N/A"},{"$error":"#N/A"}]
[0,40,1,false,null,55,2.6220221204253789,0,0,0,null,null,{"$error":"#N/A"},{"$error":"#N/A"},{"$error":"#N/A"},{"$error":"#N/A"},{"$error":"#N/A"},0,40,1,false,null,107,3.6571847095819487,null,{"$error":"#N/A"},{"$error":"#N/A"},0.7694725305041028,3.5922144674305265,5.1311595284387321,26.274783647651969,37.531196339663708,{"$error":"#N/A"},{"$error":"#N/A"},{"$error":"#N/A"},{"$error":"#N/A"},{"$error":"#N/A"}]
[0,41,1,false,null,54,2.598076211353316,0,0,0,null,null,{"$error":"#N/A"},{"$error":"#N/A"},{"$error":"#N/A"},{"$error":"#N/A"},{"$error":"#N/A"},0,41,1,false,null,108,3.6742346141747673,null,{"$error":"#N/A"},{"$error":"#N/A"},0.76466415561424617,3.5995292962083996,5.1288576074368919,26.451030269730079,37.689252304836415,{"$error":"#N/A"},{"$error":"#N/A"},{"$error":"#N/A"},{"$error":"#N/A"},{"$error":"#N/A"}]
[0,42,1,false,null,53,2.5739075352467502,0,0,0,null,null,{"$error":"#N/A"},{"$error":"#N/A"},{"$error":"#N/A"},{"$error":"#N/A"},{"$error":"#N/A"},0,42,1,false,null,109,3.6912057650583496,null,{"$error":"#N/A"},{"$error":"#N/A"},0.75994620951578762,3.6066908452884654,5.1265832643200406,26.626076081823914,37.846547400619578,{"$error":"#N/A"},{"$error":"#N/A"},{"$error":"#N/A"},{"$error":"#N/A"},{"$error":"#N/A"}]
[0,43,1,false,null,52,2.5495097567963922,0,0,0,null,null,{"$error":"#N/A"},{"$error":"#N/A"},{"$error":"#N/A"},{"$error":"#N/A"},{"$error":"#N/A"},0,43,1,false,null,110,3.7080992435478315,null,{"$error":"#N/A"},{"$error":"#N/A"},0.75531579158598627,3.6137038361761005,5.124335419348073,26.799944922660988,38.003088584339899,{"$error":"#N/A"},{"$error":"#N/A"},{"$error":"#N/A"},{"$error":"#N/A"},{"$error":"#N/A"}]
[0,44,1,false,null,51,2.5248762345905194,0,0,0,null,null,{"$error":"#N/A"},{"$error":"#N/A"},{"$error":"#N/A"},{"$error":"#N/A"},{"$error":"#N/A"},0,44,1,false,null,111,3.7249161064378349,null,{"$error":"#N/A"},{"$error":"#N/A"},0.75077012731469694,3.6205728058863245,5.1221130605157184,26.972659918353589,38.158882876221185,{"$error":"#N/A"},{"$error":"#N/A"},{"$error":"#N/A"},{"$error":"#N/A"},{"$error":"#N/A"}]
[0,45,1,false,null,50,2.5,0,0,0,null,null,{"$error":"#N/A"},{"$error":"#N/A"},{"$error":"#N/A"},{"$error":"#N/A"},{"$error":"#N/A"},0,45,1,false,null,112,3.7416573867739413,null,{"$error":"#N/A"},{"$error":"#N/A"},0.74630656186161537,3.627302128953144,5.1199152526763747,27.144243609716749,38.313937449666255,{"$error":"#N/A"},{"$error":"#N/A"},{"$error":"#N/A"},{"$error":"#N/A"},{"$error":"#N/A"}]
[0,46,1,false,null,49,2.4748737341529163,0,0,0,null,null,{"$error":"#N/A"},{"$error":"#N/A"},{"$error":"#N/A"},{"$error":"#N/A"},{"$error":"#N/A"},0,46,1,false,null,113,3.758324094593227,null,{"$error":"#N/A"},{"$error":"#N/A"},0.74192255633897664,3.63389602920271,5.1177411418806633,27.314718007598398,38.468259686842302,{"$error":"#N/A"},{"$error":"#N/A"},{"$error":"#N/A"},{"$error":"#N/A"},{"$error":"#N/A"}]
[0,47,1,false,null,48,2.4494897427831779,0,0,0,null,null,{"$error":"#N/A"},{"$error":"#N/A"},{"$error":"#N/A"},{"$error":"#N/A"},{"$error":"#N/A"},0,47,1,false,null,114,3.7749172176353749,null,{"$error":"#N/A"},{"$error":"#N/A"},0.73761568519750442,3.6403585808090417,5.1155899512040506,27.48410457012546,38.621857170325356,{"$error":"#N/A"},{"$error":"#N/A"},{"$error":"#N/A"},{"$error":"#N/A"},{"$error":"#N/A"}]
[0,48,1,false,null,47,2.4238399287081647,0,0,0,null,null,{"$error":"#N/A"},{"$error":"#N/A"},{"$error":"#N/A"},{"$error":"#N/A"},{"$error":"#N/A"},0,48,1,false,null,115,3.7914377220257753,null,{"$error":"#N/A"},{"$error":"#N/A"},0.7333836330578094,3.6466937020133252,5.113460968128944,27.652424124974289,38.774737609341038,{"$error":"#N/A"},{"$error":"#N/A"},{"$error":"#N/A"},{"$error":"#N/A"},{"$error":"#N/A"}]
[0,49,1,false,null,46,2.3979157616563596,0,0,0,null,null,{"$error":"#N/A"},{"$error":"#N/A"},{"$error":"#N/A"},{"$error":"#N/A"},{"$error":"#N/A"},0,49,1,false,null,116,3.8078865529319543,null,{"$error":"#N/A"},{"$error":"#N/A"},0.72922418987803694,3.6529051471820266,5.1113535269381005,27.819696778180724,38.926908725017825,{"$error":"#N/A"},{"$error":"#N/A"},{"$error":"#N/A"},{"$error":"#N/A"},{"$error":"#N/A"}]
[0,50,1,false,null,45,2.3717082451262845,0,0,0,null,null,{"$error":"#N/A"},{"$error":"#N/A"},{"$error":"#N/A"},{"$error":"#N/A"},{"$error":"#N/A"},0,50,1,false,null,117,3.8242646351945879,null,{"$error":"#N/A"},{"$error":"#N/A"},0.72513524419392827,3.6589965029418585,5.1092669913297151,27.985941853002441,39.078378133418568,{"$error":"#N/A"},{"$error":"#N/A"},{"$error":"#N/A"},{"$error":"#N/A"},{"$error":"#N/A"}]
[0,51,1,false,null,44,2.3452078799117149,0,0,0,null,null,{"$error":"#N/A"},{"$error":"#N/A"},{"$error":"#N/A"},{"$error":"#N/A"},{"$error":"#N/A"},0,51,1,false,null,118,3.8405728739343044,null,{"$error":"#N/A"},{"$error":"#N/A"},0.72111477498942489,3.6649711921886854,5.1072007421675352,28.151177888941067,39.229153264211568,{"$error":"#N/A"},{"$error":"#N/A"},{"$error":"#N/A"},{"$error":"#N/A"},{"$error":"#N/A"}]
[0,52,1,false,null,43,2.318404623873926,0,0,0,null,null,{"$error":"#N/A"},{"$error":"#N/A"},{"$error":"#N/A"},{"$error":"#N/A"},{"$error":"#N/A"},0,52,1,false,null,119,3.856812155135378,null,{"$error":"#N/A"},{"$error":"#N/A"},0.71716084329766039,3.6708324867152635,5.1051541733105843,28.31542270845851,39.379241338928729,{"$error":"#N/A"},{"$error":"#N/A"},{"$error":"#N/A"},{"$error":"#N/A"},{"$error":"#N/A"}]
[0,53,1,false,null,42,2.2912878474779204,0,0,0,null,null,{"$error":"#N/A"},{"$error":"#N/A"},{"$error":"#N/A"},{"$error":"#N/A"},{"$error":"#N/A"},0,53,1,false,null,120,3.8729833462074175,null,{"$error":"#N/A"},{"$error":"#N/A"},0.71327158472960206,3.6765835261498547,5.1031266956090588,28.478693535437859,39.528649411360746,{"$error":"#N/A"},{"$error":"#N/A"},{"$error":"#N/A"},{"$error":"#N/A"},{"$error":"#N/A"}]
[0,54,1,false,null,41,2.2638462845343539,0,0,0,null,null,{"$error":"#N/A"},{"$error":"#N/A"},{"$error":"#N/A"},{"$error":"#N/A"},{"$error":"#N/A"},0,54,1,false,null,121,3.8890872965260113,null,{"$error":"#N/A"},{"$error":"#N/A"},0.70944520385458931,3.6822273388930329,5.1011177466022115,28.641007133219347,39.677384452788104,{"$error":"#N/A"},{"$error":"#N/A"},{"$error":"#N/A"},{"$error":"#N/A"},{"$error":"#N/A"}]
[0,55,1,false,null,40,2.2360679774997898,0,0,0,null,null,{"$error":"#N/A"},{"$error":"#N/A"},{"$error":"#N/A"},{"$error":"#N/A"},{"$error":"#N/A"},0,55,1,false,null,122,3.905124837953327,null,{"$error":"#N/A"},{"$error":"#N/A"},0.70567997079086542,3.6877668602321183,5.0991268018138491,28.802379924947203,39.825453451273553,{"$error":"#N/A"},{"$error":"#N/A"},{"$error":"#N/A"},{"$error":"#N/A"},{"$error":"#N/A"}]
[0,56,1,false,null,39,2.2079402165819615,0,0,0,null,null,{"$error":"#N/A"},{"$error":"#N/A"},{"$error":"#N/A"},{"$error":"#N/A"},{"$error":"#N/A"},0,56,1,false,null,123,3.9210967853395302,null,{"$error":"#N/A"},{"$error":"#N/A"},0.70197421975797725,3.6932049438685888,5.0971533833845433,28.962828066006367,39.972863491943286,{"$error":"#N/A"},{"$error":"#N/A"},{"$error":"#N/A"},{"$error":"#N/A"},{"$error":"#N/A"}]
[0,57,1,false,null,38,2.1794494717703365,0,0,0,null,null,{"$error":"#N/A"},{"$error":"#N/A"},{"$error":"#N/A"},{"$error":"#N/A"},{"$error":"#N/A"},0,57,1,false,null,124,3.9370039370059056,null,{"$error":"#N/A"},{"$error":"#N/A"},0.69832634885440981,3.6985443651942229,5.0951970629030425,29.122367453921324,40.119621792940407,{"$error":"#N/A"},{"$error":"#N/A"},{"$error":"#N/A"},{"$error":"#N/A"},{"$error":"#N/A"}]
[0,58,1,false,null,37,2.1505813167606567,0,0,0,null,null,{"$error":"#N/A"},{"$error":"#N/A"},{"$error":"#N/A"},{"$error":"#N/A"},{"$error":"#N/A"},0,58,1,false,null,125,3.9528470752104745,null,{"$error":"#N/A"},{"$error":"#N/A"},0.69473482008188681,3.7037878170711842,5.0932574572349578,29.281013679820035,40.265735686250281,{"$error":"#N/A"},{"$error":"#N/A"},{"$error":"#N/A"},{"$error":"#N/A"},{"$error":"#N/A"}]
[0,59,1,false,null,36,2.1213203435596424,0,0,0,null,null,{"$error":"#N/A"},{"$error":"#N/A"},{"$error":"#N/A"},{"$error":"#N/A"},{"$error":"#N/A"},0,59,1,false,null,126,3.9686269665968856,null,{"$error":"#N/A"},{"$error":"#N/A"},0.69119815869008883,3.7089379009037242,5.0913342182839019,29.438781941919533,40.411212549277934,{"$error":"#N/A"},{"$error":"#N/A"},{"$error":"#N/A"},{"$error":"#N/A"},{"$error":"#N/A"}]
[0,60,1,false,null,35,2.0916500663351889,0,0,0,null,null,{"$error":"#N/A"},{"$error":"#N/A"},{"$error":"#N/A"},{"$error":"#N/A"},{"$error":"#N/A"},0,60,1,false,null,127,3.9843443626273065,null,{"$error":"#N/A"},{"$error":"#N/A"},0.68771495120126991,3.7139971168596055,5.0894270192621454,29.595686950747279,40.556059706400454,{"$error":"#N/A"},{"$error":"#N/A"},{"$error":"#N/A"},{"$error":"#N/A"},{"$error":"#N/A"}]
[0,61,1,false,null,34,2.0615528128088303,0,0,0,null,null,{"$error":"#N/A"},{"$error":"#N/A"},{"$error":"#N/A"},{"$error":"#N/A"},{"$error":"#N/A"},0,61,1,false,null,128,4,null,{"$error":"#N/A"},{"$error":"#N/A"},0.68428384191374581,3.7189678570816516,5.0875355409091432,29.751742856653212,40.700284327273145,{"$error":"#N/A"},{"$error":"#N/A"},{"$error":"#N/A"},{"$error":"#N/A"},{"$error":"#N/A"}]
[0,62,1,false,null,33,2.0310096011589902,0,0,0,null,null,{"$error":"#N/A"},{"$error":"#N/A"},{"$error":"#N/A"},{"$error":"#N/A"},{"$error":"#N/A"},0,62,1,false,null,129,4.0155946010522525,null,{"$error":"#N/A"},{"$error":"#N/A"},0.68090352811678501,3.7238524046429293,5.0856594608764993,29.906963222399188,40.84389334777196,{"$error":"#N/A"},{"$error":"#N/A"},{"$error":"#N/A"},{"$error":"#N/A"},{"$error":"#N/A"}]
[0,63,1,false,null,32,2,0,0,0,null,null,{"$error":"#N/A"},{"$error":"#N/A"},{"$error":"#N/A"},{"$error":"#N/A"},{"$error":"#N/A"},0,63,1,false,null,130,4.0311288741492746,null,{"$error":"#N/A"},{"$error":"#N/A"},0.67757275460293398,3.7286529393228642,5.0837984485287322,30.061361050771925,40.986893432438919,{"$error":"#N/A"},{"$error":"#N/A"},{"$error":"#N/A"},{"$error":"#N/A"},{"$error":"#N/A"}]
[0,64,1,false,null,31,1.9685019685029528,0,0,0,null,null,{"$error":"#N/A"},{"$error":"#N/A"},{"$error":"#N/A"},{"$error":"#N/A"},{"$error":"#N/A"},0,64,1,false,null,131,4.0466035140596608,null,{"$error":"#N/A"},{"$error":"#N/A"},0.67429030823439895,3.7333715494255157,5.0819521658943136,30.21494886239131,41.129290985582074,{"$error":"#N/A"},{"$error":"#N/A"},{"$error":"#N/A"},{"$error":"#N/A"},{"$error":"#N/A"},null,null,null,null,"     Precision, two independent groups",null,null,null,null,null,null,null,null,null,{"$f":"($AP$138+$AP$142+$AP$136+$AP$139+$AQ$94+$AQ$96+$AP$102+$AV$102)/1000000","v":2.608E-4},{"$f":"$AZ$71","v":2.608E-4},2.608E-4,2.608E-4,2.608E-4,2.608E-4,2.608E-4,2.608E-4,2.608E-4,2.608E-4,2.608E-4,2.608E-4,2.608E-4,2.608E-4,2.608E-4,2.608E-4]
[{"$f":"E72","v":0},65,1,false,null,{"$f":"MAX(IF(H71>$AV$102,F71+C72,F71-1),3)","v":30},{"$f":"($AP$102/SQRT(2/F72))/IF($AQ$144,Q72,1)","v":1.9364916731037087},{"$f":"(J72-I72)/2","v":0},0,0,null,null,{"$error":"#N/A"},{"$error":"#N/A"},{"$f":"10000000*(M72-$AP$143)","v":{"$error":"#N/A"}},{"$f":"10000000*(N72-$AP$143)","v":{"$error":"#N/A"}},{"$error":"#N/A"},{"$f":"V72","v":0},65,1,false,null,{"$f":"MAX(IF(AB71>$AV$102,W71+T72,W71-1),3)","v":132},{"$f":"($AP$102/SQRT(2/W72))/IF($AQ$144,AK72,1)","v":4.0620192023179804},null,{"$f":"IF($AK$7,NA(),nct(Y72,X72,2*W72-2)-nct(-Y72,X72,2*W72-2))","v":{"$error":"#N/A"}},{"$f":"10000000*(Z72-$AP$86/100)","v":{"$error":"#N/A"}},{"$f":"(AD72-AC72)/2","v":0.67105501330055439},3.7380102473685151,5.0801202739696238,30.36773880654458,41.271092205898981,{"$error":"#N/A"},{"$error":"#N/A"},{"$f":"10000000*(AG72-$AP$143)","v":{"$error":"#N/A"}},{"$f":"10000000*(AH72-$AP$143)","v":{"$error":"#N/A"}},{"$error":"#N/A"},null,null,null,null,"       N is the size of each of the groups.",null,null,null,null,null,null,null,null,null,{"$f":"$AZ$71","v":2.608E-4},null,null,null,null,null,null,null,null,null,null,null,null,null,null,{"$f":"$AZ$71","v":2.608E-4}]
[0,66,1,false,null,29,1.9039432764659772,0,{"$f":"IF($AQ$144,Q73,1)*K73*SQRT(2/F73)","v":0},{"$f":"IF($AQ$144,Q73,1)*L73*SQRT(2/F73)","v":0},null,null,{"$f":"IF($Q$7,NA(),1-nct(G73,K73,2*F73-2))","v":{"$error":"#N/A"}},{"$f":"IF($Q$7,NA(),nct(G73,L73,2*F73-2))","v":{"$error":"#N/A"}},{"$error":"#N/A"},{"$error":"#N/A"},{"$f":"IF($Q$7,NA(),EXP(GAMMALN((2*F73-2)/2))/(SQRT((2*F73-2)/2)*EXP(GAMMALN((2*F73-2)/2-0.5))))","v":{"$error":"#N/A"}},0,66,1,false,null,133,4.0773766075750224,null,{"$error":"#N/A"},{"$error":"#N/A"},0.66786572821439205,{"$f":"IF($AQ$144,AK73,1)*AE73*SQRT(2/W73)","v":3.7425709859266472},{"$f":"IF($AQ$144,AK73,1)*AF73*SQRT(2/W73)","v":5.0783024423554313},30.519742780412599,41.412303169302284,{"$f":"IF($AK$7,NA(),1-nct(Y73,AE73,2*W73-2))","v":{"$error":"#N/A"}},{"$f":"IF($AK$7,NA(),nct(Y73,AF73,2*W73-2))","v":{"$error":"#N/A"}},{"$error":"#N/A"},{"$error":"#N/A"},{"$f":"IF($AK$7,NA(),EXP(GAMMALN((2*W73-2)/2))/(SQRT((2*W73-2)/2)*EXP(GAMMALN((2*W73-2)/2-0.5))))","v":{"$error":"#N/A"}},null,null,null,null,"       Find N required for target MOE, using z or t",null,null,null,null,null,null,null,null,null,2.608E-4,null,null,null,null,null,null,null,null,null,null,null,null,null,null,2.608E-4]
[0,67,{"$f":"IF(F73>F72,C73,1)","v":1},{"$f":"OR(AND(F74=3,F73=3),AND(F74>F73,F74=F72))","v":false},null,28,1.8708286933869707,0,0,0,null,null,{"$error":"#N/A"},{"$error":"#N/A"},{"$error":"#N/A"},{"$error":"#N/A"},{"$error":"#N/A"},0,67,1,{"$f":"OR(AND(W74=3,W73=3),AND(W74>W73,W74=W72))","v":false},null,134,4.0926763859362252,null,{"$error":"#N/A"},{"$error":"#N/A"},0.66472134379690906,3.7470556719876034,5.0764983595814215,30.670972531064116,41.552929919005734,{"$error":"#N/A"},{"$error":"#N/A"},{"$error":"#N/A"},{"$error":"#N/A"},{"$error":"#N/A"},null,null,null,null,"       Find N for chosen assurance, g.  Find N when using d.",null,null,null,null,null,null,null,null,null,2.608E-4,null,null,null,null,null,null,null,null,null,null,null,null,null,null,2.608E-4]
[0,68,1,false,null,27,1.8371173070873836,0,0,0,null,null,{"$error":"#N/A"},{"$error":"#N/A"},{"$error":"#N/A"},{"$error":"#N/A"},{"$error":"#N/A"},0,68,{"$f":"IF(W74>W73,T74,1)","v":1},false,null,135,4.1079191812887457,null,{"$error":"#N/A"},{"$error":"#N/A"},0.66162078306649086,3.7514661753773364,5.0747077415103181,30.821439719576979,41.692978541569452,{"$error":"#N/A"},{"$error":"#N/A"},{"$error":"#N/A"},{"$error":"#N/A"},{"$error":"#N/A"},null,null,null,null,null,null,null,null,null,null,null,null,null,null,2.608E-4,null,null,null,null,null,null,null,null,null,null,null,null,null,null,2.608E-4]
[0,69,1,false,null,26,1.8027756377319946,0,0,0,null,null,{"$error":"#N/A"},{"$error":"#N/A"},{"$error":"#N/A"},{"$error":"#N/A"},{"$error":"#N/A"},0,69,1,false,null,136,4.1231056256176606,null,{"$error":"#N/A"},{"$error":"#N/A"},0.65856300216143993,3.7558043315240992,5.0729303358469791,30.97115593605238,41.832455212194333,{"$error":"#N/A"},{"$error":"#N/A"},{"$error":"#N/A"},{"$error":"#N/A"},{"$error":"#N/A"},null,1,"Sample size figure",null,null,null,null,null,null,null,null,null,null,null,2.608E-4,null,null,null,null,null,null,null,null,null,null,null,null,null,null,2.608E-4]
[0,70,1,false,null,25,1.7677669529663689,0,0,0,null,null,{"$error":"#N/A"},{"$error":"#N/A"},{"$error":"#N/A"},{"$error":"#N/A"},{"$error":"#N/A"},0,70,1,false,null,137,4.1382363393117121,null,{"$error":"#N/A"},{"$error":"#N/A"},0.65554699183730714,3.7600719381319108,5.071165921806525,31.12013266560739,41.971366200597878,{"$error":"#N/A"},{"$error":"#N/A"},{"$error":"#N/A"},{"$error":"#N/A"},{"$error":"#N/A"},null,null,"Display N curves",null,null,null,null,null,null,null,"Level of confidence",null,null,null,2.608E-4,null,null,null,null,null,null,null,null,null,null,null,null,null,null,2.608E-4]
[0,71,1,false,null,24,1.7320508075688774,0,0,0,null,null,{"$error":"#N/A"},{"$error":"#N/A"},{"$error":"#N/A"},{"$error":"#N/A"},{"$error":"#N/A"},0,71,1,false,null,138,4.1533119314590374,null,{"$error":"#N/A"},{"$error":"#N/A"},0.65257177891455265,3.7642707472956087,5.069414305124714,31.268381215970159,42.109717837967203,{"$error":"#N/A"},{"$error":"#N/A"},{"$error":"#N/A"},{"$error":"#N/A"},{"$error":"#N/A"},null,null,null,"Using z",null,null,null,null,null,"C. ",{"$f":"AP138","v":95},null,null,null,2.608E-4,null,null,null,null,null,null,null,null,null,null,null,null,null,null,2.608E-4]
[0,72,1,false,null,23,1.695582495781317,0,0,0,null,null,{"$error":"#N/A"},{"$error":"#N/A"},{"$error":"#N/A"},{"$error":"#N/A"},{"$error":"#N/A"},0,72,1,false,null,139,4.1683330001332664,null,{"$error":"#N/A"},{"$error":"#N/A"},0.64963642711939484,3.7684024553613757,5.0676753096001654,31.415912624932105,42.247516453933876,{"$error":"#N/A"},{"$error":"#N/A"},{"$error":"#N/A"},{"$error":"#N/A"},{"$error":"#N/A"},null,null,null,null,"    Display values",null,null,null,null,null,null,null,null,null,2.608E-4,null,null,null,null,null,null,null,null,null,null,null,null,null,null,2.608E-4]
[0,73,1,false,null,22,1.6583123951776999,0,0,0,null,null,{"$error":"#N/A"},{"$error":"#N/A"},{"$error":"#N/A"},{"$error":"#N/A"},{"$error":"#N/A"},0,73,1,false,null,140,4.1833001326703778,null,{"$error":"#N/A"},{"$error":"#N/A"},0.64674003692852855,3.7724686931743321,5.0659487670313892,31.562737569302062,42.384768298447497,{"$error":"#N/A"},{"$error":"#N/A"},{"$error":"#N/A"},{"$error":"#N/A"},{"$error":"#N/A"},null,null,null,"Using t",null,null,null,null,null,null,"Truncate display at: f.",{"$f":"VLOOKUP(AP142,BC137:BD165,2)","v":0.45},null,null,2.608E-4,null,null,null,null,null,null,null,null,null,null,null,null,null,null,2.608E-4]
[0,74,1,false,null,21,1.6201851746019651,0,0,0,null,null,{"$error":"#N/A"},{"$error":"#N/A"},{"$error":"#N/A"},{"$error":"#N/A"},{"$error":"#N/A"},0,74,1,false,null,141,4.1982139059366661,null,{"$error":"#N/A"},{"$error":"#N/A"},0.64388174424296096,3.7764710191118169,5.0642345075977389,31.708866295604086,42.521479465442305,{"$error":"#N/A"},{"$error":"#N/A"},{"$error":"#N/A"},{"$error":"#N/A"},{"$error":"#N/A"},null,null,null,null,"    Display values",null,null,null,null,null,null,null,null,null,2.608E-4,null,null,null,null,null,null,null,null,null,null,null,null,null,null,2.608E-4]
[0,75,1,false,null,20,1.5811388300841895,0,0,0,null,null,{"$error":"#N/A"},{"$error":"#N/A"},{"$error":"#N/A"},{"$error":"#N/A"},{"$error":"#N/A"},0,75,1,false,null,142,4.2130748865881786,null,{"$error":"#N/A"},{"$error":"#N/A"},0.64106071797136899,3.7804109166342457,5.0625323525769836,31.854308587711078,42.657655834364526,{"$error":"#N/A"},{"$error":"#N/A"},{"$error":"#N/A"},{"$error":"#N/A"},{"$error":"#N/A"},null,null,null,null,null,null,null,null,null,null,null,null,null,null,2.608E-4,null,null,null,null,null,null,null,null,null,null,null,null,null,null,2.608E-4]
[0,76,1,false,null,19,1.541103500742244,0,0,0,null,null,{"$error":"#N/A"},{"$error":"#N/A"},{"$error":"#N/A"},{"$error":"#N/A"},{"$error":"#N/A"},0,76,1,false,null,143,4.2278836313219408,null,{"$error":"#N/A"},{"$error":"#N/A"},0.63827615677960359,3.7842897970633103,5.0608421106225174,31.999073778365197,42.793303040411452,{"$error":"#N/A"},{"$error":"#N/A"},{"$error":"#N/A"},{"$error":"#N/A"},{"$error":"#N/A"},null,2,"Assurance in figure",null,null,null,null,null,null,null,null,null,null,null,2.608E-4,null,null,null,null,null,null,null,null,null,null,null,null,null,null,2.608E-4]
[0,77,1,false,null,18,1.5,0,0,0,null,null,{"$error":"#N/A"},{"$error":"#N/A"},{"$error":"#N/A"},{"$error":"#N/A"},{"$error":"#N/A"},0,77,1,false,null,144,4.2426406871192848,null,{"$error":"#N/A"},{"$error":"#N/A"},0.63552728542609005,3.788109007285728,5.0591635781379081,32.143170803106948,42.92842647879975,{"$error":"#N/A"},{"$error":"#N/A"},{"$error":"#N/A"},{"$error":"#N/A"},{"$error":"#N/A"},null,null,null,null,null,null,null,null,null,null,null,null,null,null,2.608E-4,null,null,null,null,null,null,null,null,null,null,null,null,null,null,2.608E-4]
[0,78,1,false,null,17,1.457737973711325,0,0,0,null,null,{"$error":"#N/A"},{"$error":"#N/A"},{"$error":"#N/A"},{"$error":"#N/A"},{"$error":"#N/A"},0,78,1,false,null,145,4.2573465914816007,null,{"$error":"#N/A"},{"$error":"#N/A"},0.63281335113447379,3.7918698411190284,5.0574965433879759,32.286608286859945,43.063031340845548,{"$error":"#N/A"},{"$error":"#N/A"},{"$error":"#N/A"},{"$error":"#N/A"},{"$error":"#N/A"},null,null,null,null,"Level of assurance",null,null,null," Display N curve for assurance",null,null,null,null,null,2.608E-4,null,null,null,null,null,null,null,null,null,null,null,null,null,null,2.608E-4]
[0,79,1,false,null,16,1.4142135623730949,0,0,0,null,null,{"$error":"#N/A"},{"$error":"#N/A"},{"$error":"#N/A"},{"$error":"#N/A"},{"$error":"#N/A"},0,79,1,false,null,146,4.2720018726587661,null,{"$error":"#N/A"},{"$error":"#N/A"},0.63013362043967369,3.7955735524749716,5.055840793354319,32.429394647974327,43.19712267414846,{"$error":"#N/A"},{"$error":"#N/A"},{"$error":"#N/A"},{"$error":"#N/A"},{"$error":"#N/A"},null,null,null,"g. ",{"$f":"AP136","v":99},null,null,null,null,"   Display values",null,null,null,null,2.608E-4,null,null,null,null,null,null,null,null,null,null,null,null,null,null,2.608E-4]
[0,80,1,false,null,15,1.3693063937629153,0,0,0,null,null,{"$error":"#N/A"},{"$error":"#N/A"},{"$error":"#N/A"},{"$error":"#N/A"},{"$error":"#N/A"},0,80,1,false,null,147,4.286607049870562,null,{"$error":"#N/A"},{"$error":"#N/A"},0.62748737683319189,3.7992213681883702,5.054196121854754,32.571538201790297,43.33070545474208,{"$error":"#N/A"},{"$error":"#N/A"},{"$error":"#N/A"},{"$error":"#N/A"},{"$error":"#N/A"},null,null,null,null,null,null,null,null,null,null,null,null,null,null,2.608E-4,null,null,null,null,null,null,null,null,null,null,null,null,null,null,2.608E-4]
[0,81,1,false,null,14,1.3228756555322954,0,0,0,null,null,{"$error":"#N/A"},{"$error":"#N/A"},{"$error":"#N/A"},{"$error":"#N/A"},{"$error":"#N/A"},0,81,1,false,null,148,4.3011626335213133,null,{"$error":"#N/A"},{"$error":"#N/A"},0.62487391939173698,3.8028144985403838,5.0525623373238577,32.71304724666998,43.463784657668974,{"$error":"#N/A"},{"$error":"#N/A"},{"$error":"#N/A"},{"$error":"#N/A"},{"$error":"#N/A"},null,3,"Cursor for target MOE",null,null,null,null,null,null,null,null,null,null,null,2.608E-4,null,null,null,null,null,null,null,null,null,null,null,null,null,null,2.608E-4]
[0,82,1,false,null,13,1.2747548783981961,0,0,0,null,null,{"$error":"#N/A"},{"$error":"#N/A"},{"$error":"#N/A"},{"$error":"#N/A"},{"$error":"#N/A"},0,82,1,false,null,149,4.3156691254080171,null,{"$error":"#N/A"},{"$error":"#N/A"},0.62229256240942177,3.806354143974763,5.0509392687936066,32.853930119041493,43.596365313287023,{"$error":"#N/A"},{"$error":"#N/A"},{"$error":"#N/A"},{"$error":"#N/A"},{"$error":"#N/A"},null,null,null,"    Display MOE cursor",null,null,null,null,null,null,"Target MOE cursor: f.",{"$f":"IF($AQ$141,AQ146,\"\")","v":0.5},null,null,2.608E-4,null,null,null,null,null,null,null,null,null,null,null,null,null,null,2.608E-4]
[0,83,1,false,null,12,1.2247448713915889,0,0,0,null,null,{"$error":"#N/A"},{"$error":"#N/A"},{"$error":"#N/A"},{"$error":"#N/A"},{"$error":"#N/A"},0,83,1,false,null,150,4.3301270189221928,null,{"$error":"#N/A"},{"$error":"#N/A"},0.61974263589237699,3.8098414972109786,5.0493267689957326,32.994195209768478,43.728452539591039,{"$error":"#N/A"},{"$error":"#N/A"},{"$error":"#N/A"},{"$error":"#N/A"},{"$error":"#N/A"},null,null,null,null,"          Display values",null,null,null,null,null,null,null,null,null,2.608E-4,null,null,null,null,null,null,null,null,null,null,null,null,null,null,2.608E-4]
[0,84,1,false,null,11,1.1726039399558574,0,0,0,null,null,{"$error":"#N/A"},{"$error":"#N/A"},{"$error":"#N/A"},{"$error":"#N/A"},{"$error":"#N/A"},0,84,1,false,null,151,4.3445367992456916,null,{"$error":"#N/A"},{"$error":"#N/A"},0.6172234866681745,3.813277740753938,5.047724714090287,33.133850940899912,43.860051545654379,{"$error":"#N/A"},{"$error":"#N/A"},{"$error":"#N/A"},{"$error":"#N/A"},{"$error":"#N/A"},null,null,null,null,null,null,null,null,null,null,null,null,null,null,2.608E-4,null,null,null,null,null,null,null,null,null,null,null,null,null,null,2.608E-4]
[0,85,1,false,null,10,1.1180339887498949,0,0,0,null,null,{"$error":"#N/A"},{"$error":"#N/A"},{"$error":"#N/A"},{"$error":"#N/A"},{"$error":"#N/A"},0,85,1,false,null,152,4.3588989435406731,null,{"$error":"#N/A"},{"$error":"#N/A"},0.61473447978227891,3.8166640405332806,5.0461330000978384,33.272905708260389,43.991167606184391,{"$error":"#N/A"},{"$error":"#N/A"},{"$error":"#N/A"},{"$error":"#N/A"},{"$error":"#N/A"},null,5,"Find N, for target MOE in original units",null,null,null,null,null,null,null,null,null,null,null,2.608E-4,null,null,null,null,null,null,null,null,null,null,null,null,null,null,2.608E-4]
[0,86,1,false,null,9,1.0606601717798212,0,0,0,null,null,{"$error":"#N/A"},{"$error":"#N/A"},{"$error":"#N/A"},{"$error":"#N/A"},{"$error":"#N/A"},0,86,1,false,null,153,4.3732139211339751,null,{"$error":"#N/A"},{"$error":"#N/A"},0.61317607580768541,3.7882723710137394,5.0146245226291102,33.13385093992899,43.860051543242875,{"$error":"#N/A"},{"$error":"#N/A"},{"$error":"#N/A"},{"$error":"#N/A"},{"$error":"#N/A"},null,null,null,null,null,null,null,null,null,null,null,null,null,null,2.608E-4,null,null,null,null,null,null,null,null,null,null,null,null,null,null,2.608E-4]
[0,87,1,false,null,8,1,0,0,0,null,null,{"$error":"#N/A"},{"$error":"#N/A"},{"$error":"#N/A"},{"$error":"#N/A"},{"$error":"#N/A"},0,87,1,false,null,154,4.3874821936960613,null,{"$error":"#N/A"},{"$error":"#N/A"},0.61072965226636877,3.79179951500049,5.0132588195332275,33.272905708260019,43.991167606183545,{"$error":"#N/A"},{"$error":"#N/A"},{"$error":"#N/A"},{"$error":"#N/A"},{"$error":"#N/A"},null,null,null,null,"Target MOE. ",8,null,null,null,null,"Target MOE in SD units: f.",{"$f":"IF(AND(AQ94/AQ96>=0.05,AQ94/AQ96<=2),AQ94/AQ96,\"\")","v":0.2},null,null,2.608E-4,null,null,null,null,null,null,null,null,null,null,null,null,null,null,2.608E-4]
[0,88,1,false,null,7,0.93541434669348533,0,0,0,null,null,{"$error":"#N/A"},{"$error":"#N/A"},{"$error":"#N/A"},{"$error":"#N/A"},{"$error":"#N/A"},0,88,1,false,null,155,4.4017042154147523,null,{"$error":"#N/A"},{"$error":"#N/A"},0.60875636874850714,3.7795481113585985,4.9970608488556127,33.272905708260019,43.991167606183545,{"$error":"#N/A"},{"$error":"#N/A"},{"$error":"#N/A"},{"$error":"#N/A"},{"$error":"#N/A"},null,null,null,null,null,null,null,null,null,null,null,null,null,null,2.608E-4,null,null,null,null,null,null,null,null,null,null,null,null,null,null,2.608E-4]
[0,89,1,false,null,6,0.86602540378443871,0,0,0,null,null,{"$error":"#N/A"},{"$error":"#N/A"},{"$error":"#N/A"},{"$error":"#N/A"},{"$error":"#N/A"},0,89,1,false,null,156,4.415880433163923,null,{"$error":"#N/A"},{"$error":"#N/A"},0,0,0,null,null,{"$error":"#N/A"},{"$error":"#N/A"},{"$error":"#N/A"},{"$error":"#N/A"},{"$error":"#N/A"},null,null,null,null,"Population s. ",40,null,null,"N.",{"$f":"IF(ISNUMBER($AW$94),MAX(ROUNDUP(2*(AP141/AW94)^2,0),AP137),\"\")","v":193},"Using z",null,null,null,2.608E-4,null,null,null,null,null,null,null,null,null,null,null,null,null,null,2.608E-4]
[0,90,1,false,null,5,0.79056941504209477,0,0,0,null,null,{"$error":"#N/A"},{"$error":"#N/A"},{"$error":"#N/A"},{"$error":"#N/A"},{"$error":"#N/A"},0,90,1,false,null,155,4.4017042154147523,null,{"$error":"#N/A"},{"$error":"#N/A"},0,0,0,null,null,{"$error":"#N/A"},{"$error":"#N/A"},{"$error":"#N/A"},{"$error":"#N/A"},{"$error":"#N/A"},null,null,null,null,null,null,null,null,"N.",{"$f":"IF(ISNUMBER($AW$94),BM166,\"\")","v":194},"Using t",null,null,null,2.608E-4,null,null,null,null,null,null,null,null,null,null,null,null,null,null,2.608E-4]
[0,91,1,false,null,4,0.70710678118654746,0,0,0,null,null,{"$error":"#N/A"},{"$error":"#N/A"},{"$error":"#N/A"},{"$error":"#N/A"},{"$error":"#N/A"},0,91,1,false,null,154,4.3874821936960613,null,{"$error":"#N/A"},{"$error":"#N/A"},0,0,0,null,null,{"$error":"#N/A"},{"$error":"#N/A"},{"$error":"#N/A"},{"$error":"#N/A"},{"$error":"#N/A"},null,null,null,"    Display crosses",null,null,null,null,null,"N.",{"$f":"IF(ISNUMBER($AW$94),BM199,\"\")","v":225},"with assurance",null,null,2.608E-4,null,null,null,null,null,null,null,null,null,null,null,null,null,null,2.608E-4]
[0,92,1,false,null,3,0.61237243569579447,0,0,0,null,null,{"$error":"#N/A"},{"$error":"#N/A"},{"$error":"#N/A"},{"$error":"#N/A"},{"$error":"#N/A"},0,92,1,false,null,153,4.3732139211339751,null,{"$error":"#N/A"},{"$error":"#N/A"},0,0,0,null,null,{"$error":"#N/A"},{"$error":"#N/A"},{"$error":"#N/A"},{"$error":"#N/A"},{"$error":"#N/A"},null,null,null,null,null,null,null,null,null,null,null,null,null,null,2.608E-4,null,null,null,null,null,null,null,null,null,null,null,null,null,null,2.608E-4]
[0,93,1,true,null,3,0.61237243569579447,0,0,0,null,null,{"$error":"#N/A"},{"$error":"#N/A"},{"$error":"#N/A"},{"$error":"#N/A"},{"$error":"#N/A"},0,93,1,false,null,152,4.3588989435406731,null,{"$error":"#N/A"},{"$error":"#N/A"},0,0,0,null,null,{"$error":"#N/A"},{"$error":"#N/A"},{"$error":"#N/A"},{"$error":"#N/A"},{"$error":"#N/A"},null,null,6,"Calculate N, for Cohen's d",null,null,null,null,null,null,null,null,null,null,2.608E-4,null,null,null,null,null,null,null,null,null,null,null,null,null,null,2.608E-4]
[0,94,1,true,null,3,0.61237243569579447,0,0,0,null,null,{"$error":"#N/A"},{"$error":"#N/A"},{"$error":"#N/A"},{"$error":"#N/A"},{"$error":"#N/A"},0,94,1,false,null,151,4.3445367992456916,null,{"$error":"#N/A"},{"$error":"#N/A"},0,0,0,null,null,{"$error":"#N/A"},{"$error":"#N/A"},{"$error":"#N/A"},{"$error":"#N/A"},{"$error":"#N/A"},null,null,null,null,"Planning ES ",null,null,null,null,null,null,null,null,null,2.608E-4,null,null,null,null,null,null,null,null,null,null,null,null,null,null,2.608E-4]
[0,95,1,true,null,3,0.61237243569579447,0,0,0,null,null,{"$error":"#N/A"},{"$error":"#N/A"},{"$error":"#N/A"},{"$error":"#N/A"},{"$error":"#N/A"},0,95,1,false,null,150,4.3301270189221928,null,{"$error":"#N/A"},{"$error":"#N/A"},0,0,0,null,null,{"$error":"#N/A"},{"$error":"#N/A"},{"$error":"#N/A"},{"$error":"#N/A"},{"$error":"#N/A"},null,null,null,"d ",{"$f":"AP144/10","v":0.5},null,null,null,null,"Target av. MOE ",{"$f":"AP145/100","v":0.3},null,null,null,2.608E-4,null,null,null,null,null,null,null,null,null,null,null,null,null,null,2.608E-4]
[0,96,1,true,null,3,0.61237243569579447,0,0,0,null,null,{"$error":"#N/A"},{"$error":"#N/A"},{"$error":"#N/A"},{"$error":"#N/A"},{"$error":"#N/A"},0,96,1,false,null,149,4.3156691254080171,null,{"$error":"#N/A"},{"$error":"#N/A"},0,0,0,null,null,{"$error":"#N/A"},{"$error":"#N/A"},{"$error":"#N/A"},{"$error":"#N/A"},{"$error":"#N/A"},null,null,null,null,null,null,null,null,null,null,null,null,null,null,2.608E-4,null,null,null,null,null,null,null,null,null,null,null,null,null,null,2.608E-4]
[0,97,1,true,null,3,{"$f":"($AP$102/SQRT(2/F104))/IF($AQ$144,Q104,1)","v":0.61237243569579447},{"$f":"(J104-I104)/2","v":0},0,0,null,null,{"$error":"#N/A"},{"$error":"#N/A"},{"$error":"#N/A"},{"$error":"#N/A"},{"$error":"#N/A"},0,97,1,false,null,148,{"$f":"($AP$102/SQRT(2/W104))/IF($AQ$144,AK104,1)","v":4.3011626335213133},null,{"$f":"IF($AK$7,NA(),nct(Y104,X104,2*W104-2)-nct(-Y104,X104,2*W104-2))","v":{"$error":"#N/A"}},{"$f":"10000000*(Z104-$AP$86/100)","v":{"$error":"#N/A"}},{"$f":"(AD104-AC104)/2","v":0},0,0,null,null,{"$error":"#N/A"},{"$error":"#N/A"},{"$error":"#N/A"},{"$error":"#N/A"},{"$error":"#N/A"},null,null,null,null,null,null,null,null,"av. MOE ",null,null,"          steps",null,null,2.608E-4,null,null,null,null,null,null,null,null,null,null,null,null,null,null,2.608E-4]
[0,98,1,true,null,3,{"$f":"($AP$102/SQRT(2/F105))/IF($AQ$144,Q105,1)","v":0.61237243569579447},{"$f":"(J105-I105)/2","v":0},0,0,null,null,{"$error":"#N/A"},{"$error":"#N/A"},{"$error":"#N/A"},{"$error":"#N/A"},{"$error":"#N/A"},0,98,1,false,null,147,{"$f":"($AP$102/SQRT(2/W105))/IF($AQ$144,AK105,1)","v":4.286607049870562},null,{"$f":"IF($AK$7,NA(),nct(Y105,X105,2*W105-2)-nct(-Y105,X105,2*W105-2))","v":{"$error":"#N/A"}},{"$f":"10000000*(Z105-$AP$86/100)","v":{"$error":"#N/A"}},{"$f":"(AD105-AC105)/2","v":0},0,0,null,null,{"$error":"#N/A"},{"$error":"#N/A"},{"$error":"#N/A"},{"$error":"#N/A"},{"$error":"#N/A"},null,null,null,null,null,null,null,null,{"$f":"IF($AI$4,IF($E$7>=2,\"No\",IF(AND($E$7=1,N7=\"\"),\"No!\",IF(E7=0,IF(ISNUMBER(VLOOKUP(1,E8:H107,4,FALSE)),VLOOKUP(1,E8:H107,4,FALSE),\"\"),N7))),\"\")","v":0.29841135820926512},"N ",{"$f":"IF($AI$4,IF($E$7>=2,\"No\",IF(AND($E$7=1,O7=\"\"),\"No!\",IF(E7=0,IF(ISNUMBER(VLOOKUP(1,E8:F107,2,FALSE)),VLOOKUP(1,E8:F107,2,FALSE),\"\"),O7))),\"\")","v":89},{"$f":"IF($AI$4,IF(ISNUMBER(VLOOKUP(1,A8:B107,2,FALSE)),VLOOKUP(1,A8:B107,2,FALSE),\"\"),\"\")","v":4},null,null,2.608E-4,null,null,null,null,null,null,null,null,null,null,null,null,null,null,2.608E-4]
[0,99,{"$f":"IF(F105>F104,C105,1)","v":1},{"$f":"OR(AND(F106=3,F105=3),AND(F106>F105,F106=F104))","v":true},null,3,{"$f":"($AP$102/SQRT(2/F106))/IF($AQ$144,Q106,1)","v":0.61237243569579447},{"$f":"(J106-I106)/2","v":0},0,0,null,null,{"$error":"#N/A"},{"$error":"#N/A"},{"$error":"#N/A"},{"$error":"#N/A"},{"$error":"#N/A"},0,99,1,{"$f":"OR(AND(W106=3,W105=3),AND(W106>W105,W106=W104))","v":false},null,146,{"$f":"($AP$102/SQRT(2/W106))/IF($AQ$144,AK106,1)","v":4.2720018726587661},null,{"$f":"IF($AK$7,NA(),nct(Y106,X106,2*W106-2)-nct(-Y106,X106,2*W106-2))","v":{"$error":"#N/A"}},{"$f":"10000000*(Z106-$AP$86/100)","v":{"$error":"#N/A"}},{"$f":"(AD106-AC106)/2","v":0},0,0,null,null,{"$error":"#N/A"},{"$error":"#N/A"},{"$error":"#N/A"},{"$error":"#N/A"},{"$error":"#N/A"},null,null,null,null,null,null,null,null,null,null,null,null,null,null,2.608E-4,null,null,null,null,null,null,null,null,null,null,null,null,null,null,2.608E-4]
[0,100,{"$f":"IF(F106>F105,C106,1)","v":1},{"$f":"OR(AND(F107=3,F106=3),AND(F107>F106,F107=F105))","v":true},null,3,{"$f":"($AP$102/SQRT(2/F107))/IF($AQ$144,Q107,1)","v":0.61237243569579447},{"$f":"(J107-I107)/2","v":0},0,0,null,null,{"$error":"#N/A"},{"$error":"#N/A"},{"$error":"#N/A"},{"$error":"#N/A"},{"$error":"#N/A"},0,100,{"$f":"IF(W106>W105,T106,1)","v":1},{"$f":"OR(AND(W107=3,W106=3),AND(W107>W106,W107=W105))","v":false},null,145,{"$f":"($AP$102/SQRT(2/W107))/IF($AQ$144,AK107,1)","v":4.2573465914816007},null,{"$f":"IF($AK$7,NA(),nct(Y107,X107,2*W107-2)-nct(-Y107,X107,2*W107-2))","v":{"$error":"#N/A"}},{"$f":"10000000*(Z107-$AP$86/100)","v":{"$error":"#N/A"}},{"$f":"(AD107-AC107)/2","v":0},0,0,null,null,{"$error":"#N/A"},{"$error":"#N/A"},{"$error":"#N/A"},{"$error":"#N/A"},{"$error":"#N/A"},null,null,null,null,null,null,null,null,"av. MOE ",null,null,null,null,null,2.608E-4,null,null,null,null,null,null,null,null,null,null,null,null,null,null,2.608E-4]
[null,null,null,null,null,null,null,null,null,null,null,null,null,null,null,null,null,null,null,null,null,null,null,null,null,null,null,null,null,null,null,null,null,null,null,null,null,null,null,null,null,null,null,null,null,{"$f":"IF($AI$2,IF($V$7>=2,\"No\",IF(AND($V$7=1,AH7=\"\"),\"No!\",IF(V7=0,IF(ISNUMBER(VLOOKUP(1,V8:AB107,7,FALSE)),VLOOKUP(1,V8:AB107,7,FALSE),\"\"),AH7))),\"\")","v":0.29880370557044827},"N ",{"$f":"IF($AI$2,IF($V$7>=2,\"No\",IF(AND($V$7=1,AI7=\"\")=0,\"No!\",IF(V7=0,IF(ISNUMBER(VLOOKUP(1,V8:W107,2,FALSE)),VLOOKUP(1,V8:W107,2,FALSE),\"\"),AI7))),\"\")","v":94},{"$f":"IF($AI$2,IF(ISNUMBER(VLOOKUP(1,R8:S107,2,FALSE)),VLOOKUP(1,R8:S107,2,FALSE),\"\"),\"\")","v":9},null,null,2.608E-4,null,null,null,null,null,null,null,null,null,null,null,null,null,null,2.608E-4]
[]
[null,null,null,null,null,null,null,null,null,null,null,null,null,null,null,null,null,null,null,null,null,null,null,null,null,null,null,null,null,null,null,null,null,null,null,null,null,null,null,null,null,null,null,null,null,null,null,null,null,null,null,4]
[]
[]
[]
[]
[]
[]
[]
[]
[]
[]
[]
[]
[]
[]
[]
[]
[]
[]
[]
[]
[]
[]
[]
[]
[null,null,null,null,null,null,null,null,null,null,null,null,null,null,null,null,null,null,null,null,null,null,null,null,null,null,null,null,null,null,null,null,null,null,null,null,null,null,null,null,"from g",{"$f":"1-$AP$86/100","v":1.0000000000000009E-2},true,"display z series",null,null,null,null,null,null,null,null,null,null,"For display",{"$f":"IF(ISNUMBER(BG135),BG135,IF(ISNUMBER(BF135),BF135,IF(ISNUMBER(BE135),BE135,NA())))","v":40},{"$f":"VLOOKUP(AP142,BC137:BG165,3)","v":38},{"$f":"VLOOKUP(AP142,BC137:BG165,4)","v":40},{"$f":"VLOOKUP(AP142,BC137:BG165,5)","v":{"$error":"#N/A"}}]
[null,null,null,null,null,null,null,null,null,null,null,null,null,null,null,null,null,null,null,null,null,null,null,null,null,null,null,null,null,null,null,null,null,null,null,null,null,null,null,null,"for g",99,true,"display t series",null,null,null,null,null,null,null,null,null,null,"Index","Ratio","Nz","Nt","Ntg","Nz values","Nt values","Ntgvalues","NzRound","Ratio","Nt","Nz","df1","Nt1","df2","Nt2","df3","Nt3","df4","Nt4","df5","Nt5","df6","Nt6","df7","Nt7","df8","Nt8","df9","Nt9"]
[null,null,null,null,null,null,null,null,null,null,null,null,null,null,null,null,null,null,null,null,null,null,null,null,null,null,null,null,null,null,null,null,null,null,null,null,null,null,null,null,"MinNz",3,false,"display t+gamma series",null,null,null,null,null,null,null,null,null,null,1,{"$f":"IF(BC137>=$AP$142,BL137,NA())","v":{"$error":"#N/A"}},{"$f":"IF(AND($AQ$135,BC137>=$AP$142),BK137,NA())","v":{"$error":"#N/A"}},{"$f":"IF(AND($AQ$136,BC137>=$AP$142),BM137,NA())","v":{"$error":"#N/A"}},{"$f":"IF(AND($AQ$137,BC137>=$AP$142),BM170,NA())","v":{"$error":"#N/A"}},{"$f":"IF(AND($AQ$135,$AQ$138,BC137>=$AP$142),BK137,NA())","v":{"$error":"#N/A"}},{"$f":"IF(AND($AQ$136,$AQ$139,BC137>=$AP$142),BM137,NA())","v":{"$error":"#N/A"}},{"$f":"IF(AND($AQ$137,$AQ$140,BC137>=$AP$142),BM170,NA())","v":{"$error":"#N/A"}},{"$f":"ROUNDUP(BN137,0)","v":769},0.1,{"$f":"(2+MAX(CC137,CE137))/2","v":770},{"$f":"MAX(2*($AP$141/BL137)^2,$AP$137)","v":768.29176413882522},{"$f":"2*ROUNDUP(BN137,0)-2","v":1536},{"$f":"MAX(2*(TINV(1-$AV$78/100,BO137)/$BL137)^2,$AP$137)","v":769.50396689765068},{"$f":"MAX(MIN(2*ROUNDUP(BP137,0)-2,BO137+2),BO137-2)","v":1538},{"$f":"MAX(2*(TINV(1-$AV$78/100,BQ137)/$BL137)^2,$AP$137)","v":769.50238866359064},{"$f":"MAX(MIN(2*ROUNDUP(BR137,0)-2,BQ137+2),BQ137-2)","v":1538},{"$f":"MAX(2*(TINV(1-$AV$78/100,BS137)/$BL137)^2,$AP$137)","v":769.50238866359064},{"$f":"MAX(MIN(2*ROUNDUP(BT137,0)-2,BS137+2),BS137-2)","v":1538},{"$f":"MAX(2*(TINV(1-$AV$78/100,BU137)/$BL137)^2,$AP$137)","v":769.50238866359064},{"$f":"MAX(MIN(2*ROUNDUP(BV137,0)-2,BU137+2),BU137-2)","v":1538},{"$f":"MAX(2*(TINV(1-$AV$78/100,BW137)/$BL137)^2,$AP$137)","v":769.50238866359064},{"$f":"MAX(MIN(2*ROUNDUP(BX137,0)-2,BW137+2),BW137-2)","v":1538},{"$f":"MAX(2*(TINV(1-$AV$78/100,BY137)/$BL137)^2,$AP$137)","v":769.50238866359064},{"$f":"MAX(MIN(2*ROUNDUP(BZ137,0)-2,BY137+2),BY137-2)","v":1538},{"$f":"MAX(2*(TINV(1-$AV$78/100,CA137)/$BL137)^2,$AP$137)","v":769.50238866359064},{"$f":"MAX(MIN(2*ROUNDUP(CB137,0)-2,CA137+2),CA137-2)","v":1538},{"$f":"MAX(2*(TINV(1-$AV$78/100,CC137)/$BL137)^2,$AP$137)","v":769.50238866359064},{"$f":"MAX(MIN(2*ROUNDUP(CD137,0)-2,CC137+2),CC137-2)","v":1538},{"$f":"MAX(2*(TINV(1-$AV$78/100,CE137)/$BL137)^2,$AP$137)","v":769.50238866359064}]
[null,null,null,null,null,null,null,null,null,null,null,null,null,null,null,null,null,null,null,null,null,null,null,null,null,null,null,null,null,null,null,null,null,null,null,null,null,null,null,null,"for C",95,true,"display z values",null,null,null,null,null,null,null,null,null,null,2,{"$error":"#N/A"},{"$error":"#N/A"},{"$error":"#N/A"},{"$error":"#N/A"},{"$error":"#N/A"},{"$error":"#N/A"},{"$error":"#N/A"},342,0.15,{"$f":"(2+MAX(CC138,CE138))/2","v":343},{"$f":"MAX(2*($AP$141/BL138)^2,$AP$137)","v":341.46300628392248},{"$f":"2*ROUNDUP(BN138,0)-2","v":682},342.67819688295981,{"$f":"MAX(MIN(2*ROUNDUP(BP138,0)-2,BO138+2),BO138-2)","v":684},342.67463430107153,684,342.67463430107153,684,342.67463430107153,684,342.67463430107153,684,342.67463430107153,684,342.67463430107153,684,342.67463430107153,684,342.67463430107153]
[null,null,null,null,null,null,null,null,null,null,null,null,null,null,null,null,null,null,null,null,null,null,null,null,null,null,null,null,null,null,null,null,null,null,null,null,null,null,null,null,"for MOE slider",10,true,"display t values",null,null,null,null,null,null,null,null,null,null,3,{"$error":"#N/A"},{"$error":"#N/A"},{"$error":"#N/A"},{"$error":"#N/A"},{"$error":"#N/A"},{"$error":"#N/A"},{"$error":"#N/A"},193,0.2,194,192.0729410347063,384,193.28943158973141,386,193.2830990275917,386,193.2830990275917,386,193.2830990275917,386,193.2830990275917,386,193.2830990275917,386,193.2830990275917,386,193.2830990275917,386,193.2830990275917]
[null,null,null,null,null,null,null,null,null,null,null,null,null,null,null,null,null,null,null,null,null,null,null,null,null,null,null,null,null,null,null,null,null,null,null,null,null,null,null,null,"alpha",{"$f":"1-$AV$78/100","v":5.0000000000000044E-2},false,"display t+gamma values",null,null,null,null,null,null,null,null,null,null,4,{"$error":"#N/A"},{"$error":"#N/A"},{"$error":"#N/A"},{"$error":"#N/A"},{"$error":"#N/A"},{"$error":"#N/A"},{"$error":"#N/A"},123,0.25,125,122.92668226221207,244,124.15525707376172,246,124.14519537762362,248,124.13529714406967,248,124.13529714406967,248,124.13529714406967,248,124.13529714406967,248,124.13529714406967,248,124.13529714406967,248,124.13529714406967]
[null,null,null,null,null,null,null,null,null,null,null,null,null,null,null,null,null,null,null,null,null,null,null,null,null,null,null,null,null,null,null,null,null,null,null,null,null,null,null,null,"z crit",{"$f":"ABS(NORMSINV(AP140/2))","v":1.9599639845400545},true,"display MOE cursor",null,null,null,null,null,null,null,null,null,null,5,{"$error":"#N/A"},{"$error":"#N/A"},{"$error":"#N/A"},{"$error":"#N/A"},{"$error":"#N/A"},{"$error":"#N/A"},{"$error":"#N/A"},86,0.3,87,85.36575157098062,170,86.594262425837613,172,86.579827380619648,172,86.579827380619648,172,86.579827380619648,172,86.579827380619648,172,86.579827380619648,172,86.579827380619648,172,86.579827380619648,172,86.579827380619648]
[null,null,null,null,null,null,null,null,null,null,null,null,null,null,null,null,null,null,null,null,null,null,null,null,null,null,null,null,null,null,null,null,null,null,null,null,null,null,null,null,"for left limit",8,true,"display values with cursor",null,null,null,null,null,null,null,null,null,null,6,{"$error":"#N/A"},{"$error":"#N/A"},{"$error":"#N/A"},{"$error":"#N/A"},{"$error":"#N/A"},{"$error":"#N/A"},{"$error":"#N/A"},63,0.35,64,62.71769503174086,124,63.959994769285984,126,63.939992501030368,126,63.939992501030368,126,63.939992501030368,126,63.939992501030368,126,63.939992501030368,126,63.939992501030368,126,63.939992501030368,126,63.939992501030368]
[null,null,null,null,null,null,null,null,null,null,null,null,null,null,null,null,null,null,null,null,null,null,null,null,null,null,null,null,null,null,null,null,null,null,null,null,null,null,null,null,"targ tailpr",{"$f":"(100-$AV$78)/200","v":2.5000000000000001E-2},false,"display 3 calculated points",null,null,null,null,null,null,null,null,null,null,7,{"$error":"#N/A"},{"$error":"#N/A"},{"$error":"#N/A"},{"$error":"#N/A"},{"$error":"#N/A"},{"$error":"#N/A"},{"$error":"#N/A"},49,0.4,50,48.018235258676576,96,49.252031543425986,98,49.226385970078368,98,49.226385970078368,98,49.226385970078368,98,49.226385970078368,98,49.226385970078368,98,49.226385970078368,98,49.226385970078368,98,49.226385970078368]
[null,null,null,null,null,null,null,null,null,null,null,null,null,null,null,null,null,null,null,null,null,null,null,null,null,null,null,null,null,null,null,null,null,null,null,null,null,null,null,null,"for d",5,{"$f":"IF(AQ145=2,TRUE,FALSE)","v":false},"use unbiased d",null,null,null,null,null,null,null,null,null,null,8,0.45,38,40,{"$error":"#N/A"},38,40,{"$error":"#N/A"},38,0.45,40,37.940334031546925,74,39.212142846703181,76,39.177873186668727,78,39.145401684943394,78,39.145401684943394,78,39.145401684943394,78,39.145401684943394,78,39.145401684943394,78,39.145401684943394,78,39.145401684943394]
[null,null,null,null,null,null,null,null,null,null,null,null,null,null,null,null,null,null,null,null,null,null,null,null,null,null,null,null,null,null,null,null,null,null,null,null,null,null,null,null,"for MOE",30,1,"1=biased d; 2=unbiased d",null,null,null,null,null,null,null,null,null,null,9,0.5,31,32,{"$error":"#N/A"},31,32,{"$error":"#N/A"},31,0.5,32,30.731670565553017,60,32.009530448044472,62,31.967096391062743,62,31.967096391062743,62,31.967096391062743,62,31.967096391062743,62,31.967096391062743,62,31.967096391062743,62,31.967096391062743,62,31.967096391062743]
[null,null,null,null,null,null,null,null,null,null,null,null,null,null,null,null,null,null,null,null,null,null,null,null,null,null,null,null,null,null,null,null,null,null,null,null,null,null,null,null,null,"Vert cursor",{"$f":"IF(AQ141,IF(AP139<21,AP139/20,INT((AP139+1)/2)/10),NA())","v":0.5},0,null,null,"bar",{"$f":"BD135","v":40},null,null,null,null,null,null,10,0.55000000000000004,26,27,{"$error":"#N/A"},26,27,{"$error":"#N/A"},26,0.55000000000000004,27,25.398074847564473,50,26.673120967199893,52,26.62235518839142,52,26.62235518839142,52,26.62235518839142,52,26.62235518839142,52,26.62235518839142,52,26.62235518839142,52,26.62235518839142,52,26.62235518839142]
[null,null,null,null,null,null,null,null,null,null,null,null,null,null,null,null,null,null,null,null,null,null,null,null,null,null,null,null,null,null,null,null,null,null,null,null,null,null,null,null,null,"Cursor values",null,null,null,null,null,null,null,null,null,null,null,null,11,0.6,22,23,{"$error":"#N/A"},22,23,{"$error":"#N/A"},22,0.6,23,21.341437892745155,42,22.625853680884344,44,22.565035269776828,44,22.565035269776828,44,22.565035269776828,44,22.565035269776828,44,22.565035269776828,44,22.565035269776828,44,22.565035269776828,44,22.565035269776828]
[null,null,null,null,null,null,null,null,null,null,null,null,null,null,null,null,null,null,null,null,null,null,null,null,null,null,null,null,null,null,null,null,null,null,null,null,null,null,null,null,null,{"$f":"IF(AND($AQ$141,$AQ$142),$AQ$146,NA())","v":0.5},{"$f":"VLOOKUP(AQ146,BD137:BG165,4)","v":{"$error":"#N/A"}},null,null,null,null,null,null,null,null,null,null,null,12,0.65,19,20,{"$error":"#N/A"},19,20,{"$error":"#N/A"},19,0.65,20,18.184420452989947,36,19.470604588042825,38,19.399629165710085,38,19.399629165710085,38,19.399629165710085,38,19.399629165710085,38,19.399629165710085,38,19.399629165710085,38,19.399629165710085,38,19.399629165710085]
[null,null,null,null,null,null,null,null,null,null,null,null,null,null,null,null,null,null,null,null,null,null,null,null,null,null,null,null,null,null,null,null,null,null,null,null,null,null,null,null,null,{"$f":"IF(AND($AQ$141,$AQ$142),$AQ$146,NA())","v":0.5},{"$f":"VLOOKUP(AQ146,BD137:BG165,3)","v":32},null,null,null,null,null,null,null,null,null,null,null,13,0.7,16,17,{"$error":"#N/A"},16,17,{"$error":"#N/A"},16,0.7,17,15.679423757935215,30,17.023986765071992,32,16.935091464565531,32,16.935091464565531,32,16.935091464565531,32,16.935091464565531,32,16.935091464565531,32,16.935091464565531,32,16.935091464565531,32,16.935091464565531]
[null,null,null,null,null,null,null,null,null,null,null,null,null,null,null,null,null,null,null,null,null,null,null,null,null,null,null,null,null,null,null,null,null,null,null,null,null,null,null,null,null,{"$f":"IF(AND($AQ$141,$AQ$142),$AQ$146,NA())","v":0.5},{"$f":"VLOOKUP(AQ146,BD137:BG165,2)","v":31},null,null,null,null,null,null,null,null,null,null,null,14,0.75,14,15,{"$error":"#N/A"},14,15,{"$error":"#N/A"},14,0.75,15,13.658520251356897,26,15.022937565296216,28,14.919010515205445,28,14.919010515205445,28,14.919010515205445,28,14.919010515205445,28,14.919010515205445,28,14.919010515205445,28,14.919010515205445,28,14.919010515205445]
[null,null,null,null,null,null,null,null,null,null,null,null,null,null,null,null,null,null,null,null,null,null,null,null,null,null,null,null,null,null,null,null,null,null,null,null,null,null,null,null,null,"Orig units, 3 points",null,null,null,null,null,null,null,null,null,null,null,null,15,0.8,13,14,{"$error":"#N/A"},13,14,{"$error":"#N/A"},13,0.8,14,12.004558814669144,24,13.311491292567601,26,13.203753719498623,26,13.203753719498623,26,13.203753719498623,26,13.203753719498623,26,13.203753719498623,26,13.203753719498623,26,13.203753719498623,26,13.203753719498623]
[null,null,null,null,null,null,null,null,null,null,null,null,null,null,null,null,null,null,null,null,null,null,null,null,null,null,null,null,null,null,null,null,null,null,null,null,null,null,null,null,null,{"$f":"IF(AND(AQ143,ISNUMBER(AW94)),AW94,NA())","v":{"$error":"#N/A"}},{"$f":"IF(AND(AQ143,ISNUMBER(AV98)),AV98,NA())","v":{"$error":"#N/A"}},null,null,null,null,null,null,null,null,null,null,null,16,0.85,11,12,{"$error":"#N/A"},11,12,{"$error":"#N/A"},11,0.85,12,10.633796043443951,20,12.044964646149591,22,11.905742455383605,22,11.905742455383605,22,11.905742455383605,22,11.905742455383605,22,11.905742455383605,22,11.905742455383605,22,11.905742455383605,22,11.905742455383605]
[null,null,null,null,null,null,null,null,null,null,null,null,null,null,null,null,null,null,null,null,null,null,null,null,null,null,null,null,null,null,null,null,null,null,null,null,null,null,null,null,null,{"$f":"AP152","v":{"$error":"#N/A"}},{"$f":"IF(AND(AQ143,ISNUMBER(AU97)),AU97,NA())","v":{"$error":"#N/A"}},null,null,null,null,null,null,null,null,null,null,null,17,0.9,10,11,{"$error":"#N/A"},10,11,{"$error":"#N/A"},10,0.9,11,9.4850835078867313,18,10.898452851775136,20,10.74381105783096,20,10.74381105783096,20,10.74381105783096,20,10.74381105783096,20,10.74381105783096,20,10.74381105783096,20,10.74381105783096,20,10.74381105783096]
[null,null,null,null,null,null,null,null,null,null,null,null,null,null,null,null,null,null,null,null,null,null,null,null,null,null,null,null,null,null,null,null,null,null,null,null,null,null,null,null,null,{"$f":"AP152","v":{"$error":"#N/A"}},{"$f":"IF(AND(AQ143,ISNUMBER(AU96)),AU96,NA())","v":{"$error":"#N/A"}},null,null,null,null,null,null,null,null,null,null,null,18,0.95,9,10,{"$error":"#N/A"},9,10,{"$error":"#N/A"},9,0.95,10,8.5129281345022214,16,9.9589992643994076,18,9.7814369085184083,18,9.7814369085184083,18,9.7814369085184083,18,9.7814369085184083,18,9.7814369085184083,18,9.7814369085184083,18,9.7814369085184083,18,9.7814369085184083]
[null,null,null,null,null,null,null,null,null,null,null,null,null,null,null,null,null,null,null,null,null,null,null,null,null,null,null,null,null,null,null,null,null,null,null,null,null,null,null,null,null,null,null,null,null,null,null,null,null,null,null,null,null,null,19,1,8,9,{"$error":"#N/A"},8,9,{"$error":"#N/A"},8,1,9,7.6829176413882543,14,9.2002198164100388,16,8.9879968361204643,16,8.9879968361204643,16,8.9879968361204643,16,8.9879968361204643,16,8.9879968361204643,16,8.9879968361204643,16,8.9879968361204643,16,8.9879968361204643]
[null,null,null,null,null,null,null,null,null,null,null,null,null,null,null,null,null,null,null,null,null,null,null,null,null,null,null,null,null,null,null,null,null,null,null,null,null,null,null,null,null,null,null,null,null,null,null,null,null,null,null,null,null,null,20,1.1000000000000001,7,8,{"$error":"#N/A"},7,8,{"$error":"#N/A"},7,1.1000000000000001,8,6.3495187118911183,12,7.8466534476347816,14,7.6034874515785429,14,7.6034874515785429,14,7.6034874515785429,14,7.6034874515785429,14,7.6034874515785429,14,7.6034874515785429,14,7.6034874515785429,14,7.6034874515785429]
[null,null,null,null,null,null,null,null,null,null,null,null,null,null,null,null,null,null,null,null,null,null,null,null,null,null,null,null,null,null,null,null,null,null,null,null,null,null,null,null,null,null,null,null,null,null,null,null,null,null,null,null,null,null,21,1.2,6,7,{"$error":"#N/A"},6,7,{"$error":"#N/A"},6,1.2,7,5.3353594731862888,10,6.8952815293428991,12,6.593368521970894,12,6.593368521970894,12,6.593368521970894,12,6.593368521970894,12,6.593368521970894,12,6.593368521970894,12,6.593368521970894,12,6.593368521970894]
[null,null,null,null,null,null,null,null,null,null,null,null,null,null,null,null,null,null,null,null,null,null,null,null,null,null,null,null,null,null,null,null,null,null,null,null,null,null,null,null,null,null,null,null,null,null,null,null,null,null,null,null,null,null,22,1.3,5,6,{"$error":"#N/A"},5,6,{"$error":"#N/A"},5,1.3,6,4.5461051132474868,8,6.2930829145474654,10,5.8752694687892157,10,5.8752694687892157,10,5.8752694687892157,10,5.8752694687892157,10,5.8752694687892157,10,5.8752694687892157,10,5.8752694687892157,10,5.8752694687892157]
[null,null,null,null,null,null,null,null,null,null,null,null,null,null,null,null,null,null,null,null,null,null,null,null,null,null,null,null,null,null,null,null,null,null,null,null,null,null,null,null,null,null,null,null,null,null,null,null,null,null,null,null,null,null,23,1.4,4,6,{"$error":"#N/A"},4,6,{"$error":"#N/A"},4,1.4,6,3.9198559394838037,6,6.1095689634822348,8,5.4261786355026631,10,5.0659211235988657,10,5.0659211235988657,10,5.0659211235988657,10,5.0659211235988657,10,5.0659211235988657,10,5.0659211235988657,10,5.0659211235988657]
[null,null,null,null,null,null,null,null,null,null,null,null,null,null,null,null,null,null,null,null,null,null,null,null,null,null,null,null,null,null,null,null,null,null,null,null,null,null,null,null,null,null,null,null,null,null,null,null,null,null,null,null,null,null,24,1.5,4,5,{"$error":"#N/A"},4,5,{"$error":"#N/A"},4,1.5,5,3.4146300628392243,6,5.3221134081889687,8,4.7268045002600969,8,4.7268045002600969,8,4.7268045002600969,8,4.7268045002600969,8,4.7268045002600969,8,4.7268045002600969,8,4.7268045002600969,8,4.7268045002600969]
[null,null,null,null,null,null,null,null,null,null,null,null,null,null,null,null,null,null,null,null,null,null,null,null,null,null,null,null,null,null,null,null,null,null,null,null,null,null,null,null,null,null,null,null,null,null,null,null,null,null,null,null,null,null,25,1.6,4,5,{"$error":"#N/A"},4,5,{"$error":"#N/A"},4,1.6,5,3.001139703667286,6,4.6776387376660855,8,4.1544180178067247,8,4.1544180178067247,8,4.1544180178067247,8,4.1544180178067247,8,4.1544180178067247,8,4.1544180178067247,8,4.1544180178067247,8,4.1544180178067247]
[null,null,null,null,null,null,null,null,null,null,null,null,null,null,null,null,null,null,null,null,null,null,null,null,null,null,null,null,null,null,null,null,null,null,null,null,null,null,null,null,null,null,null,null,null,null,null,null,null,null,null,null,null,null,26,1.7,3,5,{"$error":"#N/A"},3,5,{"$error":"#N/A"},3,1.7,5,3,4,5.3347040978004774,6,4.1435138991090579,8,3.6800381057388294,6,4.1435138991090579,8,3.6800381057388294,6,4.1435138991090579,8,3.6800381057388294,6,4.1435138991090579,8,3.6800381057388294]
[null,null,null,null,null,null,null,null,null,null,null,null,null,null,null,null,null,null,null,null,null,null,null,null,null,null,null,null,null,null,null,null,null,null,null,null,null,null,null,null,null,null,null,null,null,null,null,null,null,null,null,null,null,null,27,1.8,3,4,{"$error":"#N/A"},3,4,{"$error":"#N/A"},3,1.8,4,3,4,4.7584243341491899,6,3.6959120890201174,6,3.6959120890201174,6,3.6959120890201174,6,3.6959120890201174,6,3.6959120890201174,6,3.6959120890201174,6,3.6959120890201174,6,3.6959120890201174]
[null,null,null,null,null,null,null,null,null,null,null,null,null,null,null,null,null,null,null,null,null,null,null,null,null,null,null,null,null,null,null,null,null,null,null,null,null,null,null,null,null,null,null,null,null,null,null,null,null,null,null,null,null,null,28,1.9,3,4,{"$error":"#N/A"},3,4,{"$error":"#N/A"},3,1.9,4,3,4,4.2707187929760053,6,3.3171066948546204,6,3.3171066948546204,6,3.3171066948546204,6,3.3171066948546204,6,3.3171066948546204,6,3.3171066948546204,6,3.3171066948546204,6,3.3171066948546204]
[null,null,null,null,null,null,null,null,null,null,null,null,null,null,null,null,null,null,null,null,null,null,null,null,null,null,null,null,null,null,null,null,null,null,null,null,null,null,null,null,null,null,null,null,null,null,null,null,null,null,null,null,null,null,29,2,3,4,{"$error":"#N/A"},3,4,{"$error":"#N/A"},3,2,4,3,4,3.8543237106608443,6,3,4,3.8543237106608443,6,3,4,3.8543237106608443,6,3,4,3.8543237106608443,6,3,4,3.8543237106608443]
[null,null,null,null,null,null,null,null,null,null,null,null,null,null,null,null,null,null,null,null,null,null,null,null,null,null,null,null,null,null,null,null,null,null,null,null,null,null,null,null,null,null,null,null,null,null,null,null,null,null,null,null,null,null,null,null,null,null,null,null,null,null,193,{"$f":"AW94","v":0.2},194,192.0729410347063,384,193.28943158973141,386,193.2830990275917,386,193.2830990275917,386,193.2830990275917,386,193.2830990275917,386,193.2830990275917,386,193.2830990275917,386,193.2830990275917,386,193.2830990275917]
[]
[null,null,null,null,null,null,null,null,null,null,null,null,null,null,null,null,null,null,null,null,null,null,null,null,null,null,null,null,null,null,null,null,null,null,null,null,null,null,null,null,null,null,null,null,null,null,null,null,null,null,null,null,null,null,null,null,null,null,null,null,null,null,null,"With chi-square"]
[null,null,null,null,null,null,null,null,null,null,null,null,null,null,null,null,null,null,null,null,null,null,null,null,null,null,null,null,null,null,null,null,null,null,null,null,null,null,null,null,null,null,null,null,null,null,null,null,null,null,null,null,null,null,null,null,null,null,null,null,null,null,null,"Ratio","Ntg","Nz","df1","Nt1","df2","Nt2","df3","Nt3","df4","Nt4","df5","Nt5","df6","Nt6","df7","Nt7","df8","Nt8","df9","Nt9"]
[null,null,null,null,null,null,null,null,null,null,null,null,null,null,null,null,null,null,null,null,null,null,null,null,null,null,null,null,null,null,null,null,null,null,null,null,null,null,null,null,null,null,null,null,null,null,null,null,null,null,null,null,null,null,null,null,null,null,null,null,null,null,null,0.1,{"$f":"(2+MAX(CC170,CE170))/2","v":832},{"$f":"MAX(2*($AP$141/BL170)^2,$AP$137)","v":768.29176413882522},{"$f":"2*ROUNDUP(BN170*IF(ISNUMBER(CHIINV($AP$135,BN170)),CHIINV($AP$135,BN170)/ROUNDDOWN(BN170,0),(1+NORMSINV($AP$86/100)*SQRT(2/(2*(ROUNDUP(BN170,0)-1)))))-1,0)","v":1724},{"$f":"MAX(2*(TINV($AP$140,BO170)/$BL170)^2*IF(ISNUMBER(CHIINV($AP$135,BO170)),CHIINV($AP$135,BO170),BO170*(1+NORMSINV($AP$86/100)*SQRT(2/BO170)))/BO170,$AP$137)","v":831.64269696018971},{"$f":"MIN(2*ROUNDUP(BP170,0)-2,BO170+2)","v":1662},{"$f":"MAX(2*(TINV($AP$140,BQ170)/$BL170)^2*IF(ISNUMBER(CHIINV($AP$135,BQ170)),CHIINV($AP$135,BQ170),BQ170*(1+NORMSINV($AP$86/100)*SQRT(2/BQ170)))/BQ170,$AP$137)","v":831.503597375818},{"$f":"MAX(MIN(2*ROUNDUP(BR170,0)-2,BQ170+2),BQ170-2)","v":1662},{"$f":"MAX(2*(TINV($AP$140,BS170)/$BL170)^2*IF(ISNUMBER(CHIINV($AP$135,BS170)),CHIINV($AP$135,BS170),BS170*(1+NORMSINV($AP$86/100)*SQRT(2/BS170)))/BS170,$AP$137)","v":831.503597375818},{"$f":"MAX(MIN(2*ROUNDUP(BT170,0)-2,BS170+2),BS170-2)","v":1662},{"$f":"MAX(2*(TINV($AP$140,BU170)/$BL170)^2*IF(ISNUMBER(CHIINV($AP$135,BU170)),CHIINV($AP$135,BU170),BU170*(1+NORMSINV($AP$86/100)*SQRT(2/BU170)))/BU170,$AP$137)","v":831.503597375818},{"$f":"MAX(MIN(2*ROUNDUP(BV170,0)-2,BU170+2),BU170-2)","v":1662},{"$f":"MAX(2*(TINV($AP$140,BW170)/$BL170)^2*IF(ISNUMBER(CHIINV($AP$135,BW170)),CHIINV($AP$135,BW170),BW170*(1+NORMSINV($AP$86/100)*SQRT(2/BW170)))/BW170,$AP$137)","v":831.503597375818},{"$f":"MAX(MIN(2*ROUNDUP(BX170,0)-2,BW170+2),BW170-2)","v":1662},{"$f":"MAX(2*(TINV($AP$140,BY170)/$BL170)^2*IF(ISNUMBER(CHIINV($AP$135,BY170)),CHIINV($AP$135,BY170),BY170*(1+NORMSINV($AP$86/100)*SQRT(2/BY170)))/BY170,$AP$137)","v":831.503597375818},{"$f":"MAX(MIN(2*ROUNDUP(BZ170,0)-2,BY170+2),BY170-2)","v":1662},{"$f":"MAX(2*(TINV($AP$140,CA170)/$BL170)^2*IF(ISNUMBER(CHIINV($AP$135,CA170)),CHIINV($AP$135,CA170),CA170*(1+NORMSINV($AP$86/100)*SQRT(2/CA170)))/CA170,$AP$137)","v":831.503597375818},{"$f":"MAX(MIN(2*ROUNDUP(CB170,0)-2,CA170+2),CA170-2)","v":1662},{"$f":"MAX(2*(TINV($AP$140,CC170)/$BL170)^2*IF(ISNUMBER(CHIINV($AP$135,CC170)),CHIINV($AP$135,CC170),CC170*(1+NORMSINV($AP$86/100)*SQRT(2/CC170)))/CC170,$AP$137)","v":831.503597375818},{"$f":"MAX(MIN(2*ROUNDUP(CD170,0)-2,CC170+2),CC170-2)","v":1662},{"$f":"MAX(2*(TINV($AP$140,CE170)/$BL170)^2*IF(ISNUMBER(CHIINV($AP$135,CE170)),CHIINV($AP$135,CE170),CE170*(1+NORMSINV($AP$86/100)*SQRT(2/CE170)))/CE170,$AP$137)","v":831.503597375818}]
[null,null,null,null,null,null,null,null,null,null,null,null,null,null,null,null,null,null,null,null,null,null,null,null,null,null,null,null,null,null,null,null,null,null,null,null,null,null,null,null,null,null,null,null,null,null,null,null,null,null,null,null,null,null,null,null,null,null,null,null,null,null,null,0.15,{"$f":"(2+MAX(CC171,CE171))/2","v":385},{"$f":"MAX(2*($AP$141/BL171)^2,$AP$137)","v":341.46300628392248},810,383.31515769239934,{"$f":"MIN(2*ROUNDUP(BP171,0)-2,BO171+2)","v":766},384.57347980964175,{"$f":"MAX(MIN(2*ROUNDUP(BR171,0)-2,BQ171+2),BQ171-2)","v":768},384.51385164608183,768,384.51385164608183,768,384.51385164608183,768,384.51385164608183,768,384.51385164608183,768,384.51385164608183,768,384.51385164608183]
[null,null,null,null,null,null,null,null,null,null,null,null,null,null,null,null,null,null,null,null,null,null,null,null,null,null,null,null,null,null,null,null,null,null,null,null,null,null,null,null,null,null,null,null,null,null,null,null,null,null,null,null,null,null,null,null,null,null,null,null,null,null,null,0.2,225,192.0729410347063,480,223.21101586040447,446,224.47166224463936,448,224.39334048712627,448,224.39334048712627,448,224.39334048712627,448,224.39334048712627,448,224.39334048712627,448,224.39334048712627,448,224.39334048712627]
[null,null,null,null,null,null,null,null,null,null,null,null,null,null,null,null,null,null,null,null,null,null,null,null,null,null,null,null,null,null,null,null,null,null,null,null,null,null,null,null,null,null,null,null,null,null,null,null,null,null,null,null,null,null,null,null,null,null,null,null,null,null,null,0.25,149,122.92668226221207,324,147.60448979753843,294,148.9589572381542,296,148.8618660775125,296,148.8618660775125,296,148.8618660775125,296,148.8618660775125,296,148.8618660775125,296,148.8618660775125,296,148.8618660775125]
[null,null,null,null,null,null,null,null,null,null,null,null,null,null,null,null,null,null,null,null,null,null,null,null,null,null,null,null,null,null,null,null,null,null,null,null,null,null,null,null,null,null,null,null,null,null,null,null,null,null,null,null,null,null,null,null,null,null,null,null,null,null,null,0.3,108,85.36575157098062,236,105.78596065828154,210,107.164306380626,212,107.04862488138143,214,106.93469886718437,212,107.04862488138143,214,106.93469886718437,212,107.04862488138143,214,106.93469886718437,212,107.04862488138143]
[null,null,null,null,null,null,null,null,null,null,null,null,null,null,null,null,null,null,null,null,null,null,null,null,null,null,null,null,null,null,null,null,null,null,null,null,null,null,null,null,null,null,null,null,null,null,null,null,null,null,null,null,null,null,null,null,null,null,null,null,null,null,null,0.35,82,62.71769503174086,182,80.079118521021869,160,81.399555362146657,162,81.267459299892934,162,81.267459299892934,162,81.267459299892934,162,81.267459299892934,162,81.267459299892934,162,81.267459299892934,162,81.267459299892934]
[null,null,null,null,null,null,null,null,null,null,null,null,null,null,null,null,null,null,null,null,null,null,null,null,null,null,null,null,null,null,null,null,null,null,null,null,null,null,null,null,null,null,null,null,null,null,null,null,null,null,null,null,null,null,null,null,null,null,null,null,null,null,null,0.4,65,48.018235258676576,146,63.092466048092419,126,64.433252073819418,128,64.283665027355696,128,64.283665027355696,128,64.283665027355696,128,64.283665027355696,128,64.283665027355696,128,64.283665027355696,128,64.283665027355696]
[null,null,null,null,null,null,null,null,null,null,null,null,null,null,null,null,null,null,null,null,null,null,null,null,null,null,null,null,null,null,null,null,null,null,null,null,null,null,null,null,null,null,null,null,null,null,null,null,null,null,null,null,null,null,null,null,null,null,null,null,null,null,null,0.45,53,37.940334031546925,122,51.156220217594871,102,52.622221119339208,104,52.45453998538008,104,52.45453998538008,104,52.45453998538008,104,52.45453998538008,104,52.45453998538008,104,52.45453998538008,104,52.45453998538008]
[null,null,null,null,null,null,null,null,null,null,null,null,null,null,null,null,null,null,null,null,null,null,null,null,null,null,null,null,null,null,null,null,null,null,null,null,null,null,null,null,null,null,null,null,null,null,null,null,null,null,null,null,null,null,null,null,null,null,null,null,null,null,null,0.5,44,30.731670565553017,104,42.488177388157865,84,44.086485197884244,86,43.898574131852172,86,43.898574131852172,86,43.898574131852172,86,43.898574131852172,86,43.898574131852172,86,43.898574131852172,86,43.898574131852172]
[null,null,null,null,null,null,null,null,null,null,null,null,null,null,null,null,null,null,null,null,null,null,null,null,null,null,null,null,null,null,null,null,null,null,null,null,null,null,null,null,null,null,null,null,null,null,null,null,null,null,null,null,null,null,null,null,null,null,null,null,null,null,null,0.55000000000000004,38,25.398074847564473,90,35.986899198963158,70,37.730268544016212,72,37.518955978026561,74,37.31750650814017,74,37.31750650814017,74,37.31750650814017,74,37.31750650814017,74,37.31750650814017,74,37.31750650814017]
[null,null,null,null,null,null,null,null,null,null,null,null,null,null,null,null,null,null,null,null,null,null,null,null,null,null,null,null,null,null,null,null,null,null,null,null,null,null,null,null,null,null,null,null,null,null,null,null,null,null,null,null,null,null,null,null,null,null,null,null,null,null,null,0.6,33,21.341437892745155,78,31.041005676249188,62,32.51188763343275,64,32.293522006855511,64,32.293522006855511,64,32.293522006855511,64,32.293522006855511,64,32.293522006855511,64,32.293522006855511,64,32.293522006855511]
[null,null,null,null,null,null,null,null,null,null,null,null,null,null,null,null,null,null,null,null,null,null,null,null,null,null,null,null,null,null,null,null,null,null,null,null,null,null,null,null,null,null,null,null,null,null,null,null,null,null,null,null,null,null,null,null,null,null,null,null,null,null,null,0.65,29,18.184420452989947,70,27.013979253408067,54,28.565351260024244,56,28.329430727856341,56,28.329430727856341,56,28.329430727856341,56,28.329430727856341,56,28.329430727856341,56,28.329430727856341,56,28.329430727856341]
[null,null,null,null,null,null,null,null,null,null,null,null,null,null,null,null,null,null,null,null,null,null,null,null,null,null,null,null,null,null,null,null,null,null,null,null,null,null,null,null,null,null,null,null,null,null,null,null,null,null,null,null,null,null,null,null,null,null,null,null,null,null,null,0.7,26,15.679423757935215,62,23.886284791909777,46,25.598063094966506,48,25.329359236458298,50,25.079866949662616,50,25.079866949662616,50,25.079866949662616,50,25.079866949662616,50,25.079866949662616,50,25.079866949662616]
[null,null,null,null,null,null,null,null,null,null,null,null,null,null,null,null,null,null,null,null,null,null,null,null,null,null,null,null,null,null,null,null,null,null,null,null,null,null,null,null,null,null,null,null,null,null,null,null,null,null,null,null,null,null,null,null,null,null,null,null,null,null,null,0.75,23,13.658520251356897,58,21.112117978361077,42,22.826249360783539,44,22.55174665723591,44,22.55174665723591,44,22.55174665723591,44,22.55174665723591,44,22.55174665723591,44,22.55174665723591,44,22.55174665723591]
[null,null,null,null,null,null,null,null,null,null,null,null,null,null,null,null,null,null,null,null,null,null,null,null,null,null,null,null,null,null,null,null,null,null,null,null,null,null,null,null,null,null,null,null,null,null,null,null,null,null,null,null,null,null,null,null,null,null,null,null,null,null,null,0.8,21,12.004558814669144,52,19.023837507593765,38,20.61288903473309,40,20.325036883129307,40,20.325036883129307,40,20.325036883129307,40,20.325036883129307,40,20.325036883129307,40,20.325036883129307,40,20.325036883129307]
[null,null,null,null,null,null,null,null,null,null,null,null,null,null,null,null,null,null,null,null,null,null,null,null,null,null,null,null,null,null,null,null,null,null,null,null,null,null,null,null,null,null,null,null,null,null,null,null,null,null,null,null,null,null,null,null,null,null,null,null,null,null,null,0.85,19,10.633796043443951,48,17.178388963134346,34,18.850604170955123,36,18.539831928469155,36,18.539831928469155,36,18.539831928469155,36,18.539831928469155,36,18.539831928469155,36,18.539831928469155,36,18.539831928469155]
[null,null,null,null,null,null,null,null,null,null,null,null,null,null,null,null,null,null,null,null,null,null,null,null,null,null,null,null,null,null,null,null,null,null,null,null,null,null,null,null,null,null,null,null,null,null,null,null,null,null,null,null,null,null,null,null,null,null,null,null,null,null,null,0.9,18,9.4850835078867313,44,15.66093517863604,30,17.470371714856856,32,17.123277592047749,34,16.814273473475403,32,17.123277592047749,34,16.814273473475403,32,17.123277592047749,34,16.814273473475403,32,17.123277592047749]
[null,null,null,null,null,null,null,null,null,null,null,null,null,null,null,null,null,null,null,null,null,null,null,null,null,null,null,null,null,null,null,null,null,null,null,null,null,null,null,null,null,null,null,null,null,null,null,null,null,null,null,null,null,null,null,null,null,null,null,null,null,null,null,0.95,16,8.5129281345022214,42,14.226886720709961,28,16.032774948791431,30,15.679779600037735,30,15.679779600037735,30,15.679779600037735,30,15.679779600037735,30,15.679779600037735,30,15.679779600037735,30,15.679779600037735]
[null,null,null,null,null,null,null,null,null,null,null,null,null,null,null,null,null,null,null,null,null,null,null,null,null,null,null,null,null,null,null,null,null,null,null,null,null,null,null,null,null,null,null,null,null,null,null,null,null,null,null,null,null,null,null,null,null,null,null,null,null,null,null,1,15,7.6829176413882543,40,13.00802360520276,26,14.834253229559476,28,14.469579391284261,28,14.469579391284261,28,14.469579391284261,28,14.469579391284261,28,14.469579391284261,28,14.469579391284261,28,14.469579391284261]
[null,null,null,null,null,null,null,null,null,null,null,null,null,null,null,null,null,null,null,null,null,null,null,null,null,null,null,null,null,null,null,null,null,null,null,null,null,null,null,null,null,null,null,null,null,null,null,null,null,null,null,null,null,null,null,null,null,null,null,null,null,null,null,1.1000000000000001,13,6.3495187118911183,34,11.255835961582706,22,13.018970932616151,24,12.608826482328491,24,12.608826482328491,24,12.608826482328491,24,12.608826482328491,24,12.608826482328491,24,12.608826482328491,24,12.608826482328491]
[null,null,null,null,null,null,null,null,null,null,null,null,null,null,null,null,null,null,null,null,null,null,null,null,null,null,null,null,null,null,null,null,null,null,null,null,null,null,null,null,null,null,null,null,null,null,null,null,null,null,null,null,null,null,null,null,null,null,null,null,null,null,null,1.2,12,5.3353594731862888,32,9.6318436455268603,18,11.853874482037334,20,11.351377359792085,22,10.939551964212184,20,11.351377359792085,22,10.939551964212184,20,11.351377359792085,22,10.939551964212184,20,11.351377359792085]
[null,null,null,null,null,null,null,null,null,null,null,null,null,null,null,null,null,null,null,null,null,null,null,null,null,null,null,null,null,null,null,null,null,null,null,null,null,null,null,null,null,null,null,null,null,null,null,null,null,null,null,null,null,null,null,null,null,null,null,null,null,null,null,1.3,11,4.5461051132474868,30,8.3733734254639387,16,10.636658350528373,18,10.1003427539253,20,9.6721795255033118,18,10.1003427539253,20,9.6721795255033118,18,10.1003427539253,20,9.6721795255033118,18,10.1003427539253]
[null,null,null,null,null,null,null,null,null,null,null,null,null,null,null,null,null,null,null,null,null,null,null,null,null,null,null,null,null,null,null,null,null,null,null,null,null,null,null,null,null,null,null,null,null,null,null,null,null,null,null,null,null,null,null,null,null,null,null,null,null,null,null,1.4,10,3.9198559394838037,28,7.3824384649409511,14,9.7706192763142035,16,9.171404394078035,18,8.7089690072111026,16,9.171404394078035,18,8.7089690072111026,16,9.171404394078035,18,8.7089690072111026,16,9.171404394078035]
[null,null,null,null,null,null,null,null,null,null,null,null,null,null,null,null,null,null,null,null,null,null,null,null,null,null,null,null,null,null,null,null,null,null,null,null,null,null,null,null,null,null,null,null,null,null,null,null,null,null,null,null,null,null,null,null,null,null,null,null,null,null,null,1.5,9,3.4146300628392243,24,6.7807466860522121,12,9.2191001054656336,14,8.5112950140337027,16,7.9893122721746455,14,8.5112950140337027,16,7.9893122721746455,14,8.5112950140337027,16,7.9893122721746455,14,8.5112950140337027]
[null,null,null,null,null,null,null,null,null,null,null,null,null,null,null,null,null,null,null,null,null,null,null,null,null,null,null,null,null,null,null,null,null,null,null,null,null,null,null,null,null,null,null,null,null,null,null,null,null,null,null,null,null,null,null,null,null,null,null,null,null,null,null,1.6,8,3.001139703667286,22,6.1534979798693517,12,8.1027247020694038,14,7.4806303834280614,14,7.4806303834280614,14,7.4806303834280614,14,7.4806303834280614,14,7.4806303834280614,14,7.4806303834280614,14,7.4806303834280614]
[null,null,null,null,null,null,null,null,null,null,null,null,null,null,null,null,null,null,null,null,null,null,null,null,null,null,null,null,null,null,null,null,null,null,null,null,null,null,null,null,null,null,null,null,null,null,null,null,null,null,null,null,null,null,null,null,null,null,null,null,null,null,null,1.7,8,3,22,5.4508494216143761,10,7.9740284427167154,12,7.1775000821099217,14,6.626440754870532,12,7.1775000821099217,14,6.626440754870532,12,7.1775000821099217,14,6.626440754870532,12,7.1775000821099217]
[null,null,null,null,null,null,null,null,null,null,null,null,null,null,null,null,null,null,null,null,null,null,null,null,null,null,null,null,null,null,null,null,null,null,null,null,null,null,null,null,null,null,null,null,null,null,null,null,null,null,null,null,null,null,null,null,null,null,null,null,null,null,null,1.8,7,3,22,4.8620230952054149,8,8.2432824089737178,10,7.1126364813121326,12,6.4021528510177994,12,6.4021528510177994,12,6.4021528510177994,12,6.4021528510177994,12,6.4021528510177994,12,6.4021528510177994]
[null,null,null,null,null,null,null,null,null,null,null,null,null,null,null,null,null,null,null,null,null,null,null,null,null,null,null,null,null,null,null,null,null,null,null,null,null,null,null,null,null,null,null,null,null,null,null,null,null,null,null,null,null,null,null,null,null,null,null,null,null,null,null,1.9,7,3,22,4.3636993984669097,8,7.3984030484971885,10,6.3836404984629667,12,5.7459765200270594,10,6.3836404984629667,12,5.7459765200270594,10,6.3836404984629667,12,5.7459765200270594,10,6.3836404984629667]
[null,null,null,null,null,null,null,null,null,null,null,null,null,null,null,null,null,null,null,null,null,null,null,null,null,null,null,null,null,null,null,null,null,null,null,null,null,null,null,null,null,null,null,null,null,null,null,null,null,null,null,null,null,null,null,null,null,null,null,null,null,null,null,2,6,3,22,3.9382387071163865,6,8.3882630221961438,8,6.6770587512687127,10,5.7612355498628265,10,5.7612355498628265,10,5.7612355498628265,10,5.7612355498628265,10,5.7612355498628265,10,5.7612355498628265]
[null,null,null,null,null,null,null,null,null,null,null,null,null,null,null,null,null,null,null,null,null,null,null,null,null,null,null,null,null,null,null,null,null,null,null,null,null,null,null,null,null,null,null,null,null,null,null,null,null,null,null,null,null,null,null,null,null,null,null,null,null,null,null,{"$f":"AW94","v":0.2},225,192.0729410347063,480,223.21101586040447,446,224.47166224463936,448,224.39334048712627,448,224.39334048712627,448,224.39334048712627,448,224.39334048712627,448,224.39334048712627,448,224.39334048712627,448,224.39334048712627]

{"sheet":"Precision paired","index":11,"n_rows":200,"n_cols":64,"rows_kept":200,"cut":false,"hidden":false,"merged":[]}
[null,null,null,null,null,null,null,null,null,95,{"$f":"AB77","v":95},"C"]
[null,null,null,null,null,null,null,null,null,0.5,{"$f":"V105","v":0.5},"d"]
[null,null,null,null,null,null,null,null,null,0.7,{"$f":"AC79","v":0.7},"rho"]
[null,null,null,null,null,null,null,null,null,0.3,{"$f":"AB105","v":0.3},"targ av MOE",null,null,"OKfour",{"$f":"AND(K1=J1,K2=J2,K3=J3,K4=J4,K5=J5)","v":true}]
[null,null,null,null,null,null,null,null,null,1,{"$f":"W147","v":1},"d or dunb"]
["To calculate N for d",null,null,0,1,2,3,4,5,6,7,8,9,10,11,12,13]
[null,null,"Max","Done?","Index","N","ncp","av MOE","d at LL","d at UL","ncpL","ncpU","tailprobL","tailprobU","tbzL","tbzU","J"]
[null,"Start",219,"topleft",1,{"$f":"MIN(MAX(ROUNDUP(($W$136)*(V143/AB105)^2+$V$105,0),8),210)","v":27},{"$f":"$V$105*SQRT(F8)/SQRT($W$136)","v":3.3541019662496847},{"$f":"(1/SQRT(F8))*TINV(1-$AB$77/100,F8-1)*SQRT($W$136)","v":0.30642023396489559},{"$f":"$V$105-H8","v":0.19357976603510441},{"$f":"$V$105+H8","v":0.80642023396489559},{"$f":"I8*SQRT(F8)/SQRT($W$136)","v":1.2985725477689951},{"$f":"J8*SQRT(F8)/SQRT($W$136)","v":5.4096313847303739},null,0.29561660341251195,32,"Wait:",true]
[{"$f":"E9","v":0},1,{"$f":"MIN(9,3*ROUNDUP($V$105+0.01,0))","v":3},false,0,{"$f":"MAX(F8+C9,3)","v":30},{"$f":"$V$105*SQRT(F9)/(SQRT($W$136)*IF($W$146,Q9,1))","v":3.5355339059327378},{"$f":"(J9-I9)/2","v":0.30535366248826651},{"$f":"IF($W$146,Q9,1)*K9*SQRT($W$136)/SQRT(F9)","v":0.19108686437095881},{"$f":"IF($W$146,Q9,1)*L9*SQRT($W$136)/SQRT(F9)","v":0.8017941893474918},1.3511881759237907,5.6695410840358216,{"$f":"IF($Q$8,NA(),1-nct(G9,K9,F9-1))","v":{"$error":"#N/A"}},{"$f":"IF($Q$8,NA(),nct(G9,L9,F9-1))","v":{"$error":"#N/A"}},{"$f":"10000000*(M9-$V$145)","v":{"$error":"#N/A"}},{"$f":"10000000*(N9-$V$145)","v":{"$error":"#N/A"}},{"$f":"IF($Q$8,NA(),EXP(GAMMALN((F9-1)/2))/(SQRT((F9-1)/2)*EXP(GAMMALN((F9-1)/2-0.5))))","v":{"$error":"#N/A"}}]
[0,2,{"$f":"IF(H9>$AB$105,C9,-2)","v":3},false,0,{"$f":"MAX(F9+C10,3)","v":33},3.7080992435478315,0.29108486621901258,{"$f":"IF($W$146,Q10,1)*K10*SQRT($W$136)/SQRT(F10)","v":0.20568532426623376},{"$f":"IF($W$146,Q10,1)*L10*SQRT($W$136)/SQRT(F10)","v":0.78785505670425893},1.5254031906410237,5.8428894795807924,{"$error":"#N/A"},{"$error":"#N/A"},{"$error":"#N/A"},{"$error":"#N/A"},{"$error":"#N/A"}]
[0,3,{"$f":"IF(H10>$AB$105,IF(C10<0,1,2*C10),-2)","v":-2},false,0,31,3.5939764421413036,0.30036682197735115,0.19619082182337511,0.79692446577807741,1.4102103835951043,5.7282555123449077,{"$error":"#N/A"},{"$error":"#N/A"},{"$error":"#N/A"},{"$error":"#N/A"},{"$error":"#N/A"}]
[0,4,{"$f":"IF(H11>$AB$105,IF(C11<0,1,C11),IF(C11=1,-1,-2))","v":1},{"$f":"OR(AND(F12=3,F11=3),AND(F12>F11,F12=F10))","v":false},0,32,3.6514837167011076,0.29561660341251189,0.20105069814686879,0.79228390497189261,1.4682667010293617,5.786023556018467,{"$error":"#N/A"},{"$error":"#N/A"},{"$error":"#N/A"},{"$error":"#N/A"},{"$error":"#N/A"}]
[0,5,-1,{"$f":"OR(AND(F13=3,F12=3),AND(F13>F12,F13=F11))","v":false},0,31,3.5939764421413036,0.30036682203704351,0.19619082182496428,0.7969244658990513,1.410210383606527,5.7282555132144628,{"$error":"#N/A"},{"$error":"#N/A"},{"$error":"#N/A"},{"$error":"#N/A"},{"$error":"#N/A"}]
[1,6,1,true,1,32,3.6514837167011076,0.29561660341251195,0.20105069814686879,0.79228390497189272,1.4682667010293617,5.7860235560184679,{"$error":"#N/A"},{"$error":"#N/A"},{"$error":"#N/A"},{"$error":"#N/A"},{"$error":"#N/A"}]
[0,7,-1,false,null,31,3.5939764421413036,0.30034676941403182,0.20426771358503443,0.80496125241309802,1.4682667010293617,5.7860235560184679,{"$error":"#N/A"},{"$error":"#N/A"},{"$error":"#N/A"},{"$error":"#N/A"},{"$error":"#N/A"}]
[0,8,1,true,null,32,3.6514837167011076,0,0,0,null,null,{"$error":"#N/A"},{"$error":"#N/A"},{"$error":"#N/A"},{"$error":"#N/A"},{"$error":"#N/A"}]
[0,9,-1,false,null,31,3.5939764421413036,0,0,0,null,null,{"$error":"#N/A"},{"$error":"#N/A"},{"$error":"#N/A"},{"$error":"#N/A"},{"$error":"#N/A"}]
[0,10,-2,false,null,29,3.4761089357690347,0,0,0,null,null,{"$error":"#N/A"},{"$error":"#N/A"},{"$error":"#N/A"},{"$error":"#N/A"},{"$error":"#N/A"}]
[0,11,-2,false,null,27,3.3541019662496847,0,0,0,null,null,{"$error":"#N/A"},{"$error":"#N/A"},{"$error":"#N/A"},{"$error":"#N/A"},{"$error":"#N/A"}]
[0,12,-2,false,null,25,3.2274861218395139,0,0,0,null,null,{"$error":"#N/A"},{"$error":"#N/A"},{"$error":"#N/A"},{"$error":"#N/A"},{"$error":"#N/A"}]
[0,13,-2,false,null,23,3.0956959368344514,0,0,0,null,null,{"$error":"#N/A"},{"$error":"#N/A"},{"$error":"#N/A"},{"$error":"#N/A"},{"$error":"#N/A"}]
[0,14,-2,false,null,21,2.9580398915498076,0,0,0,null,null,{"$error":"#N/A"},{"$error":"#N/A"},{"$error":"#N/A"},{"$error":"#N/A"},{"$error":"#N/A"}]
[0,15,-2,false,null,19,2.8136571693556887,0,0,0,null,null,{"$error":"#N/A"},{"$error":"#N/A"},{"$error":"#N/A"},{"$error":"#N/A"},{"$error":"#N/A"}]
[0,16,-2,false,null,17,2.6614532371118851,0,0,0,null,null,{"$error":"#N/A"},{"$error":"#N/A"},{"$error":"#N/A"},{"$error":"#N/A"},{"$error":"#N/A"}]
[0,17,-2,false,null,15,2.5,0,0,0,null,null,{"$error":"#N/A"},{"$error":"#N/A"},{"$error":"#N/A"},{"$error":"#N/A"},{"$error":"#N/A"}]
[0,18,-2,false,null,13,2.3273733406281565,0,0,0,null,null,{"$error":"#N/A"},{"$error":"#N/A"},{"$error":"#N/A"},{"$error":"#N/A"},{"$error":"#N/A"}]
[0,19,-2,false,null,11,2.1408720964441881,0,0,0,null,null,{"$error":"#N/A"},{"$error":"#N/A"},{"$error":"#N/A"},{"$error":"#N/A"},{"$error":"#N/A"}]
[0,20,-2,false,null,9,1.9364916731037083,0,0,0,null,null,{"$error":"#N/A"},{"$error":"#N/A"},{"$error":"#N/A"},{"$error":"#N/A"},{"$error":"#N/A"}]
[0,21,-2,false,null,7,1.707825127659933,0,0,0,null,null,{"$error":"#N/A"},{"$error":"#N/A"},{"$error":"#N/A"},{"$error":"#N/A"},{"$error":"#N/A"}]
[0,22,-2,false,null,5,1.4433756729740643,0,0,0,null,null,{"$error":"#N/A"},{"$error":"#N/A"},{"$error":"#N/A"},{"$error":"#N/A"},{"$error":"#N/A"}]
[0,23,-2,false,null,3,1.1180339887498947,0,0,0,null,null,{"$error":"#N/A"},{"$error":"#N/A"},{"$error":"#N/A"},{"$error":"#N/A"},{"$error":"#N/A"}]
[0,24,-2,true,null,3,1.1180339887498947,0,0,0,null,null,{"$error":"#N/A"},{"$error":"#N/A"},{"$error":"#N/A"},{"$error":"#N/A"},{"$error":"#N/A"}]
[0,25,-2,true,null,3,1.1180339887498947,0,0,0,null,null,{"$error":"#N/A"},{"$error":"#N/A"},{"$error":"#N/A"},{"$error":"#N/A"},{"$error":"#N/A"}]
[0,26,-2,true,null,3,1.1180339887498947,0,0,0,null,null,{"$error":"#N/A"},{"$error":"#N/A"},{"$error":"#N/A"},{"$error":"#N/A"},{"$error":"#N/A"}]
[0,27,-2,true,null,3,1.1180339887498947,0,0,0,null,null,{"$error":"#N/A"},{"$error":"#N/A"},{"$error":"#N/A"},{"$error":"#N/A"},{"$error":"#N/A"}]
[0,28,-2,true,null,3,1.1180339887498947,0,0,0,null,null,{"$error":"#N/A"},{"$error":"#N/A"},{"$error":"#N/A"},{"$error":"#N/A"},{"$error":"#N/A"}]
[0,29,-2,true,null,3,1.1180339887498947,0,0,0,null,null,{"$error":"#N/A"},{"$error":"#N/A"},{"$error":"#N/A"},{"$error":"#N/A"},{"$error":"#N/A"}]
[0,30,-2,true,null,3,1.1180339887498947,0,0,0,null,null,{"$error":"#N/A"},{"$error":"#N/A"},{"$error":"#N/A"},{"$error":"#N/A"},{"$error":"#N/A"}]
[0,31,-2,true,null,3,1.1180339887498947,0,0,0,null,null,{"$error":"#N/A"},{"$error":"#N/A"},{"$error":"#N/A"},{"$error":"#N/A"},{"$error":"#N/A"}]
[0,32,-2,true,null,3,1.1180339887498947,0,0,0,null,null,{"$error":"#N/A"},{"$error":"#N/A"},{"$error":"#N/A"},{"$error":"#N/A"},{"$error":"#N/A"}]
[{"$f":"E41","v":0},33,-2,true,null,3,{"$f":"$V$105*SQRT(F41)/(SQRT($W$136)*IF($W$146,Q41,1))","v":1.1180339887498947},{"$f":"(J41-I41)/2","v":0},0,0,null,null,{"$f":"IF($Q$8,NA(),1-nct(G41,K41,F41-1))","v":{"$error":"#N/A"}},{"$f":"IF($Q$8,NA(),nct(G41,L41,F41-1))","v":{"$error":"#N/A"}},{"$f":"10000000*(M41-$V$145)","v":{"$error":"#N/A"}},{"$f":"10000000*(N41-$V$145)","v":{"$error":"#N/A"}},{"$f":"IF($Q$8,NA(),EXP(GAMMALN((F41-1)/2))/(SQRT((F41-1)/2)*EXP(GAMMALN((F41-1)/2-0.5))))","v":{"$error":"#N/A"}}]
[0,34,-2,true,null,3,1.1180339887498947,0,0,0,null,null,{"$error":"#N/A"},{"$error":"#N/A"},{"$error":"#N/A"},{"$error":"#N/A"},{"$error":"#N/A"}]
[0,35,-2,true,null,3,1.1180339887498947,0,0,0,null,null,{"$error":"#N/A"},{"$error":"#N/A"},{"$error":"#N/A"},{"$error":"#N/A"},{"$error":"#N/A"}]
[0,36,{"$f":"IF(H43>$AB$105,IF(C43<0,1,C43),IF(C43=1,-1,-2))","v":-2},true,null,3,1.1180339887498947,0,0,0,null,null,{"$error":"#N/A"},{"$error":"#N/A"},{"$error":"#N/A"},{"$error":"#N/A"},{"$error":"#N/A"}]
[0,37,-2,true,null,3,1.1180339887498947,0,0,0,null,null,{"$error":"#N/A"},{"$error":"#N/A"},{"$error":"#N/A"},{"$error":"#N/A"},{"$error":"#N/A"}]
[0,38,-2,true,null,3,1.1180339887498947,0,0,0,null,null,{"$error":"#N/A"},{"$error":"#N/A"},{"$error":"#N/A"},{"$error":"#N/A"},{"$error":"#N/A"}]
[0,39,-2,true,null,3,1.1180339887498947,0,0,0,null,null,{"$error":"#N/A"},{"$error":"#N/A"},{"$error":"#N/A"},{"$error":"#N/A"},{"$error":"#N/A"}]
[0,40,-2,true,null,3,1.1180339887498947,0,0,0,null,null,{"$error":"#N/A"},{"$error":"#N/A"},{"$error":"#N/A"},{"$error":"#N/A"},{"$error":"#N/A"}]
[0,41,-2,true,null,3,1.1180339887498947,0,0,0,null,null,{"$error":"#N/A"},{"$error":"#N/A"},{"$error":"#N/A"},{"$error":"#N/A"},{"$error":"#N/A"}]
[0,42,-2,true,null,3,1.1180339887498947,0,0,0,null,null,{"$error":"#N/A"},{"$error":"#N/A"},{"$error":"#N/A"},{"$error":"#N/A"},{"$error":"#N/A"}]
[0,43,-2,true,null,3,1.1180339887498947,0,0,0,null,null,{"$error":"#N/A"},{"$error":"#N/A"},{"$error":"#N/A"},{"$error":"#N/A"},{"$error":"#N/A"}]
[0,44,-2,true,null,3,1.1180339887498947,0,0,0,null,null,{"$error":"#N/A"},{"$error":"#N/A"},{"$error":"#N/A"},{"$error":"#N/A"},{"$error":"#N/A"}]
[0,45,-2,true,null,3,1.1180339887498947,0,0,0,null,null,{"$error":"#N/A"},{"$error":"#N/A"},{"$error":"#N/A"},{"$error":"#N/A"},{"$error":"#N/A"}]
[0,46,-2,true,null,3,1.1180339887498947,0,0,0,null,null,{"$error":"#N/A"},{"$error":"#N/A"},{"$error":"#N/A"},{"$error":"#N/A"},{"$error":"#N/A"}]
[0,47,-2,true,null,3,1.1180339887498947,0,0,0,null,null,{"$error":"#N/A"},{"$error":"#N/A"},{"$error":"#N/A"},{"$error":"#N/A"},{"$error":"#N/A"}]
[0,48,-2,true,null,3,1.1180339887498947,0,0,0,null,null,{"$error":"#N/A"},{"$error":"#N/A"},{"$error":"#N/A"},{"$error":"#N/A"},{"$error":"#N/A"}]
[0,49,-2,true,null,3,1.1180339887498947,0,0,0,null,null,{"$error":"#N/A"},{"$error":"#N/A"},{"$error":"#N/A"},{"$error":"#N/A"},{"$error":"#N/A"}]
[0,50,-2,true,null,3,1.1180339887498947,0,0,0,null,null,{"$error":"#N/A"},{"$error":"#N/A"},{"$error":"#N/A"},{"$error":"#N/A"},{"$error":"#N/A"}]
[0,51,-2,true,null,3,1.1180339887498947,0,0,0,null,null,{"$error":"#N/A"},{"$error":"#N/A"},{"$error":"#N/A"},{"$error":"#N/A"},{"$error":"#N/A"}]
[0,52,-2,true,null,3,1.1180339887498947,0,0,0,null,null,{"$error":"#N/A"},{"$error":"#N/A"},{"$error":"#N/A"},{"$error":"#N/A"},{"$error":"#N/A"}]
[0,53,-2,true,null,3,1.1180339887498947,0,0,0,null,null,{"$error":"#N/A"},{"$error":"#N/A"},{"$error":"#N/A"},{"$error":"#N/A"},{"$error":"#N/A"}]
[0,54,-2,true,null,3,1.1180339887498947,0,0,0,null,null,{"$error":"#N/A"},{"$error":"#N/A"},{"$error":"#N/A"},{"$error":"#N/A"},{"$error":"#N/A"}]
[0,55,-2,true,null,3,1.1180339887498947,0,0,0,null,null,{"$error":"#N/A"},{"$error":"#N/A"},{"$error":"#N/A"},{"$error":"#N/A"},{"$error":"#N/A"}]
[0,56,-2,true,null,3,1.1180339887498947,0,0,0,null,null,{"$error":"#N/A"},{"$error":"#N/A"},{"$error":"#N/A"},{"$error":"#N/A"},{"$error":"#N/A"}]
[0,57,-2,true,null,3,1.1180339887498947,0,0,0,null,null,{"$error":"#N/A"},{"$error":"#N/A"},{"$error":"#N/A"},{"$error":"#N/A"},{"$error":"#N/A"}]
[0,58,-2,true,null,3,1.1180339887498947,0,0,0,null,null,{"$error":"#N/A"},{"$error":"#N/A"},{"$error":"#N/A"},{"$error":"#N/A"},{"$error":"#N/A"}]
[0,59,-2,true,null,3,1.1180339887498947,0,0,0,null,null,{"$error":"#N/A"},{"$error":"#N/A"},{"$error":"#N/A"},{"$error":"#N/A"},{"$error":"#N/A"}]
[0,60,-2,true,null,3,1.1180339887498947,0,0,0,null,null,{"$error":"#N/A"},{"$error":"#N/A"},{"$error":"#N/A"},{"$error":"#N/A"},{"$error":"#N/A"}]
[0,61,-2,true,null,3,1.1180339887498947,0,0,0,null,null,{"$error":"#N/A"},{"$error":"#N/A"},{"$error":"#N/A"},{"$error":"#N/A"},{"$error":"#N/A"}]
[0,62,-2,true,null,3,1.1180339887498947,0,0,0,null,null,{"$error":"#N/A"},{"$error":"#N/A"},{"$error":"#N/A"},{"$error":"#N/A"},{"$error":"#N/A"}]
[0,63,-2,true,null,3,1.1180339887498947,0,0,0,null,null,{"$error":"#N/A"},{"$error":"#N/A"},{"$error":"#N/A"},{"$error":"#N/A"},{"$error":"#N/A"}]
[0,64,-2,true,null,3,1.1180339887498947,0,0,0,null,null,{"$error":"#N/A"},{"$error":"#N/A"},{"$error":"#N/A"},{"$error":"#N/A"},{"$error":"#N/A"},null,null,null,null,"     Precision, paired data",null,null,null,null,null,null,null,null,null,{"$f":"($V$140+$V$144+$V$138+$V$141+$W$95+$W$97+$V$105+$AB$105+$V$136)/1000000","v":2.9480000000000001E-4},{"$f":"$AF$72","v":2.9480000000000001E-4},2.9480000000000001E-4,2.9480000000000001E-4,2.9480000000000001E-4,2.9480000000000001E-4,2.9480000000000001E-4,2.9480000000000001E-4,2.9480000000000001E-4,2.9480000000000001E-4,2.9480000000000001E-4,2.9480000000000001E-4,2.9480000000000001E-4,2.9480000000000001E-4,2.9480000000000001E-4,2.9480000000000001E-4]
[{"$f":"E73","v":0},65,-2,true,null,3,{"$f":"$V$105*SQRT(F73)/(SQRT($W$136)*IF($W$146,Q73,1))","v":1.1180339887498947},{"$f":"(J73-I73)/2","v":0},0,0,null,null,{"$f":"IF($Q$8,NA(),1-nct(G73,K73,F73-1))","v":{"$error":"#N/A"}},{"$f":"IF($Q$8,NA(),nct(G73,L73,F73-1))","v":{"$error":"#N/A"}},{"$f":"10000000*(M73-$V$145)","v":{"$error":"#N/A"}},{"$f":"10000000*(N73-$V$145)","v":{"$error":"#N/A"}},{"$f":"IF($Q$8,NA(),EXP(GAMMALN((F73-1)/2))/(SQRT((F73-1)/2)*EXP(GAMMALN((F73-1)/2-0.5))))","v":{"$error":"#N/A"}},null,null,null,null,"       N is the number of data pairs.",null,null,null,null,null,null,null,null,null,{"$f":"$AF$72","v":2.9480000000000001E-4},null,null,null,null,null,null,null,null,null,null,null,null,null,null,{"$f":"$AF$72","v":2.9480000000000001E-4}]
[0,66,-2,true,null,{"$f":"MAX(F73+C74,3)","v":3},1.1180339887498947,0,{"$f":"IF($W$146,Q74,1)*K74*SQRT($W$136)/SQRT(F74)","v":0},{"$f":"IF($W$146,Q74,1)*L74*SQRT($W$136)/SQRT(F74)","v":0},null,null,{"$error":"#N/A"},{"$error":"#N/A"},{"$error":"#N/A"},{"$error":"#N/A"},{"$error":"#N/A"},null,null,null,null,"       Find N required for target MOE, using z or t",null,null,null,null,null,null,null,null,null,2.9480000000000001E-4,null,null,null,null,null,null,null,null,null,null,null,null,null,null,2.9480000000000001E-4]
[0,67,-2,true,null,3,1.1180339887498947,0,0,0,null,null,{"$error":"#N/A"},{"$error":"#N/A"},{"$error":"#N/A"},{"$error":"#N/A"},{"$error":"#N/A"},null,null,null,null,"       Find N for chosen assurance, g.  Find N when using d.",null,null,null,null,null,null,null,null,null,2.9480000000000001E-4,null,null,null,null,null,null,null,null,null,null,null,null,null,null,2.9480000000000001E-4]
[0,68,{"$f":"IF(H75>$AB$105,IF(C75<0,1,C75),IF(C75=1,-1,-2))","v":-2},true,null,3,1.1180339887498947,0,0,0,null,null,{"$error":"#N/A"},{"$error":"#N/A"},{"$error":"#N/A"},{"$error":"#N/A"},{"$error":"#N/A"},null,1,"Sample size figure",null,null,null,null,null,null,null,"Level of confidence",null,null,null,2.9480000000000001E-4,null,null,null,null,null,null,null,null,null,null,null,null,null,null,2.9480000000000001E-4]
[0,69,-2,{"$f":"OR(AND(F77=3,F76=3),AND(F77>F76,F77=F75))","v":true},null,3,1.1180339887498947,0,0,0,null,null,{"$error":"#N/A"},{"$error":"#N/A"},{"$error":"#N/A"},{"$error":"#N/A"},{"$error":"#N/A"},null,null,"Display N curves",null,null,null,null,null,null,"C. ",{"$f":"V140","v":95},null,null,null,2.9480000000000001E-4,null,null,null,null,null,null,null,null,null,null,null,null,null,null,2.9480000000000001E-4]
[0,70,-2,true,null,3,1.1180339887498947,0,0,0,null,null,{"$error":"#N/A"},{"$error":"#N/A"},{"$error":"#N/A"},{"$error":"#N/A"},{"$error":"#N/A"},null,null,null,"Using z",null,null,null,null,null,null,null,null,null,null,2.9480000000000001E-4,null,null,null,null,null,null,null,null,null,null,null,null,null,null,2.9480000000000001E-4]
[0,71,-2,true,null,3,1.1180339887498947,0,0,0,null,null,{"$error":"#N/A"},{"$error":"#N/A"},{"$error":"#N/A"},{"$error":"#N/A"},{"$error":"#N/A"},null,null,null,null,"    Display values",null,null,null,null,null,"Correlation r. ",{"$f":"IF(V136<16,(V136-10)/10,(V136+35)/100)","v":0.7},null,null,2.9480000000000001E-4,null,null,null,null,null,null,null,null,null,null,null,null,null,null,2.9480000000000001E-4]
[0,72,-2,true,null,3,1.1180339887498947,0,0,0,null,null,{"$error":"#N/A"},{"$error":"#N/A"},{"$error":"#N/A"},{"$error":"#N/A"},{"$error":"#N/A"},null,null,null,"Using t",null,null,null,null,null,null,null,null,null,null,2.9480000000000001E-4,null,null,null,null,null,null,null,null,null,null,null,null,null,null,2.9480000000000001E-4]
[0,73,-2,true,null,3,1.1180339887498947,0,0,0,null,null,{"$error":"#N/A"},{"$error":"#N/A"},{"$error":"#N/A"},{"$error":"#N/A"},{"$error":"#N/A"},null,null,null,null,"    Display values",null,null,null,null,null,null,null,null,null,2.9480000000000001E-4,null,null,null,null,null,null,null,null,null,null,null,null,null,null,2.9480000000000001E-4]
[0,74,-2,true,null,3,1.1180339887498947,0,0,0,null,null,{"$error":"#N/A"},{"$error":"#N/A"},{"$error":"#N/A"},{"$error":"#N/A"},{"$error":"#N/A"},null,null,null,null,null,null,null,null,null,null,"Truncate display at: f.",{"$f":"VLOOKUP(V144,AI138:AJ166,2)","v":0.4},null,null,2.9480000000000001E-4,null,null,null,null,null,null,null,null,null,null,null,null,null,null,2.9480000000000001E-4]
[0,75,-2,true,null,3,1.1180339887498947,0,0,0,null,null,{"$error":"#N/A"},{"$error":"#N/A"},{"$error":"#N/A"},{"$error":"#N/A"},{"$error":"#N/A"},null,null,null,null,null,null,null,null,null,null,null,null,null,null,2.9480000000000001E-4,null,null,null,null,null,null,null,null,null,null,null,null,null,null,2.9480000000000001E-4]
[0,76,-2,true,null,3,1.1180339887498947,0,0,0,null,null,{"$error":"#N/A"},{"$error":"#N/A"},{"$error":"#N/A"},{"$error":"#N/A"},{"$error":"#N/A"},null,null,null,null,null,null,null,null,null,null,null,null,null,null,2.9480000000000001E-4,null,null,null,null,null,null,null,null,null,null,null,null,null,null,2.9480000000000001E-4]
[0,77,-2,true,null,3,1.1180339887498947,0,0,0,null,null,{"$error":"#N/A"},{"$error":"#N/A"},{"$error":"#N/A"},{"$error":"#N/A"},{"$error":"#N/A"},null,2,"Assurance in figure",null,null,null,null,null,null,null,null,null,null,null,2.9480000000000001E-4,null,null,null,null,null,null,null,null,null,null,null,null,null,null,2.9480000000000001E-4]
[0,78,-2,true,null,3,1.1180339887498947,0,0,0,null,null,{"$error":"#N/A"},{"$error":"#N/A"},{"$error":"#N/A"},{"$error":"#N/A"},{"$error":"#N/A"},null,null,null,null,"Level of assurance",null,null,null," Display N curve for assurance",null,null,null,null,null,2.9480000000000001E-4,null,null,null,null,null,null,null,null,null,null,null,null,null,null,2.9480000000000001E-4]
[0,79,-2,true,null,3,1.1180339887498947,0,0,0,null,null,{"$error":"#N/A"},{"$error":"#N/A"},{"$error":"#N/A"},{"$error":"#N/A"},{"$error":"#N/A"},null,null,null,"g. ",{"$f":"V138","v":99},null,null,null,null,"   Display values",null,null,null,null,2.9480000000000001E-4,null,null,null,null,null,null,null,null,null,null,null,null,null,null,2.9480000000000001E-4]
[0,80,-2,true,null,3,1.1180339887498947,0,0,0,null,null,{"$error":"#N/A"},{"$error":"#N/A"},{"$error":"#N/A"},{"$error":"#N/A"},{"$error":"#N/A"},null,null,null,null,null,null,null,null,null,null,null,null,null,null,2.9480000000000001E-4,null,null,null,null,null,null,null,null,null,null,null,null,null,null,2.9480000000000001E-4]
[0,81,-2,true,null,3,1.1180339887498947,0,0,0,null,null,{"$error":"#N/A"},{"$error":"#N/A"},{"$error":"#N/A"},{"$error":"#N/A"},{"$error":"#N/A"},null,3,"Cursor for target MOE",null,null,null,null,null,null,null,null,null,null,null,2.9480000000000001E-4,null,null,null,null,null,null,null,null,null,null,null,null,null,null,2.9480000000000001E-4]
[0,82,-2,true,null,3,1.1180339887498947,0,0,0,null,null,{"$error":"#N/A"},{"$error":"#N/A"},{"$error":"#N/A"},{"$error":"#N/A"},{"$error":"#N/A"},null,null,null,"    Display MOE cursor",null,null,null,null,null,null,"Target MOE cursor: f.",{"$f":"IF($W$143,W148,\"\")","v":0.5},null,null,2.9480000000000001E-4,null,null,null,null,null,null,null,null,null,null,null,null,null,null,2.9480000000000001E-4]
[0,83,-2,true,null,3,1.1180339887498947,0,0,0,null,null,{"$error":"#N/A"},{"$error":"#N/A"},{"$error":"#N/A"},{"$error":"#N/A"},{"$error":"#N/A"},null,null,null,null,"          Display values",null,null,null,null,null,null,null,null,null,2.9480000000000001E-4,null,null,null,null,null,null,null,null,null,null,null,null,null,null,2.9480000000000001E-4]
[0,84,-2,true,null,3,1.1180339887498947,0,0,0,null,null,{"$error":"#N/A"},{"$error":"#N/A"},{"$error":"#N/A"},{"$error":"#N/A"},{"$error":"#N/A"},null,null,null,null,null,null,null,null,null,null,null,null,null,null,2.9480000000000001E-4,null,null,null,null,null,null,null,null,null,null,null,null,null,null,2.9480000000000001E-4]
[0,85,-2,true,null,3,1.1180339887498947,0,0,0,null,null,{"$error":"#N/A"},{"$error":"#N/A"},{"$error":"#N/A"},{"$error":"#N/A"},{"$error":"#N/A"},null,5,"Find N, for target MOE in original units",null,null,null,null,null,null,null,null,null,null,null,2.9480000000000001E-4,null,null,null,null,null,null,null,null,null,null,null,null,null,null,2.9480000000000001E-4]
[0,86,-2,true,null,3,1.1180339887498947,0,0,0,null,null,{"$error":"#N/A"},{"$error":"#N/A"},{"$error":"#N/A"},{"$error":"#N/A"},{"$error":"#N/A"},null,null,null,null,null,null,null,null,null,null,null,null,null,null,2.9480000000000001E-4,null,null,null,null,null,null,null,null,null,null,null,null,null,null,2.9480000000000001E-4]
[0,87,-2,true,null,3,1.1180339887498947,0,0,0,null,null,{"$error":"#N/A"},{"$error":"#N/A"},{"$error":"#N/A"},{"$error":"#N/A"},{"$error":"#N/A"},null,null,null,null,"Target MOE. ",8,null,null,null,null,"Target MOE in SD units: f.",{"$f":"IF(AND(W95/W97>=0.05,W95/W97<=2),W95/W97,\"\")","v":0.2},null,null,2.9480000000000001E-4,null,null,null,null,null,null,null,null,null,null,null,null,null,null,2.9480000000000001E-4]
[0,88,-2,true,null,3,1.1180339887498947,0,0,0,null,null,{"$error":"#N/A"},{"$error":"#N/A"},{"$error":"#N/A"},{"$error":"#N/A"},{"$error":"#N/A"},null,null,null,null,null,null,null,null,null,null,null,null,null,null,2.9480000000000001E-4,null,null,null,null,null,null,null,null,null,null,null,null,null,null,2.9480000000000001E-4]
[0,89,-2,true,null,3,1.1180339887498947,0,0,0,null,null,{"$error":"#N/A"},{"$error":"#N/A"},{"$error":"#N/A"},{"$error":"#N/A"},{"$error":"#N/A"},null,null,null,null,"Population s. ",40,null,null,"N.",{"$f":"IF(ISNUMBER($AC$95),MAX(ROUNDUP((V143/AC95)^2*$W$136,0),V139),\"\")","v":58},"Using z",null,null,null,2.9480000000000001E-4,null,null,null,null,null,null,null,null,null,null,null,null,null,null,2.9480000000000001E-4]
[0,90,-2,true,null,3,1.1180339887498947,0,0,0,null,null,{"$error":"#N/A"},{"$error":"#N/A"},{"$error":"#N/A"},{"$error":"#N/A"},{"$error":"#N/A"},null,null,null,null,null,null,null,null,"N.",{"$f":"IF(ISNUMBER($AC$95),AS167,\"\")","v":61},"Using t",null,null,null,2.9480000000000001E-4,null,null,null,null,null,null,null,null,null,null,null,null,null,null,2.9480000000000001E-4]
[0,91,-2,true,null,3,1.1180339887498947,0,0,0,null,null,{"$error":"#N/A"},{"$error":"#N/A"},{"$error":"#N/A"},{"$error":"#N/A"},{"$error":"#N/A"},null,null,null,"    Display crosses",null,null,null,null,null,"N.",{"$f":"IF(ISNUMBER($AC$95),AS200,\"\")","v":84},"with assurance",null,null,2.9480000000000001E-4,null,null,null,null,null,null,null,null,null,null,null,null,null,null,2.9480000000000001E-4]
[0,92,-2,true,null,3,1.1180339887498947,0,0,0,null,null,{"$error":"#N/A"},{"$error":"#N/A"},{"$error":"#N/A"},{"$error":"#N/A"},{"$error":"#N/A"},null,null,null,null,null,null,null,null,null,null,null,null,null,null,2.9480000000000001E-4,null,null,null,null,null,null,null,null,null,null,null,null,null,null,2.9480000000000001E-4]
[0,93,-2,true,null,3,1.1180339887498947,0,0,0,null,null,{"$error":"#N/A"},{"$error":"#N/A"},{"$error":"#N/A"},{"$error":"#N/A"},{"$error":"#N/A"},null,null,6,"Calculate N, for Cohen's d",null,null,null,null,null,null,null,null,null,null,2.9480000000000001E-4,null,null,null,null,null,null,null,null,null,null,null,null,null,null,2.9480000000000001E-4]
[0,94,-2,true,null,3,1.1180339887498947,0,0,0,null,null,{"$error":"#N/A"},{"$error":"#N/A"},{"$error":"#N/A"},{"$error":"#N/A"},{"$error":"#N/A"},null,null,null,"C = 95 must be set near 1 above",null,null,null,null,null,null,null,null,null,null,2.9480000000000001E-4,null,null,null,null,null,null,null,null,null,null,null,null,null,null,2.9480000000000001E-4]
[0,95,-2,true,null,3,1.1180339887498947,0,0,0,null,null,{"$error":"#N/A"},{"$error":"#N/A"},{"$error":"#N/A"},{"$error":"#N/A"},{"$error":"#N/A"},null,null,null,null,null,null,null,null,null,null,null,null,null,null,2.9480000000000001E-4,null,null,null,null,null,null,null,null,null,null,null,null,null,null,2.9480000000000001E-4]
[0,96,-2,true,null,3,1.1180339887498947,0,0,0,null,null,{"$error":"#N/A"},{"$error":"#N/A"},{"$error":"#N/A"},{"$error":"#N/A"},{"$error":"#N/A"},null,null,null,null,"Planning ES ",null,null,null,null,null,null,null,null,null,2.9480000000000001E-4,null,null,null,null,null,null,null,null,null,null,null,null,null,null,2.9480000000000001E-4]
[0,97,-2,true,null,3,{"$f":"$V$105*SQRT(F105)/(SQRT($W$136)*IF($W$146,Q105,1))","v":1.1180339887498947},{"$f":"(J105-I105)/2","v":0},0,0,null,null,{"$error":"#N/A"},{"$error":"#N/A"},{"$error":"#N/A"},{"$error":"#N/A"},{"$error":"#N/A"},null,null,null,"d ",{"$f":"V146/10","v":0.5},null,null,null,null,"Target av. MOE ",{"$f":"V147/100","v":0.3},null,null,null,2.9480000000000001E-4,null,null,null,null,null,null,null,null,null,null,null,null,null,null,2.9480000000000001E-4]
[0,98,-2,true,null,3,{"$f":"$V$105*SQRT(F106)/(SQRT($W$136)*IF($W$146,Q106,1))","v":1.1180339887498947},{"$f":"(J106-I106)/2","v":0},0,0,null,null,{"$error":"#N/A"},{"$error":"#N/A"},{"$error":"#N/A"},{"$error":"#N/A"},{"$error":"#N/A"},null,null,null,null,null,null,null,null,null,null,null,null,null,null,2.9480000000000001E-4,null,null,null,null,null,null,null,null,null,null,null,null,null,null,2.9480000000000001E-4]
[0,99,-2,true,null,3,{"$f":"$V$105*SQRT(F107)/(SQRT($W$136)*IF($W$146,Q107,1))","v":1.1180339887498947},{"$f":"(J107-I107)/2","v":0},0,0,null,null,{"$error":"#N/A"},{"$error":"#N/A"},{"$error":"#N/A"},{"$error":"#N/A"},{"$error":"#N/A"},null,null,null,null,null,null,null,null,"av. MOE ",null,null,"          steps",null,null,2.9480000000000001E-4,null,null,null,null,null,null,null,null,null,null,null,null,null,null,2.9480000000000001E-4]
[0,100,-2,true,null,3,{"$f":"$V$105*SQRT(F108)/(SQRT($W$136)*IF($W$146,Q108,1))","v":1.1180339887498947},{"$f":"(J108-I108)/2","v":0},0,0,null,null,{"$error":"#N/A"},{"$error":"#N/A"},{"$error":"#N/A"},{"$error":"#N/A"},{"$error":"#N/A"},null,null,null,null,null,null,null,null,{"$f":"IF($P$4,IF($E$8>=2,\"No\",IF(AND($E$8=1,N8=\"\"),\"No\",IF(E8=0,IF(ISNUMBER(VLOOKUP(1,E9:H108,4,FALSE)),VLOOKUP(1,E9:H108,4,FALSE),\"\"),N8))),\"\")","v":0.29561660341251195},"N ",{"$f":"IF($P$4,IF($E$8>=2,\"No\",IF(AND($E$8=1,O8=\"\"),\"No\",IF(E8=0,IF(ISNUMBER(VLOOKUP(1,E9:F108,2,FALSE)),VLOOKUP(1,E9:F108,2,FALSE),\"\"),O8))),\"\")","v":32},{"$f":"IF($P$4,IF(ISNUMBER(VLOOKUP(1,A9:B108,2,FALSE)),VLOOKUP(1,A9:B108,2,FALSE),\"\"),\"\")","v":6},null,null,2.9480000000000001E-4,null,null,null,null,null,null,null,null,null,null,null,null,null,null,2.9480000000000001E-4]
[null,null,null,null,null,null,null,null,null,null,null,null,null,null,null,null,null,null,null,null,null,null,null,null,null,null,null,null,null,null,null,2.9480000000000001E-4,null,null,null,null,null,null,null,null,null,null,null,null,null,null,2.9480000000000001E-4]
[null,null,null,null,null,null,null,null,null,null,null,null,null,null,null,null,null,null,null,null,"No calculations using assurance g are provided here for d"]
[null,null,null,null,null,null,null,null,null,null,null,null,null,null,null,null,null,null,null,null,null,null,null,null,null,null,null,null,null,null,null,4]
[]
[]
[]
[]
[]
[]
[]
[]
[]
[]
[]
[]
[]
[]
[]
[]
[]
[]
[]
[]
[]
[]
[]
[]
[null,null,null,null,null,null,null,null,null,null,null,null,null,null,null,null,null,null,null,null,"r slider",35,{"$f":"2*(1-AC79)","v":0.60000000000000009},"=2(1 - r)",null,null,null,null,null,null,null,null,null,null,"For display",{"$f":"IF(ISNUMBER(AM136),AM136,IF(ISNUMBER(AL136),AL136,IF(ISNUMBER(AK136),AK136,NA())))","v":17},{"$f":"VLOOKUP(V144,AI138:AM166,3)","v":15},{"$f":"VLOOKUP(V144,AI138:AM166,4)","v":17},{"$f":"VLOOKUP(V144,AI138:AM166,5)","v":{"$error":"#N/A"}}]
[null,null,null,null,null,null,null,null,null,null,null,null,null,null,null,null,null,null,null,null,"from g",{"$f":"1-$V$87/100","v":1.0000000000000009E-2},true,"display z series",null,null,null,null,null,null,null,null,null,null,"Index","Ratio","Nz","Nt","Ntg","Nz values","Nt values","Ntgvalues","NzRound","Ratio","Nt","Nz","df1","Nt1","df2","Nt2","df3","Nt3","df4","Nt4","df5","Nt5","df6","Nt6","df7","Nt7","df8","Nt8","df9","Nt9"]
[null,null,null,null,null,null,null,null,null,null,null,null,null,null,null,null,null,null,null,null,"for g",99,true,"display t series",null,null,null,null,null,null,null,null,null,null,1,{"$f":"IF(AI138>=$V$144,AR138,NA())","v":{"$error":"#N/A"}},{"$f":"IF(AND($W$137,AI138>=$V$144),AQ138,NA())","v":{"$error":"#N/A"}},{"$f":"IF(AND($W$138,AI138>=$V$144),AS138,NA())","v":{"$error":"#N/A"}},{"$f":"IF(AND($W$139,AI138>=$V$144),AS171,NA())","v":{"$error":"#N/A"}},{"$f":"IF(AND($W$137,$W$140,AI138>=$V$144),AQ138,NA())","v":{"$error":"#N/A"}},{"$f":"IF(AND($W$138,$W$141,AI138>=$V$144),AS138,NA())","v":{"$error":"#N/A"}},{"$f":"IF(AND($W$139,$W$142,AI138>=$V$144),AS171,NA())","v":{"$error":"#N/A"}},{"$f":"ROUNDUP(AT138,0)","v":231},0.1,{"$f":"1+MAX(BI138,BK138)","v":233},{"$f":"MAX(($V$143/AR138)^2*$W$136,$V$139)","v":230.48752924164759},{"$f":"ROUNDUP(AT138,0)-1","v":230},{"$f":"MAX((TINV(1-$AB$77/100,AU138)/$AR138)^2*$W$136,$V$139)","v":232.93242542508125},{"$f":"MAX(MIN(ROUNDUP(AV138,0)-1,AU138+1),AU138-1)","v":231},{"$f":"MAX((TINV(1-$AB$77/100,AW138)/$AR138)^2*$W$136,$V$139)","v":232.9217587573325},{"$f":"MAX(MIN(ROUNDUP(AX138,0)-1,AW138+1),AW138-1)","v":232},{"$f":"MAX((TINV(1-$AB$77/100,AY138)/$AR138)^2*$W$136,$V$139)","v":232.91118475676708},232,{"$f":"MAX((TINV(1-$AB$77/100,BA138)/$AR138)^2*$W$136,$V$139)","v":232.91118475676708},232,{"$f":"MAX((TINV(1-$AB$77/100,BC138)/$AR138)^2*$W$136,$V$139)","v":232.91118475676708},232,{"$f":"MAX((TINV(1-$AB$77/100,BE138)/$AR138)^2*$W$136,$V$139)","v":232.91118475676708},232,{"$f":"MAX((TINV(1-$AB$77/100,BG138)/$AR138)^2*$W$136,$V$139)","v":232.91118475676708},232,{"$f":"MAX((TINV(1-$AB$77/100,BI138)/$AR138)^2*$W$136,$V$139)","v":232.91118475676708},232,{"$f":"MAX((TINV(1-$AB$77/100,BK138)/$AR138)^2*$W$136,$V$139)","v":232.91118475676708}]
[null,null,null,null,null,null,null,null,null,null,null,null,null,null,null,null,null,null,null,null,"MinNz",3,false,"display t+gamma series",null,null,null,null,null,null,null,null,null,null,2,{"$error":"#N/A"},{"$error":"#N/A"},{"$error":"#N/A"},{"$error":"#N/A"},{"$error":"#N/A"},{"$error":"#N/A"},{"$error":"#N/A"},103,0.15,{"$f":"1+MAX(BI139,BK139)","v":105},{"$f":"MAX(($V$143/AR139)^2*$W$136,$V$139)","v":102.43890188517676},102,{"$f":"MAX((TINV(1-$AB$77/100,AU139)/$AR139)^2*$W$136,$V$139)","v":104.91341937847459},103,104.88897201353802,104,104.86500295013136,104,104.86500295013136,104,104.86500295013136,104,104.86500295013136,104,104.86500295013136,104,104.86500295013136,104,104.86500295013136]
[null,null,null,null,null,null,null,null,null,null,null,null,null,null,null,null,null,null,null,null,"for C",95,true,"display z values",null,null,null,null,null,null,null,null,null,null,3,{"$error":"#N/A"},{"$error":"#N/A"},{"$error":"#N/A"},{"$error":"#N/A"},{"$error":"#N/A"},{"$error":"#N/A"},{"$error":"#N/A"},58,0.2,61,57.621882310411898,57,60.148017810476183,58,60.1030923256519,59,60.059736531970131,60,60.017869590083393,60,60.017869590083393,60,60.017869590083393,60,60.017869590083393,60,60.017869590083393,60,60.017869590083393]
[null,null,null,null,null,null,null,null,null,null,null,null,null,null,null,null,null,null,null,null,"for MOE slider",10,true,"display t values",null,null,null,null,null,null,null,null,null,null,4,{"$error":"#N/A"},{"$error":"#N/A"},{"$error":"#N/A"},{"$error":"#N/A"},{"$error":"#N/A"},{"$error":"#N/A"},{"$error":"#N/A"},37,0.25,40,36.878004678663629,36,39.486386104550853,37,39.412376004117412,38,39.342447948060055,39,39.276273426886469,39,39.276273426886469,39,39.276273426886469,39,39.276273426886469,39,39.276273426886469,39,39.276273426886469]
[null,null,null,null,null,null,null,null,null,null,null,null,null,null,null,null,null,null,null,null,"alpha",{"$f":"1-$AB$77/100","v":5.0000000000000044E-2},false,"display t+gamma values",null,null,null,null,null,null,null,null,null,null,5,{"$error":"#N/A"},{"$error":"#N/A"},{"$error":"#N/A"},{"$error":"#N/A"},{"$error":"#N/A"},{"$error":"#N/A"},{"$error":"#N/A"},26,0.3,29,25.60972547129419,25,28.277993199084897,26,28.168007934930408,27,28.06672247922846,28,27.973144716010214,27,28.06672247922846,28,27.973144716010214,27,28.06672247922846,28,27.973144716010214,27,28.06672247922846]
[null,null,null,null,null,null,null,null,null,null,null,null,null,null,null,null,null,null,null,null,"z crit",{"$f":"ABS(NORMSINV(V142/2))","v":1.9599639845400545},true,"display MOE cursor",null,null,null,null,null,null,null,null,null,null,6,{"$error":"#N/A"},{"$error":"#N/A"},{"$error":"#N/A"},{"$error":"#N/A"},{"$error":"#N/A"},{"$error":"#N/A"},{"$error":"#N/A"},19,0.35,22,18.815308509522261,18,21.618971779439672,19,21.456733093571547,20,21.312212955534072,21,21.182663076175942,21,21.182663076175942,21,21.182663076175942,21,21.182663076175942,21,21.182663076175942,21,21.182663076175942]
[null,null,null,null,null,null,null,null,null,null,null,null,null,null,null,null,null,null,null,null,"for left limit",7,true,"display values with cursor",null,null,null,null,null,null,null,null,null,null,7,0.4,15,17,{"$error":"#N/A"},15,17,{"$error":"#N/A"},15,0.4,17,14.405470577602975,14,17.250412155768824,15,17.036539211749623,16,16.852494067725871,16,16.852494067725871,16,16.852494067725871,16,16.852494067725871,16,16.852494067725871,16,16.852494067725871,16,16.852494067725871]
[null,null,null,null,null,null,null,null,null,null,null,null,null,null,null,null,null,null,null,null,"targ tailpr",{"$f":"(100-$AB$77)/200","v":2.5000000000000001E-2},false,"display 3 calculated points",null,null,null,null,null,null,null,null,null,null,8,0.45,12,14,{"$error":"#N/A"},12,14,{"$error":"#N/A"},12,0.45,14,11.382100209464079,11,14.353587167152027,12,14.065852846871238,13,13.828719151461183,13,13.828719151461183,13,13.828719151461183,13,13.828719151461183,13,13.828719151461183,13,13.828719151461183,13,13.828719151461183]
[null,null,null,null,null,null,null,null,null,null,null,null,null,null,null,null,null,null,null,null,"for d",5,{"$f":"IF(W147=2,TRUE,FALSE)","v":false},"use unbiased d",null,null,null,null,null,null,null,null,null,null,9,0.5,10,12,{"$error":"#N/A"},10,12,{"$error":"#N/A"},10,0.5,12,9.2195011696659073,9,12.281652019862344,10,11.915046482704531,11,11.626405605393144,11,11.626405605393144,11,11.626405605393144,11,11.626405605393144,11,11.626405605393144,11,11.626405605393144,11,11.626405605393144]
[null,null,null,null,null,null,null,null,null,null,null,null,null,null,null,null,null,null,null,null,"for MOE",30,1,"1=biased d; 2=unbiased d",null,null,null,null,null,null,null,null,null,null,10,0.55000000000000004,8,11,{"$error":"#N/A"},8,11,{"$error":"#N/A"},8,0.55000000000000004,11,7.6194224542693432,7,11.090475070765537,8,10.547415000580383,9,10.150125636249872,10,9.8471458534748191,9,10.150125636249872,10,9.8471458534748191,9,10.150125636249872,10,9.8471458534748191,9,10.150125636249872]
[null,null,null,null,null,null,null,null,null,null,null,null,null,null,null,null,null,null,null,null,null,"Vert cursor",{"$f":"IF(W143,IF(V141<21,V141/20,INT((V141+1)/2)/10),NA())","v":0.5},0,null,null,"bar",{"$f":"AJ136","v":17},null,null,null,null,null,null,11,0.6,7,9,{"$error":"#N/A"},7,9,{"$error":"#N/A"},7,0.6,9,6.4024313678235476,6,9.9789626403543163,7,9.3190797469627107,8,8.8627584379876847,8,8.8627584379876847,8,8.8627584379876847,8,8.8627584379876847,8,8.8627584379876847,8,8.8627584379876847,8,8.8627584379876847]
[null,null,null,null,null,null,null,null,null,null,null,null,null,null,null,null,null,null,null,null,null,"Cursor values",null,null,null,null,null,null,null,null,null,null,null,null,12,0.65,6,8,{"$error":"#N/A"},6,8,{"$error":"#N/A"},6,0.65,8,5.4553261358969847,5,9.3839871747365216,6,8.5027847349764603,7,7.9405176542167455,7,7.9405176542167455,7,7.9405176542167455,7,7.9405176542167455,7,7.9405176542167455,7,7.9405176542167455,7,7.9405176542167455]
[null,null,null,null,null,null,null,null,null,null,null,null,null,null,null,null,null,null,null,null,null,{"$f":"IF(AND($W$143,$W$144),$W$148,NA())","v":0.5},{"$f":"VLOOKUP(W148,AJ138:AM166,4)","v":{"$error":"#N/A"}},null,null,null,null,null,null,null,null,null,null,null,13,0.7,5,8,{"$error":"#N/A"},5,8,{"$error":"#N/A"},5,0.7,8,4.7038271273805652,4,9.4391601077408467,5,8.0912950639309837,6,7.3314827561786826,7,6.8466708345032155,6,7.3314827561786826,7,6.8466708345032155,6,7.3314827561786826,7,6.8466708345032155,6,7.3314827561786826]
[null,null,null,null,null,null,null,null,null,null,null,null,null,null,null,null,null,null,null,null,null,{"$f":"IF(AND($W$143,$W$144),$W$148,NA())","v":0.5},{"$f":"VLOOKUP(W148,AJ138:AM166,3)","v":12},null,null,null,null,null,null,null,null,null,null,null,14,0.75,5,7,{"$error":"#N/A"},5,7,{"$error":"#N/A"},5,0.75,7,4.0975560754070699,4,8.2225572494098014,5,7.048417033468767,6,6.3865360898267634,6,6.3865360898267634,6,6.3865360898267634,6,6.3865360898267634,6,6.3865360898267634,6,6.3865360898267634,6,6.3865360898267634]
[null,null,null,null,null,null,null,null,null,null,null,null,null,null,null,null,null,null,null,null,null,{"$f":"IF(AND($W$143,$W$144),$W$148,NA())","v":0.5},{"$f":"VLOOKUP(W148,AJ138:AM166,2)","v":10},null,null,null,null,null,null,null,null,null,null,null,15,0.8,4,7,{"$error":"#N/A"},4,7,{"$error":"#N/A"},4,0.8,7,3.6013676444007436,3,9.4949667032701353,4,7.2268569574890842,5,6.1948977833221566,6,5.6131664851993035,5,6.1948977833221566,6,5.6131664851993035,5,6.1948977833221566,6,5.6131664851993035,5,6.1948977833221566]
[null,null,null,null,null,null,null,null,null,null,null,null,null,null,null,null,null,null,null,null,null,"Orig units, 3 points",null,null,null,null,null,null,null,null,null,null,null,null,16,0.85,4,6,{"$error":"#N/A"},4,6,{"$error":"#N/A"},4,0.85,6,3.1901388130331858,3,8.4107663530697412,4,6.4016449173605734,5,5.4875219118701475,5,5.4875219118701475,5,5.4875219118701475,5,5.4875219118701475,5,5.4875219118701475,5,5.4875219118701475,5,5.4875219118701475]
[null,null,null,null,null,null,null,null,null,null,null,null,null,null,null,null,null,null,null,null,null,{"$f":"IF(AND(W145,ISNUMBER(AC95)),AC95,NA())","v":{"$error":"#N/A"}},{"$f":"IF(AND(W145,ISNUMBER(AB99)),AB99,NA())","v":{"$error":"#N/A"}},null,null,null,null,null,null,null,null,null,null,null,17,0.9,3,6,{"$error":"#N/A"},3,6,{"$error":"#N/A"},3,0.9,6,3,2,13.713200378560796,3,7.5021959136949228,4,5.7101092009790291,5,4.8947340510199764,4,5.7101092009790291,5,4.8947340510199764,4,5.7101092009790291,5,4.8947340510199764,4,5.7101092009790291]
[null,null,null,null,null,null,null,null,null,null,null,null,null,null,null,null,null,null,null,null,null,{"$f":"V154","v":{"$error":"#N/A"}},{"$f":"IF(AND(W145,ISNUMBER(AA98)),AA98,NA())","v":{"$error":"#N/A"}},null,null,null,null,null,null,null,null,null,null,null,18,0.95,3,6,{"$error":"#N/A"},3,6,{"$error":"#N/A"},3,0.95,6,3,2,12.307692306519936,3,6.7332727868065234,4,5.1248625515712067,5,4.3930577078406445,4,5.1248625515712067,5,4.3930577078406445,4,5.1248625515712067,5,4.3930577078406445,4,5.1248625515712067]
[null,null,null,null,null,null,null,null,null,null,null,null,null,null,null,null,null,null,null,null,null,{"$f":"V154","v":{"$error":"#N/A"}},{"$f":"IF(AND(W145,ISNUMBER(AA97)),AA97,NA())","v":{"$error":"#N/A"}},null,null,null,null,null,null,null,null,null,null,null,19,1,3,5,{"$error":"#N/A"},3,5,{"$error":"#N/A"},3,1,5,3,2,11.107692306634243,3,6.0767786900928877,4,4.6251884527930143,4,4.6251884527930143,4,4.6251884527930143,4,4.6251884527930143,4,4.6251884527930143,4,4.6251884527930143,4,4.6251884527930143]
[null,null,null,null,null,null,null,null,null,null,null,null,null,null,null,null,null,null,null,null,null,null,null,null,null,null,null,null,null,null,null,null,null,null,20,1.1000000000000001,3,5,{"$error":"#N/A"},3,5,{"$error":"#N/A"},3,1.1000000000000001,5,3,2,9.1799109972183821,3,5.0221311488370963,4,3.8224697956967049,3,5.0221311488370963,4,3.8224697956967049,3,5.0221311488370963,4,3.8224697956967049,3,5.0221311488370963,4,3.8224697956967049]
[null,null,null,null,null,null,null,null,null,null,null,null,null,null,null,null,null,null,null,null,null,null,null,null,null,null,null,null,null,null,null,null,null,null,21,1.2,3,5,{"$error":"#N/A"},3,5,{"$error":"#N/A"},3,1.2,5,3,2,7.7136752129404478,3,4.2199852014533938,4,3.2119364255507041,3,4.2199852014533938,4,3.2119364255507041,3,4.2199852014533938,4,3.2119364255507041,3,4.2199852014533938,4,3.2119364255507041]
[null,null,null,null,null,null,null,null,null,null,null,null,null,null,null,null,null,null,null,null,null,null,null,null,null,null,null,null,null,null,null,null,null,null,22,1.3,3,4,{"$error":"#N/A"},3,4,{"$error":"#N/A"},3,1.3,4,3,2,6.5725989980084272,3,3.5957270355579212,3,3.5957270355579212,3,3.5957270355579212,3,3.5957270355579212,3,3.5957270355579212,3,3.5957270355579212,3,3.5957270355579212,3,3.5957270355579212]
[null,null,null,null,null,null,null,null,null,null,null,null,null,null,null,null,null,null,null,null,null,null,null,null,null,null,null,null,null,null,null,null,null,null,23,1.4,3,4,{"$error":"#N/A"},3,4,{"$error":"#N/A"},3,1.4,4,3,2,5.6671899523644109,3,3.1003972908637176,3,3.1003972908637176,3,3.1003972908637176,3,3.1003972908637176,3,3.1003972908637176,3,3.1003972908637176,3,3.1003972908637176,3,3.1003972908637176]
[null,null,null,null,null,null,null,null,null,null,null,null,null,null,null,null,null,null,null,null,null,null,null,null,null,null,null,null,null,null,null,null,null,null,24,1.5,3,4,{"$error":"#N/A"},3,4,{"$error":"#N/A"},3,1.5,4,3,2,4.9367521362818856,3,3,2,4.9367521362818856,3,3,2,4.9367521362818856,3,3,2,4.9367521362818856,3,3,2,4.9367521362818856]
[null,null,null,null,null,null,null,null,null,null,null,null,null,null,null,null,null,null,null,null,null,null,null,null,null,null,null,null,null,null,null,null,null,null,25,1.6,3,4,{"$error":"#N/A"},3,4,{"$error":"#N/A"},3,1.6,4,3,2,4.3389423072790008,3,3,2,4.3389423072790008,3,3,2,4.3389423072790008,3,3,2,4.3389423072790008,3,3,2,4.3389423072790008]
[null,null,null,null,null,null,null,null,null,null,null,null,null,null,null,null,null,null,null,null,null,null,null,null,null,null,null,null,null,null,null,null,null,null,26,1.7,3,4,{"$error":"#N/A"},3,4,{"$error":"#N/A"},3,1.7,4,3,2,3.8434921476243065,3,3,2,3.8434921476243065,3,3,2,3.8434921476243065,3,3,2,3.8434921476243065,3,3,2,3.8434921476243065]
[null,null,null,null,null,null,null,null,null,null,null,null,null,null,null,null,null,null,null,null,null,null,null,null,null,null,null,null,null,null,null,null,null,null,27,1.8,3,4,{"$error":"#N/A"},3,4,{"$error":"#N/A"},3,1.8,4,3,2,3.4283000946401989,{"$f":"MAX(MIN(ROUNDUP(AV164,0)-1,AU164+1),AU164-1)","v":3},3,{"$f":"MAX(MIN(ROUNDUP(AX164,0)-1,AW164+1),AW164-1)","v":2},3.4283000946401989,{"$f":"MAX(MIN(ROUNDUP(AZ164,0)-1,AY164+1),AY164-1)","v":3},3,{"$f":"MAX(MIN(ROUNDUP(BB164,0)-1,BA164+1),BA164-1)","v":2},3.4283000946401989,{"$f":"MAX(MIN(ROUNDUP(BD164,0)-1,BC164+1),BC164-1)","v":3},3,{"$f":"MAX(MIN(ROUNDUP(BF164,0)-1,BE164+1),BE164-1)","v":2},3.4283000946401989,{"$f":"MAX(MIN(ROUNDUP(BH164,0)-1,BG164+1),BG164-1)","v":3},3,{"$f":"MAX(MIN(ROUNDUP(BJ164,0)-1,BI164+1),BI164-1)","v":2},3.4283000946401989]
[null,null,null,null,null,null,null,null,null,null,null,null,null,null,null,null,null,null,null,null,null,null,null,null,null,null,null,null,null,null,null,null,null,null,28,1.9,3,4,{"$error":"#N/A"},3,4,{"$error":"#N/A"},3,1.9,4,3,2,3.076923076629984,{"$f":"MAX(MIN(ROUNDUP(AV165,0)-1,AU165+1),AU165-1)","v":3},3,{"$f":"MAX(MIN(ROUNDUP(AX165,0)-1,AW165+1),AW165-1)","v":2},3.076923076629984,3,3,2,3.076923076629984,3,3,2,3.076923076629984,3,3,2,3.076923076629984]
[null,null,null,null,null,null,null,null,null,null,null,null,null,null,null,null,null,null,null,null,null,null,null,null,null,null,null,null,null,null,null,null,null,null,29,2,3,3,{"$error":"#N/A"},3,3,{"$error":"#N/A"},3,2,3,3,2,3,{"$f":"MAX(MIN(ROUNDUP(AV166,0)-1,AU166+1),AU166-1)","v":2},3,2,3,2,3,2,3,2,3,2,3,2,3,2,3]
[null,null,null,null,null,null,null,null,null,null,null,null,null,null,null,null,null,null,null,null,null,null,null,null,null,null,null,null,null,null,null,null,null,null,null,null,null,null,null,null,null,null,58,{"$f":"AC95","v":0.2},61,57.621882310411898,57,60.148017810476183,{"$f":"MAX(MIN(ROUNDUP(AV167,0)-1,AU167+1),AU167-1)","v":58},60.1030923256519,59,60.059736531970131,60,60.017869590083393,60,60.017869590083393,60,60.017869590083393,60,60.017869590083393,60,60.017869590083393,60,60.017869590083393]
[]
[null,null,null,null,null,null,null,null,null,null,null,null,null,null,null,null,null,null,null,null,null,null,null,null,null,null,null,null,null,null,null,null,null,null,null,null,null,null,null,null,null,null,null,"With chi-square"]
[null,null,null,null,null,null,null,null,null,null,null,null,null,null,null,null,null,null,null,null,null,null,null,null,null,null,null,null,null,null,null,null,null,null,null,null,null,null,null,null,null,null,null,"Ratio","Ntg","Nz","df1","Nt1","df2","Nt2","df3","Nt3","df4","Nt4","df5","Nt5","df6","Nt6","df7","Nt7","df8","Nt8","df9","Nt9"]
[null,null,null,null,null,null,null,null,null,null,null,null,null,null,null,null,null,null,null,null,null,null,null,null,null,null,null,null,null,null,null,null,null,null,null,null,null,null,null,null,null,null,null,0.1,{"$f":"1+MAX(BI171,BK171)","v":281},{"$f":"MAX(($V$143/AR171)^2*$W$136,$V$139)","v":230.48752924164759},{"$f":"ROUNDUP(AT171*IF(ISNUMBER(CHIINV($V$137,AT171)),CHIINV($V$137,AT171)/ROUNDDOWN(AT171,0),(1+NORMSINV($V$87/100)*SQRT(2/(ROUNDUP(AT171,0)-1))))-1,0)","v":283},{"$f":"MAX($W$136*(TINV(1-$AB$77/100,AU171)/$AR171)^2*IF(ISNUMBER(CHIINV($V$137,AU171)),CHIINV($V$137,AU171),AU171*(1+NORMSINV($V$87/100)*SQRT(2/AU171)))/AU171,$V$139)","v":280.33593378626551},{"$f":"MIN(ROUNDUP(AV171,0)-1,AU171+1)","v":280},{"$f":"MAX($W$136*(TINV(1-$AB$77/100,AW171)/$AR171)^2*IF(ISNUMBER(CHIINV($V$137,AW171)),CHIINV($V$137,AW171),AW171*(1+NORMSINV($V$87/100)*SQRT(2/AW171)))/AW171,$V$139)","v":280.6302928564013},{"$f":"MAX(MIN(ROUNDUP(AX171,0)-1,AW171+1),AW171-1)","v":280},{"$f":"MAX($W$136*(TINV(1-$AB$77/100,AY171)/$AR171)^2*IF(ISNUMBER(CHIINV($V$137,AY171)),CHIINV($V$137,AY171),AY171*(1+NORMSINV($V$87/100)*SQRT(2/AY171)))/AY171,$V$139)","v":280.6302928564013},{"$f":"MAX(MIN(ROUNDUP(AZ171,0)-1,AY171+1),AY171-1)","v":280},{"$f":"MAX($W$136*(TINV(1-$AB$77/100,BA171)/$AR171)^2*IF(ISNUMBER(CHIINV($V$137,BA171)),CHIINV($V$137,BA171),BA171*(1+NORMSINV($V$87/100)*SQRT(2/BA171)))/BA171,$V$139)","v":280.6302928564013},{"$f":"MAX(MIN(ROUNDUP(BB171,0)-1,BA171+1),BA171-1)","v":280},{"$f":"MAX($W$136*(TINV(1-$AB$77/100,BC171)/$AR171)^2*IF(ISNUMBER(CHIINV($V$137,BC171)),CHIINV($V$137,BC171),BC171*(1+NORMSINV($V$87/100)*SQRT(2/BC171)))/BC171,$V$139)","v":280.6302928564013},{"$f":"MAX(MIN(ROUNDUP(BD171,0)-1,BC171+1),BC171-1)","v":280},{"$f":"MAX($W$136*(TINV(1-$AB$77/100,BE171)/$AR171)^2*IF(ISNUMBER(CHIINV($V$137,BE171)),CHIINV($V$137,BE171),BE171*(1+NORMSINV($V$87/100)*SQRT(2/BE171)))/BE171,$V$139)","v":280.6302928564013},{"$f":"MAX(MIN(ROUNDUP(BF171,0)-1,BE171+1),BE171-1)","v":280},{"$f":"MAX($W$136*(TINV(1-$AB$77/100,BG171)/$AR171)^2*IF(ISNUMBER(CHIINV($V$137,BG171)),CHIINV($V$137,BG171),BG171*(1+NORMSINV($V$87/100)*SQRT(2/BG171)))/BG171,$V$139)","v":280.6302928564013},{"$f":"MAX(MIN(ROUNDUP(BH171,0)-1,BG171+1),BG171-1)","v":280},{"$f":"MAX($W$136*(TINV(1-$AB$77/100,BI171)/$AR171)^2*IF(ISNUMBER(CHIINV($V$137,BI171)),CHIINV($V$137,BI171),BI171*(1+NORMSINV($V$87/100)*SQRT(2/BI171)))/BI171,$V$139)","v":280.6302928564013},{"$f":"MAX(MIN(ROUNDUP(BJ171,0)-1,BI171+1),BI171-1)","v":280},{"$f":"MAX($W$136*(TINV(1-$AB$77/100,BK171)/$AR171)^2*IF(ISNUMBER(CHIINV($V$137,BK171)),CHIINV($V$137,BK171),BK171*(1+NORMSINV($V$87/100)*SQRT(2/BK171)))/BK171,$V$139)","v":280.6302928564013}]
[null,null,null,null,null,null,null,null,null,null,null,null,null,null,null,null,null,null,null,null,null,null,null,null,null,null,null,null,null,null,null,null,null,null,null,null,null,null,null,null,null,null,null,0.15,137,{"$f":"MAX(($V$143/AR172)^2*$W$136,$V$139)","v":102.43890188517676},{"$f":"ROUNDUP(AT172*IF(ISNUMBER(CHIINV($V$137,AT172)),CHIINV($V$137,AT172)/ROUNDDOWN(AT172,0),(1+NORMSINV($V$87/100)*SQRT(2/(ROUNDUP(AT172,0)-1))))-1,0)","v":138},{"$f":"MAX($W$136*(TINV(1-$AB$77/100,AU172)/$AR172)^2*IF(ISNUMBER(CHIINV($V$137,AU172)),CHIINV($V$137,AU172),AU172*(1+NORMSINV($V$87/100)*SQRT(2/AU172)))/AU172,$V$139)","v":135.65895707030799},{"$f":"MIN(ROUNDUP(AV172,0)-1,AU172+1)","v":135},136.08372971096659,{"$f":"MAX(MIN(ROUNDUP(AX172,0)-1,AW172+1),AW172-1)","v":136},135.94041773787535,{"$f":"MAX(MIN(ROUNDUP(AZ172,0)-1,AY172+1),AY172-1)","v":135},136.08372971096659,{"$f":"MAX(MIN(ROUNDUP(BB172,0)-1,BA172+1),BA172-1)","v":136},135.94041773787535,{"$f":"MAX(MIN(ROUNDUP(BD172,0)-1,BC172+1),BC172-1)","v":135},136.08372971096659,{"$f":"MAX(MIN(ROUNDUP(BF172,0)-1,BE172+1),BE172-1)","v":136},135.94041773787535,{"$f":"MAX(MIN(ROUNDUP(BH172,0)-1,BG172+1),BG172-1)","v":135},136.08372971096659,{"$f":"MAX(MIN(ROUNDUP(BJ172,0)-1,BI172+1),BI172-1)","v":136},135.94041773787535]
[null,null,null,null,null,null,null,null,null,null,null,null,null,null,null,null,null,null,null,null,null,null,null,null,null,null,null,null,null,null,null,null,null,null,null,null,null,null,null,null,null,null,null,0.2,84,57.621882310411898,85,82.484231024488437,82,83.029064757787509,{"$f":"MAX(MIN(ROUNDUP(AX173,0)-1,AW173+1),AW173-1)","v":83},82.843730041101978,{"$f":"MAX(MIN(ROUNDUP(AZ173,0)-1,AY173+1),AY173-1)","v":82},83.029064757787509,{"$f":"MAX(MIN(ROUNDUP(BB173,0)-1,BA173+1),BA173-1)","v":83},82.843730041101978,{"$f":"MAX(MIN(ROUNDUP(BD173,0)-1,BC173+1),BC173-1)","v":82},83.029064757787509,{"$f":"MAX(MIN(ROUNDUP(BF173,0)-1,BE173+1),BE173-1)","v":83},82.843730041101978,{"$f":"MAX(MIN(ROUNDUP(BH173,0)-1,BG173+1),BG173-1)","v":82},83.029064757787509,{"$f":"MAX(MIN(ROUNDUP(BJ173,0)-1,BI173+1),BI173-1)","v":83},82.843730041101978]
[null,null,null,null,null,null,null,null,null,null,null,null,null,null,null,null,null,null,null,null,null,null,null,null,null,null,null,null,null,null,null,null,null,null,null,null,null,null,null,null,null,null,null,0.25,58,36.878004678663629,60,56.57967402332531,56,57.452085516092673,{"$f":"MAX(MIN(ROUNDUP(AX174,0)-1,AW174+1),AW174-1)","v":57},57.223948251961765,{"$f":"MAX(MIN(ROUNDUP(AZ174,0)-1,AY174+1),AY174-1)","v":57},57.223948251961765,{"$f":"MAX(MIN(ROUNDUP(BB174,0)-1,BA174+1),BA174-1)","v":57},57.223948251961765,{"$f":"MAX(MIN(ROUNDUP(BD174,0)-1,BC174+1),BC174-1)","v":57},57.223948251961765,{"$f":"MAX(MIN(ROUNDUP(BF174,0)-1,BE174+1),BE174-1)","v":57},57.223948251961765,{"$f":"MAX(MIN(ROUNDUP(BH174,0)-1,BG174+1),BG174-1)","v":57},57.223948251961765,{"$f":"MAX(MIN(ROUNDUP(BJ174,0)-1,BI174+1),BI174-1)","v":57},57.223948251961765]
[null,null,null,null,null,null,null,null,null,null,null,null,null,null,null,null,null,null,null,null,null,null,null,null,null,null,null,null,null,null,null,null,null,null,null,null,null,null,null,null,null,null,null,0.3,43,25.60972547129419,45,42.042629359864655,42,42.799217551469141,{"$f":"MAX(MIN(ROUNDUP(AX175,0)-1,AW175+1),AW175-1)","v":42},42.799217551469141,42,42.799217551469141,42,42.799217551469141,42,42.799217551469141,42,42.799217551469141,42,42.799217551469141,42,42.799217551469141]
[null,null,null,null,null,null,null,null,null,null,null,null,null,null,null,null,null,null,null,null,null,null,null,null,null,null,null,null,null,null,null,null,null,null,null,null,null,null,null,null,null,null,null,0.35,34,18.815308509522261,36,32.804151595883177,32,33.966991468306979,33,33.651916539182295,33,33.651916539182295,33,33.651916539182295,33,33.651916539182295,33,33.651916539182295,33,33.651916539182295,33,33.651916539182295]
[null,null,null,null,null,null,null,null,null,null,null,null,null,null,null,null,null,null,null,null,null,null,null,null,null,null,null,null,null,null,null,null,null,null,null,null,null,null,null,null,null,null,null,0.4,28,14.405470577602975,29,26.822113417168278,26,27.814224805424015,27,27.460330498819879,27,27.460330498819879,27,27.460330498819879,27,27.460330498819879,27,27.460330498819879,27,27.460330498819879,27,27.460330498819879]
[null,null,null,null,null,null,null,null,null,null,null,null,null,null,null,null,null,null,null,null,null,null,null,null,null,null,null,null,null,null,null,null,null,null,null,null,null,null,null,null,null,null,null,0.45,24,11.382100209464079,25,22.277581460652581,22,23.337710856985993,23,22.95459452736424,22,23.337710856985993,23,22.95459452736424,22,23.337710856985993,23,22.95459452736424,22,23.337710856985993,23,22.95459452736424]
[null,null,null,null,null,null,null,null,null,null,null,null,null,null,null,null,null,null,null,null,null,null,null,null,null,null,null,null,null,null,null,null,null,null,null,null,null,null,null,null,null,null,null,0.5,21,9.2195011696659073,22,18.903545794158656,18,20.483495104960515,19,20.026501645537092,20,19.615180077720719,19,20.026501645537092,20,19.615180077720719,19,20.026501645537092,20,19.615180077720719,19,20.026501645537092]
[null,null,null,null,null,null,null,null,null,null,null,null,null,null,null,null,null,null,null,null,null,null,null,null,null,null,null,null,null,null,null,null,null,null,null,null,null,null,null,null,null,null,null,0.55000000000000004,18,7.6194224542693432,20,16.210892626215472,16,17.827391020554991,17,17.351020977326446,17,17.351020977326446,17,17.351020977326446,17,17.351020977326446,17,17.351020977326446,17,17.351020977326446,17,17.351020977326446]
[null,null,null,null,null,null,null,null,null,null,null,null,null,null,null,null,null,null,null,null,null,null,null,null,null,null,null,null,null,null,null,null,null,null,null,null,null,null,null,null,null,null,null,0.6,16,6.4024313678235476,17,14.579677349003477,14,15.958678151313199,15,15.435313591655463,15,15.435313591655463,15,15.435313591655463,15,15.435313591655463,15,15.435313591655463,15,15.435313591655463,15,15.435313591655463]
[null,null,null,null,null,null,null,null,null,null,null,null,null,null,null,null,null,null,null,null,null,null,null,null,null,null,null,null,null,null,null,null,null,null,null,null,null,null,null,null,null,null,null,0.65,15,5.4553261358969847,16,12.763990020634049,12,14.728739813465806,13,14.116675121111737,14,13.597926945497637,13,14.116675121111737,14,13.597926945497637,13,14.116675121111737,14,13.597926945497637,13,14.116675121111737]
[null,null,null,null,null,null,null,null,null,null,null,null,null,null,null,null,null,null,null,null,null,null,null,null,null,null,null,null,null,null,null,null,null,null,null,null,null,null,null,null,null,null,null,0.7,13,4.7038271273805652,15,11.340230393869318,11,13.333141623724719,12,12.699780757529192,12,12.699780757529192,12,12.699780757529192,12,12.699780757529192,12,12.699780757529192,12,12.699780757529192,12,12.699780757529192]
[null,null,null,null,null,null,null,null,null,null,null,null,null,null,null,null,null,null,null,null,null,null,null,null,null,null,null,null,null,null,null,null,null,null,null,null,null,null,null,null,null,null,null,0.75,12,4.0975560754070699,13,10.603191535412813,10,12.290635839707365,11,11.614647814444641,11,11.614647814444641,11,11.614647814444641,11,11.614647814444641,11,11.614647814444641,11,11.614647814444641,11,11.614647814444641]
[null,null,null,null,null,null,null,null,null,null,null,null,null,null,null,null,null,null,null,null,null,null,null,null,null,null,null,null,null,null,null,null,null,null,null,null,null,null,null,null,null,null,null,0.8,11,3.6013676444007436,13,9.3192113104214194,9,11.549227564483603,10,10.802316655992801,10,10.802316655992801,10,10.802316655992801,10,10.802316655992801,10,10.802316655992801,10,10.802316655992801,10,10.802316655992801]
[null,null,null,null,null,null,null,null,null,null,null,null,null,null,null,null,null,null,null,null,null,null,null,null,null,null,null,null,null,null,null,null,null,null,null,null,null,null,null,null,null,null,null,0.85,11,3.1901388130331858,12,8.6130000985319075,8,11.089924569581253,9,10.230457634975098,10,9.5688341312600578,9,10.230457634975098,10,9.5688341312600578,9,10.230457634975098,10,9.5688341312600578,9,10.230457634975098]
[null,null,null,null,null,null,null,null,null,null,null,null,null,null,null,null,null,null,null,null,null,null,null,null,null,null,null,null,null,null,null,null,null,null,null,null,null,null,null,null,null,null,null,0.9,10,3,11,8.0657276489198892,8,9.8919388907684631,9,9.1253156065055627,9,9.1253156065055627,9,9.1253156065055627,9,9.1253156065055627,9,9.1253156065055627,9,9.1253156065055627,9,9.1253156065055627]
[null,null,null,null,null,null,null,null,null,null,null,null,null,null,null,null,null,null,null,null,null,null,null,null,null,null,null,null,null,null,null,null,null,null,null,null,null,null,null,null,null,null,null,0.95,9,3,11,7.239046421745277,7,9.8111957300382926,8,8.878083658196628,8,8.878083658196628,8,8.878083658196628,8,8.878083658196628,8,8.878083658196628,8,8.878083658196628,8,8.878083658196628]
[null,null,null,null,null,null,null,null,null,null,null,null,null,null,null,null,null,null,null,null,null,null,null,null,null,null,null,null,null,null,null,null,null,null,null,null,null,null,null,null,null,null,null,1,9,3,11,6.5332393956251114,6,10.065915626635373,7,8.8546041463595593,8,8.012470501522456,8,8.012470501522456,8,8.012470501522456,8,8.012470501522456,8,8.012470501522456,8,8.012470501522456]
[null,null,null,null,null,null,null,null,null,null,null,null,null,null,null,null,null,null,null,null,null,null,null,null,null,null,null,null,null,null,null,null,null,null,null,null,null,null,null,null,null,null,null,1.1000000000000001,8,3,11,5.3993714013430649,5,9.886457220549481,6,8.3189385344093996,7,7.317854666412857,7,7.317854666412857,7,7.317854666412857,7,7.317854666412857,7,7.317854666412857,7,7.317854666412857]
[null,null,null,null,null,null,null,null,null,null,null,null,null,null,null,null,null,null,null,null,null,null,null,null,null,null,null,null,null,null,null,null,null,null,null,null,null,null,null,null,null,null,null,1.2,7,3,11,4.5369718025174386,4,10.660982406568072,5,8.3073703033783861,6,6.9902191851634532,6,6.9902191851634532,6,6.9902191851634532,6,6.9902191851634532,6,6.9902191851634532,6,6.9902191851634532]
[null,null,null,null,null,null,null,null,null,null,null,null,null,null,null,null,null,null,null,null,null,null,null,null,null,null,null,null,null,null,null,null,null,null,null,null,null,null,null,null,null,null,null,1.3,7,3,11,3.8658221275888223,3,13.597681272892657,4,9.0839140032296015,5,7.0784693709259612,6,5.9561630926836528,5,7.0784693709259612,6,5.9561630926836528,5,7.0784693709259612,6,5.9561630926836528]
[null,null,null,null,null,null,null,null,null,null,null,null,null,null,null,null,null,null,null,null,null,null,null,null,null,null,null,null,null,null,null,null,null,null,null,null,null,null,null,null,null,null,null,1.4,7,3,11,3.3332854059311798,3,11.724531301626831,4,7.8325585027847078,5,6.1033741004412647,6,5.1356712380792722,5,6.1033741004412647,6,5.1356712380792722,5,6.1033741004412647,6,5.1356712380792722]
[null,null,null,null,null,null,null,null,null,null,null,null,null,null,null,null,null,null,null,null,null,null,null,null,null,null,null,null,null,null,null,null,null,null,null,null,null,null,null,null,null,null,null,1.5,6,3,11,3,2,22.734583753824293,3,10.213369489417152,4,6.8230287402035659,5,5.3167169941621673,5,5.3167169941621673,5,5.3167169941621673,5,5.3167169941621673,5,5.3167169941621673]
[null,null,null,null,null,null,null,null,null,null,null,null,null,null,null,null,null,null,null,null,null,null,null,null,null,null,null,null,null,null,null,null,null,null,null,null,null,null,null,null,null,null,null,1.6,6,3,11,3,2,19.981567752384631,3,8.9765942778080419,4,5.9968026036945412,5,4.6728957956503407,4,5.9968026036945412,5,4.6728957956503407,4,5.9968026036945412,5,4.6728957956503407]
[null,null,null,null,null,null,null,null,null,null,null,null,null,null,null,null,null,null,null,null,null,null,null,null,null,null,null,null,null,null,null,null,null,null,null,null,null,null,null,null,null,null,null,1.7,6,3,11,3,2,17.699935448479128,3,7.9515852426258107,4,5.3120465970442998,5,4.1393125387075695,4,5.3120465970442998,5,4.1393125387075695,4,5.3120465970442998,5,4.1393125387075695]
[null,null,null,null,null,null,null,null,null,null,null,null,null,null,null,null,null,null,null,null,null,null,null,null,null,null,null,null,null,null,null,null,null,null,null,null,null,null,null,null,null,null,null,1.8,5,3,11,3,2,15.787905384600206,3,7.0926177009841327,4,4.7382144029191435,4,4.7382144029191435,4,4.7382144029191435,4,4.7382144029191435,4,4.7382144029191435,4,4.7382144029191435]
[null,null,null,null,null,null,null,null,null,null,null,null,null,null,null,null,null,null,null,null,null,null,null,null,null,null,null,null,null,null,null,null,null,null,null,null,null,null,null,null,null,null,null,1.9,5,3,11,3,2,14.169754417203507,3,6.3656735044843744,4,4.2525802397390651,4,4.2525802397390651,4,4.2525802397390651,4,4.2525802397390651,4,4.2525802397390651,4,4.2525802397390651]
[null,null,null,null,null,null,null,null,null,null,null,null,null,null,null,null,null,null,null,null,null,null,null,null,null,null,null,null,null,null,null,null,null,null,null,null,null,null,null,null,null,null,null,2,5,3,11,3,2,12.788203361526167,3,5.7450203377971478,4,3.8379536663645064,3,5.7450203377971478,4,3.8379536663645064,3,5.7450203377971478,4,3.8379536663645064,3,5.7450203377971478]
[null,null,null,null,null,null,null,null,null,null,null,null,null,null,null,null,null,null,null,null,null,null,null,null,null,null,null,null,null,null,null,null,null,null,null,null,null,null,null,null,null,null,null,{"$f":"AC95","v":0.2},84,57.621882310411898,85,82.484231024488437,82,83.029064757787509,83,82.843730041101978,82,83.029064757787509,83,82.843730041101978,82,83.029064757787509,83,82.843730041101978,82,83.029064757787509,83,82.843730041101978]